Workbook

Sheet Calcul de base
B1: Case à garder vide | F1: Case à compléter | I1: Case à ne pas modifier
A3: Année | B3: 2022
A4: Nom
A5: Prénom 1
A6: Prénom 2
A7: Date de naissance | B7: 25899
A8: Âge | B8: =TODAY()-B7 -> 18986
B10: 1 | C10: 2 | D10: 3 | E10: 4 | F10: 5 | G10: 6 | H10: 7 | I10: 8 | J10: 9
B11: A | C11: B | D11: C | E11: D | F11: E | G11: F | H11: G | I11: H | J11: I
B12: J | C12: K | D12: L | E12: M | F12: N | G12: O | H12: P | I12: Q | J12: R
B13: S | C13: T | D13: U | E13: V | F13: W | G13: X | H13: Y | I13: Z
A16: Nom | B16: A | C16: A | D16: A | E16: A | F16: L | G16: A | H16: A | I16: A | J16: A | K16: A | L16: A | M16: A | N16: D | O16: A
A17: Voyelles | B17: =IF(AND(B$16<>"",OR(B$16={"A";"E";"I";"O";"U";"Y"})),SUMPRODUCT(($B$11:$J$13=B16)*($B$10:$J$10)),"") -> 1 | C17: =IF(AND(C$16<>"",OR(C$16={"A";"E";"I";"O";"U";"Y"})),SUMPRODUCT(($B$11:$J$13=C16)*($B$10:$J$10)),"") -> 1 | D17: =IF(AND(D$16<>"",OR(D$16={"A";"E";"I";"O";"U";"Y"})),SUMPRODUCT(($B$11:$J$13=D16)*($B$10:$J$10)),"") -> 1 | E17: =IF(AND(E$16<>"",OR(E$16={"A";"E";"I";"O";"U";"Y"})),SUMPRODUCT(($B$11:$J$13=E16)*($B$10:$J$10)),"") -> 1 | F17: =IF(AND(F$16<>"",OR(F$16={"A";"E";"I";"O";"U";"Y"})),SUMPRODUCT(($B$11:$J$13=F16)*($B$10:$J$10)),"") | G17: =IF(AND(G$16<>"",OR(G$16={"A";"E";"I";"O";"U";"Y"})),SUMPRODUCT(($B$11:$J$13=G16)*($B$10:$J$10)),"") -> 1 | H17: =IF(AND(H$16<>"",OR(H$16={"A";"E";"I";"O";"U";"Y"})),SUMPRODUCT(($B$11:$J$13=H16)*($B$10:$J$10)),"") -> 1 | I17: =IF(AND(I$16<>"",OR(I$16={"A";"E";"I";"O";"U";"Y"})),SUMPRODUCT(($B$11:$J$13=I16)*($B$10:$J$10)),"") -> 1 | ... O17: =IF(AND(O$16<>"",OR(O$16={"A";"E";"I";"O";"U";"Y"})),SUMPRODUCT(($B$11:$J$13=O16)*($B$10:$J$10)),"") -> 1
A18: Consonnes | B18: =IF(AND(B$16<>"",B$16<>"A",B$16<>"E",B$16<>"I",B$16<>"O",B$16<>"U",B$16<>"Y"),SUMPRODUCT(($B$11:$J$13=B$16)*($B$10:$J$10)),"") | C18: =IF(AND(C$16<>"",C$16<>"A",C$16<>"E",C$16<>"I",C$16<>"O",C$16<>"U",C$16<>"Y"),SUMPRODUCT(($B$11:$J$13=C$16)*($B$10:$J$10)),"") | D18: =IF(AND(D$16<>"",D$16<>"A",D$16<>"E",D$16<>"I",D$16<>"O",D$16<>"U",D$16<>"Y"),SUMPRODUCT(($B$11:$J$13=D$16)*($B$10:$J$10)),"") | E18: =IF(AND(E$16<>"",E$16<>"A",E$16<>"E",E$16<>"I",E$16<>"O",E$16<>"U",E$16<>"Y"),SUMPRODUCT(($B$11:$J$13=E$16)*($B$10:$J$10)),"") | F18: =IF(AND(F$16<>"",F$16<>"A",F$16<>"E",F$16<>"I",F$16<>"O",F$16<>"U",F$16<>"Y"),SUMPRODUCT(($B$11:$J$13=F$16)*($B$10:$J$10)),"") -> 3 | G18: =IF(AND(G$16<>"",G$16<>"A",G$16<>"E",G$16<>"I",G$16<>"O",G$16<>"U",G$16<>"Y"),SUMPRODUCT(($B$11:$J$13=G$16)*($B$10:$J$10)),"") | H18: =IF(AND(H$16<>"",H$16<>"A",H$16<>"E",H$16<>"I",H$16<>"O",H$16<>"U",H$16<>"Y"),SUMPRODUCT(($B$11:$J$13=H$16)*($B$10:$J$10)),"") | I18: =IF(AND(I$16<>"",I$16<>"A",I$16<>"E",I$16<>"I",I$16<>"O",I$16<>"U",I$16<>"Y"),SUMPRODUCT(($B$11:$J$13=I$16)*($B$10:$J$10)),"") | ... O18: =IF(AND(O$16<>"",O$16<>"A",O$16<>"E",O$16<>"I",O$16<>"O",O$16<>"U",O$16<>"Y"),SUMPRODUCT(($B$11:$J$13=O$16)*($B$10:$J$10)),"")
A19: Nombres | B19: =SUMPRODUCT(($B$11:$J$13=B16)*($B$10:$J$10)) -> 1 | C19: =SUMPRODUCT(($B$11:$J$13=C16)*($B$10:$J$10)) -> 1 | D19: =SUMPRODUCT(($B$11:$J$13=D16)*($B$10:$J$10)) -> 1 | E19: =SUMPRODUCT(($B$11:$J$13=E16)*($B$10:$J$10)) -> 1 | F19: =SUMPRODUCT(($B$11:$J$13=F16)*($B$10:$J$10)) -> 3 | G19: =SUMPRODUCT(($B$11:$J$13=G16)*($B$10:$J$10)) -> 1 | H19: =SUMPRODUCT(($B$11:$J$13=H16)*($B$10:$J$10)) -> 1 | I19: =SUMPRODUCT(($B$11:$J$13=I16)*($B$10:$J$10)) -> 1 | ... O19: =SUMPRODUCT(($B$11:$J$13=O16)*($B$10:$J$10)) -> 1
A20: Total voyelles | B20: =SUM(B17:O17) -> 12
A21: Total consonnes | B21: =SUM(B18:O18) -> 7
A22: Total voyelles et consonnes | B22: =SUM(B20:B21) -> 19
A23: Total nombres | B23: =SUM(B19:O19) -> 19
A24: Total voyelles réduction 1 | B24: =SUMPRODUCT(MID(B20,ROW(OFFSET($A$1,,,LEN(B20))),1)*1) -> 3
A25: Total voyelles réduction 2 | B25: =IF(MOD(B20,9)=0,9,MOD(B20,9)) -> 3
A26: Total consonnes réduction 1 | B26: =SUMPRODUCT(MID(B21,ROW(OFFSET($A$1,,,LEN(B21))),1)*1) -> 7
A27: Total consonnes réduction 2 | B27: =IF(MOD(B21,9)=0,9,MOD(B21,9)) -> 7
A28: Total voyelles et consonnes réduction 1 | B28: =SUMPRODUCT(MID(B22,ROW(OFFSET($A$1,,,LEN(B22))),1)*1) -> 10
A29: Total voyelles et consonnes réduction 2 | B29: =IF(MOD(B22,9)=0,9,MOD(B22,9)) -> 1
A30: Total nombres réduction 1 | B30: =SUMPRODUCT(MID(B23,ROW(OFFSET($A$1,,,LEN(B23))),1)*1) -> 10
A31: Total nombres réduction 2 | B31: =IF(MOD(B23,9)=0,9,MOD(B23,9)) -> 1
A36: Prénom 1 | B36: S | C36: S | D36: S | E36: S | F36: I | G36: O
A37: Voyelles | B37: =IF(AND(B$36<>"",OR(B$36={"A";"E";"I";"O";"U";"Y"})),SUMPRODUCT(($B$11:$J$13=B36)*($B$10:$J$10)),"") | C37: =IF(AND(C$36<>"",OR(C$36={"A";"E";"I";"O";"U";"Y"})),SUMPRODUCT(($B$11:$J$13=C36)*($B$10:$J$10)),"") | D37: =IF(AND(D$36<>"",OR(D$36={"A";"E";"I";"O";"U";"Y"})),SUMPRODUCT(($B$11:$J$13=D36)*($B$10:$J$10)),"") | E37: =IF(AND(E$36<>"",OR(E$36={"A";"E";"I";"O";"U";"Y"})),SUMPRODUCT(($B$11:$J$13=E36)*($B$10:$J$10)),"") | F37: =IF(AND(F$36<>"",OR(F$36={"A";"E";"I";"O";"U";"Y"})),SUMPRODUCT(($B$11:$J$13=F36)*($B$10:$J$10)),"") -> 9 | G37: =IF(AND(G$36<>"",OR(G$36={"A";"E";"I";"O";"U";"Y"})),SUMPRODUCT(($B$11:$J$13=G36)*($B$10:$J$10)),"") -> 6
A38: Consonnes | B38: =IF(AND(B$36<>"",B$36<>"A",B$36<>"E",B$36<>"I",B$36<>"O",B$36<>"U",B$36<>"Y"),SUMPRODUCT(($B$11:$J$13=B$36)*($B$10:$J$10)),"") -> 1 | C38: =IF(AND(C$36<>"",C$36<>"A",C$36<>"E",C$36<>"I",C$36<>"O",C$36<>"U",C$36<>"Y"),SUMPRODUCT(($B$11:$J$13=C$36)*($B$10:$J$10)),"") -> 1 | D38: =IF(AND(D$36<>"",D$36<>"A",D$36<>"E",D$36<>"I",D$36<>"O",D$36<>"U",D$36<>"Y"),SUMPRODUCT(($B$11:$J$13=D$36)*($B$10:$J$10)),"") -> 1 | E38: =IF(AND(E$36<>"",E$36<>"A",E$36<>"E",E$36<>"I",E$36<>"O",E$36<>"U",E$36<>"Y"),SUMPRODUCT(($B$11:$J$13=E$36)*($B$10:$J$10)),"") -> 1 | F38: =IF(AND(F$36<>"",F$36<>"A",F$36<>"E",F$36<>"I",F$36<>"O",F$36<>"U",F$36<>"Y"),SUMPRODUCT(($B$11:$J$13=F$36)*($B$10:$J$10)),"") | G38: =IF(AND(G$36<>"",G$36<>"A",G$36<>"E",G$36<>"I",G$36<>"O",G$36<>"U",G$36<>"Y"),SUMPRODUCT(($B$11:$J$13=G$36)*($B$10:$J$10)),"")
A39: Nombres | B39: =SUMPRODUCT(($B$11:$J$13=B36)*($B$10:$J$10)) -> 1 | C39: =SUMPRODUCT(($B$11:$J$13=C36)*($B$10:$J$10)) -> 1 | D39: =SUMPRODUCT(($B$11:$J$13=D36)*($B$10:$J$10)) -> 1 | E39: =SUMPRODUCT(($B$11:$J$13=E36)*($B$10:$J$10)) -> 1 | F39: =SUMPRODUCT(($B$11:$J$13=F36)*($B$10:$J$10)) -> 9 | G39: =SUMPRODUCT(($B$11:$J$13=G36)*($B$10:$J$10)) -> 6
A40: Total voyelles | B40: =SUM(B37:G37) -> 15
A41: Total consonnes | B41: =SUM(B38:G38) -> 4
A42: Total voyelles et consonnes | B42: =SUM(B40:B41) -> 19
A43: Total nombres | B43: =SUM(B39:O39) -> 19
A44: Total voyelles réduction 1 | B44: =SUMPRODUCT(MID(B40,ROW(OFFSET($A$1,,,LEN(B40))),1)*1) -> 6
A45: Total voyelles réduction 2 | B45: =IF(MOD(B40,9)=0,9,MOD(B40,9)) -> 6
A46: Total consonnes réduction 1 | B46: =SUMPRODUCT(MID(B41,ROW(OFFSET($A$1,,,LEN(B41))),1)*1) -> 4
A47: Total consonnes réduction 2 | B47: =IF(MOD(B41,9)=0,9,MOD(B41,9)) -> 4
A48: Total voyelles et consonnes réduction 1 | B48: =SUMPRODUCT(MID(B42,ROW(OFFSET($A$1,,,LEN(B42))),1)*1) -> 10
A49: Total voyelles et consonnes réduction 2 | B49: =IF(MOD(B42,9)=0,9,MOD(B42,9)) -> 1
A50: Total nombres réduction 1 | B50: =SUMPRODUCT(MID(B43,ROW(OFFSET($A$1,,,LEN(B43))),1)*1) -> 10
A51: Total nombres réduction 2 | B51: =IF(MOD(B43,9)=0,9,MOD(B43,9)) -> 1
A54: Prénom 2 | B54: F | C54: I | D54: L | E54: P | F54: P | G54: I
A55: Voyelles | B55: =IF(AND(B$54<>"",OR(B$54={"A";"E";"I";"O";"U";"Y"})),SUMPRODUCT(($B$11:$J$13=B54)*($B$10:$J$10)),"") | C55: =IF(AND(C$54<>"",OR(C$54={"A";"E";"I";"O";"U";"Y"})),SUMPRODUCT(($B$11:$J$13=C54)*($B$10:$J$10)),"") -> 9 | D55: =IF(AND(D$54<>"",OR(D$54={"A";"E";"I";"O";"U";"Y"})),SUMPRODUCT(($B$11:$J$13=D54)*($B$10:$J$10)),"") | E55: =IF(AND(E$54<>"",OR(E$54={"A";"E";"I";"O";"U";"Y"})),SUMPRODUCT(($B$11:$J$13=E54)*($B$10:$J$10)),"") | F55: =IF(AND(F$54<>"",OR(F$54={"A";"E";"I";"O";"U";"Y"})),SUMPRODUCT(($B$11:$J$13=F54)*($B$10:$J$10)),"") | G55: =IF(AND(G$54<>"",OR(G$54={"A";"E";"I";"O";"U";"Y"})),SUMPRODUCT(($B$11:$J$13=G54)*($B$10:$J$10)),"") -> 9
A56: Consonnes | B56: =IF(AND(B$54<>"",B$54<>"A",B$54<>"E",B$54<>"I",B$54<>"O",B$54<>"U",B$54<>"Y"),SUMPRODUCT(($B$11:$J$13=B$54)*($B$10:$J$10)),"") -> 6 | C56: =IF(AND(C$54<>"",C$54<>"A",C$54<>"E",C$54<>"I",C$54<>"O",C$54<>"U",C$54<>"Y"),SUMPRODUCT(($B$11:$J$13=C$54)*($B$10:$J$10)),"") | D56: =IF(AND(D$54<>"",D$54<>"A",D$54<>"E",D$54<>"I",D$54<>"O",D$54<>"U",D$54<>"Y"),SUMPRODUCT(($B$11:$J$13=D$54)*($B$10:$J$10)),"") -> 3 | E56: =IF(AND(E$54<>"",E$54<>"A",E$54<>"E",E$54<>"I",E$54<>"O",E$54<>"U",E$54<>"Y"),SUMPRODUCT(($B$11:$J$13=E$54)*($B$10:$J$10)),"") -> 7 | F56: =IF(AND(F$54<>"",F$54<>"A",F$54<>"E",F$54<>"I",F$54<>"O",F$54<>"U",F$54<>"Y"),SUMPRODUCT(($B$11:$J$13=F$54)*($B$10:$J$10)),"") -> 7 | G56: =IF(AND(G$54<>"",G$54<>"A",G$54<>"E",G$54<>"I",G$54<>"O",G$54<>"U",G$54<>"Y"),SUMPRODUCT(($B$11:$J$13=G$54)*($B$10:$J$10)),"")
A57: Nombres | B57: =SUMPRODUCT(($B$11:$J$13=B54)*($B$10:$J$10)) -> 6 | C57: =SUMPRODUCT(($B$11:$J$13=C54)*($B$10:$J$10)) -> 9 | D57: =SUMPRODUCT(($B$11:$J$13=D54)*($B$10:$J$10)) -> 3 | E57: =SUMPRODUCT(($B$11:$J$13=E54)*($B$10:$J$10)) -> 7 | F57: =SUMPRODUCT(($B$11:$J$13=F54)*($B$10:$J$10)) -> 7 | G57: =SUMPRODUCT(($B$11:$J$13=G54)*($B$10:$J$10)) -> 9
A58: Total voyelles | B58: =SUM(B55:G55) -> 18
A59: Total consonnes | B59: =SUM(B56:G56) -> 23
A60: Total voyelles et consonnes | B60: =SUM(B58:B59) -> 41
A61: Total nombres | B61: =SUM(B57:G57) -> 41
A62: Total voyelles réduction 1 | B62: =SUMPRODUCT(MID(B58,ROW(OFFSET($A$1,,,LEN(B58))),1)*1) -> 9
A63: Total voyelles réduction 2 | B63: =IF(MOD(B58,9)=0,9,MOD(B58,9)) -> 9
A64: Total consonnes réduction 1 | B64: =SUMPRODUCT(MID(B59,ROW(OFFSET($A$1,,,LEN(B59))),1)*1) -> 5
A65: Total consonnes réduction 2 | B65: =IF(MOD(B59,9)=0,9,MOD(B59,9)) -> 5
A66: Total voyelles et consonnes réduction 1 | B66: =SUMPRODUCT(MID(B60,ROW(OFFSET($A$1,,,LEN(B60))),1)*1) -> 5
A67: Total voyelles et consonnes réduction 2 | B67: =IF(MOD(B60,9)=0,9,MOD(B60,9)) -> 5
A68: Total nombres réduction 1 | B68: =SUMPRODUCT(MID(B61,ROW(OFFSET($A$1,,,LEN(B61))),1)*1) -> 5
A69: Total nombres réduction 2 | B69: =IF(MOD(B61,9)=0,9,MOD(B61,9)) -> 5
A72: Date de naissance
A73: Jour | B73: 1
A74: Mois | B74: 11
A75: Année | B75: 2000
A76: Total | B76: =SUM(B73:B75) -> 2012
A77: Total réduction 1 | B77: =SUMPRODUCT(MID(B76,ROW(OFFSET($A$1,,,LEN(B76))),1)*1) -> 5
A78: Total réduction 2 | B78: =IF(MOD(B76,9)=0,9,MOD(B76,9)) -> 5
A81: Résumé
A82: La vibration du nom est | D82: =B31 -> 1
A83: La vibration du prénom 1 est | D83: =B51 -> 1
A84: La vibration du prénom 2 est | D84: =B69 -> 5

Sheet Implication
B4: 1 La relation au père. La polarité masculine. | C4: Signification | D4: 2 La relation à la mère. La polarité féminine. | E4: Signification | F4: 3 La relation à la fratrie. Les études. | G4: Signification
B5: {=SUMPRODUCT(('Calcul de base'!$A$10:$A$29="Nombres")*('Calcul de base'!$B$10:$O$29=VALUE(LEFT(B4,1))))} -> 12 | D5: {=SUMPRODUCT(('Calcul de base'!$A$10:$A$29="Nombres")*('Calcul de base'!$B$10:$O$29=VALUE(LEFT(D4,1))))} -> 0 | F5: {=SUMPRODUCT(('Calcul de base'!$A$10:$A$29="Nombres")*('Calcul de base'!$B$10:$O$29=VALUE(LEFT(F4,1))))} -> 1
B6: 4 La place dans la famille. Le travail. | C6: Signification | D6: 5 L'impulsion personnelle. La capacité d'adaptation. | E6: Signification | F6: 6 Le couple. L'engagement. | G6: Signification
B7: {=SUMPRODUCT(('Calcul de base'!$A$10:$A$29="Nombres")*('Calcul de base'!$B$10:$O$29=VALUE(LEFT(B6,1))))} -> 1 | D7: {=SUMPRODUCT(('Calcul de base'!$A$10:$A$29="Nombres")*('Calcul de base'!$B$10:$O$29=VALUE(LEFT(D6,1))))} -> 0 | F7: {=SUMPRODUCT(('Calcul de base'!$A$10:$A$29="Nombres")*('Calcul de base'!$B$10:$O$29=VALUE(LEFT(F6,1))))} -> 0
B8: 7 L'instropection. La foi, la confiance. | C8: Signification | D8: 8 La puissance. La matérialité. | E8: Signification | F8: 9 L'humanisme. La connaissance. | G8: Signification
B9: {=SUMPRODUCT(('Calcul de base'!$A$10:$A$29="Nombres")*('Calcul de base'!$B$10:$O$29=VALUE(LEFT(B8,1))))} -> 0 | D9: {=SUMPRODUCT(('Calcul de base'!$A$10:$A$29="Nombres")*('Calcul de base'!$B$10:$O$29=VALUE(LEFT(D8,1))))} -> 0 | F9: {=SUMPRODUCT(('Calcul de base'!$A$10:$A$29="Nombres")*('Calcul de base'!$B$10:$O$29=VALUE(LEFT(F8,1))))} -> 0

Sheet OLD - A supprimer
B10: 1 | C10: 2 | D10: 3 | E10: 4 | F10: 5 | G10: 6 | H10: 7 | I10: 8 | J10: 9
B11: A | C11: B | D11: C | E11: D | F11: E | G11: F | H11: G | I11: H | J11: I
B12: J | C12: K | D12: L | E12: M | F12: N | G12: O | H12: P | I12: Q | J12: R
B13: S | C13: T | D13: U | E13: V | F13: W | G13: X | H13: Y | I13: Z
A20: Nom | B20: A | C20: A | D20: A | E20: A | F20: A | G20: A | H20: A | I20: A | J20: A | K20: A | L20: A | M20: A | N20: A | O20: A
A21: Nombres | B21: =SUMPRODUCT(($B$11:$J$13=B20)*($B$10:$J$10)) -> 1 | C21: =SUMPRODUCT(($B$11:$J$13=C20)*($B$10:$J$10)) -> 1 | D21: =SUMPRODUCT(($B$11:$J$13=D20)*($B$10:$J$10)) -> 1 | E21: =SUMPRODUCT(($B$11:$J$13=E20)*($B$10:$J$10)) -> 1 | F21: =SUMPRODUCT(($B$11:$J$13=F20)*($B$10:$J$10)) -> 1 | G21: =SUMPRODUCT(($B$11:$J$13=G20)*($B$10:$J$10)) -> 1 | H21: =SUMPRODUCT(($B$11:$J$13=H20)*($B$10:$J$10)) -> 1 | I21: =SUMPRODUCT(($B$11:$J$13=I20)*($B$10:$J$10)) -> 1 | ... O21: =SUMPRODUCT(($B$11:$J$13=O20)*($B$10:$J$10)) -> 1
A23: Prénom 1 | B23: S | C23: S | D23: S | E23: S | F23: S | G23: S
A24: Nombres | B24: =SUMPRODUCT(($B$11:$J$13=B23)*($B$10:$J$10)) -> 1 | C24: =SUMPRODUCT(($B$11:$J$13=C23)*($B$10:$J$10)) -> 1 | D24: =SUMPRODUCT(($B$11:$J$13=D23)*($B$10:$J$10)) -> 1 | E24: =SUMPRODUCT(($B$11:$J$13=E23)*($B$10:$J$10)) -> 1 | F24: =SUMPRODUCT(($B$11:$J$13=F23)*($B$10:$J$10)) -> 1 | G24: =SUMPRODUCT(($B$11:$J$13=G23)*($B$10:$J$10)) -> 1
A27: Prénom 2 | B27: F | C27: I | D27: L | E27: I | F27: P | G27: E
A28: Nombres | B28: =SUMPRODUCT(($B$11:$J$13=B27)*($B$10:$J$10)) -> 6 | C28: =SUMPRODUCT(($B$11:$J$13=C27)*($B$10:$J$10)) -> 9 | D28: =SUMPRODUCT(($B$11:$J$13=D27)*($B$10:$J$10)) -> 3 | E28: =SUMPRODUCT(($B$11:$J$13=E27)*($B$10:$J$10)) -> 9 | F28: =SUMPRODUCT(($B$11:$J$13=F27)*($B$10:$J$10)) -> 7 | G28: =SUMPRODUCT(($B$11:$J$13=G27)*($B$10:$J$10)) -> 5
B33: 1 La relation au père. La polarité masculine. | C33: Signification | D33: 2 La relation à la mère. La polarité féminine. | E33: Signification | F33: 3 La relation à la fratrie. Les études. | G33: Signification
B34: =COUNTIFS($B$20:$O$28,LEFT(B33,1)) -> 20 | D34: =COUNTIFS($B$20:$O$28,LEFT(D33,1)) -> 0 | F34: =COUNTIFS($B$20:$O$28,LEFT(F33,1)) -> 1
B35: 4 La place dans la famille. Le travail. | C35: Signification | D35: 5 L'impulsion personnelle. La capacité d'adaptation. | E35: Signification | F35: 6 Le couple. L'engagement. | G35: Signification
B36: =COUNTIFS($B$20:$O$28,LEFT(B35,1)) -> 0 | D36: =COUNTIFS($B$20:$O$28,LEFT(D35,1)) -> 1 | F36: =COUNTIFS($B$20:$O$28,LEFT(F35,1)) -> 1
B37: 7 L'instropection. La foi, la confiance. | C37: Signification | D37: 8 La puissance. La matérialité. | E37: Signification | F37: 9 L'humanisme. La connaissance. | G37: Signification
B38: =COUNTIFS($B$20:$O$28,LEFT(B37,1)) -> 1 | D38: =COUNTIFS($B$20:$O$28,LEFT(D37,1)) -> 0 | F38: =COUNTIFS($B$20:$O$28,LEFT(F37,1)) -> 2
