Workbook

Sheet tableau général 2017
A1: année 2017 | B1: Benefices | D1: TOTAL BENEFICES
A2: 42948 | B2: ='Aout 2017'!I2 -> 49.959 | D2: =SUM(B2:B14) -> 49.959
A3: 42979 | B3: ='septembre 2017'!I2 -> 0
A4: 43009 | B4: ='octobre 2017'!I2 -> 0
A5: 43040 | B5: ='novembre 2017'!I2 -> 0
A6: 43070 | B6: ='decembre 2017'!I2 -> 0

Sheet Aout 2017
A1: dates | B1: mises | C1: côtes | D1: gains | E1: pertes | F1: V/D | G1: bénéfices | I1: total bénéfices | K1: total mises | L1: total gains | M1: total pertes
A2: 42957 | B2: 28.8 | C2: 1.29 | D2: =B2*C2 -> 37.152 | G2: =D2-B2 -> 8.352 | I2: =L2-K2-M2 -> 49.959 | K2: =SUM(B2:B99) -> 150 | L2: =SUM(D2:D106) -> 199.959 | M2: =SUM(E2:E102) -> 0
A3: 42958 | B3: 35.9 | C3: 1.29 | D3: =B3*C3 -> 46.311 | G3: =D3-B3 -> 10.411
A4: 42960 | B4: 27.2 | C4: 1.4 | D4: =B4*C4 -> 38.08 | G4: =D4-B4 -> 10.88
A5: 42961 | B5: 38.1 | C5: 1.36 | D5: =B5*C5 -> 51.816 | G5: =D5-B5 -> 13.716
A6: 42962 | B6: 20 | C6: 1.33 | D6: =B6*C6 -> 26.6 | G6: =D6-B6 -> 6.6
A7: 42963 | D7: =B7*C7 -> 0 | G7: =D7-B7 -> 0
A8: 42964 | D8: =B8*C8 -> 0 | G8: =D8-B8 -> 0
A9: 42965 | D9: =B9*C9 -> 0 | G9: =D9-B9 -> 0
A10: 42966 | D10: =B10*C10 -> 0 | G10: =D10-B10 -> 0
A11: 42967 | D11: =B11*C11 -> 0 | G11: =D11-B11 -> 0
A12: 42968 | D12: =B12*C12 -> 0 | G12: =D12-B12 -> 0
A13: 42969 | D13: =B13*C13 -> 0 | G13: =D13-B13 -> 0
A14: 42970 | D14: =B14*C14 -> 0 | G14: =D14-B14 -> 0
A15: 42971 | D15: =B15*C15 -> 0 | G15: =D15-B15 -> 0
A16: 42972 | D16: =B16*C16 -> 0 | G16: =D16-B16 -> 0
A17: 42973 | D17: =B17*C17 -> 0 | G17: =D17-B17 -> 0
A18: 42974 | D18: =B18*C18 -> 0 | G18: =D18-B18 -> 0
... A22: 42978 | D22: =B22*C22 -> 0 | G22: =D22-B22 -> 0

Sheet septembre 2017
A1: dates | B1: mises | C1: côtes | D1: gains | E1: pertes | F1: V/D | G1: bénéfices | I1: total bénéfices | K1: total mises | L1: total gains | M1: total pertes
A2: 42979 | I2: =L2-K2-M2 -> 0 | K2: =SUM(B2:B32) -> 0 | L2: =SUM(D2:D32) -> 0 | M2: =SUM(E2:E32) -> 0
A3: 42980
A4: 42981
A5: 42982
A6: 42983
A7: 42984
A8: 42985
A9: 42986
A10: 42987
A11: 42988
A12: 42989
A13: 42990
A14: 42991
... A31: 43008

Sheet octobre 2017
A1: dates | B1: mises | C1: côtes | D1: gains | E1: pertes | F1: V/D | G1: bénéfices | I1: total bénéfices | K1: total mises | L1: total gains | M1: total pertes
A2: 43009 | I2: =L2-K2-M2 -> 0 | K2: =SUM(B2:B32) -> 0 | L2: =SUM(D2:D32) -> 0 | M2: =SUM(E2:E32) -> 0
A3: 43010
A4: 43011
A5: 43012
A6: 43013
A7: 43014
A8: 43015
A9: 43016
A10: 43017
A11: 43018
A12: 43019
A13: 43020
A14: 43021
... A32: 43039

Sheet novembre 2017
A1: dates | B1: mises | C1: côtes | D1: gains | E1: pertes | F1: V/D | G1: bénéfices | I1: total bénéfices | K1: total mises | L1: total gains | M1: total pertes
A2: 43040 | I2: =L2-K2-M2 -> 0 | K2: =SUM(B2:B32) -> 0 | L2: =SUM(D2:D32) -> 0 | M2: =SUM(E2:E32) -> 0
A3: 43041
A4: 43042
A5: 43043
A6: 43044
A7: 43045
A8: 43046
A9: 43047
A10: 43048
A11: 43049
A12: 43050
A13: 43051
A14: 43052
... A31: 43069

Sheet decembre 2017
A1: dates | B1: mises | C1: côtes | D1: gains | E1: pertes | F1: V/D | G1: bénéfices | I1: total bénéfices | K1: total mises | L1: total gains | M1: total pertes
A2: 43070 | I2: =L2-K2-M2 -> 0 | K2: =SUM(B2:B32) -> 0 | L2: =SUM(D2:D32) -> 0 | M2: =SUM(E2:E32) -> 0
A3: 43071
A4: 43072
A5: 43073
A6: 43074
A7: 43075
A8: 43076
A9: 43077
A10: 43078
A11: 43079
A12: 43080
A13: 43081
A14: 43082
... A32: 43100
