Workbook

Sheet Feuil1
A1: 1 | E1: JANVIER | F1: 2022
A2: 2 | E2: FÉVRIER | F2: 2023
E3: MARS | F3: 2024
A4: 1 | E4: AVRIL | F4: 2025
A5: =A4+1 -> 2 | E5: MAI | F5: 2026
A6: =A5+1 -> 3 | E6: JUIN | F6: 2027
A7: =A6+1 -> 4 | E7: JUILLET | F7: 2028
A8: =A7+1 -> 5 | E8: AOÛT | F8: 2029
A9: =A8+1 -> 6 | E9: SEPTEMBRE | F9: 2030
A10: =A9+1 -> 7 | E10: OCTOBRE
A11: =A10+1 -> 8 | E11: NOVEMBRE
A12: =A11+1 -> 9 | E12: DÉCEMBRE
A13: =A12+1 -> 10
A14: =A13+1 -> 11
A15: =A14+1 -> 12
A18: Année | B18: 2022
A20: 1er Janvier | B20: 44562
A21: Pâques | B21: 4/17/2022
A22: Lundi de Pâques | B22: 4/18/2022
A23: 1er Mai | B23: 44566
A24: 44689 | B24: 44778
A25: Ascenscion | B25: 5/26/2022
A26: Pentecôte | B26: 44687
A27: Lundi de la Pentecôte | B27: 44718
A28: 44756 | B28: 7/14/2022
A29: 44788 | B29: 8/15/2022
A30: 1er Novembre | B30: 44572
A31: 44876 | B31: 44876
A32: 44920 | B32: 12/25/2022

Sheet Feuil2
J2: Planning sandrine
A5: ="du "&TEXT(DATE(Feuil1!A1+2021,Feuil1!A1,1),"jj mmmm aaaa")&" au "&TEXT(DATE(Feuil1!A1+2021,Feuil1!A1+1,1)-1,"jj mmmm aaaa") -> du 01 janvier 2022 au 31 janvier 2022
B6: =DATE(Feuil1!A1+2021,Feuil1!A4,1) -> 44562 | C6: =B6+1 -> 44563 | D6: =C6+1 -> 44564 | E6: =D6+1 -> 44565 | F6: =E6+1 -> 44566 | G6: =F6+1 -> 44567 | H6: =G6+1 -> 44568 | I6: =H6+1 -> 44569 | J6: =I6+1 -> 44570 | ... AF6: =AE6+1 -> 44592
B7: 44562 | C7: 44563 | D7: 44564 | E7: 44565 | F7: 44566 | G7: 44567 | H7: 44568 | I7: 44569 | J7: 44570 | K7: 44571 | L7: 44572 | M7: 44573 | N7: 44574 | O7: 44575 | P7: 44576 | Q7: 44577 | R7: 44578 | S7: 44579 | T7: 44580 | U7: 44581 | V7: 44582 | W7: 44583 | X7: 44584 | Y7: 44585 | Z7: 44586 | AA7: 44587 | AB7: 44588 | AC7: 44589 | AD7: 44590 | AE7: 44591 | AF7: 44592
B8: samedi | C8: dimanche | D8: lundi | E8: mardi | F8: mercredi | G8: jeudi | H8: vendredi | I8: samedi | J8: dimanche | K8: lundi | L8: mardi | M8: mercredi | N8: jeudi | O8: vendredi | P8: samedi | Q8: dimanche | R8: lundi | S8: mardi | T8: mercredi | U8: jeudi | V8: vendredi | W8: samedi | X8: dimanche | Y8: lundi | Z8: mardi | AA8: mercredi | AB8: jeudi | AC8: vendredi | AD8: samedi | AE8: dimanche | AF8: lundi
B9: =IF(B6<>"",TEXT(B6,"jjjj")& " " & TEXT(B6,"jj"),"") -> samedi 01 | C9: =IF(MONTH(C6)=MONTH($B$6),TEXT(C6,"jjjj")& " " &TEXT(C6,"jj"),"") -> dimanche 02 | D9: =IF(MONTH(D6)=MONTH($B$6),TEXT(D6,"jjjj")& " " &TEXT(D6,"jj"),"") -> lundi 03 | E9: =IF(MONTH(E6)=MONTH($B$6),TEXT(E6,"jjjj")& " " &TEXT(E6,"jj"),"") -> mardi 04 | F9: =IF(MONTH(F6)=MONTH($B$6),TEXT(F6,"jjjj")& " " &TEXT(F6,"jj"),"") -> mercredi 05 | G9: =IF(MONTH(G6)=MONTH($B$6),TEXT(G6,"jjjj")& " " &TEXT(G6,"jj"),"") -> jeudi 06 | H9: =IF(MONTH(H6)=MONTH($B$6),TEXT(H6,"jjjj")& " " &TEXT(H6,"jj"),"") -> vendredi 07 | I9: =IF(MONTH(I6)=MONTH($B$6),TEXT(I6,"jjjj")& " " &TEXT(I6,"jj"),"") -> samedi 08 | J9: =IF(MONTH(J6)=MONTH($B$6),TEXT(J6,"jjjj")& " " &TEXT(J6,"jj"),"") -> dimanche 09 | ... AF9: =IF(MONTH(AF6)=MONTH($B$6),TEXT(AF6,"jjjj")& " " &TEXT(AF6,"jj"),"") -> lundi 31 | AG9: Total des heures
A10: Matin | B10: =IF(VLOOKUP(B7,'[1]Planning Sandrine'!$D$4:$F$34,2,FALSE)=0,"",VLOOKUP(B7,'[1]Planning Sandrine'!$D$4:$F$34,2,FALSE)) | C10: =IF(VLOOKUP(C7,'[1]Planning Sandrine'!$D$4:$F$34,2,FALSE)=0,"",VLOOKUP(C7,'[1]Planning Sandrine'!$D$4:$F$34,2,FALSE)) | D10: =IF(VLOOKUP(D7,'[1]Planning Sandrine'!$D$4:$F$34,2,FALSE)=0,"",VLOOKUP(D7,'[1]Planning Sandrine'!$D$4:$F$34,2,FALSE)) -> dilfT | E10: =IF(VLOOKUP(E7,'[1]Planning Sandrine'!$D$4:$F$34,2,FALSE)=0,"",VLOOKUP(E7,'[1]Planning Sandrine'!$D$4:$F$34,2,FALSE)) -> dilfT | F10: =IF(VLOOKUP(F7,'[1]Planning Sandrine'!$D$4:$F$34,2,FALSE)=0,"",VLOOKUP(F7,'[1]Planning Sandrine'!$D$4:$F$34,2,FALSE)) | G10: =IF(VLOOKUP(G7,'[1]Planning Sandrine'!$D$4:$F$34,2,FALSE)=0,"",VLOOKUP(G7,'[1]Planning Sandrine'!$D$4:$F$34,2,FALSE)) | H10: =IF(VLOOKUP(H7,'[1]Planning Sandrine'!$D$4:$F$34,2,FALSE)=0,"",VLOOKUP(H7,'[1]Planning Sandrine'!$D$4:$F$34,2,FALSE)) | I10: =IF(VLOOKUP(I7,'[1]Planning Sandrine'!$D$4:$F$34,2,FALSE)=0,"",VLOOKUP(I7,'[1]Planning Sandrine'!$D$4:$F$34,2,FALSE)) | ... AF10: =IF(VLOOKUP(AF7,'[1]Planning Sandrine'!$D$4:$F$34,2,FALSE)=0,"",VLOOKUP(AF7,'[1]Planning Sandrine'!$D$4:$F$34,2,FALSE))
A11: Heures | B11: =IF(B10<>"",VLOOKUP(B8,'[1]Planning Sandrine'!$B$37:$C$41,2,FALSE),"") | C11: =IF(C10<>"",VLOOKUP(C8,'[1]Planning Sandrine'!$B$37:$C$41,2,FALSE),"") | D11: =IF(D10<>"",VLOOKUP(D8,'[1]Planning Sandrine'!$B$37:$C$41,2,FALSE),"") -> 4 | E11: =IF(E10<>"",VLOOKUP(E8,'[1]Planning Sandrine'!$B$37:$C$41,2,FALSE),"") -> 4 | F11: =IF(F10<>"",VLOOKUP(F8,'[1]Planning Sandrine'!$B$37:$C$41,2,FALSE),"") | G11: =IF(G10<>"",VLOOKUP(G8,'[1]Planning Sandrine'!$B$37:$C$41,2,FALSE),"") | H11: =IF(H10<>"",VLOOKUP(H8,'[1]Planning Sandrine'!$B$37:$C$41,2,FALSE),"") | I11: =IF(I10<>"",VLOOKUP(I8,'[1]Planning Sandrine'!$B$37:$C$41,2,FALSE),"") | ... AF11: =IF(AF10<>"",VLOOKUP(AF8,'[1]Planning Sandrine'!$B$37:$C$41,2,FALSE),"") | AG11: =SUM(B11:AF11) -> 16
A12: AM | B12: =IF(VLOOKUP(B7,'[1]Planning Sandrine'!$D$4:$F$34,2,FALSE)=0,"",VLOOKUP(B7,'[1]Planning Sandrine'!$D$4:$F$34,2,FALSE)) | C12: =IF(VLOOKUP(C7,'[1]Planning Sandrine'!$D$4:$F$34,2,FALSE)=0,"",VLOOKUP(C7,'[1]Planning Sandrine'!$D$4:$F$34,2,FALSE)) | D12: =IF(VLOOKUP(D7,'[1]Planning Sandrine'!$D$4:$F$34,2,FALSE)=0,"",VLOOKUP(D7,'[1]Planning Sandrine'!$D$4:$F$34,2,FALSE)) -> dilfT | E12: =IF(VLOOKUP(E7,'[1]Planning Sandrine'!$D$4:$F$34,2,FALSE)=0,"",VLOOKUP(E7,'[1]Planning Sandrine'!$D$4:$F$34,2,FALSE)) -> dilfT | F12: =IF(VLOOKUP(F7,'[1]Planning Sandrine'!$D$4:$F$34,2,FALSE)=0,"",VLOOKUP(F7,'[1]Planning Sandrine'!$D$4:$F$34,2,FALSE)) | G12: =IF(VLOOKUP(G7,'[1]Planning Sandrine'!$D$4:$F$34,2,FALSE)=0,"",VLOOKUP(G7,'[1]Planning Sandrine'!$D$4:$F$34,2,FALSE)) | H12: =IF(VLOOKUP(H7,'[1]Planning Sandrine'!$D$4:$F$34,2,FALSE)=0,"",VLOOKUP(H7,'[1]Planning Sandrine'!$D$4:$F$34,2,FALSE)) | I12: =IF(VLOOKUP(I7,'[1]Planning Sandrine'!$D$4:$F$34,2,FALSE)=0,"",VLOOKUP(I7,'[1]Planning Sandrine'!$D$4:$F$34,2,FALSE)) | ... AF12: =IF(VLOOKUP(AF7,'[1]Planning Sandrine'!$D$4:$F$34,2,FALSE)=0,"",VLOOKUP(AF7,'[1]Planning Sandrine'!$D$4:$F$34,2,FALSE))
A13: Heures | B13: =IF(B12<>"",VLOOKUP(B8,'[1]Planning Sandrine'!$B$37:$D$41,3,FALSE),"") | C13: =IF(C12<>"",VLOOKUP(C8,'[1]Planning Sandrine'!$B$37:$D$41,3,FALSE),"") | D13: =IF(D12<>"",VLOOKUP(D8,'[1]Planning Sandrine'!$B$37:$D$41,3,FALSE),"") -> 3 | E13: =IF(E12<>"",VLOOKUP(E8,'[1]Planning Sandrine'!$B$37:$D$41,3,FALSE),"") -> 4 | F13: =IF(F12<>"",VLOOKUP(F8,'[1]Planning Sandrine'!$B$37:$D$41,3,FALSE),"") | G13: =IF(G12<>"",VLOOKUP(G8,'[1]Planning Sandrine'!$B$37:$D$41,3,FALSE),"") | H13: =IF(H12<>"",VLOOKUP(H8,'[1]Planning Sandrine'!$B$37:$D$41,3,FALSE),"") | I13: =IF(I12<>"",VLOOKUP(I8,'[1]Planning Sandrine'!$B$37:$D$41,3,FALSE),"") | ... AF13: =IF(AF12<>"",VLOOKUP(AF8,'[1]Planning Sandrine'!$B$37:$D$41,3,FALSE),"") | AG13: =SUM(B13:AF13) -> 13
A15: ="du "&TEXT(DATE(Feuil1!A1+2021,Feuil1!A5,1),"jj mmmm aaaa")&" au "&TEXT(DATE(Feuil1!A1+2021,Feuil1!A5+1,1)-1,"jj mmmm aaaa") -> du 01 février 2022 au 28 février 2022
B16: =DATE(Feuil1!A1+2021,Feuil1!A5,1) -> 44593 | C16: =B16+1 -> 44594 | D16: =C16+1 -> 44595 | E16: =D16+1 -> 44596 | F16: =E16+1 -> 44597 | G16: =F16+1 -> 44598 | H16: =G16+1 -> 44599 | I16: =H16+1 -> 44600 | J16: =I16+1 -> 44601 | ... AF16: =AE16+1 -> 44623
B17: =IF(B16<>"",TEXT(B16,"jjjj")& " " & TEXT(B16,"jj"),"") -> mardi 01 | C17: =IF(MONTH(C16)=MONTH($B$16),TEXT(C16,"jjjj")& " " &TEXT(C16,"jj"),"") -> mercredi 02 | D17: =IF(MONTH(D16)=MONTH($B$16),TEXT(D16,"jjjj")& " " &TEXT(D16,"jj"),"") -> jeudi 03 | E17: =IF(MONTH(E16)=MONTH($B$16),TEXT(E16,"jjjj")& " " &TEXT(E16,"jj"),"") -> vendredi 04 | F17: =IF(MONTH(F16)=MONTH($B$16),TEXT(F16,"jjjj")& " " &TEXT(F16,"jj"),"") -> samedi 05 | G17: =IF(MONTH(G16)=MONTH($B$16),TEXT(G16,"jjjj")& " " &TEXT(G16,"jj"),"") -> dimanche 06 | H17: =IF(MONTH(H16)=MONTH($B$16),TEXT(H16,"jjjj")& " " &TEXT(H16,"jj"),"") -> lundi 07 | I17: =IF(MONTH(I16)=MONTH($B$16),TEXT(I16,"jjjj")& " " &TEXT(I16,"jj"),"") -> mardi 08 | J17: =IF(MONTH(J16)=MONTH($B$16),TEXT(J16,"jjjj")& " " &TEXT(J16,"jj"),"") -> mercredi 09 | ... AF17: =IF(MONTH(AF16)=MONTH($B$16),TEXT(AF16,"jjjj")& " " &TEXT(AF16,"jj"),"")
A18: Matin
A19: Heures
A20: AM
A21: Heures
A23: ="du "&TEXT(DATE(Feuil1!A1+2021,Feuil1!A6,1),"jj mmmm aaaa")&" au "&TEXT(DATE(Feuil1!A1+2021,Feuil1!A6+1,1)-1,"jj mmmm aaaa") -> du 01 mars 2022 au 31 mars 2022
B24: =DATE(Feuil1!A1+2021,Feuil1!A6,1) -> 44621 | C24: =B24+1 -> 44622 | D24: =C24+1 -> 44623 | E24: =D24+1 -> 44624 | F24: =E24+1 -> 44625 | G24: =F24+1 -> 44626 | H24: =G24+1 -> 44627 | I24: =H24+1 -> 44628 | J24: =I24+1 -> 44629 | ... AF24: =AE24+1 -> 44651
B25: =IF(B24<>"",TEXT(B24,"jjjj")& " " & TEXT(B24,"jj"),"") -> mardi 01 | C25: =IF(MONTH(C24)=MONTH($B$24),TEXT(C24,"jjjj")& " " &TEXT(C24,"jj"),"") -> mercredi 02 | D25: =IF(MONTH(D24)=MONTH($B$24),TEXT(D24,"jjjj")& " " &TEXT(D24,"jj"),"") -> jeudi 03 | E25: =IF(MONTH(E24)=MONTH($B$24),TEXT(E24,"jjjj")& " " &TEXT(E24,"jj"),"") -> vendredi 04 | F25: =IF(MONTH(F24)=MONTH($B$24),TEXT(F24,"jjjj")& " " &TEXT(F24,"jj"),"") -> samedi 05 | G25: =IF(MONTH(G24)=MONTH($B$24),TEXT(G24,"jjjj")& " " &TEXT(G24,"jj"),"") -> dimanche 06 | H25: =IF(MONTH(H24)=MONTH($B$24),TEXT(H24,"jjjj")& " " &TEXT(H24,"jj"),"") -> lundi 07 | I25: =IF(MONTH(I24)=MONTH($B$24),TEXT(I24,"jjjj")& " " &TEXT(I24,"jj"),"") -> mardi 08 | J25: =IF(MONTH(J24)=MONTH($B$24),TEXT(J24,"jjjj")& " " &TEXT(J24,"jj"),"") -> mercredi 09 | ... AF25: =IF(MONTH(AF24)=MONTH($B$24),TEXT(AF24,"jjjj")& " " &TEXT(AF24,"jj"),"") -> jeudi 31
A26: Matin
A27: Heures
A28: AM
A29: Heures
A32: ="du "&TEXT(DATE(Feuil1!A1+2021,Feuil1!A7,1),"jj mmmm aaaa")&" au "&TEXT(DATE(Feuil1!A1+2021,Feuil1!A7+1,1)-1,"jj mmmm aaaa") -> du 01 avril 2022 au 30 avril 2022
B33: =DATE(Feuil1!A9+2021,Feuil1!A14,1) -> 46692 | C33: =B33+1 -> 46693 | D33: =C33+1 -> 46694 | E33: =D33+1 -> 46695 | F33: =E33+1 -> 46696 | G33: =F33+1 -> 46697 | H33: =G33+1 -> 46698 | I33: =H33+1 -> 46699 | J33: =I33+1 -> 46700 | ... AF33: =AE33+1 -> 46722
B34: =IF(B33<>"",TEXT(B33,"jjjj")& " " & TEXT(B33,"jj"),"") -> lundi 01 | C34: =IF(MONTH(C33)=MONTH($B$33),TEXT(C33,"jjjj")& " " &TEXT(C33,"jj"),"") -> mardi 02 | D34: =IF(MONTH(D33)=MONTH($B$33),TEXT(D33,"jjjj")& " " &TEXT(D33,"jj"),"") -> mercredi 03 | E34: =IF(MONTH(E33)=MONTH($B$33),TEXT(E33,"jjjj")& " " &TEXT(E33,"jj"),"") -> jeudi 04 | F34: =IF(MONTH(F33)=MONTH($B$33),TEXT(F33,"jjjj")& " " &TEXT(F33,"jj"),"") -> vendredi 05 | G34: =IF(MONTH(G33)=MONTH($B$33),TEXT(G33,"jjjj")& " " &TEXT(G33,"jj"),"") -> samedi 06 | H34: =IF(MONTH(H33)=MONTH($B$33),TEXT(H33,"jjjj")& " " &TEXT(H33,"jj"),"") -> dimanche 07 | I34: =IF(MONTH(I33)=MONTH($B$33),TEXT(I33,"jjjj")& " " &TEXT(I33,"jj"),"") -> lundi 08 | J34: =IF(MONTH(J33)=MONTH($B$33),TEXT(J33,"jjjj")& " " &TEXT(J33,"jj"),"") -> mardi 09 | ... AF34: =IF(MONTH(AF33)=MONTH($B$33),TEXT(AF33,"jjjj")& " " &TEXT(AF33,"jj"),"")
A35: Matin
A36: Heures
A37: AM
A38: Heures
