Workbook
Name Listext: #REF!
Name Listint: #REF!

Sheet PERSONNEL
C2: Course / Training: | D2: module de formation | AJ2: DATE:
C3: Location : | AK3: MINING/TRAINING/HSE
C4: Trainer Name: | AH4: DAILY TRAINING REPORT | AN4: ASSESSOR TO COMPLETE
C5: §
C6: FIRST NAME | D6: SURNAME | F6: EQUIPEMENT | G6: EQUIPMENTS MODELS | H6: CERTIFICATE | I6: Certifié ailleurs? | J6: EQUIPEMENT 2 | K6: EQUIPMENTS MODELS | L6: CERTIFICATE | M6: Certifié ailleurs? | N6: EQUIPEMENT 3 | O6: EQUIPMENTS MODELS | P6: CERTIFICATE | Q6: Certifié ailleurs? | R6: EQUIPEMENT 4 | S6: EQUIPMENTS MODELS | T6: CERTIFICATE | U6: Certifié ailleurs? | V6: EQUIPEMENT 5 | W6: EQUIPMENTS MODELS | X6: CERTIFICATE | Y6: Certifié ailleurs? | Z6: EQUIPEMENT 6 | AA6: EQUIPMENTS MODELS | AB6: CERTIFICATE | AC6: Certifié ailleurs? | AD6: EQUIPEMENT 7 | AE6: EQUIPMENTS MODELS | AF6: CERTIFICATE | AG6: Certifié ailleurs? | AH6: CURRENT ASSESSMENT / WORDIND | AI6: CREW | AJ6: ID | AL6: Date debut formation | AM6: Thème formation | AN6: TIME OF DUTY (heure) | AO6: POURCENTAGE DE REUSSITE % | AP6: RESULTS (C/NC/DONE)
B7: 1 | C7: A1 | D7: B1 | E7: =_xlfn.CONCAT(C7," ",D7) -> A1 B1 | F7: TIPPER TRUCK | G7: SML INDUCTION | H7: OK | J7: TIPPER TRUCK | K7: SINO HOWO TRUCK | L7: en cours | M7: N/A | N7: Non | P7: Non | Q7: N/A | R7: Non | T7: Non | U7: N/A | V7: Non | X7: Non | Y7: N/A | Z7: Non | AB7: Non | AC7: N/A | AD7: Non | AF7: Non | AH7: PASS | AJ7: 373 | AN7: 12 | AO7: 0.95 | AP7: DONE | AS7: =COUNTIF(F7:AF7,"ADT OPT") -> 0
B8: 2 | C8: A2 | D8: B2 | E8: =_xlfn.CONCAT(C8," ",D8) -> A2 B2 | F8: TIPPER TRUCK | G8: SML INDUCTION | H8: En cours | J8: TIPPER TRUCK | K8: SINO HOWO TRUCK | L8: Non | N8: LOWBED | O8: SML INDUCTION | P8: Non | Q8: N/A | R8: LOWBED | S8: LOWBED | T8: Non | U8: N/A | V8: Non | X8: Non | Y8: N/A | Z8: Non | AB8: Non | AC8: N/A | AD8: Non | AF8: Non | AH8: PASS | AJ8: 127 | AN8: 4 | AO8: 0.9 | AP8: DONE | AS8: =COUNTIF(F8:AF8,"ADT OPT") -> 0
B9: 3 | C9: A3 | D9: B3 | E9: =_xlfn.CONCAT(C9," ",D9) -> A3 B3 | F9: TIPPER TRUCK | G9: SML INDUCTION | H9: OK | J9: TIPPER TRUCK | K9: JAC TRUCK | L9: Non | M9: N/A | N9: Non | P9: Non | Q9: N/A | R9: Non | T9: Non | U9: N/A | V9: Non | X9: Non | Y9: N/A | Z9: Non | AB9: Non | AC9: N/A | AD9: Non | AF9: Non | AH9: PASS | AJ9: 493 | AN9: 4 | AO9: 0.95 | AP9: DONE | AS9: =COUNTIF(F9:AF9,"ADT OPT") -> 0
B10: 4 | C10: A4 | D10: B4 | E10: =_xlfn.CONCAT(C10," ",D10) -> A4 B4 | F10: TIPPER TRUCK | G10: SML INDUCTION | H10: OK | J10: TIPPER TRUCK | K10: SINO HOWO TRUCK | L10: Non | M10: N/A | N10: Non | P10: Non | Q10: N/A | R10: Non | T10: Non | U10: N/A | V10: Non | X10: Non | Y10: N/A | Z10: Non | AB10: Non | AC10: N/A | AD10: Non | AF10: Non | AH10: PASS | AJ10: 124 | AN10: 4 | AO10: 0.95 | AP10: DONE | AS10: =COUNTIF(F10:AF10,"ADT OPT") -> 0
B11: 5 | C11: A5 | D11: B5 | E11: =_xlfn.CONCAT(C11," ",D11) -> A5 B5 | F11: TIPPER TRUCK | G11: SML INDUCTION | H11: OK | J11: TIPPER TRUCK | K11: SINO HOWO TRUCK | L11: Non | M11: N/A | N11: Non | P11: Non | Q11: N/A | R11: Non | T11: Non | U11: N/A | V11: Non | X11: Non | Y11: N/A | Z11: Non | AB11: Non | AC11: N/A | AD11: Non | AF11: Non | AH11: PASS | AJ11: 37 | AN11: 4 | AO11: 0.95 | AP11: DONE | AS11: =COUNTIF(F11:AF11,"ADT OPT") -> 0
B12: 6 | C12: A6 | D12: B6 | E12: =_xlfn.CONCAT(C12," ",D12) -> A6 B6 | F12: TIPPER TRUCK | G12: SML INDUCTION | H12: OK | J12: TIPPER TRUCK | K12: JAC TRUCK | L12: Non | M12: N/A | N12: LV &BUS DRIVERS | O12: SML INDUCTION | P12: Non | Q12: N/A | R12: LV &BUS DRIVERS | S12: PASSENGER BUS | T12: Non | U12: N/A | V12: Non | X12: Non | Y12: N/A | Z12: Non | AB12: Non | AC12: N/A | AD12: Non | AF12: Non | AH12: PASS | AJ12: 429 | AN12: 4 | AO12: 0.95 | AP12: DONE | AS12: =COUNTIF(F12:AF12,"ADT OPT") -> 0
B13: 7 | C13: A7 | D13: B7 | E13: =_xlfn.CONCAT(C13," ",D13) -> A7 B7 | F13: EXCAVATOR | G13: SML INDUCTION | H13: OK | J13: EXCAVATOR | K13: HITACHI 670LCR | L13: Non | M13: N/A | N13: Non | P13: Non | Q13: N/A | R13: Non | T13: Non | U13: N/A | V13: Non | X13: Non | Y13: N/A | Z13: Non | AB13: Non | AC13: N/A | AD13: Non | AF13: Non | AH13: PASS | AJ13: 509 | AN13: 4 | AO13: 0.95 | AP13: DONE | AS13: =COUNTIF(F13:AF13,"ADT OPT") -> 0
B14: 8 | C14: A8 | D14: B8 | E14: =_xlfn.CONCAT(C14," ",D14) -> A8 B8 | F14: TIPPER TRUCK | G14: SML INDUCTION | H14: OK | J14: TIPPER TRUCK | K14: SINO HOWO TRUCK | L14: Non | M14: N/A | N14: Non | P14: Non | Q14: N/A | R14: Non | T14: Non | U14: N/A | V14: Non | X14: Non | Y14: N/A | Z14: Non | AB14: Non | AC14: N/A | AD14: Non | AF14: Non | AH14: PASS | AJ14: 119 | AN14: 4 | AO14: 0.95 | AP14: DONE | AS14: =COUNTIF(F14:AF14,"ADT OPT") -> 0
B15: 9 | C15: A9 | D15: B9 | E15: =_xlfn.CONCAT(C15," ",D15) -> A9 B9 | F15: COMPACTEUR | H15: OK | J15: Non | L15: Non | M15: N/A | N15: Non | P15: Non | Q15: N/A | R15: Non | T15: Non | U15: N/A | V15: Non | X15: Non | Y15: N/A | Z15: Non | AB15: Non | AC15: N/A | AD15: Non | AF15: Non | AH15: PASS | AJ15: 34 | AN15: 4 | AO15: 0.95 | AP15: DONE | AS15: =COUNTIF(F15:AF15,"ADT OPT") -> 0
B16: 10 | C16: A10 | D16: B10 | E16: =_xlfn.CONCAT(C16," ",D16) -> A10 B10 | F16: TIPPER TRUCK | G16: SML INDUCTION | H16: OK | J16: TIPPER TRUCK | K16: JAC TRUCK | L16: Non | M16: N/A | N16: LV &BUS DRIVERS | O16: SML INDUCTION | P16: Non | Q16: N/A | R16: LV &BUS DRIVERS | S16: PASSENGER BUS | T16: Non | U16: N/A | V16: Non | X16: Non | Y16: N/A | Z16: Non | AB16: Non | AC16: N/A | AD16: Non | AF16: Non | AH16: PASS | AJ16: 494 | AN16: 4 | AO16: 0.95 | AP16: DONE | AS16: =COUNTIF(F16:AF16,"ADT OPT") -> 0
B17: 11 | C17: A11 | D17: B11 | E17: =_xlfn.CONCAT(C17," ",D17) -> A11 B11 | F17: TIPPER TRUCK | G17: SML INDUCTION | H17: OK | J17: TIPPER TRUCK | K17: SINO HOWO TRUCK | L17: Non | M17: N/A | N17: Non | P17: Non | Q17: N/A | R17: Non | T17: Non | U17: N/A | V17: Non | X17: Non | Y17: N/A | Z17: Non | AB17: Non | AC17: N/A | AD17: Non | AF17: Non | AH17: PASS | AJ17: 118 | AN17: 4 | AO17: 0.95 | AP17: DONE | AS17: =COUNTIF(F17:AF17,"ADT OPT") -> 0
B18: 12 | C18: A12 | D18: B12 | E18: =_xlfn.CONCAT(C18," ",D18) -> A12 B12 | F18: COMPACTEUR | G18: SML INDUCTION | H18: OK | J18: COMPACTOR | K18: HAMM ROLLER | L18: Non | M18: N/A | N18: TIPPER TRUCK | O18: SML INDUCTION | P18: Non | Q18: N/A | R18: TIPPER TRUCK | S18: SINO HOWO TRUCK | T18: Non | U18: N/A | V18: Non | X18: Non | Y18: N/A | Z18: Non | AB18: Non | AC18: N/A | AD18: Non | AF18: Non | AH18: PASS | AJ18: 53 | AN18: 4 | AO18: 0.95 | AP18: DONE
B19: 13 | C19: A13 | D19: B13 | E19: =_xlfn.CONCAT(C19," ",D19) -> A13 B13 | F19: TIPPER TRUCK | G19: SML INDUCTION | H19: OK | J19: TIPPER TRUCK | K19: SINO HOWO TRUCK | L19: Non | M19: N/A | N19: Non | P19: Non | Q19: N/A | R19: Non | T19: Non | U19: N/A | V19: Non | X19: Non | Y19: N/A | Z19: Non | AB19: Non | AC19: N/A | AD19: Non | AF19: Non | AH19: PASS | AJ19: 498 | AN19: 4 | AO19: 0.95 | AP19: DONE
B20: 14 | C20: A14 | D20: B14 | E20: =_xlfn.CONCAT(C20," ",D20) -> A14 B14 | F20: TIPPER TRUCK | G20: SML INDUCTION | H20: OK | J20: TIPPER TRUCK | K20: SINO HOWO TRUCK | L20: Non | M20: N/A | N20: Non | P20: Non | Q20: N/A | R20: Non | T20: Non | U20: N/A | V20: Non | X20: Non | Y20: N/A | Z20: Non | AB20: Non | AC20: N/A | AD20: Non | AF20: Non | AH20: PASS | AJ20: 557 | AN20: 4 | AO20: 0.95 | AP20: DONE
B21: 15 | C21: A15 | D21: B15 | E21: =_xlfn.CONCAT(C21," ",D21) -> A15 B15 | F21: TRACTOPELLE | G21: SML INDUCTION | H21: OK | J21: EXCAVATOR | K21: CASE 570T | L21: Non | M21: N/A | N21: Non | P21: Non | Q21: N/A | R21: Non | T21: Non | U21: N/A | V21: Non | X21: Non | Y21: N/A | Z21: Non | AB21: Non | AC21: N/A | AD21: Non | AF21: Non | AH21: PASS | AJ21: 548 | AN21: 4 | AO21: 0.95 | AP21: DONE
B22: 16 | C22: A16 | D22: B16 | E22: =_xlfn.CONCAT(C22," ",D22) -> A16 B16 | F22: HIAB | H22: OK | J22: Non | L22: Non | M22: N/A | N22: Non | P22: Non | Q22: N/A | R22: Non | T22: Non | U22: N/A | V22: Non | X22: Non | Y22: N/A | Z22: Non | AB22: Non | AC22: N/A | AD22: Non | AF22: Non | AH22: PASS | AJ22: 442 | AN22: 4 | AO22: 0.95 | AP22: DONE
B23: 17 | C23: A17 | D23: B17 | E23: =_xlfn.CONCAT(C23," ",D23) -> A17 B17 | F23: COMPACTEUR | G23: SML INDUCTION | H23: OK | J23: COMPACTOR | K23: HAMM ROLLER | L23: Non | M23: N/A | N23: TIPPER TRUCK | O23: SML INDUCTION | P23: Non | Q23: N/A | R23: TIPPER TRUCK | S23: PASSENGER BUS | T23: Non | U23: N/A | V23: TIPPER TRUCK | W23: SINO HOWO TRUCK | X23: Non | Y23: N/A | Z23: Non | AB23: Non | AC23: N/A | AD23: Non | AF23: Non | AH23: PASS | AJ23: 26 | AN23: 4 | AO23: 0.95 | AP23: DONE
B24: 18 | C24: A18 | D24: B18 | E24: =_xlfn.CONCAT(C24," ",D24) -> A18 B18 | F24: SERVICE TRUCK | G24: SML INDUCTION | H24: OK | J24: TIPPER TRUCK | K24: FUEL TRUCK | L24: Non | M24: N/A | N24: Non | P24: Non | Q24: N/A | R24: Non | T24: Non | U24: N/A | V24: Non | X24: Non | Y24: N/A | Z24: Non | AB24: Non | AC24: N/A | AD24: Non | AF24: Non | AH24: PASS | AJ24: 128 | AN24: 4 | AO24: 0.95 | AP24: DONE
B25: 19 | C25: A19 | D25: B19 | E25: =_xlfn.CONCAT(C25," ",D25) -> A19 B19 | F25: ADT | G25: ADT 745C | H25: OK | J25: ADT OPT | K25: SML INDUCTION | L25: Non | M25: N/A | N25: WATER TRUCK | O25: SML INDUCTION | P25: Non | Q25: N/A | R25: TIPPER TRUCK | S25: SML INDUCTION | T25: Non | U25: N/A | V25: TIPPER TRUCK | W25: SINO HOWO TRUCK | X25: Non | Y25: N/A | Z25: Non | AB25: Non | AC25: N/A | AD25: Non | AF25: Non | AH25: PASS | AJ25: 154 | AN25: 4 | AO25: 0.95 | AP25: DONE
B26: 20 | C26: A20 | D26: B20 | E26: =_xlfn.CONCAT(C26," ",D26) -> A20 B20 | F26: TIPPER TRUCK | G26: SML INDUCTION | H26: OK | J26: TIPPER TRUCK | K26: SINO HOWO TRUCK | L26: Non | M26: N/A | N26: Non | P26: Non | Q26: N/A | R26: Non | T26: Non | U26: N/A | V26: Non | X26: Non | Y26: N/A | Z26: Non | AB26: Non | AC26: N/A | AD26: Non | AF26: Non | AH26: PASS | AJ26: 497 | AN26: 4 | AO26: 0.9 | AP26: DONE
B27: 21 | C27: A21 | D27: B21 | E27: =_xlfn.CONCAT(C27," ",D27) -> A21 B21 | F27: ADT | G27: ADT 745C | H27: OK | J27: ADT OPT | K27: SML INDUCTION | L27: Non | M27: N/A | N27: Non | P27: Non | Q27: N/A | R27: Non | T27: Non | U27: N/A | V27: Non | X27: Non | Y27: N/A | Z27: Non | AB27: Non | AC27: N/A | AD27: Non | AF27: Non | AH27: PASS | AJ27: 485 | AN27: 4 | AO27: 0.9 | AP27: DONE
B28: 22 | C28: A22 | D28: B22 | E28: =_xlfn.CONCAT(C28," ",D28) -> A22 B22 | F28: LOWBED | H28: OK | J28: Non | L28: Non | M28: N/A | N28: Non | P28: Non | Q28: N/A | R28: Non | T28: Non | U28: N/A | V28: Non | X28: Non | Y28: N/A | Z28: Non | AB28: Non | AC28: N/A | AD28: Non | AF28: Non | AH28: PASS | AJ28: 120 | AN28: 4 | AO28: 0.9 | AP28: DONE
B29: 23 | C29: A23 | D29: B23 | E29: =_xlfn.CONCAT(C29," ",D29) -> A23 B23 | F29: HIAB | H29: OK | J29: Non | L29: Non | M29: N/A | N29: Non | P29: Non | Q29: N/A | R29: Non | T29: Non | U29: N/A | V29: Non | X29: Non | Y29: N/A | Z29: Non | AB29: Non | AC29: N/A | AD29: Non | AF29: Non | AH29: PASS | AJ29: 218 | AN29: 4 | AO29: 0.9 | AP29: DONE
B30: 24 | C30: A24 | D30: B24 | E30: =_xlfn.CONCAT(C30," ",D30) -> A24 B24 | F30: HIAB | H30: OK | J30: Non | L30: Non | M30: N/A | N30: Non | P30: Non | Q30: N/A | R30: Non | T30: Non | U30: N/A | V30: Non | X30: Non | Y30: N/A | Z30: Non | AB30: Non | AC30: N/A | AD30: Non | AF30: Non | AH30: PASS | AJ30: 559 | AN30: 4 | AO30: 0.9 | AP30: DONE
B31: 25 | C31: A25 | D31: B25 | E31: =_xlfn.CONCAT(C31," ",D31) -> A25 B25 | F31: ADT | G31: ADT 745C | H31: OK | J31: ADT OPT | K31: SML INDUCTION | L31: Non | M31: N/A | N31: Non | P31: Non | Q31: N/A | R31: Non | T31: Non | U31: N/A | V31: Non | X31: Non | Y31: N/A | Z31: Non | AB31: Non | AC31: N/A | AD31: Non | AF31: Non | AH31: PASS | AJ31: 558 | AN31: 4 | AO31: 0.9 | AP31: DONE
B32: 26 | C32: A26 | D32: B26 | E32: =_xlfn.CONCAT(C32," ",D32) -> A26 B26 | F32: ADT | G32: ADT 745C | H32: OK | J32: ADT OPT | K32: SML INDUCTION | L32: Non | M32: N/A | N32: Non | P32: Non | Q32: N/A | R32: Non | T32: Non | U32: N/A | V32: Non | X32: Non | Y32: N/A | Z32: Non | AB32: Non | AC32: N/A | AD32: Non | AF32: Non | AH32: PASS | AJ32: 488 | AN32: 4 | AO32: 0.9 | AP32: DONE
B33: 27 | C33: A27 | D33: B27 | E33: =_xlfn.CONCAT(C33," ",D33) -> A27 B27 | F33: ADT | G33: ADT 745C | H33: OK | J33: ADT OPT | K33: SML INDUCTION | L33: Non | M33: N/A | N33: Non | P33: Non | Q33: N/A | R33: Non | T33: Non | U33: N/A | V33: Non | X33: Non | Y33: N/A | Z33: Non | AB33: Non | AC33: N/A | AD33: Non | AF33: Non | AH33: PASS | AJ33: 487 | AN33: 4 | AO33: 0.9 | AP33: DONE
B34: 28 | C34: A28 | D34: B28 | E34: =_xlfn.CONCAT(C34," ",D34) -> A28 B28 | F34: BULLDOZER | G34: SML INDUCTION | H34: OK | J34: TRACK DOZER | K34: CAT D8R | L34: Non | M34: N/A | N34: Non | P34: Non | Q34: N/A | R34: Non | T34: Non | U34: N/A | V34: Non | X34: Non | Y34: N/A | Z34: Non | AB34: Non | AC34: N/A | AD34: Non | AF34: Non | AH34: PASS | AJ34: 505 | AN34: 4 | AO34: 0.9 | AP34: DONE
B35: 29 | C35: A29 | D35: B29 | E35: =_xlfn.CONCAT(C35," ",D35) -> A29 B29 | F35: BULLDOZER | G35: SML INDUCTION | H35: OK | J35: TRACK DOZER | K35: CAT D8R | L35: Non | M35: Oui | N35: Non | P35: Non | Q35: N/A | R35: Non | T35: Non | U35: N/A | V35: Non | X35: Non | Y35: N/A | Z35: Non | AB35: Non | AC35: N/A | AD35: Non | AF35: Non | AH35: PASS | AJ35: 513 | AN35: 4 | AO35: 0.9 | AP35: DONE
B36: 30 | C36: A30 | D36: B30 | E36: =_xlfn.CONCAT(C36," ",D36) -> A30 B30 | F36: EXCAVATOR | G36: SML INDUCTION | H36: OK | J36: EXCAVATOR | K36: HITACHI 670LCR | L36: Non | M36: N/A | N36: Non | P36: Non | Q36: N/A | R36: Non | T36: Non | U36: N/A | V36: Non | X36: Non | Y36: N/A | Z36: Non | AB36: Non | AC36: N/A | AD36: Non | AF36: Non | AH36: PASS | AJ36: 511 | AN36: 4 | AO36: 0.9 | AP36: DONE
B37: 31 | C37: A31 | D37: B31 | E37: =_xlfn.CONCAT(C37," ",D37) -> A31 B31 | F37: GRADER | G37: SML INDUCTION | H37: OK | J37: GRADER | K37: CAT 140K | L37: Non | M37: N/A | N37: Non | P37: Non | Q37: N/A | R37: Non | T37: Non | U37: N/A | V37: Non | X37: Non | Y37: N/A | Z37: Non | AB37: Non | AC37: N/A | AD37: Non | AF37: Non | AH37: PASS | AJ37: 424 | AN37: 4 | AO37: 0.9 | AP37: DONE
B38: 32 | C38: A32 | D38: B32 | E38: =_xlfn.CONCAT(C38," ",D38) -> A32 B32 | F38: EXCAVATOR | G38: SML INDUCTION | H38: OK | J38: EXCAVATOR | K38: HITACHI 670LCR | L38: Non | M38: N/A | N38: Non | P38: Non | Q38: N/A | R38: Non | T38: Non | U38: N/A | V38: Non | X38: Non | Y38: N/A | Z38: Non | AB38: Non | AC38: N/A | AD38: Non | AF38: Non | AH38: PASS | AJ38: 510 | AN38: 4 | AO38: 0.9 | AP38: DONE
B39: 33 | C39: A33 | D39: B33 | E39: =_xlfn.CONCAT(C39," ",D39) -> A33 B33 | F39: BUS | G39: SML INDUCTION | H39: OK | J39: TIPPER TRUCK | K39: SINO HOWO TRUCK | L39: Non | M39: N/A | N39: LV &BUS DRIVERS | O39: SML INDUCTION | P39: Non | Q39: N/A | R39: LV &BUS DRIVERS | S39: PASSENGER BUS | T39: Non | U39: N/A | V39: Non | X39: Non | Y39: N/A | Z39: Non | AB39: Non | AC39: N/A | AD39: Non | AF39: Non | AH39: PASS | AJ39: 628 | AN39: 4 | AO39: 0.9 | AP39: DONE
B40: 34 | C40: A34 | D40: B34 | E40: =_xlfn.CONCAT(C40," ",D40) -> A34 B34 | F40: TIPPER TRUCK | H40: OK | J40: LV &BUS DRIVERS | K40: SML INDUCTION | L40: Non | M40: N/A | N40: LV &BUS DRIVERS | O40: FIRE TRUCK | P40: Non | Q40: N/A | R40: Non | T40: Non | U40: N/A | V40: Non | X40: Non | Y40: N/A | Z40: Non | AB40: Non | AC40: N/A | AD40: Non | AF40: Non | AH40: PASS | AJ40: 15 | AN40: 4 | AO40: 0.9 | AP40: DONE
B41: 35 | C41: A35 | D41: B35 | E41: =_xlfn.CONCAT(C41," ",D41) -> A35 B35 | F41: TIPPER TRUCK | H41: OK | J41: Non | L41: Non | M41: N/A | N41: Non | P41: Non | Q41: N/A | R41: Non | T41: Non | U41: N/A | V41: Non | X41: Non | Y41: N/A | Z41: Non | AB41: Non | AC41: N/A | AD41: Non | AF41: Non | AH41: PASS | AJ41: 429 | AN41: 4 | AO41: 0.9 | AP41: DONE
B42: 36 | C42: A36 | D42: B36 | E42: =_xlfn.CONCAT(C42," ",D42) -> A36 B36 | F42: TIPPER TRUCK | G42: SML INDUCTION | H42: OK | J42: TIPPER TRUCK | K42: SINO HOWO TRUCK | L42: Non | M42: N/A | N42: Non | P42: Non | Q42: N/A | R42: Non | T42: Non | U42: N/A | V42: Non | X42: Non | Y42: N/A | Z42: Non | AB42: Non | AC42: N/A | AD42: Non | AF42: Non | AH42: PASS | AJ42: 389 | AN42: 4 | AO42: 0.95 | AP42: DONE
B43: 37 | C43: A37 | D43: B37 | E43: =_xlfn.CONCAT(C43," ",D43) -> A37 B37 | F43: TIPPER TRUCK | G43: SML INDUCTION | H43: OK | J43: TIPPER TRUCK | K43: COMPACTOR | L43: Non | M43: N/A | N43: TIPPER TRUCK | O43: SINO HOWO TRUCK | P43: Non | Q43: N/A | R43: Non | T43: Non | U43: N/A | V43: Non | X43: Non | Y43: N/A | Z43: Non | AB43: Non | AC43: N/A | AD43: Non | AF43: Non | AH43: PASS | AJ43: 393 | AN43: 4 | AO43: 0.9 | AP43: DONE
B44: 38 | C44: A38 | D44: B38 | E44: =_xlfn.CONCAT(C44," ",D44) -> A38 B38 | F44: TIPPER TRUCK | G44: SML INDUCTION | H44: OK | J44: TIPPER TRUCK | K44: SINO HOWO TRUCK | L44: Non | M44: N/A | N44: Non | P44: Non | Q44: N/A | R44: Non | T44: Non | U44: N/A | V44: Non | X44: Non | Y44: N/A | Z44: Non | AB44: Non | AC44: N/A | AD44: Non | AF44: Non | AH44: PASS | AJ44: 129 | AN44: 4 | AO44: 0.9 | AP44: DONE
B45: 39 | C45: A39 | D45: B39 | E45: =_xlfn.CONCAT(C45," ",D45) -> A39 B39 | F45: TIPPER TRUCK | G45: SML INDUCTION | H45: OK | J45: TIPPER TRUCK | K45: SINO HOWO TRUCK | L45: Non | M45: N/A | N45: Non | P45: Non | Q45: N/A | R45: Non | T45: Non | U45: N/A | V45: Non | X45: Non | Y45: N/A | Z45: Non | AB45: Non | AC45: N/A | AD45: Non | AF45: Non | AH45: PASS | AJ45: 130 | AN45: 4 | AO45: 0.9 | AP45: DONE
B46: 40 | C46: A40 | D46: B40 | E46: =_xlfn.CONCAT(C46," ",D46) -> A40 B40 | F46: COMPACTEUR | H46: OK | J46: Non | L46: Non | M46: N/A | N46: Non | P46: Non | Q46: N/A | R46: Non | T46: Non | U46: N/A | V46: Non | X46: Non | Y46: N/A | Z46: Non | AB46: Non | AC46: N/A | AD46: Non | AF46: Non | AH46: PASS | AJ46: 33 | AN46: 4 | AO46: 0.9 | AP46: DONE
B47: 41 | C47: A41 | D47: B41 | E47: =_xlfn.CONCAT(C47," ",D47) -> A41 B41 | F47: TIPPER TRUCK | H47: OK | J47: Non | L47: Non | M47: N/A | N47: Non | P47: Non | Q47: N/A | R47: Non | T47: Non | U47: N/A | V47: Non | X47: Non | Y47: N/A | Z47: Non | AB47: Non | AC47: N/A | AD47: Non | AF47: Non | AH47: PASS | AJ47: 126 | AN47: 4 | AO47: 0.9 | AP47: DONE
B48: 42 | C48: A42 | D48: B42 | E48: =_xlfn.CONCAT(C48," ",D48) -> A42 B42 | F48: TIPPER TRUCK | H48: OK | J48: Non | L48: Non | M48: N/A | N48: Non | P48: Non | Q48: N/A | R48: Non | T48: Non | U48: N/A | V48: Non | X48: Non | Y48: N/A | Z48: Non | AB48: Non | AC48: N/A | AD48: Non | AF48: Non | AH48: PASS | AJ48: 35 | AN48: 4 | AO48: 0.9 | AP48: DONE
B49: 43 | C49: A43 | D49: B43 | E49: =_xlfn.CONCAT(C49," ",D49) -> A43 B43 | F49: TIPPER TRUCK | G49: SML INDUCTION | H49: En cours | J49: TIPPER TRUCK | K49: FUEL TRUCK | L49: Non | M49: N/A | N49: Non | P49: Non | Q49: N/A | R49: Non | T49: Non | U49: N/A | V49: Non | X49: Non | Y49: N/A | Z49: Non | AB49: Non | AC49: N/A | AD49: Non | AF49: Non | AH49: PASS | AJ49: 496 | AN49: 4 | AO49: 0.9 | AP49: DONE
B50: 44 | C50: A44 | D50: B44 | E50: =_xlfn.CONCAT(C50," ",D50) -> A44 B44 | F50: TIPPER TRUCK | G50: SML INDUCTION | H50: OK | J50: TIPPER TRUCK | K50: SINO HOWO TRUCK | L50: Non | M50: N/A | N50: Non | P50: Non | Q50: N/A | R50: Non | T50: Non | U50: N/A | V50: Non | X50: Non | Y50: N/A | Z50: Non | AB50: Non | AC50: N/A | AD50: Non | AF50: Non | AH50: PASS | AJ50: 92 | AN50: 4 | AO50: 0.9 | AP50: DONE
B51: 45 | C51: A45 | D51: B45 | E51: =_xlfn.CONCAT(C51," ",D51) -> A45 B45 | F51: WATER TRUCK | G51: SML INDUCTION | H51: OK | J51: TIPPER TRUCK | K51: SML INDUCTION | L51: Non | M51: N/A | N51: TIPPER TRUCK | O51: SINO HOWO TRUCK | P51: Non | Q51: N/A | R51: Non | T51: Non | U51: N/A | V51: Non | X51: Non | Y51: N/A | Z51: Non | AB51: Non | AC51: N/A | AD51: Non | AF51: Non | AH51: PASS | AJ51: 54 | AN51: 4 | AO51: 0.9 | AP51: DONE
B52: 46 | C52: A46 | D52: B46 | E52: =_xlfn.CONCAT(C52," ",D52) -> A46 B46 | F52: TIPPER TRUCK | G52: SML INDUCTION | H52: OK | J52: TIPPER TRUCK | K52: FIRE TRUCK | L52: Non | M52: N/A | N52: TIPPER TRUCK | O52: JAC TRUCK | P52: Non | Q52: N/A | R52: LV &BUS DRIVERS | S52: SML INDUCTION | T52: Non | U52: N/A | V52: LV &BUS DRIVERS | W52: LV PERMIT CARD HOLDER | X52: Non | Y52: N/A | Z52: LV &BUS DRIVERS | AA52: PASSENGER BUS | AB52: Non | AC52: N/A | AD52: Non | AF52: Non | AH52: PASS | AJ52: 119 | AN52: 4 | AO52: 0.9 | AP52: DONE
B53: 47 | C53: A47 | D53: B47 | E53: =_xlfn.CONCAT(C53," ",D53) -> A47 B47 | F53: BUS | G53: SML INDUCTION | H53: OK | J53: LV &BUS DRIVERS | K53: PASSENGER BUS | L53: Non | M53: N/A | N53: Non | P53: Non | Q53: N/A | R53: Non | T53: Non | U53: N/A | V53: Non | X53: Non | Y53: N/A | Z53: Non | AB53: Non | AC53: N/A | AD53: Non | AF53: Non | AH53: PASS | AJ53: 187 | AN53: 4 | AO53: 0.9 | AP53: DONE
B54: 48 | C54: A48 | D54: B48 | E54: =_xlfn.CONCAT(C54," ",D54) -> A48 B48 | F54: LOADER | G54: SML INDUCTION | H54: OK | J54: LOADER | K54: DL 420A | L54: Non | M54: N/A | N54: Non | P54: Non | Q54: N/A | R54: Non | T54: Non | U54: N/A | V54: Non | X54: Non | Y54: N/A | Z54: Non | AB54: Non | AC54: N/A | AD54: Non | AF54: Non | AH54: PASS | AJ54: 469 | AN54: 4 | AO54: 0.9 | AP54: DONE
B55: 49 | C55: A49 | D55: B49 | E55: =_xlfn.CONCAT(C55," ",D55) -> A49 B49 | F55: LOADER/TIPPER/BUS | G55: SML INDUCTION | H55: OK | J55: LOADER | K55: DL 420A | L55: Non | M55: N/A | N55: TIPPER TRUCK | O55: SML INDUCTION | P55: Non | Q55: N/A | R55: TIPPER TRUCK | S55: SINO HOWO TRUCK | T55: Non | U55: N/A | V55: LV &BUS DRIVERS | W55: SML INDUCTION | X55: Non | Y55: N/A | Z55: LV &BUS DRIVERS | AA55: PASSENGER BUS | AB55: Non | AC55: N/A | AD55: Non | AF55: Non | AH55: PASS | AJ55: 121 | AN55: 4 | AO55: 0.9 | AP55: DONE
B56: 50 | C56: A50 | D56: B50 | E56: =_xlfn.CONCAT(C56," ",D56) -> A50 B50 | F56: LOADER/TRACTOPELLE | G56: SML INDUCTION | H56: OK | J56: LOADER | K56: DL 420A | L56: Non | M56: N/A | N56: Non | P56: Non | Q56: N/A | R56: Non | T56: Non | U56: N/A | V56: Non | X56: Non | Y56: N/A | Z56: Non | AB56: Non | AC56: N/A | AD56: Non | AF56: Non | AH56: PASS | AJ56: 52 | AN56: 4 | AO56: 0.95 | AP56: DONE
B57: 51 | C57: A51 | D57: B51 | E57: =_xlfn.CONCAT(C57," ",D57) -> A51 B51 | F57: COMPACTEUR | G57: SML INDUCTION | H57: OK | J57: COMPACTOR | K57: HAMM ROLLER | L57: Non | M57: N/A | N57: Non | P57: Non | Q57: N/A | R57: Non | T57: Non | U57: N/A | V57: Non | X57: Non | Y57: N/A | Z57: Non | AB57: Non | AC57: N/A | AD57: Non | AF57: Non | AH57: PASS | AJ57: 425 | AN57: 4 | AO57: 0.9 | AP57: DONE
B58: 52 | C58: A52 | D58: B52 | E58: =_xlfn.CONCAT(C58," ",D58) -> A52 B52 | F58: COMPACTEUR | H58: OK | J58: Non | L58: Non | M58: N/A | N58: Non | P58: Non | Q58: N/A | R58: Non | T58: Non | U58: N/A | V58: Non | X58: Non | Y58: N/A | Z58: Non | AB58: Non | AC58: N/A | AD58: Non | AF58: Non | AH58: PASS | AJ58: 197 | AN58: 4 | AO58: 0.9
B59: 53 | C59: A53 | D59: B53 | E59: =_xlfn.CONCAT(C59," ",D59) -> A53 B53 | F59: GRADER | G59: SML INDUCTION | H59: OK | J59: GRADER | K59: CAT 140K | L59: Non | M59: N/A | N59: Non | P59: Non | Q59: N/A | R59: Non | T59: Non | U59: N/A | V59: Non | X59: Non | Y59: N/A | Z59: Non | AB59: Non | AC59: N/A | AD59: Non | AF59: Non | AH59: PASS | AJ59: GRADER | AN59: 4 | AO59: 0.9 | AP59: DONE

Sheet Feuil12
A1: Durée de cours | G1: SUPERVISORS AND TRAINERS | I1: ID
A2: 4 | G2: ADT OPT | I2: 373
A3: 6 | G3: GRADER | I3: 127
A4: 8 | G4: EXCAVATOR | I4: 493
A5: 10 | G5: LOADER | I5: 124
A6: 12 | G6: COMPACTOR | I6: 37
G7: TRACK DOZER | I7: 429
G8: WATER TRUCK | I8: 509
G9: TIPPER TRUCK | I9: 119
G10: LOWBED | I10: 34
G11: LASERS, SPOTTERS & TALLY CLERK | I11: 494
G12: LV &BUS DRIVERS | I12: 118
G13: WORKSHOP | I13: 53
G14: EXPAT | I14: 498
G15: TERMINATION | I15: 557
G16: Non | I16: 548
I17: 442
I18: 26
I19: 128
I20: 154
I21: 497
I22: 485
I23: 120
I24: 218
I25: 559
I26: 558
I27: 488
I28: 487
... I53: 197

Sheet EQUIPEMENT
A1: EQUIPEMENT | B1: EQUIPMENTS MODELS | C1: Num License | D1: License Category | E1: Expired Date | F1: Date of termination | G1: CURRENT POSITION
A2: SUPERVISORS AND TRAINERS | B2: SML INDUCTION
A3: SUPERVISORS AND TRAINERS | B3: LV PERMIT CARD HOLDER
A4: SUPERVISORS AND TRAINERS | B4: PASSENGER BUS BUS
A5: SUPERVISORS AND TRAINERS | B5: WHEEL LOADER
A6: SUPERVISORS AND TRAINERS | B6: ADT
A7: SUPERVISORS AND TRAINERS | B7: CAT LOADER 966G
A8: SUPERVISORS AND TRAINERS | B8: TIPPER TRUCK
A9: SUPERVISORS AND TRAINERS | B9: CRANE
A10: SUPERVISORS AND TRAINERS | B10: CAT GRADER 140K
A11: SUPERVISORS AND TRAINERS | B11: CAT EXCAVATOR 345GC
A12: SUPERVISORS AND TRAINERS | B12: COMPACTOR
A13: SUPERVISORS AND TRAINERS | B13: TRACK DOZER
... A589: TERMINATION | B589: TELEHANDLER

Sheet Informations Agent (2)
AB9: =VLOOKUP(W6,U:W,2,FALSE) -> #N/A
C10: 429

Sheet Plan formation
A1: Plan de suivi de formation
A2: AGENTS CONCERNES | G2: FORMATIONS IDENTIFIEES | S2: FINANCEMENT | AB2: EVALUATION / SUIVI
A3: Nom du salarié | B3: Prénom du salarié | C3: Département | D3: Intitulé de poste | E3: Date de formation idéalement souhaitée par le supérieur hiérarchique (en fonction des contraintes d'agenda...) | F3: Nom et prénom du supérieur hiérarchique | G3: Date de la demande | H3: Domaine de formation | I3: Individuelle/ Collective | J3: Intitulé de la formation (à défaut, objectif de la formation) | K3: Formation qualifiante, diplomante, certifiante… (si oui préciser, sinon ne rien mettre) | L3: Organisme | M3: Durée (nombre d'heures) | N3: Lieu | O3: Date de début | P3: Date de fin | Q3: Intra/ Inter/ E-learning | R3: Sur/Hors temps de travail | S3: Coût pédagogique de la formation | T3: Coût Horaire | U3: Allocation formation (si formation HTT) | V3: Coût des salaires (si formation sur temps de travail) | W3: Coûts annexes (repas, hôtels…) | X3: Coût total (pédagogique, salaires et annexes) | Y3: Montant financé | Z3: Montant final | AA3: Commentaire | AB3: Réalisé | AC3: Attestation(s) reçue(s) | AD3: Avis suite à l'évaluation faite le dernier jour de la formation | AE3: Avis suite à l'évaluation faite quelques mois après que la formation ait été réalisée
A4: =PERSONNEL!C7 -> A1 | B4: =PERSONNEL!D7 -> B1 | AH4: Individuelle | AI4: Intra | AJ4: Sur temps de travail | AK4: Oui | AL4: A poursuivre | AM4: Manager | AN4: Arbitrage réalisé
A5: =PERSONNEL!C8 -> A2 | B5: =PERSONNEL!D8 -> B2 | AH5: Collective | AI5: Inter | AJ5: Hors temps de travail | AK5: Non | AL5: A arrêter | AM5: Salarié | AN5: Demande validée
A6: =PERSONNEL!C9 -> A3 | B6: =PERSONNEL!D9 -> B3 | AI6: E-learning | AL6: Attente | AM6: Direction | AN6: Demande non validée
A7: =PERSONNEL!C10 -> A4 | B7: =PERSONNEL!D10 -> B4
A8: =PERSONNEL!C11 -> A5 | B8: =PERSONNEL!D11 -> B5
A9: =PERSONNEL!C12 -> A6 | B9: =PERSONNEL!D12 -> B6
A10: =PERSONNEL!C13 -> A7 | B10: =PERSONNEL!D13 -> B7
A11: =PERSONNEL!C14 -> A8 | B11: =PERSONNEL!D14 -> B8
A12: =PERSONNEL!C15 -> A9 | B12: =PERSONNEL!D15 -> B9
A13: =PERSONNEL!C16 -> A10 | B13: =PERSONNEL!D16 -> B10
A14: =PERSONNEL!C17 -> A11 | B14: =PERSONNEL!D17 -> B11
A15: =PERSONNEL!C18 -> A12 | B15: =PERSONNEL!D18 -> B12
A16: =PERSONNEL!C19 -> A13 | B16: =PERSONNEL!D19 -> B13
A17: =PERSONNEL!C20 -> A14 | B17: =PERSONNEL!D20 -> B14
A18: =PERSONNEL!C21 -> A15 | B18: =PERSONNEL!D21 -> B15
... A56: =PERSONNEL!C59 -> A53 | B56: =PERSONNEL!D59 -> B53
A61: TOTAL | M61: =SUM(M4:M60) -> 0 | S61: =SUM(S4:S60) -> 0 | U61: =SUM(U4:U41) -> 0 | V61: =SUM(V4:V41) -> 0 | W61: =SUM(W4:W41) -> 0 | X61: =SUM(X4:X41) -> 0 | Y61: =SUM(Y4:Y41) -> 0 | Z61: =SUM(Z4:Z41) -> 0

Sheet Feuil13
A1: Agent | C1: Equipements maitrisés
A2: FIRST NAME | B2: SURNAME | C2: ADT OPT | D2: GRADER | E2: EXCAVATOR | F2: LOADER | G2: COMPACTOR | H2: TRACK DOZER | I2: WATER TRUCK | J2: TIPPER TRUCK | K2: LOWBED | L2: LASERS, SPOTTERS & TALLY CLERK | M2: LV &BUS DRIVERS | N2: WORKSHOP | O2: EXPAT | P2: TERMINATION
A3: =PERSONNEL!C7 -> A1 | B3: =PERSONNEL!D7 -> B1
A4: =PERSONNEL!C8 -> A2 | B4: =PERSONNEL!D8 -> B2
A5: =PERSONNEL!C9 -> A3 | B5: =PERSONNEL!D9 -> B3
A6: =PERSONNEL!C10 -> A4 | B6: =PERSONNEL!D10 -> B4
A7: =PERSONNEL!C11 -> A5 | B7: =PERSONNEL!D11 -> B5
A8: =PERSONNEL!C12 -> A6 | B8: =PERSONNEL!D12 -> B6
A9: =PERSONNEL!C13 -> A7 | B9: =PERSONNEL!D13 -> B7
A10: =PERSONNEL!C14 -> A8 | B10: =PERSONNEL!D14 -> B8
A11: =PERSONNEL!C15 -> A9 | B11: =PERSONNEL!D15 -> B9
A12: =PERSONNEL!C16 -> A10 | B12: =PERSONNEL!D16 -> B10
A13: =PERSONNEL!C17 -> A11 | B13: =PERSONNEL!D17 -> B11
A14: =PERSONNEL!C18 -> A12 | B14: =PERSONNEL!D18 -> B12
... A55: =PERSONNEL!C59 -> A53 | B55: =PERSONNEL!D59 -> B53

Sheet Données Statistiques
