Workbook
Name _DébutPeriode: '05_23'!$B$1

Sheet 05_23
B1: 45047
C2: Matin | E2: Après-midi | G2: Total heures travaillées | H2: Solde positif | I2: solde négatif | J2: Motif | K2: CP | L2: RTT | M2: Solde
A3: 0.3125 | B3: =WORKDAY.INTL(B1-1,1,11) -> 45047 | C3: FERIE - 1er MAI | G3: 0.3125 | H3: =IF(G3-A3>0,G3-A3,"") | I3: =IF(A3-G3>0,A3-G3,"") | M3: =H3
A4: 0.3125 | B4: =WORKDAY.INTL(B3,1,11) -> 45048 | C4: 0.33333333 | D4: 0.5 | E4: 0.5625 | F4: 0.70833333 | G4: =(IF(D4-C4+(F4-E4)=0,"",D4-C4+(F4-E4))) -> 0.3125 | H4: =IF(G4-A4>0,G4-A4,"") -> 5.5511151e-17 | I4: =IF(A4-G4>0,A4-G4,"") | M4: =H4 -> 5.5511151e-17
A5: 0.3125 | B5: =WORKDAY.INTL(B4,1,11) -> 45049 | C5: 0.33333333 | D5: 0.5 | E5: 0.5625 | F5: 0.70833333 | G5: =IF(D5-C5+(F5-E5)=0,"",D5-C5+(F5-E5)) -> 0.3125 | H5: =IF(G5-A5>0,G5-A5,"") -> 5.5511151e-17 | I5: =IF(A5-G5>0,A5-G5,"") | M5: =H5 -> 5.5511151e-17
A6: 0.3125 | B6: =WORKDAY.INTL(B5,1,11) -> 45050 | C6: 0.33333333 | D6: 0.5 | E6: 0.5625 | F6: 0.70833333 | G6: =IF(D6-C6+(F6-E6)=0,"",D6-C6+(F6-E6)) -> 0.3125 | H6: =IF(G6-A6>0,G6-A6,"") -> 5.5511151e-17 | I6: =IF(A6-G6>0,A6-G6,"") | M6: =H6 -> 5.5511151e-17
A7: 0.3125 | B7: =WORKDAY.INTL(B6,1,11) -> 45051 | C7: 0.33333333 | D7: 0.5 | E7: 0.5625 | F7: 0.70833333 | G7: =IF(D7-C7+(F7-E7)=0,"",D7-C7+(F7-E7)) -> 0.3125 | H7: =IF(G7-A7>0,G7-A7,"") -> 5.5511151e-17 | I7: =IF(A7-G7>0,A7-G7,"") | M7: =H7 -> 5.5511151e-17
B8: =WORKDAY.INTL(B7,1,11) -> 45052
A9: 0.3125 | B9: =WORKDAY.INTL(B8,1,11) -> 45054 | C9: FERIE - VICTOIRE 1945 | G9: 0.3125 | H9: =IF(G9-A9>0,G9-A9,"") | I9: =IF(A9-G9>0,A9-G9,"") | M9: =H9
A10: 0.3125 | B10: =WORKDAY.INTL(B9,1,11) -> 45055 | C10: 0.33333333 | D10: 0.5 | E10: 0.5625 | F10: 0.70833333 | G10: =(IF(D10-C10+(F10-E10)=0,"",D10-C10+(F10-E10))) -> 0.3125 | H10: =IF(G10-A10>0,G10-A10,"") -> 5.5511151e-17 | I10: =IF(A10-G10>0,A10-G10,"") | M10: =H10 -> 5.5511151e-17
A11: 0.3125 | B11: =WORKDAY.INTL(B10,1,11) -> 45056 | C11: 0.33333333 | D11: 0.5 | E11: 0.5625 | F11: 0.70833333 | G11: =(IF(D11-C11+(F11-E11)=0,"",D11-C11+(F11-E11))) -> 0.3125 | H11: =IF(G11-A11>0,G11-A11,"") -> 5.5511151e-17 | I11: =IF(A11-G11>0,A11-G11,"") | M11: =H11 -> 5.5511151e-17
A12: 0.3125 | B12: =WORKDAY.INTL(B11,1,11) -> 45057 | C12: 0.33333333 | D12: 0.5 | E12: 0.5625 | F12: 0.70833333 | G12: =(IF(D12-C12+(F12-E12)=0,"",D12-C12+(F12-E12))) -> 0.3125 | H12: =IF(G12-A12>0,G12-A12,"") -> 5.5511151e-17 | I12: =IF(A12-G12>0,A12-G12,"") | M12: =H12 -> 5.5511151e-17
A13: 0.3125 | B13: =WORKDAY.INTL(B12,1,11) -> 45058 | C13: 0.33333333 | D13: 0.5 | E13: 0.5625 | F13: 0.70833333 | G13: =(IF(D13-C13+(F13-E13)=0,"",D13-C13+(F13-E13))) -> 0.3125 | H13: =IF(G13-A13>0,G13-A13,"") -> 5.5511151e-17 | I13: =IF(A13-G13>0,A13-G13,"") | M13: =H13 -> 5.5511151e-17
B14: =WORKDAY.INTL(B13,1,11) -> 45059
A15: 0.3125 | B15: =WORKDAY.INTL(B14,1,11) -> 45061 | C15: 0.33333333 | D15: 0.5 | E15: 0.5625 | F15: 0.70833333 | G15: =(IF(D15-C15+(F15-E15)=0,"",D15-C15+(F15-E15))) -> 0.3125 | H15: =IF(G15-A15>0,G15-A15,"") -> 5.5511151e-17 | I15: =IF(A15-G15>0,A15-G15,"") | M15: =H15 -> 5.5511151e-17
A16: 0.3125 | B16: =WORKDAY.INTL(B15,1,11) -> 45062 | C16: 0.33333333 | D16: 0.5 | E16: 0.5625 | F16: 0.70833333 | G16: =(IF(D16-C16+(F16-E16)=0,"",D16-C16+(F16-E16))) -> 0.3125 | H16: =IF(G16-A16>0,G16-A16,"") -> 5.5511151e-17 | I16: =IF(A16-G16>0,A16-G16,"") | M16: =H16 -> 5.5511151e-17
A17: 0.3125 | B17: =WORKDAY.INTL(B16,1,11) -> 45063 | C17: 0.33333333 | D17: 0.5 | E17: 0.5625 | F17: 0.70833333 | G17: =(IF(D17-C17+(F17-E17)=0,"",D17-C17+(F17-E17))) -> 0.3125 | H17: =IF(G17-A17>0,G17-A17,"") -> 5.5511151e-17 | I17: =IF(A17-G17>0,A17-G17,"") | M17: =H17 -> 5.5511151e-17
A18: 0.3125 | B18: =WORKDAY.INTL(B17,1,11) -> 45064 | C18: FERIE - ASCENSION | G18: 0.3125 | H18: =IF(G18-A18>0,G18-A18,"") | I18: =IF(A18-G18>0,A18-G18,"") | M18: =H18
A19: 0.3125 | B19: =WORKDAY.INTL(B18,1,11) -> 45065 | C19: 0.33333333 | D19: 0.5 | E19: 0.5625 | F19: 0.70833333 | G19: =(IF(D19-C19+(F19-E19)=0,"",D19-C19+(F19-E19))) -> 0.3125 | H19: =IF(G19-A19>0,G19-A19,"") -> 5.5511151e-17 | I19: =IF(A19-G19>0,A19-G19,"") | M19: =H19 -> 5.5511151e-17
B20: =WORKDAY.INTL(B19,1,11) -> 45066
A21: 0.3125 | B21: =WORKDAY.INTL(B20,1,11) -> 45068 | C21: 0.33333333 | D21: 0.5 | E21: 0.5625 | F21: 0.70833333 | G21: =(IF(D21-C21+(F21-E21)=0,"",D21-C21+(F21-E21))) -> 0.3125 | H21: =IF(G21-A21>0,G21-A21,"") -> 5.5511151e-17 | I21: =IF(A21-G21>0,A21-G21,"") | M21: =H21 -> 5.5511151e-17
A22: 0.3125 | B22: =WORKDAY.INTL(B21,1,11) -> 45069 | C22: 0.33333333 | D22: 0.5 | E22: 0.5625 | F22: 0.70833333 | G22: =(IF(D22-C22+(F22-E22)=0,"",D22-C22+(F22-E22))) -> 0.3125 | H22: =IF(G22-A22>0,G22-A22,"") -> 5.5511151e-17 | I22: =IF(A22-G22>0,A22-G22,"") | M22: =H22 -> 5.5511151e-17
A23: 0.3125 | B23: =WORKDAY.INTL(B22,1,11) -> 45070 | C23: 0.33333333 | D23: 0.5 | E23: 0.5625 | F23: 0.70833333 | G23: =(IF(D23-C23+(F23-E23)=0,"",D23-C23+(F23-E23))) -> 0.3125 | H23: =IF(G23-A23>0,G23-A23,"") -> 5.5511151e-17 | I23: =IF(A23-G23>0,A23-G23,"") | M23: =H23 -> 5.5511151e-17
A24: 0.3125 | B24: =WORKDAY.INTL(B23,1,11) -> 45071 | C24: 0.33333333 | D24: 0.5 | E24: 0.5625 | F24: 0.70833333 | G24: =(IF(D24-C24+(F24-E24)=0,"",D24-C24+(F24-E24))) -> 0.3125 | H24: =IF(G24-A24>0,G24-A24,"") -> 5.5511151e-17 | I24: =IF(A24-G24>0,A24-G24,"") | M24: =H24 -> 5.5511151e-17
A25: 0.3125 | B25: =WORKDAY.INTL(B24,1,11) -> 45072 | C25: 0.33333333 | D25: 0.5 | E25: 0.5625 | F25: 0.70833333 | G25: =(IF(D25-C25+(F25-E25)=0,"",D25-C25+(F25-E25))) -> 0.3125 | H25: =IF(G25-A25>0,G25-A25,"") -> 5.5511151e-17 | I25: =IF(A25-G25>0,A25-G25,"") | M25: =H25 -> 5.5511151e-17
B26: =WORKDAY.INTL(B25,1,11) -> 45073 | H26: =IF(G26-A26>0,G26-A26,"")
A27: 0.29166667 | B27: =WORKDAY.INTL(B26,1,11) -> 45075 | C27: 0.33333333 | D27: 0.5 | E27: 0.5625 | F27: 0.6875 | G27: =(IF(D27-C27+(F27-E27)=0,"",D27-C27+(F27-E27))) -> 0.29166667 | H27: =IF(G27-A27>0,G27-A27,"") | I27: =IF(A27-G27>0,A27-G27,"") | M27: =H27
A28: 0.3125 | B28: =WORKDAY.INTL(B27,1,11) -> 45076 | C28: 0.33333333 | D28: 0.5 | E28: 0.5625 | F28: 0.70833333 | G28: =(IF(D28-C28+(F28-E28)=0,"",D28-C28+(F28-E28))) -> 0.3125 | H28: =IF(G28-A28>0,G28-A28,"") -> 5.5511151e-17 | I28: =IF(A28-G28>0,A28-G28,"") | M28: =H28 -> 5.5511151e-17
A29: 0.3125 | B29: =WORKDAY.INTL(B28,1,11) -> 45077 | C29: 0.33333333 | D29: 0.5 | E29: 0.5625 | F29: 0.70833333 | G29: =(IF(D29-C29+(F29-E29)=0,"",D29-C29+(F29-E29))) -> 0.3125 | H29: =IF(G29-A29>0,G29-A29,"") -> 5.5511151e-17 | I29: =IF(A29-G29>0,A29-G29,"") | M29: =H29 -> 5.5511151e-17
B31: Total mensuel | G31: =SUM(G3:G29)+H31-I31 -> 7.1666667 | H31: =SUM(H3:H29) -> 1.0547119e-15 | I31: =SUM(I4:I29) -> 0 | K31: =SUM(K3:K29) -> 0 | L31: =SUM(L3:L29) -> 0 | M31: =SUM(M3:M29) -> 1.0547119e-15
K32: =30-K31 -> 30 | L32: =16-L31 -> 16
B34: =IF(G4<A4,"-","")&TEXT(ABS(G4-A4),"[hh]:mm") -> 00:00

Sheet 06_23
B1: =EDATE(_DébutPeriode,1) -> 45078
C2: Matin | E2: Après-midi | G2: Total heures travaillées | H2: Solde positif | I2: solde négatif | J2: Motif | K2: CP | L2: RTT | M2: Récup
A3: 0.3125 | B3: =WORKDAY.INTL(B1-1,1,11) -> 45078 | C3: 0.33333333 | D3: 0.5 | E3: 0.5625 | F3: 0.70833333 | G3: =IF(D3-C3+(F3-E3)=0,"",D3-C3+(F3-E3)) -> 0.3125 | H3: =IF(G3-A3>0,G3-A3,"") -> 5.5511151e-17 | I3: =IF(A3-G3>0,A3-G3,"") | M3: =H3 -> 5.5511151e-17
A4: 0.3125 | B4: =WORKDAY.INTL(B1,1,11) -> 45079 | C4: 0.33333333 | D4: 0.5 | E4: 0.5625 | F4: 0.70833333 | G4: =IF(D4-C4+(F4-E4)=0,"",D4-C4+(F4-E4)) -> 0.3125 | H4: =IF(G4-A4>0,G4-A4,"") -> 5.5511151e-17 | I4: =IF(A4-G4>0,A4-G4,"") | M4: =H4 -> 5.5511151e-17
B5: =WORKDAY.INTL(B4,1,11) -> 45080
A6: 0.3125 | B6: =WORKDAY.INTL(B5,1,11) -> 45082 | C6: 0.33333333 | D6: 0.5 | E6: 0.5625 | F6: 0.70833333 | G6: =IF(D6-C6+(F6-E6)=0,"",D6-C6+(F6-E6)) -> 0.3125 | H6: =IF(G6-A6>0,G6-A6,"") -> 5.5511151e-17 | I6: =IF(A6-G6>0,A6-G6,"") | M6: =H6 -> 5.5511151e-17
A7: 0.3125 | B7: =WORKDAY.INTL(B6,1,11) -> 45083 | C7: 0.33333333 | D7: 0.5 | E7: 0.5625 | F7: 0.70833333 | G7: =IF(D7-C7+(F7-E7)=0,"",D7-C7+(F7-E7)) -> 0.3125 | H7: =IF(G7-A7>0,G7-A7,"") -> 5.5511151e-17 | I7: =IF(A7-G7>0,A7-G7,"") | M7: =H7 -> 5.5511151e-17
A8: 0.3125 | B8: =WORKDAY.INTL(B7,1,11) -> 45084 | C8: 0.33333333 | D8: 0.5 | E8: 0.5625 | F8: 0.70833333 | G8: =IF(D8-C8+(F8-E8)=0,"",D8-C8+(F8-E8)) -> 0.3125 | H8: =IF(G8-A8>0,G8-A8,"") -> 5.5511151e-17 | I8: =IF(A8-G8>0,A8-G8,"")
A9: 0.3125 | B9: =WORKDAY.INTL(B8,1,11) -> 45085 | C9: 0.33333333 | D9: 0.5 | E9: 0.5625 | F9: 0.69097222 | G9: =IF(D9-C9+(F9-E9)=0,"",D9-C9+(F9-E9)) -> 0.29513889 | H9: =IF(G9-A9>0,G9-A9,"") | I9: =IF(A9-G9>0,A9-G9,"") -> 0.017361111 | M9: =H9
A10: 0.3125 | B10: =WORKDAY.INTL(B9,1,11) -> 45086 | C10: 0.33333333 | D10: 0.5 | E10: 0.5625 | F10: 0.70833333 | G10: =IF(D10-C10+(F10-E10)=0,"",D10-C10+(F10-E10)) -> 0.3125 | H10: =IF(G10-A10>0,G10-A10,"") -> 5.5511151e-17 | I10: =IF(A10-G10>0,A10-G10,"") | M10: =H10 -> 5.5511151e-17
B11: =WORKDAY.INTL(B10,1,11) -> 45087
A12: 0.3125 | B12: =WORKDAY.INTL(B11,1,11) -> 45089 | C12: 0.33333333 | D12: 0.5 | E12: 0.5625 | F12: 0.70833333 | G12: =IF(D12-C12+(F12-E12)=0,"",D12-C12+(F12-E12)) -> 0.3125 | H12: =IF(G12-A12>0,G12-A12,"") -> 5.5511151e-17 | I12: =IF(A12-G12>0,A12-G12,"") | M12: =H12 -> 5.5511151e-17
A13: 0.3125 | B13: =WORKDAY.INTL(B12,1,11) -> 45090 | C13: 0.33333333 | D13: 0.5 | E13: 0.5625 | F13: 0.69444444 | G13: =IF(D13-C13+(F13-E13)=0,"",D13-C13+(F13-E13)) -> 0.29861111 | H13: =IF(G13-A13>0,G13-A13,"") | I13: =IF(A13-G13>0,A13-G13,"") -> 0.013888889 | M13: =H13
A14: 0.3125 | B14: =WORKDAY.INTL(B13,1,11) -> 45091 | C14: 0.33333333 | D14: 0.5 | E14: 0.5625 | F14: 0.70833333 | G14: =IF(D14-C14+(F14-E14)=0,"",D14-C14+(F14-E14)) -> 0.3125 | H14: =IF(G14-A14>0,G14-A14,"") -> 5.5511151e-17 | I14: =IF(A14-G14>0,A14-G14,"")
A15: 0.3125 | B15: =WORKDAY.INTL(B14,1,11) -> 45092 | C15: 0.33333333 | D15: 0.5 | E15: 0.54166667 | F15: 0.70833333 | G15: =IF(D15-C15+(F15-E15)=0,"",D15-C15+(F15-E15)) -> 0.33333333 | H15: =IF(G15-A15>0,G15-A15,"") -> 0.020833333 | I15: =IF(A15-G15>0,A15-G15,"") | M15: =H15 -> 0.020833333
A16: 0.3125 | B16: =WORKDAY.INTL(B15,1,11) -> 45093 | C16: 0.33333333 | D16: 0.5 | E16: 0.5625 | F16: 0.70833333 | G16: =IF(D16-C16+(F16-E16)=0,"",D16-C16+(F16-E16)) -> 0.3125 | H16: =IF(G16-A16>0,G16-A16,"") -> 5.5511151e-17 | I16: =IF(A16-G16>0,A16-G16,"") | M16: =H16 -> 5.5511151e-17
B17: =WORKDAY.INTL(B16,1,11) -> 45094
A18: 0.3125 | B18: =WORKDAY.INTL(B17,1,11) -> 45096 | C18: 0.33333333 | D18: 0.5 | E18: 0.53472222 | F18: 0.70833333 | G18: =IF(D18-C18+(F18-E18)=0,"",D18-C18+(F18-E18)) -> 0.34027778 | H18: =IF(G18-A18>0,G18-A18,"") -> 0.027777778 | I18: =IF(A18-G18>0,A18-G18,"") | M18: =H18 -> 0.027777778
A19: 0.3125 | B19: =WORKDAY.INTL(B18,1,11) -> 45097 | C19: 0.33333333 | D19: 0.5 | E19: 0.5625 | F19: 0.70833333 | G19: =IF(D19-C19+(F19-E19)=0,"",D19-C19+(F19-E19)) -> 0.3125 | H19: =IF(G19-A19>0,G19-A19,"") -> 5.5511151e-17 | I19: =IF(A19-G19>0,A19-G19,"") | M19: =H19 -> 5.5511151e-17
A20: 0.3125 | B20: =WORKDAY.INTL(B19,1,11) -> 45098 | C20: 0.33333333 | D20: 0.5 | E20: 0.5625 | F20: 0.70833333 | G20: =IF(D20-C20+(F20-E20)=0,"",D20-C20+(F20-E20)) -> 0.3125 | H20: =IF(G20-A20>0,G20-A20,"") -> 5.5511151e-17 | I20: =IF(A20-G20>0,A20-G20,"")
A21: 0.3125 | B21: =WORKDAY.INTL(B20,1,11) -> 45099 | C21: 0.33333333 | D21: 0.5 | E21: 0.5625 | F21: 0.70833333 | G21: =IF(D21-C21+(F21-E21)=0,"",D21-C21+(F21-E21)) -> 0.3125 | H21: =IF(G21-A21>0,G21-A21,"") -> 5.5511151e-17 | I21: =IF(A21-G21>0,A21-G21,"") | M21: =H21 -> 5.5511151e-17
A22: 0.3125 | B22: =WORKDAY.INTL(B21,1,11) -> 45100 | C22: 0.33333333 | D22: 0.5 | E22: 0.5625 | F22: 0.70833333 | G22: =IF(D22-C22+(F22-E22)=0,"",D22-C22+(F22-E22)) -> 0.3125 | H22: =IF(G22-A22>0,G22-A22,"") -> 5.5511151e-17 | I22: =IF(A22-G22>0,A22-G22,"") | M22: =H22 -> 5.5511151e-17
B23: =WORKDAY.INTL(B22,1,11) -> 45101
A24: 0.3125 | B24: =WORKDAY.INTL(B23,1,11) -> 45103 | C24: 0.33333333 | D24: 0.5 | E24: 0.5625 | F24: 0.70833333 | G24: =IF(D24-C24+(F24-E24)=0,"",D24-C24+(F24-E24)) -> 0.3125 | H24: =IF(G24-A24>0,G24-A24,"") -> 5.5511151e-17 | I24: =IF(A24-G24>0,A24-G24,"") | M24: =H24 -> 5.5511151e-17
A25: 0.3125 | B25: =WORKDAY.INTL(B24,1,11) -> 45104 | C25: 0.33333333 | D25: 0.5 | E25: 0.5625 | F25: 0.70833333 | G25: =IF(D25-C25+(F25-E25)=0,"",D25-C25+(F25-E25)) -> 0.3125 | H25: =IF(G25-A25>0,G25-A25,"") -> 5.5511151e-17 | I25: =IF(A25-G25>0,A25-G25,"") | M25: =H25 -> 5.5511151e-17
A26: 0.3125 | B26: =WORKDAY.INTL(B25,1,11) -> 45105 | C26: 0.33333333 | D26: 0.5 | E26: 0.5625 | F26: 0.70833333 | G26: =IF(D26-C26+(F26-E26)=0,"",D26-C26+(F26-E26)) -> 0.3125 | H26: =IF(G26-A26>0,G26-A26,"") -> 5.5511151e-17 | I26: =IF(A26-G26>0,A26-G26,"")
A27: 0.3125 | B27: =WORKDAY.INTL(B26,1,11) -> 45106 | C27: 0.33333333 | D27: 0.5 | E27: 0.5625 | F27: 0.70833333 | G27: =IF(D27-C27+(F27-E27)=0,"",D27-C27+(F27-E27)) -> 0.3125 | H27: =IF(G27-A27>0,G27-A27,"") -> 5.5511151e-17 | I27: =IF(A27-G27>0,A27-G27,"") | M27: =H27 -> 5.5511151e-17
A28: 0.3125 | B28: =WORKDAY.INTL(B27,1,11) -> 45107 | C28: 0.33333333 | D28: 0.5 | E28: 0.5625 | F28: 0.70833333 | G28: =IF(D28-C28+(F28-E28)=0,"",D28-C28+(F28-E28)) -> 0.3125 | H28: =IF(G28-A28>0,G28-A28,"") -> 5.5511151e-17 | I28: =IF(A28-G28>0,A28-G28,"") | M28: =H28 -> 5.5511151e-17
B30: Total mensuel | G30: =SUM(G3:G28)+H30-I30 -> 6.9097222 | H30: =SUM(H3:H28) -> 0.048611111 | I30: =SUM(I3:I28) -> 0.03125 | K30: =SUM(K3:K28) -> 0 | L30: =SUM(L3:L28) -> 0 | M30: =SUM(M3:M28) -> 0.048611111
K31: ='05_23'!K32-'06_23'!K30 -> 30 | L31: ='05_23'!L32-'06_23'!L30 -> 16

Sheet 07_23
B1: =EDATE(_DébutPeriode,2) -> 45108
C2: Matin | E2: Après-midi | G2: Total heures travaillées | H2: Solde positif | I2: solde négatif | J2: Motif | K2: CP | L2: RTT | M2: Récup
A3: 0.3125 | B3: =WORKDAY.INTL(B1-1,1,11) -> 45108 | C3: 0.33333333 | D3: 0.5 | E3: 0.5625 | F3: 0.70833333 | G3: =IF(D3-C3+(F3-E3)=0,"",D3-C3+(F3-E3)) -> 0.3125 | H3: =IF(G3-A3>0,G3-A3,"") -> 5.5511151e-17 | I3: =IF(A3-G3>0,A3-G3,"") | M3: =H3 -> 5.5511151e-17
A4: 0.3125 | B4: =WORKDAY.INTL(B3,1,11) -> 45110 | C4: 0.33333333 | D4: 0.5 | E4: 0.5625 | F4: 0.70833333 | G4: =IF(D4-C4+(F4-E4)=0,"",D4-C4+(F4-E4)) -> 0.3125 | H4: =IF(G4-A4>0,G4-A4,"") -> 5.5511151e-17 | I4: =IF(A4-G4>0,A4-G4,"") | M4: =H4 -> 5.5511151e-17
A5: 0.3125 | B5: =WORKDAY.INTL(B4,1,11) -> 45111 | C5: 0.33333333 | D5: 0.5 | E5: 0.5625 | F5: 0.70833333 | G5: =IF(D5-C5+(F5-E5)=0,"",D5-C5+(F5-E5)) -> 0.3125 | H5: =IF(G5-A5>0,G5-A5,"") -> 5.5511151e-17 | I5: =IF(A5-G5>0,A5-G5,"") | M5: =H5 -> 5.5511151e-17
A6: 0.3125 | B6: =WORKDAY.INTL(B5,1,11) -> 45112 | C6: 0.33333333 | D6: 0.5 | E6: 0.5625 | F6: 0.70833333 | G6: =IF(D6-C6+(F6-E6)=0,"",D6-C6+(F6-E6)) -> 0.3125 | H6: =IF(G6-A6>0,G6-A6,"") -> 5.5511151e-17 | I6: =IF(A6-G6>0,A6-G6,"") | M6: =H6 -> 5.5511151e-17
A7: 0.3125 | B7: =WORKDAY.INTL(B6,1,11) -> 45113 | C7: 0.33333333 | D7: 0.5 | E7: 0.5625 | F7: 0.70833333 | G7: =IF(D7-C7+(F7-E7)=0,"",D7-C7+(F7-E7)) -> 0.3125 | H7: =IF(G7-A7>0,G7-A7,"") -> 5.5511151e-17 | I7: =IF(A7-G7>0,A7-G7,"") | M7: =H7 -> 5.5511151e-17
A8: 0.3125 | B8: =WORKDAY.INTL(B7,1,11) -> 45114 | C8: 0.33333333 | D8: 0.5 | E8: 0.5625 | F8: 0.70833333 | G8: =IF(D8-C8+(F8-E8)=0,"",D8-C8+(F8-E8)) -> 0.3125 | H8: =IF(G8-A8>0,G8-A8,"") -> 5.5511151e-17 | I8: =IF(A8-G8>0,A8-G8,"") | M8: =H8 -> 5.5511151e-17
B9: =WORKDAY.INTL(B8,1,11) -> 45115
A10: 0.3125 | B10: =WORKDAY.INTL(B9,1,11) -> 45117 | C10: 0.33333333 | D10: 0.5 | E10: 0.5625 | F10: 0.70833333 | G10: =IF(D10-C10+(F10-E10)=0,"",D10-C10+(F10-E10)) -> 0.3125 | H10: =IF(G10-A10>0,G10-A10,"") -> 5.5511151e-17 | I10: =IF(A10-G10>0,A10-G10,"") | M10: =H10 -> 5.5511151e-17
A11: 0.3125 | B11: =WORKDAY.INTL(B10,1,11) -> 45118 | C11: 0.33333333 | D11: 0.5 | E11: 0.5625 | F11: 0.70833333 | G11: =IF(D11-C11+(F11-E11)=0,"",D11-C11+(F11-E11)) -> 0.3125 | H11: =IF(G11-A11>0,G11-A11,"") -> 5.5511151e-17 | I11: =IF(A11-G11>0,A11-G11,"") | M11: =H11 -> 5.5511151e-17
A12: 0.3125 | B12: =WORKDAY.INTL(B11,1,11) -> 45119 | C12: 0.33333333 | D12: 0.5 | E12: 0.5625 | F12: 0.70833333 | G12: =IF(D12-C12+(F12-E12)=0,"",D12-C12+(F12-E12)) -> 0.3125 | H12: =IF(G12-A12>0,G12-A12,"") -> 5.5511151e-17 | I12: =IF(A12-G12>0,A12-G12,"") | M12: =H12 -> 5.5511151e-17
A13: 0.3125 | B13: =WORKDAY.INTL(B12,1,11) -> 45120 | C13: 0.33333333 | D13: 0.5 | E13: 0.5625 | F13: 0.70833333 | G13: =IF(D13-C13+(F13-E13)=0,"",D13-C13+(F13-E13)) -> 0.3125 | H13: =IF(G13-A13>0,G13-A13,"") -> 5.5511151e-17 | I13: =IF(A13-G13>0,A13-G13,"") | M13: =H13 -> 5.5511151e-17
A14: 0.3125 | B14: =WORKDAY.INTL(B13,1,11) -> 45121 | C14: FERIE - FETE NATIONALE | G14: 0.3125 | H14: =IF(G14-A14>0,G14-A14,"") | I14: =IF(A14-G14>0,A14-G14,"") | M14: =H14
B15: =WORKDAY.INTL(B14,1,11) -> 45122
A16: 0.3125 | B16: =WORKDAY.INTL(B15,1,11) -> 45124 | C16: 0.33333333 | D16: 0.5 | E16: 0.5625 | F16: 0.70833333 | G16: =IF(D16-C16+(F16-E16)=0,"",D16-C16+(F16-E16)) -> 0.3125 | H16: =IF(G16-A16>0,G16-A16,"") -> 5.5511151e-17 | I16: =IF(A16-G16>0,A16-G16,"") | M16: =H16 -> 5.5511151e-17
A17: 0.3125 | B17: =WORKDAY.INTL(B16,1,11) -> 45125 | C17: 0.33333333 | D17: 0.5 | E17: 0.5625 | F17: 0.70833333 | G17: =IF(D17-C17+(F17-E17)=0,"",D17-C17+(F17-E17)) -> 0.3125 | H17: =IF(G17-A17>0,G17-A17,"") -> 5.5511151e-17 | I17: =IF(A17-G17>0,A17-G17,"") | M17: =H17 -> 5.5511151e-17
A18: 0.3125 | B18: =WORKDAY.INTL(B17,1,11) -> 45126 | C18: 0.33333333 | D18: 0.5 | E18: 0.5625 | F18: 0.70833333 | G18: =IF(D18-C18+(F18-E18)=0,"",D18-C18+(F18-E18)) -> 0.3125 | H18: =IF(G18-A18>0,G18-A18,"") -> 5.5511151e-17 | I18: =IF(A18-G18>0,A18-G18,"") | M18: =H18 -> 5.5511151e-17
A19: 0.3125 | B19: =WORKDAY.INTL(B18,1,11) -> 45127 | C19: 0.33333333 | D19: 0.5 | E19: 0.5625 | F19: 0.70833333 | G19: =IF(D19-C19+(F19-E19)=0,"",D19-C19+(F19-E19)) -> 0.3125 | H19: =IF(G19-A19>0,G19-A19,"") -> 5.5511151e-17 | I19: =IF(A19-G19>0,A19-G19,"") | M19: =H19 -> 5.5511151e-17
A20: 0.3125 | B20: =WORKDAY.INTL(B19,1,11) -> 45128 | C20: 0.33333333 | D20: 0.5 | E20: 0.5625 | F20: 0.70833333 | G20: =IF(D20-C20+(F20-E20)=0,"",D20-C20+(F20-E20)) -> 0.3125 | H20: =IF(G20-A20>0,G20-A20,"") -> 5.5511151e-17 | I20: =IF(A20-G20>0,A20-G20,"") | M20: =H20 -> 5.5511151e-17
B21: =WORKDAY.INTL(B20,1,11) -> 45129
A22: 0.3125 | B22: =WORKDAY.INTL(B21,1,11) -> 45131 | C22: 0.33333333 | D22: 0.5 | E22: 0.5625 | F22: 0.70833333 | G22: =IF(D22-C22+(F22-E22)=0,"",D22-C22+(F22-E22)) -> 0.3125 | H22: =IF(G22-A22>0,G22-A22,"") -> 5.5511151e-17 | I22: =IF(A22-G22>0,A22-G22,"") | M22: =H22 -> 5.5511151e-17
A23: 0.3125 | B23: =WORKDAY.INTL(B22,1,11) -> 45132 | C23: 0.33333333 | D23: 0.5 | E23: 0.5625 | F23: 0.70833333 | G23: =IF(D23-C23+(F23-E23)=0,"",D23-C23+(F23-E23)) -> 0.3125 | H23: =IF(G23-A23>0,G23-A23,"") -> 5.5511151e-17 | I23: =IF(A23-G23>0,A23-G23,"") | M23: =H23 -> 5.5511151e-17
A24: 0.3125 | B24: =WORKDAY.INTL(B23,1,11) -> 45133 | C24: 0.33333333 | D24: 0.5 | E24: 0.5625 | F24: 0.70833333 | G24: =IF(D24-C24+(F24-E24)=0,"",D24-C24+(F24-E24)) -> 0.3125 | H24: =IF(G24-A24>0,G24-A24,"") -> 5.5511151e-17 | I24: =IF(A24-G24>0,A24-G24,"") | M24: =H24 -> 5.5511151e-17
A25: 0.3125 | B25: =WORKDAY.INTL(B24,1,11) -> 45134 | C25: 0.33333333 | D25: 0.5 | E25: 0.5625 | F25: 0.70833333 | G25: =IF(D25-C25+(F25-E25)=0,"",D25-C25+(F25-E25)) -> 0.3125 | H25: =IF(G25-A25>0,G25-A25,"") -> 5.5511151e-17 | I25: =IF(A25-G25>0,A25-G25,"") | M25: =H25 -> 5.5511151e-17
A26: 0.3125 | B26: =WORKDAY.INTL(B25,1,11) -> 45135 | C26: 0.33333333 | D26: 0.5 | E26: 0.5625 | F26: 0.70833333 | G26: =IF(D26-C26+(F26-E26)=0,"",D26-C26+(F26-E26)) -> 0.3125 | H26: =IF(G26-A26>0,G26-A26,"") -> 5.5511151e-17 | I26: =IF(A26-G26>0,A26-G26,"") | M26: =H26 -> 5.5511151e-17
B27: =WORKDAY.INTL(B26,1,11) -> 45136
A28: 0.3125 | B28: =WORKDAY.INTL(B27,1,11) -> 45138 | C28: 0.33333333 | D28: 0.5 | E28: 0.5625 | F28: 0.70833333 | G28: =IF(D28-C28+(F28-E28)=0,"",D28-C28+(F28-E28)) -> 0.3125 | H28: =IF(G28-A28>0,G28-A28,"") -> 5.5511151e-17 | I28: =IF(A28-G28>0,A28-G28,"") | M28: =H28 -> 5.5511151e-17
B30: Total mensuel | G30: =SUM(G3:G28)+H30-I30 -> 6.875 | H30: =SUM(H3:H28) -> 1.1657342e-15 | I30: =SUM(I3:I28) -> 0 | K30: =SUM(K3:K28) -> 0 | L30: =SUM(L3:L28) -> 0 | M30: =SUM(M3:M28) -> 1.1657342e-15
K31: ='06_23'!K31-'07_23'!K30 -> 30 | L31: ='06_23'!L31-'07_23'!L30 -> 16

Sheet 08_23
B1: =EDATE(_DébutPeriode,3) -> 45139
C2: Matin | E2: Après-midi | G2: Total heures travaillées | H2: Solde positif | I2: solde négatif | J2: Motif | K2: CP | L2: RTT | M2: Récup
A3: 0.3125 | B3: =WORKDAY.INTL(B1-1,1,11) -> 45139 | C3: 0.33333333 | D3: 0.5 | E3: 0.5625 | F3: 0.70833333 | G3: =IF(D3-C3+(F3-E3)=0,"",D3-C3+(F3-E3)) -> 0.3125 | H3: =IF(G3-A3>0,G3-A3,"") -> 5.5511151e-17 | I3: =IF(A3-G3>0,A3-G3,"") | M3: =H3 -> 5.5511151e-17
A4: 0.3125 | B4: =WORKDAY.INTL(B3,1,11) -> 45140 | C4: 0.33333333 | D4: 0.5 | E4: 0.5625 | F4: 0.70833333 | G4: =IF(D4-C4+(F4-E4)=0,"",D4-C4+(F4-E4)) -> 0.3125 | H4: =IF(G4-A4>0,G4-A4,"") -> 5.5511151e-17 | I4: =IF(A4-G4>0,A4-G4,"") | M4: =H4 -> 5.5511151e-17
A5: 0.3125 | B5: =WORKDAY.INTL(B4,1,11) -> 45141 | C5: 0.33333333 | D5: 0.5 | E5: 0.5625 | F5: 0.70833333 | G5: =IF(D5-C5+(F5-E5)=0,"",D5-C5+(F5-E5)) -> 0.3125 | H5: =IF(G5-A5>0,G5-A5,"") -> 5.5511151e-17 | I5: =IF(A5-G5>0,A5-G5,"") | M5: =H5 -> 5.5511151e-17
A6: 0.3125 | B6: =WORKDAY.INTL(B5,1,11) -> 45142 | C6: 0.33333333 | D6: 0.5 | E6: 0.5625 | F6: 0.70833333 | G6: =IF(D6-C6+(F6-E6)=0,"",D6-C6+(F6-E6)) -> 0.3125 | H6: =IF(G6-A6>0,G6-A6,"") -> 5.5511151e-17 | I6: =IF(A6-G6>0,A6-G6,"") | M6: =H6 -> 5.5511151e-17
B7: =WORKDAY.INTL(B6,1,11) -> 45143
A8: 0.3125 | B8: =WORKDAY.INTL(B7,1,11) -> 45145 | C8: 0.33333333 | D8: 0.5 | E8: 0.5625 | F8: 0.70833333 | G8: =IF(D8-C8+(F8-E8)=0,"",D8-C8+(F8-E8)) -> 0.3125 | H8: =IF(G8-A8>0,G8-A8,"") -> 5.5511151e-17 | I8: =IF(A8-G8>0,A8-G8,"") | M8: =H8 -> 5.5511151e-17
A9: 0.3125 | B9: =WORKDAY.INTL(B8,1,11) -> 45146 | C9: 0.33333333 | D9: 0.5 | E9: 0.5625 | F9: 0.70833333 | G9: =IF(D9-C9+(F9-E9)=0,"",D9-C9+(F9-E9)) -> 0.3125 | H9: =IF(G9-A9>0,G9-A9,"") -> 5.5511151e-17 | I9: =IF(A9-G9>0,A9-G9,"") | M9: =H9 -> 5.5511151e-17
A10: 0.3125 | B10: =WORKDAY.INTL(B9,1,11) -> 45147 | C10: 0.33333333 | D10: 0.5 | E10: 0.5625 | F10: 0.70833333 | G10: =IF(D10-C10+(F10-E10)=0,"",D10-C10+(F10-E10)) -> 0.3125 | H10: =IF(G10-A10>0,G10-A10,"") -> 5.5511151e-17 | I10: =IF(A10-G10>0,A10-G10,"") | M10: =H10 -> 5.5511151e-17
A11: 0.3125 | B11: =WORKDAY.INTL(B10,1,11) -> 45148 | C11: 0.33333333 | D11: 0.5 | E11: 0.5625 | F11: 0.70833333 | G11: =IF(D11-C11+(F11-E11)=0,"",D11-C11+(F11-E11)) -> 0.3125 | H11: =IF(G11-A11>0,G11-A11,"") -> 5.5511151e-17 | I11: =IF(A11-G11>0,A11-G11,"") | M11: =H11 -> 5.5511151e-17
A12: 0.3125 | B12: =WORKDAY.INTL(B11,1,11) -> 45149 | C12: 0.33333333 | D12: 0.5 | E12: 0.5625 | F12: 0.70833333 | G12: =IF(D12-C12+(F12-E12)=0,"",D12-C12+(F12-E12)) -> 0.3125 | H12: =IF(G12-A12>0,G12-A12,"") -> 5.5511151e-17 | I12: =IF(A12-G12>0,A12-G12,"") | M12: =H12 -> 5.5511151e-17
B13: =WORKDAY.INTL(B12,1,11) -> 45150
A14: 0.3125 | B14: =WORKDAY.INTL(B13,1,11) -> 45152 | C14: 0.33333333 | D14: 0.5 | E14: 0.5625 | F14: 0.70833333 | G14: =IF(D14-C14+(F14-E14)=0,"",D14-C14+(F14-E14)) -> 0.3125 | H14: =IF(G14-A14>0,G14-A14,"") -> 5.5511151e-17 | I14: =IF(A14-G14>0,A14-G14,"") | M14: =H14 -> 5.5511151e-17
A15: 0.3125 | B15: =WORKDAY.INTL(B14,1,11) -> 45153 | C15: FERIE - ASSOMPTION | G15: 0.3125 | H15: =IF(G15-A15>0,G15-A15,"") | I15: =IF($A$14-G15>0,$A$14-G15,"")
A16: 0.3125 | B16: =WORKDAY.INTL(B15,1,11) -> 45154 | C16: 0.33333333 | D16: 0.5 | E16: 0.5625 | F16: 0.70833333 | G16: =IF(D16-C16+(F16-E16)=0,"",D16-C16+(F16-E16)) -> 0.3125 | H16: =IF(G16-A16>0,G16-A16,"") -> 5.5511151e-17 | I16: =IF(A16-G16>0,A16-G16,"") | M16: =H16 -> 5.5511151e-17
A17: 0.3125 | B17: =WORKDAY.INTL(B16,1,11) -> 45155 | C17: 0.33333333 | D17: 0.5 | E17: 0.5625 | F17: 0.70833333 | G17: =IF(D17-C17+(F17-E17)=0,"",D17-C17+(F17-E17)) -> 0.3125 | H17: =IF(G17-A17>0,G17-A17,"") -> 5.5511151e-17 | I17: =IF(A17-G17>0,A17-G17,"") | M17: =H17 -> 5.5511151e-17
A18: 0.3125 | B18: =WORKDAY.INTL(B17,1,11) -> 45156 | C18: 0.33333333 | D18: 0.5 | E18: 0.5625 | F18: 0.70833333 | G18: =IF(D18-C18+(F18-E18)=0,"",D18-C18+(F18-E18)) -> 0.3125 | H18: =IF(G18-A18>0,G18-A18,"") -> 5.5511151e-17 | I18: =IF(A18-G18>0,A18-G18,"") | M18: =H18 -> 5.5511151e-17
B19: =WORKDAY.INTL(B18,1,11) -> 45157
A20: 0.3125 | B20: =WORKDAY.INTL(B19,1,11) -> 45159 | C20: 0.33333333 | D20: 0.5 | E20: 0.5625 | F20: 0.70833333 | G20: =IF(D20-C20+(F20-E20)=0,"",D20-C20+(F20-E20)) -> 0.3125 | H20: =IF(G20-A20>0,G20-A20,"") -> 5.5511151e-17 | I20: =IF(A20-G20>0,A20-G20,"") | M20: =H20 -> 5.5511151e-17
A21: 0.3125 | B21: =WORKDAY.INTL(B20,1,11) -> 45160 | C21: 0.33333333 | D21: 0.5 | E21: 0.5625 | F21: 0.70833333 | G21: =IF(D21-C21+(F21-E21)=0,"",D21-C21+(F21-E21)) -> 0.3125 | H21: =IF(G21-A21>0,G21-A21,"") -> 5.5511151e-17 | I21: =IF(A21-G21>0,A21-G21,"") | M21: =H21 -> 5.5511151e-17
A22: 0.3125 | B22: =WORKDAY.INTL(B21,1,11) -> 45161 | C22: 0.33333333 | D22: 0.5 | E22: 0.5625 | F22: 0.70833333 | G22: =IF(D22-C22+(F22-E22)=0,"",D22-C22+(F22-E22)) -> 0.3125 | H22: =IF(G22-A22>0,G22-A22,"") -> 5.5511151e-17 | I22: =IF(A22-G22>0,A22-G22,"") | M22: =H22 -> 5.5511151e-17
A23: 0.3125 | B23: =WORKDAY.INTL(B22,1,11) -> 45162 | C23: 0.33333333 | D23: 0.5 | E23: 0.5625 | F23: 0.70833333 | G23: =IF(D23-C23+(F23-E23)=0,"",D23-C23+(F23-E23)) -> 0.3125 | H23: =IF(G23-A23>0,G23-A23,"") -> 5.5511151e-17 | I23: =IF(A23-G23>0,A23-G23,"") | M23: =H23 -> 5.5511151e-17
A24: 0.3125 | B24: =WORKDAY.INTL(B23,1,11) -> 45163 | C24: 0.33333333 | D24: 0.5 | E24: 0.5625 | F24: 0.70833333 | G24: =IF(D24-C24+(F24-E24)=0,"",D24-C24+(F24-E24)) -> 0.3125 | H24: =IF(G24-A24>0,G24-A24,"") -> 5.5511151e-17 | I24: =IF(A24-G24>0,A24-G24,"") | M24: =H24 -> 5.5511151e-17
B25: =WORKDAY.INTL(B24,1,11) -> 45164
A26: 0.3125 | B26: =WORKDAY.INTL(B25,1,11) -> 45166 | C26: 0.33333333 | D26: 0.5 | E26: 0.5625 | F26: 0.70833333 | G26: =IF(D26-C26+(F26-E26)=0,"",D26-C26+(F26-E26)) -> 0.3125 | H26: =IF(G26-A26>0,G26-A26,"") -> 5.5511151e-17 | I26: =IF(A26-G26>0,A26-G26,"") | M26: =H26 -> 5.5511151e-17
A27: 0.3125 | B27: =WORKDAY.INTL(B26,1,11) -> 45167 | C27: 0.33333333 | D27: 0.5 | E27: 0.5625 | F27: 0.70833333 | G27: =IF(D27-C27+(F27-E27)=0,"",D27-C27+(F27-E27)) -> 0.3125 | H27: =IF(G27-A27>0,G27-A27,"") -> 5.5511151e-17 | I27: =IF(A27-G27>0,A27-G27,"") | M27: =H27 -> 5.5511151e-17
A28: 0.3125 | B28: =WORKDAY.INTL(B27,1,11) -> 45168 | C28: 0.33333333 | D28: 0.5 | E28: 0.5625 | F28: 0.70833333 | G28: =IF(D28-C28+(F28-E28)=0,"",D28-C28+(F28-E28)) -> 0.3125 | H28: =IF(G28-A28>0,G28-A28,"") -> 5.5511151e-17 | I28: =IF(A28-G28>0,A28-G28,"") | M28: =H28 -> 5.5511151e-17
A29: 0.3125 | B29: =WORKDAY.INTL(B28,1,11) -> 45169 | C29: 0.33333333 | D29: 0.5 | E29: 0.5625 | F29: 0.70833333 | G29: =IF(D29-C29+(F29-E29)=0,"",D29-C29+(F29-E29)) -> 0.3125 | H29: =IF(G29-A29>0,G29-A29,"") -> 5.5511151e-17 | I29: =IF(A29-G29>0,A29-G29,"") | M29: =H29 -> 5.5511151e-17
B31: Total mensuel | G31: =SUM(G3:G29)+H31-I31 -> 7.1875 | H31: =SUM(H3:H29) -> 1.2212453e-15 | I31: =SUM(I3:I29) -> 0 | K31: =SUM(K3:K29) -> 0 | L31: =SUM(L3:L29) -> 0 | M31: =SUM(M3:M29) -> 1.2212453e-15
K32: ='07_23'!K31-'08_23'!K31 -> 30 | L32: ='07_23'!L31-'08_23'!L31 -> 16

Sheet 09_23
B1: =EDATE(_DébutPeriode,4) -> 45170
C2: Matin | E2: Après-midi | G2: Total heures travaillées | H2: Solde positif | I2: solde négatif | J2: Motif | K2: CP | L2: RTT | M2: Récup
A3: 0.3125 | B3: =WORKDAY.INTL(B1-1,1,11) -> 45170 | C3: 0.33333333 | D3: 0.5 | E3: 0.5625 | F3: 0.70833333 | G3: =IF(D3-C3+(F3-E3)=0,"",D3-C3+(F3-E3)) -> 0.3125 | H3: =IF(G3-A3>0,G3-A3,"") -> 5.5511151e-17 | I3: =IF(A3-G3>0,A3-G3,"") | M3: =H3 -> 5.5511151e-17
B4: =WORKDAY.INTL(B3,1,11) -> 45171
A5: 0.3125 | B5: =WORKDAY.INTL(B4,1,11) -> 45173 | C5: 0.33333333 | D5: 0.5 | E5: 0.5625 | F5: 0.70833333 | G5: =IF(D5-C5+(F5-E5)=0,"",D5-C5+(F5-E5)) -> 0.3125 | H5: =IF(G5-A5>0,G5-A5,"") -> 5.5511151e-17 | I5: =IF(A5-G5>0,A5-G5,"") | M5: =H5 -> 5.5511151e-17
A6: 0.3125 | B6: =WORKDAY.INTL(B5,1,11) -> 45174 | C6: 0.33333333 | D6: 0.5 | E6: 0.5625 | F6: 0.70833333 | G6: =IF(D6-C6+(F6-E6)=0,"",D6-C6+(F6-E6)) -> 0.3125 | H6: =IF(G6-A6>0,G6-A6,"") -> 5.5511151e-17 | I6: =IF(A6-G6>0,A6-G6,"") | M6: =H6 -> 5.5511151e-17
A7: 0.3125 | B7: =WORKDAY.INTL(B6,1,11) -> 45175 | C7: 0.33333333 | D7: 0.5 | E7: 0.5625 | F7: 0.70833333 | G7: =IF(D7-C7+(F7-E7)=0,"",D7-C7+(F7-E7)) -> 0.3125 | H7: =IF(G7-A7>0,G7-A7,"") -> 5.5511151e-17 | I7: =IF(A7-G7>0,A7-G7,"")
A8: 0.3125 | B8: =WORKDAY.INTL(B7,1,11) -> 45176 | C8: 0.33333333 | D8: 0.5 | E8: 0.5625 | F8: 0.70833333 | G8: =IF(D8-C8+(F8-E8)=0,"",D8-C8+(F8-E8)) -> 0.3125 | H8: =IF(G8-A8>0,G8-A8,"") -> 5.5511151e-17 | I8: =IF(A8-G8>0,A8-G8,"") | M8: =H8 -> 5.5511151e-17
A9: 0.3125 | B9: =WORKDAY.INTL(B8,1,11) -> 45177 | C9: 0.33333333 | D9: 0.5 | E9: 0.5625 | F9: 0.70833333 | G9: =IF(D9-C9+(F9-E9)=0,"",D9-C9+(F9-E9)) -> 0.3125 | H9: =IF(G9-A9>0,G9-A9,"") -> 5.5511151e-17 | I9: =IF(A9-G9>0,A9-G9,"") | M9: =H9 -> 5.5511151e-17
B10: =WORKDAY.INTL(B9,1,11) -> 45178
A11: 0.3125 | B11: =WORKDAY.INTL(B10,1,11) -> 45180 | C11: 0.33333333 | D11: 0.5 | E11: 0.5625 | F11: 0.70833333 | G11: =IF(D11-C11+(F11-E11)=0,"",D11-C11+(F11-E11)) -> 0.3125 | H11: =IF(G11-A11>0,G11-A11,"") -> 5.5511151e-17 | I11: =IF(A11-G11>0,A11-G11,"") | M11: =H11 -> 5.5511151e-17
A12: 0.3125 | B12: =WORKDAY.INTL(B11,1,11) -> 45181 | C12: 0.33333333 | D12: 0.5 | E12: 0.5625 | F12: 0.70833333 | G12: =IF(D12-C12+(F12-E12)=0,"",D12-C12+(F12-E12)) -> 0.3125 | H12: =IF(G12-A12>0,G12-A12,"") -> 5.5511151e-17 | I12: =IF(A12-G12>0,A12-G12,"") | M12: =H12 -> 5.5511151e-17
A13: 0.3125 | B13: =WORKDAY.INTL(B12,1,11) -> 45182 | C13: 0.33333333 | D13: 0.5 | E13: 0.5625 | F13: 0.70833333 | G13: =IF(D13-C13+(F13-E13)=0,"",D13-C13+(F13-E13)) -> 0.3125 | H13: =IF(G13-A13>0,G13-A13,"") -> 5.5511151e-17 | I13: =IF(A13-G13>0,A13-G13,"")
A14: 0.3125 | B14: =WORKDAY.INTL(B13,1,11) -> 45183 | C14: 0.33333333 | D14: 0.5 | E14: 0.5625 | F14: 0.70833333 | G14: =IF(D14-C14+(F14-E14)=0,"",D14-C14+(F14-E14)) -> 0.3125 | H14: =IF(G14-A14>0,G14-A14,"") -> 5.5511151e-17 | I14: =IF(A14-G14>0,A14-G14,"") | M14: =H14 -> 5.5511151e-17
A15: 0.3125 | B15: =WORKDAY.INTL(B14,1,11) -> 45184 | C15: 0.33333333 | D15: 0.5 | E15: 0.5625 | F15: 0.70833333 | G15: =IF(D15-C15+(F15-E15)=0,"",D15-C15+(F15-E15)) -> 0.3125 | H15: =IF(G15-A15>0,G15-A15,"") -> 5.5511151e-17 | I15: =IF(A15-G15>0,A15-G15,"") | M15: =H15 -> 5.5511151e-17
B16: =WORKDAY.INTL(B15,1,11) -> 45185
A17: 0.3125 | B17: =WORKDAY.INTL(B16,1,11) -> 45187 | C17: 0.33333333 | D17: 0.5 | E17: 0.5625 | F17: 0.70833333 | G17: =IF(D17-C17+(F17-E17)=0,"",D17-C17+(F17-E17)) -> 0.3125 | H17: =IF(G17-A17>0,G17-A17,"") -> 5.5511151e-17 | I17: =IF(A17-G17>0,A17-G17,"") | M17: =H17 -> 5.5511151e-17
A18: 0.3125 | B18: =WORKDAY.INTL(B17,1,11) -> 45188 | C18: 0.33333333 | D18: 0.5 | E18: 0.5625 | F18: 0.70833333 | G18: =IF(D18-C18+(F18-E18)=0,"",D18-C18+(F18-E18)) -> 0.3125 | H18: =IF(G18-A18>0,G18-A18,"") -> 5.5511151e-17 | I18: =IF(A18-G18>0,A18-G18,"") | M18: =H18 -> 5.5511151e-17
A19: 0.3125 | B19: =WORKDAY.INTL(B18,1,11) -> 45189 | C19: 0.33333333 | D19: 0.5 | E19: 0.5625 | F19: 0.70833333 | G19: =IF(D19-C19+(F19-E19)=0,"",D19-C19+(F19-E19)) -> 0.3125 | H19: =IF(G19-A19>0,G19-A19,"") -> 5.5511151e-17 | I19: =IF(A19-G19>0,A19-G19,"")
A20: 0.3125 | B20: =WORKDAY.INTL(B19,1,11) -> 45190 | C20: 0.33333333 | D20: 0.5 | E20: 0.5625 | F20: 0.70833333 | G20: =IF(D20-C20+(F20-E20)=0,"",D20-C20+(F20-E20)) -> 0.3125 | H20: =IF(G20-A20>0,G20-A20,"") -> 5.5511151e-17 | I20: =IF(A20-G20>0,A20-G20,"") | M20: =H20 -> 5.5511151e-17
A21: 0.3125 | B21: =WORKDAY.INTL(B20,1,11) -> 45191 | C21: 0.33333333 | D21: 0.5 | E21: 0.5625 | F21: 0.70833333 | G21: =IF(D21-C21+(F21-E21)=0,"",D21-C21+(F21-E21)) -> 0.3125 | H21: =IF(G21-A21>0,G21-A21,"") -> 5.5511151e-17 | I21: =IF(A21-G21>0,A21-G21,"") | M21: =H21 -> 5.5511151e-17
B22: =WORKDAY.INTL(B21,1,11) -> 45192
A23: 0.3125 | B23: =WORKDAY.INTL(B22,1,11) -> 45194 | C23: 0.33333333 | D23: 0.5 | E23: 0.5625 | F23: 0.70833333 | G23: =IF(D23-C23+(F23-E23)=0,"",D23-C23+(F23-E23)) -> 0.3125 | H23: =IF(G23-A23>0,G23-A23,"") -> 5.5511151e-17 | I23: =IF(A23-G23>0,A23-G23,"") | M23: =H23 -> 5.5511151e-17
A24: 0.3125 | B24: =WORKDAY.INTL(B23,1,11) -> 45195 | C24: 0.33333333 | D24: 0.5 | E24: 0.5625 | F24: 0.70833333 | G24: =IF(D24-C24+(F24-E24)=0,"",D24-C24+(F24-E24)) -> 0.3125 | H24: =IF(G24-A24>0,G24-A24,"") -> 5.5511151e-17 | I24: =IF(A24-G24>0,A24-G24,"") | M24: =H24 -> 5.5511151e-17
A25: 0.3125 | B25: =WORKDAY.INTL(B24,1,11) -> 45196 | C25: 0.33333333 | D25: 0.5 | E25: 0.5625 | F25: 0.70833333 | G25: =IF(D25-C25+(F25-E25)=0,"",D25-C25+(F25-E25)) -> 0.3125 | H25: =IF(G25-A25>0,G25-A25,"") -> 5.5511151e-17 | I25: =IF(A25-G25>0,A25-G25,"") | M25: =H25 -> 5.5511151e-17
A26: 0.3125 | B26: =WORKDAY.INTL(B25,1,11) -> 45197 | C26: 0.33333333 | D26: 0.5 | E26: 0.5625 | F26: 0.70833333 | G26: =IF(D26-C26+(F26-E26)=0,"",D26-C26+(F26-E26)) -> 0.3125 | H26: =IF(G26-A26>0,G26-A26,"") -> 5.5511151e-17 | I26: =IF(A26-G26>0,A26-G26,"") | M26: =H26 -> 5.5511151e-17
A27: 0.3125 | B27: =WORKDAY.INTL(B26,1,11) -> 45198 | C27: 0.33333333 | D27: 0.5 | E27: 0.5625 | F27: 0.70833333 | G27: =IF(D27-C27+(F27-E27)=0,"",D27-C27+(F27-E27)) -> 0.3125 | H27: =IF(G27-A27>0,G27-A27,"") -> 5.5511151e-17 | I27: =IF(A27-G27>0,A27-G27,"") | M27: =H27 -> 5.5511151e-17
B28: =WORKDAY.INTL(B27,1,11) -> 45199
B30: Total mensuel | G30: =SUM(G3:G28)+H30-I30 -> 6.5625 | H30: =SUM(H3:H28) -> 1.1657342e-15 | I30: =SUM(I3:I28) -> 0 | K30: =SUM(K3:K28) -> 0 | L30: =SUM(L3:L28) -> 0 | M30: =SUM(M3:M28) -> 9.9920072e-16
K31: ='08_23'!K32-'09_23'!K30 -> 30 | L31: ='08_23'!L32-'09_23'!L30 -> 16

Sheet 10_23
B1: =EDATE(_DébutPeriode,5) -> 45200
C2: Matin | E2: Après-midi | G2: Total heures travaillées | H2: Solde positif | I2: solde négatif | J2: Motif | K2: CP | L2: RTT | M2: Récup
A3: 0.3125 | B3: =WORKDAY.INTL(B1-1,1,11) -> 45201 | C3: 0.33333333 | D3: 0.5 | E3: 0.5625 | F3: 0.70833333 | G3: =IF(D3-C3+(F3-E3)=0,"",D3-C3+(F3-E3)) -> 0.3125 | H3: =IF(G3-A3>0,G3-A3,"") -> 5.5511151e-17 | I3: =IF(A3-G3>0,A3-G3,"") | M3: =H3 -> 5.5511151e-17
A4: 0.3125 | B4: =WORKDAY.INTL(B3,1,11) -> 45202 | C4: 0.33333333 | D4: 0.5 | E4: 0.5625 | F4: 0.70833333 | G4: =IF(D4-C4+(F4-E4)=0,"",D4-C4+(F4-E4)) -> 0.3125 | H4: =IF(G4-A4>0,G4-A4,"") -> 5.5511151e-17 | I4: =IF(A4-G4>0,A4-G4,"") | M4: =H4 -> 5.5511151e-17
A5: 0.3125 | B5: =WORKDAY.INTL(B4,1,11) -> 45203 | C5: 0.33333333 | D5: 0.5 | E5: 0.5625 | F5: 0.70833333 | G5: =IF(D5-C5+(F5-E5)=0,"",D5-C5+(F5-E5)) -> 0.3125 | H5: =IF(G5-A5>0,G5-A5,"") -> 5.5511151e-17 | I5: =IF(A5-G5>0,A5-G5,"") | M5: =H5 -> 5.5511151e-17
A6: 0.3125 | B6: =WORKDAY.INTL(B5,1,11) -> 45204 | C6: 0.33333333 | D6: 0.5 | E6: 0.5625 | F6: 0.70833333 | G6: =IF(D6-C6+(F6-E6)=0,"",D6-C6+(F6-E6)) -> 0.3125 | H6: =IF(G6-A6>0,G6-A6,"") -> 5.5511151e-17 | I6: =IF(A6-G6>0,A6-G6,"") | M6: =H6 -> 5.5511151e-17
A7: 0.3125 | B7: =WORKDAY.INTL(B6,1,11) -> 45205 | C7: 0.33333333 | D7: 0.5 | E7: 0.5625 | F7: 0.70833333 | G7: =IF(D7-C7+(F7-E7)=0,"",D7-C7+(F7-E7)) -> 0.3125 | H7: =IF(G7-A7>0,G7-A7,"") -> 5.5511151e-17 | I7: =IF(A7-G7>0,A7-G7,"") | M7: =H7 -> 5.5511151e-17
B8: =WORKDAY.INTL(B7,1,11) -> 45206
A9: 0.3125 | B9: =WORKDAY.INTL(B8,1,11) -> 45208 | C9: 0.33333333 | D9: 0.5 | E9: 0.5625 | F9: 0.70833333 | G9: =IF(D9-C9+(F9-E9)=0,"",D9-C9+(F9-E9)) -> 0.3125 | H9: =IF(G9-A9>0,G9-A9,"") -> 5.5511151e-17 | I9: =IF(A9-G9>0,A9-G9,"") | M9: =H9 -> 5.5511151e-17
A10: 0.3125 | B10: =WORKDAY.INTL(B9,1,11) -> 45209 | C10: 0.33333333 | D10: 0.5 | E10: 0.5625 | F10: 0.70833333 | G10: =IF(D10-C10+(F10-E10)=0,"",D10-C10+(F10-E10)) -> 0.3125 | H10: =IF(G10-A10>0,G10-A10,"") -> 5.5511151e-17 | I10: =IF(A10-G10>0,A10-G10,"") | M10: =H10 -> 5.5511151e-17
A11: 0.3125 | B11: =WORKDAY.INTL(B10,1,11) -> 45210 | C11: 0.33333333 | D11: 0.5 | E11: 0.5625 | F11: 0.70833333 | G11: =IF(D11-C11+(F11-E11)=0,"",D11-C11+(F11-E11)) -> 0.3125 | H11: =IF(G11-A11>0,G11-A11,"") -> 5.5511151e-17 | I11: =IF(A11-G11>0,A11-G11,"") | M11: =H11 -> 5.5511151e-17
A12: 0.3125 | B12: =WORKDAY.INTL(B11,1,11) -> 45211 | C12: 0.33333333 | D12: 0.5 | E12: 0.5625 | F12: 0.70833333 | G12: =IF(D12-C12+(F12-E12)=0,"",D12-C12+(F12-E12)) -> 0.3125 | H12: =IF(G12-A12>0,G12-A12,"") -> 5.5511151e-17 | I12: =IF(A12-G12>0,A12-G12,"") | M12: =H12 -> 5.5511151e-17
A13: 0.3125 | B13: =WORKDAY.INTL(B12,1,11) -> 45212 | C13: 0.33333333 | D13: 0.5 | E13: 0.5625 | F13: 0.70833333 | G13: =IF(D13-C13+(F13-E13)=0,"",D13-C13+(F13-E13)) -> 0.3125 | H13: =IF(G13-A13>0,G13-A13,"") -> 5.5511151e-17 | I13: =IF(A13-G13>0,A13-G13,"") | M13: =H13 -> 5.5511151e-17
B14: =WORKDAY.INTL(B13,1,11) -> 45213
A15: 0.3125 | B15: =WORKDAY.INTL(B14,1,11) -> 45215 | C15: 0.33333333 | D15: 0.5 | E15: 0.5625 | F15: 0.70833333 | G15: =IF(D15-C15+(F15-E15)=0,"",D15-C15+(F15-E15)) -> 0.3125 | H15: =IF(G15-A15>0,G15-A15,"") -> 5.5511151e-17 | I15: =IF(A15-G15>0,A15-G15,"") | M15: =H15 -> 5.5511151e-17
A16: 0.3125 | B16: =WORKDAY.INTL(B15,1,11) -> 45216 | C16: 0.33333333 | D16: 0.5 | E16: 0.5625 | F16: 0.70833333 | G16: =IF(D16-C16+(F16-E16)=0,"",D16-C16+(F16-E16)) -> 0.3125 | H16: =IF(G16-A16>0,G16-A16,"") -> 5.5511151e-17 | I16: =IF(A16-G16>0,A16-G16,"") | M16: =H16 -> 5.5511151e-17
A17: 0.3125 | B17: =WORKDAY.INTL(B16,1,11) -> 45217 | C17: 0.33333333 | D17: 0.5 | E17: 0.5625 | F17: 0.70833333 | G17: =IF(D17-C17+(F17-E17)=0,"",D17-C17+(F17-E17)) -> 0.3125 | H17: =IF(G17-A17>0,G17-A17,"") -> 5.5511151e-17 | I17: =IF(A17-G17>0,A17-G17,"") | M17: =H17 -> 5.5511151e-17
A18: 0.3125 | B18: =WORKDAY.INTL(B17,1,11) -> 45218 | C18: 0.33333333 | D18: 0.5 | E18: 0.5625 | F18: 0.70833333 | G18: =IF(D18-C18+(F18-E18)=0,"",D18-C18+(F18-E18)) -> 0.3125 | H18: =IF(G18-A18>0,G18-A18,"") -> 5.5511151e-17 | I18: =IF(A18-G18>0,A18-G18,"") | M18: =H18 -> 5.5511151e-17
A19: 0.3125 | B19: =WORKDAY.INTL(B18,1,11) -> 45219 | C19: 0.33333333 | D19: 0.5 | E19: 0.5625 | F19: 0.70833333 | G19: =IF(D19-C19+(F19-E19)=0,"",D19-C19+(F19-E19)) -> 0.3125 | H19: =IF(G19-A19>0,G19-A19,"") -> 5.5511151e-17 | I19: =IF(A19-G19>0,A19-G19,"") | M19: =H19 -> 5.5511151e-17
B20: =WORKDAY.INTL(B19,1,11) -> 45220
A21: 0.3125 | B21: =WORKDAY.INTL(B20,1,11) -> 45222 | C21: 0.33333333 | D21: 0.5 | E21: 0.5625 | F21: 0.70833333 | G21: =IF(D21-C21+(F21-E21)=0,"",D21-C21+(F21-E21)) -> 0.3125 | H21: =IF(G21-A21>0,G21-A21,"") -> 5.5511151e-17 | I21: =IF(A21-G21>0,A21-G21,"") | M21: =H21 -> 5.5511151e-17
A22: 0.3125 | B22: =WORKDAY.INTL(B21,1,11) -> 45223 | C22: 0.33333333 | D22: 0.5 | E22: 0.5625 | F22: 0.70833333 | G22: =IF(D22-C22+(F22-E22)=0,"",D22-C22+(F22-E22)) -> 0.3125 | H22: =IF(G22-A22>0,G22-A22,"") -> 5.5511151e-17 | I22: =IF(A22-G22>0,A22-G22,"") | M22: =H22 -> 5.5511151e-17
A23: 0.3125 | B23: =WORKDAY.INTL(B22,1,11) -> 45224 | C23: 0.33333333 | D23: 0.5 | E23: 0.5625 | F23: 0.70833333 | G23: =IF(D23-C23+(F23-E23)=0,"",D23-C23+(F23-E23)) -> 0.3125 | H23: =IF(G23-A23>0,G23-A23,"") -> 5.5511151e-17 | I23: =IF(A23-G23>0,A23-G23,"") | M23: =H23 -> 5.5511151e-17
A24: 0.3125 | B24: =WORKDAY.INTL(B23,1,11) -> 45225 | C24: 0.33333333 | D24: 0.5 | E24: 0.5625 | F24: 0.70833333 | G24: =IF(D24-C24+(F24-E24)=0,"",D24-C24+(F24-E24)) -> 0.3125 | H24: =IF(G24-A24>0,G24-A24,"") -> 5.5511151e-17 | I24: =IF(A24-G24>0,A24-G24,"") | M24: =H24 -> 5.5511151e-17
A25: 0.3125 | B25: =WORKDAY.INTL(B24,1,11) -> 45226 | C25: 0.33333333 | D25: 0.5 | E25: 0.5625 | F25: 0.70833333 | G25: =IF(D25-C25+(F25-E25)=0,"",D25-C25+(F25-E25)) -> 0.3125 | H25: =IF(G25-A25>0,G25-A25,"") -> 5.5511151e-17 | I25: =IF(A25-G25>0,A25-G25,"") | M25: =H25 -> 5.5511151e-17
B26: =WORKDAY.INTL(B25,1,11) -> 45227
A27: 0.3125 | B27: =WORKDAY.INTL(B26,1,11) -> 45229 | C27: 0.33333333 | D27: 0.5 | E27: 0.5625 | F27: 0.70833333 | G27: =IF(D27-C27+(F27-E27)=0,"",D27-C27+(F27-E27)) -> 0.3125 | H27: =IF(G27-A27>0,G27-A27,"") -> 5.5511151e-17 | I27: =IF(A27-G27>0,A27-G27,"") | M27: =H27 -> 5.5511151e-17
A28: 0.3125 | B28: =WORKDAY.INTL(B27,1,11) -> 45230 | C28: 0.33333333 | D28: 0.5 | E28: 0.5625 | F28: 0.70833333 | G28: =IF(D28-C28+(F28-E28)=0,"",D28-C28+(F28-E28)) -> 0.3125 | H28: =IF(G28-A28>0,G28-A28,"") -> 5.5511151e-17 | I28: =IF(A28-G28>0,A28-G28,"") | M28: =H28 -> 5.5511151e-17
B30: Total mensuel | G30: =SUM(G3:G28)+H30-I30 -> 6.875 | H30: =SUM(H3:H28) -> 1.2212453e-15 | I30: =SUM(I3:I28) -> 0 | K30: =SUM(K3:K28) -> 0 | L30: =SUM(L3:L28) -> 0 | M30: =SUM(M3:M28) -> 1.2212453e-15
K31: ='09_23'!K31-'10_23'!K30 -> 30 | L31: ='09_23'!L31-'10_23'!L30 -> 16

Sheet 11_23
B1: =EDATE(_DébutPeriode,6) -> 45231
C2: Matin | E2: Après-midi | G2: Total heures travaillées | H2: Solde positif | I2: solde négatif | J2: Motif | K2: CP | L2: RTT | M2: Récup
A3: 0.3125 | B3: =WORKDAY.INTL(B1-1,1,11) -> 45231 | C3: FERIE - LA TOUSSAINT | G3: 0.3125 | H3: =IF(G3-A3>0,G3-A3,"") | I3: =IF(A3-G3>0,A3-G3,"") | M3: =H3
A4: 0.3125 | B4: =WORKDAY.INTL(B3,1,11) -> 45232 | C4: 0.33333333 | D4: 0.5 | E4: 0.5625 | F4: 0.70833333 | G4: =IF(D4-C4+(F4-E4)=0,"",D4-C4+(F4-E4)) -> 0.3125 | H4: =IF(G4-A4>0,G4-A4,"") -> 5.5511151e-17 | I4: =IF(A4-G4>0,A4-G4,"") | M4: =H4 -> 5.5511151e-17
A5: 0.3125 | B5: =WORKDAY.INTL(B4,1,11) -> 45233 | C5: 0.33333333 | D5: 0.5 | E5: 0.5625 | F5: 0.70833333 | G5: =IF(D5-C5+(F5-E5)=0,"",D5-C5+(F5-E5)) -> 0.3125 | H5: =IF(G5-A5>0,G5-A5,"") -> 5.5511151e-17 | I5: =IF(A5-G5>0,A5-G5,"") | M5: =H5 -> 5.5511151e-17
B6: =WORKDAY.INTL(B5,1,11) -> 45234
A7: 0.3125 | B7: =WORKDAY.INTL(B6,1,11) -> 45236 | C7: 0.33333333 | D7: 0.5 | E7: 0.5625 | F7: 0.70833333 | G7: =IF(D7-C7+(F7-E7)=0,"",D7-C7+(F7-E7)) -> 0.3125 | H7: =IF(G7-A7>0,G7-A7,"") -> 5.5511151e-17 | I7: =IF(A7-G7>0,A7-G7,"") | M7: =H7 -> 5.5511151e-17
A8: 0.3125 | B8: =WORKDAY.INTL(B7,1,11) -> 45237 | C8: 0.33333333 | D8: 0.5 | E8: 0.5625 | F8: 0.70833333 | G8: =IF(D8-C8+(F8-E8)=0,"",D8-C8+(F8-E8)) -> 0.3125 | H8: =IF(G8-A8>0,G8-A8,"") -> 5.5511151e-17 | I8: =IF(A8-G8>0,A8-G8,"") | M8: =H8 -> 5.5511151e-17
A9: 0.3125 | B9: =WORKDAY.INTL(B8,1,11) -> 45238 | C9: 0.33333333 | D9: 0.5 | E9: 0.5625 | F9: 0.70833333 | G9: =IF(D9-C9+(F9-E9)=0,"",D9-C9+(F9-E9)) -> 0.3125 | H9: =IF(G9-A9>0,G9-A9,"") -> 5.5511151e-17 | I9: =IF(A9-G9>0,A9-G9,"") | M9: =H9 -> 5.5511151e-17
A10: 0.3125 | B10: =WORKDAY.INTL(B9,1,11) -> 45239 | C10: 0.33333333 | D10: 0.5 | E10: 0.5625 | F10: 0.70833333 | G10: =IF(D10-C10+(F10-E10)=0,"",D10-C10+(F10-E10)) -> 0.3125 | H10: =IF(G10-A10>0,G10-A10,"") -> 5.5511151e-17 | I10: =IF(A10-G10>0,A10-G10,"") | M10: =H10 -> 5.5511151e-17
A11: 0.3125 | B11: =WORKDAY.INTL(B10,1,11) -> 45240 | C11: 0.33333333 | D11: 0.5 | E11: 0.5625 | F11: 0.70833333 | G11: =IF(D11-C11+(F11-E11)=0,"",D11-C11+(F11-E11)) -> 0.3125 | H11: =IF(G11-A11>0,G11-A11,"") -> 5.5511151e-17 | I11: =IF(A11-G11>0,A11-G11,"") | M11: =H11 -> 5.5511151e-17
A12: 0.3125 | B12: =WORKDAY.INTL(B11,1,11) -> 45241 | C12: FERIE- ARMISTICE 1918 | G12: 0.3125 | H12: =IF(G12-A12>0,G12-A12,"") | I12: =IF(A12-G12>0,A12-G12,"") | M12: =H12
A13: 0.3125 | B13: =WORKDAY.INTL(B12,1,11) -> 45243 | C13: 0.33333333 | D13: 0.5 | E13: 0.5625 | F13: 0.70833333 | G13: =IF(D13-C13+(F13-E13)=0,"",D13-C13+(F13-E13)) -> 0.3125 | H13: =IF(G13-A13>0,G13-A13,"") -> 5.5511151e-17 | I13: =IF(A13-G13>0,A13-G13,"") | M13: =H13 -> 5.5511151e-17
A14: 0.3125 | B14: =WORKDAY.INTL(B13,1,11) -> 45244 | C14: 0.33333333 | D14: 0.5 | E14: 0.5625 | F14: 0.70833333 | G14: =IF(D14-C14+(F14-E14)=0,"",D14-C14+(F14-E14)) -> 0.3125 | H14: =IF(G14-A14>0,G14-A14,"") -> 5.5511151e-17 | I14: =IF(A14-G14>0,A14-G14,"") | M14: =H14 -> 5.5511151e-17
A15: 0.3125 | B15: =WORKDAY.INTL(B14,1,11) -> 45245 | C15: 0.33333333 | D15: 0.5 | E15: 0.5625 | F15: 0.70833333 | G15: =IF(D15-C15+(F15-E15)=0,"",D15-C15+(F15-E15)) -> 0.3125 | H15: =IF(G15-A15>0,G15-A15,"") -> 5.5511151e-17 | I15: =IF(A15-G15>0,A15-G15,"") | M15: =H15 -> 5.5511151e-17
A16: 0.3125 | B16: =WORKDAY.INTL(B15,1,11) -> 45246 | C16: 0.33333333 | D16: 0.5 | E16: 0.5625 | F16: 0.70833333 | G16: =IF(D16-C16+(F16-E16)=0,"",D16-C16+(F16-E16)) -> 0.3125 | H16: =IF(G16-A16>0,G16-A16,"") -> 5.5511151e-17 | I16: =IF(A16-G16>0,A16-G16,"") | M16: =H16 -> 5.5511151e-17
A17: 0.3125 | B17: =WORKDAY.INTL(B16,1,11) -> 45247 | C17: 0.33333333 | D17: 0.5 | E17: 0.5625 | F17: 0.70833333 | G17: =IF(D17-C17+(F17-E17)=0,"",D17-C17+(F17-E17)) -> 0.3125 | H17: =IF(G17-A17>0,G17-A17,"") -> 5.5511151e-17 | I17: =IF(A17-G17>0,A17-G17,"") | M17: =H17 -> 5.5511151e-17
B18: =WORKDAY.INTL(B17,1,11) -> 45248
A19: 0.3125 | B19: =WORKDAY.INTL(B18,1,11) -> 45250 | C19: 0.33333333 | D19: 0.5 | E19: 0.5625 | F19: 0.70833333 | G19: =IF(D19-C19+(F19-E19)=0,"",D19-C19+(F19-E19)) -> 0.3125 | H19: =IF(G19-A19>0,G19-A19,"") -> 5.5511151e-17 | I19: =IF(A19-G19>0,A19-G19,"") | M19: =H19 -> 5.5511151e-17
A20: 0.3125 | B20: =WORKDAY.INTL(B19,1,11) -> 45251 | C20: 0.33333333 | D20: 0.5 | E20: 0.5625 | F20: 0.70833333 | G20: =IF(D20-C20+(F20-E20)=0,"",D20-C20+(F20-E20)) -> 0.3125 | H20: =IF(G20-A20>0,G20-A20,"") -> 5.5511151e-17 | I20: =IF(A20-G20>0,A20-G20,"") | M20: =H20 -> 5.5511151e-17
A21: 0.3125 | B21: =WORKDAY.INTL(B20,1,11) -> 45252 | C21: 0.33333333 | D21: 0.5 | E21: 0.5625 | F21: 0.70833333 | G21: =IF(D21-C21+(F21-E21)=0,"",D21-C21+(F21-E21)) -> 0.3125 | H21: =IF(G21-A21>0,G21-A21,"") -> 5.5511151e-17 | I21: =IF(A21-G21>0,A21-G21,"") | M21: =H21 -> 5.5511151e-17
A22: 0.3125 | B22: =WORKDAY.INTL(B21,1,11) -> 45253 | C22: 0.33333333 | D22: 0.5 | E22: 0.5625 | F22: 0.70833333 | G22: =IF(D22-C22+(F22-E22)=0,"",D22-C22+(F22-E22)) -> 0.3125 | H22: =IF(G22-A22>0,G22-A22,"") -> 5.5511151e-17 | I22: =IF(A22-G22>0,A22-G22,"") | M22: =H22 -> 5.5511151e-17
A23: 0.3125 | B23: =WORKDAY.INTL(B22,1,11) -> 45254 | C23: 0.33333333 | D23: 0.5 | E23: 0.5625 | F23: 0.70833333 | G23: =IF(D23-C23+(F23-E23)=0,"",D23-C23+(F23-E23)) -> 0.3125 | H23: =IF(G23-A23>0,G23-A23,"") -> 5.5511151e-17 | I23: =IF(A23-G23>0,A23-G23,"") | M23: =H23 -> 5.5511151e-17
B24: =WORKDAY.INTL(B23,1,11) -> 45255
A25: 0.3125 | B25: =WORKDAY.INTL(B24,1,11) -> 45257 | C25: 0.33333333 | D25: 0.5 | E25: 0.5625 | F25: 0.70833333 | G25: =IF(D25-C25+(F25-E25)=0,"",D25-C25+(F25-E25)) -> 0.3125 | H25: =IF(G25-A25>0,G25-A25,"") -> 5.5511151e-17 | I25: =IF(A25-G25>0,A25-G25,"") | M25: =H25 -> 5.5511151e-17
A26: 0.3125 | B26: =WORKDAY.INTL(B25,1,11) -> 45258 | C26: 0.33333333 | D26: 0.5 | E26: 0.5625 | F26: 0.70833333 | G26: =IF(D26-C26+(F26-E26)=0,"",D26-C26+(F26-E26)) -> 0.3125 | H26: =IF(G26-A26>0,G26-A26,"") -> 5.5511151e-17 | I26: =IF(A26-G26>0,A26-G26,"") | M26: =H26 -> 5.5511151e-17
A27: 0.3125 | B27: =WORKDAY.INTL(B26,1,11) -> 45259 | C27: 0.33333333 | D27: 0.5 | E27: 0.5625 | F27: 0.70833333 | G27: =IF(D27-C27+(F27-E27)=0,"",D27-C27+(F27-E27)) -> 0.3125 | H27: =IF(G27-A27>0,G27-A27,"") -> 5.5511151e-17 | I27: =IF(A27-G27>0,A27-G27,"") | M27: =H27 -> 5.5511151e-17
A28: 0.3125 | B28: =WORKDAY.INTL(B27,1,11) -> 45260 | C28: 0.33333333 | D28: 0.5 | E28: 0.5625 | F28: 0.70833333 | G28: =IF(D28-C28+(F28-E28)=0,"",D28-C28+(F28-E28)) -> 0.3125 | H28: =IF(G28-A28>0,G28-A28,"") -> 5.5511151e-17 | I28: =IF(A28-G28>0,A28-G28,"") | M28: =H28 -> 5.5511151e-17
B30: Total mensuel | G30: =SUM(G3:G28)+H30-I30 -> 7.1875 | H30: =SUM(H3:H28) -> 1.1657342e-15 | I30: =SUM(I3:I28) -> 0 | K30: =SUM(K3:K28) -> 0 | L30: =SUM(L3:L28) -> 0 | M30: =SUM(M3:M28) -> 1.1657342e-15
K31: ='10_23'!K31-'11_23'!K30 -> 30 | L31: ='10_23'!L31-'11_23'!L30 -> 16

Sheet 12_23
B1: =EDATE(_DébutPeriode,7) -> 45261
C2: Matin | E2: Après-midi | G2: Total heures travaillées | H2: Solde positif | I2: solde négatif | J2: Motif | K2: CP | L2: RTT | M2: Récup
A3: 0.3125 | B3: =WORKDAY.INTL(B1-1,1,11) -> 45261 | C3: 0.33333333 | D3: 0.5 | E3: 0.5625 | F3: 0.70833333 | G3: =IF(D3-C3+(F3-E3)=0,"",D3-C3+(F3-E3)) -> 0.3125 | H3: =IF(G3-A3>0,G3-A3,"") -> 5.5511151e-17 | I3: =IF(A3-G3>0,A3-G3,"") | M3: =H3 -> 5.5511151e-17
B4: =WORKDAY.INTL(B3,1,11) -> 45262
A5: 0.3125 | B5: =WORKDAY.INTL(B4,1,11) -> 45264 | C5: 0.33333333 | D5: 0.5 | E5: 0.5625 | F5: 0.70833333 | G5: =IF(D5-C5+(F5-E5)=0,"",D5-C5+(F5-E5)) -> 0.3125 | H5: =IF(G5-A5>0,G5-A5,"") -> 5.5511151e-17 | I5: =IF(A5-G5>0,A5-G5,"") | M5: =H5 -> 5.5511151e-17
A6: 0.3125 | B6: =WORKDAY.INTL(B5,1,11) -> 45265 | C6: 0.33333333 | D6: 0.5 | E6: 0.5625 | F6: 0.70833333 | G6: =IF(D6-C6+(F6-E6)=0,"",D6-C6+(F6-E6)) -> 0.3125 | H6: =IF(G6-A6>0,G6-A6,"") -> 5.5511151e-17 | I6: =IF(A6-G6>0,A6-G6,"") | M6: =H6 -> 5.5511151e-17
A7: 0.3125 | B7: =WORKDAY.INTL(B6,1,11) -> 45266 | C7: 0.33333333 | D7: 0.5 | E7: 0.5625 | F7: 0.70833333 | G7: =IF(D7-C7+(F7-E7)=0,"",D7-C7+(F7-E7)) -> 0.3125 | H7: =IF(G7-A7>0,G7-A7,"") -> 5.5511151e-17 | I7: =IF(A7-G7>0,A7-G7,"")
A8: 0.3125 | B8: =WORKDAY.INTL(B7,1,11) -> 45267 | C8: 0.33333333 | D8: 0.5 | E8: 0.5625 | F8: 0.70833333 | G8: =IF(D8-C8+(F8-E8)=0,"",D8-C8+(F8-E8)) -> 0.3125 | H8: =IF(G8-A8>0,G8-A8,"") -> 5.5511151e-17 | I8: =IF(A8-G8>0,A8-G8,"") | M8: =H8 -> 5.5511151e-17
A9: 0.3125 | B9: =WORKDAY.INTL(B8,1,11) -> 45268 | C9: 0.33333333 | D9: 0.5 | E9: 0.5625 | F9: 0.70833333 | G9: =IF(D9-C9+(F9-E9)=0,"",D9-C9+(F9-E9)) -> 0.3125 | H9: =IF(G9-A9>0,G9-A9,"") -> 5.5511151e-17 | I9: =IF(A9-G9>0,A9-G9,"") | M9: =H9 -> 5.5511151e-17
B10: =WORKDAY.INTL(B9,1,11) -> 45269
A11: 0.3125 | B11: =WORKDAY.INTL(B10,1,11) -> 45271 | C11: 0.33333333 | D11: 0.5 | E11: 0.5625 | F11: 0.70833333 | G11: =IF(D11-C11+(F11-E11)=0,"",D11-C11+(F11-E11)) -> 0.3125 | H11: =IF(G11-A11>0,G11-A11,"") -> 5.5511151e-17 | I11: =IF(A11-G11>0,A11-G11,"") | M11: =H11 -> 5.5511151e-17
A12: 0.3125 | B12: =WORKDAY.INTL(B11,1,11) -> 45272 | C12: 0.33333333 | D12: 0.5 | E12: 0.5625 | F12: 0.70833333 | G12: =IF(D12-C12+(F12-E12)=0,"",D12-C12+(F12-E12)) -> 0.3125 | H12: =IF(G12-A12>0,G12-A12,"") -> 5.5511151e-17 | I12: =IF(A12-G12>0,A12-G12,"") | M12: =H12 -> 5.5511151e-17
A13: 0.3125 | B13: =WORKDAY.INTL(B12,1,11) -> 45273 | C13: 0.33333333 | D13: 0.5 | E13: 0.5625 | F13: 0.70833333 | G13: =IF(D13-C13+(F13-E13)=0,"",D13-C13+(F13-E13)) -> 0.3125 | H13: =IF(G13-A13>0,G13-A13,"") -> 5.5511151e-17 | I13: =IF(A13-G13>0,A13-G13,"")
A14: 0.3125 | B14: =WORKDAY.INTL(B13,1,11) -> 45274 | C14: 0.33333333 | D14: 0.5 | E14: 0.5625 | F14: 0.70833333 | G14: =IF(D14-C14+(F14-E14)=0,"",D14-C14+(F14-E14)) -> 0.3125 | H14: =IF(G14-A14>0,G14-A14,"") -> 5.5511151e-17 | I14: =IF(A14-G14>0,A14-G14,"") | M14: =H14 -> 5.5511151e-17
A15: 0.3125 | B15: =WORKDAY.INTL(B14,1,11) -> 45275 | C15: 0.33333333 | D15: 0.5 | E15: 0.5625 | F15: 0.70833333 | G15: =IF(D15-C15+(F15-E15)=0,"",D15-C15+(F15-E15)) -> 0.3125 | H15: =IF(G15-A15>0,G15-A15,"") -> 5.5511151e-17 | I15: =IF(A15-G15>0,A15-G15,"") | M15: =H15 -> 5.5511151e-17
B16: =WORKDAY.INTL(B15,1,11) -> 45276
A17: 0.3125 | B17: =WORKDAY.INTL(B16,1,11) -> 45278 | C17: 0.33333333 | D17: 0.5 | E17: 0.5625 | F17: 0.70833333 | G17: =IF(D17-C17+(F17-E17)=0,"",D17-C17+(F17-E17)) -> 0.3125 | H17: =IF(G17-A17>0,G17-A17,"") -> 5.5511151e-17 | I17: =IF(A17-G17>0,A17-G17,"") | M17: =H17 -> 5.5511151e-17
A18: 0.3125 | B18: =WORKDAY.INTL(B17,1,11) -> 45279 | C18: 0.33333333 | D18: 0.5 | E18: 0.5625 | F18: 0.70833333 | G18: =IF(D18-C18+(F18-E18)=0,"",D18-C18+(F18-E18)) -> 0.3125 | H18: =IF(G18-A18>0,G18-A18,"") -> 5.5511151e-17 | I18: =IF(A18-G18>0,A18-G18,"") | M18: =H18 -> 5.5511151e-17
A19: 0.3125 | B19: =WORKDAY.INTL(B18,1,11) -> 45280 | C19: 0.33333333 | D19: 0.5 | E19: 0.5625 | F19: 0.70833333 | G19: =IF(D19-C19+(F19-E19)=0,"",D19-C19+(F19-E19)) -> 0.3125 | H19: =IF(G19-A19>0,G19-A19,"") -> 5.5511151e-17 | I19: =IF(A19-G19>0,A19-G19,"") | M19: =H19 -> 5.5511151e-17
A20: 0.3125 | B20: =WORKDAY.INTL(B19,1,11) -> 45281 | C20: 0.33333333 | D20: 0.5 | E20: 0.5625 | F20: 0.70833333 | G20: =IF(D20-C20+(F20-E20)=0,"",D20-C20+(F20-E20)) -> 0.3125 | H20: =IF(G20-A20>0,G20-A20,"") -> 5.5511151e-17 | I20: =IF(A20-G20>0,A20-G20,"") | M20: =H20 -> 5.5511151e-17
A21: 0.3125 | B21: =WORKDAY.INTL(B20,1,11) -> 45282 | C21: 0.33333333 | D21: 0.5 | E21: 0.5625 | F21: 0.70833333 | G21: =IF(D21-C21+(F21-E21)=0,"",D21-C21+(F21-E21)) -> 0.3125 | H21: =IF(G21-A21>0,G21-A21,"") -> 5.5511151e-17 | I21: =IF(A21-G21>0,A21-G21,"") | M21: =H21 -> 5.5511151e-17
B22: =WORKDAY.INTL(B21,1,11) -> 45283
A23: 0.3125 | B23: =WORKDAY.INTL(B22,1,11) -> 45285 | C23: FERIE - NOEL | G23: 0.3125 | H23: =IF(G23-A23>0,G23-A23,"") | I23: =IF(A23-G23>0,A23-G23,"") | M23: =H23
A24: 0.3125 | B24: =WORKDAY.INTL(B23,1,11) -> 45286 | C24: 0.33333333 | D24: 0.5 | E24: 0.5625 | F24: 0.70833333 | G24: =IF(D24-C24+(F24-E24)=0,"",D24-C24+(F24-E24)) -> 0.3125 | H24: =IF(G24-A24>0,G24-A24,"") -> 5.5511151e-17 | I24: =IF(A24-G24>0,A24-G24,"") | M24: =H24 -> 5.5511151e-17
A25: 0.3125 | B25: =WORKDAY.INTL(B24,1,11) -> 45287 | C25: 0.33333333 | D25: 0.5 | E25: 0.5625 | F25: 0.70833333 | G25: =IF(D25-C25+(F25-E25)=0,"",D25-C25+(F25-E25)) -> 0.3125 | H25: =IF(G25-A25>0,G25-A25,"") -> 5.5511151e-17 | I25: =IF(A25-G25>0,A25-G25,"") | M25: =H25 -> 5.5511151e-17
A26: 0.3125 | B26: =WORKDAY.INTL(B25,1,11) -> 45288 | C26: 0.33333333 | D26: 0.5 | E26: 0.5625 | F26: 0.70833333 | G26: =IF(D26-C26+(F26-E26)=0,"",D26-C26+(F26-E26)) -> 0.3125 | H26: =IF(G26-A26>0,G26-A26,"") -> 5.5511151e-17 | I26: =IF(A26-G26>0,A26-G26,"") | M26: =H26 -> 5.5511151e-17
A27: 0.3125 | B27: =WORKDAY.INTL(B26,1,11) -> 45289 | C27: 0.33333333 | D27: 0.5 | E27: 0.5625 | F27: 0.70833333 | G27: =IF(D27-C27+(F27-E27)=0,"",D27-C27+(F27-E27)) -> 0.3125 | H27: =IF(G27-A27>0,G27-A27,"") -> 5.5511151e-17 | I27: =IF(A27-G27>0,A27-G27,"") | M27: =H27 -> 5.5511151e-17
B28: =WORKDAY.INTL(B27,1,11) -> 45290
B30: Total mensuel | G30: =SUM(G3:G28)+H30-I30 -> 6.5625 | H30: =SUM(H3:H28) -> 1.110223e-15 | I30: =SUM(I3:I28) -> 0 | K30: =SUM(K3:K28) -> 0 | L30: =SUM(L3:L28) -> 0 | M30: =SUM(M3:M28) -> 9.9920072e-16
K31: ='11_23'!K31-'12_23'!K30 -> 30 | L31: ='11_23'!L31-'12_23'!L30 -> 16

Sheet 01_24
B1: =EDATE(_DébutPeriode,8) -> 45292
C2: Matin | E2: Après-midi | G2: Total heures travaillées | H2: Solde positif | I2: solde négatif | J2: Motif | K2: CP | L2: RTT | M2: Récup
A3: 0.3125 | B3: =WORKDAY.INTL(B1-1,1,11) -> 45292 | C3: FERIE - JOUR DE L'AN | G3: 0.3125 | H3: =IF(G3-A3>0,G3-A3,"") | I3: =IF(A3-G3>0,A3-G3,"") | M3: =H3
A4: 0.3125 | B4: =WORKDAY.INTL(B3,1,11) -> 45293 | C4: 0.33333333 | D4: 0.5 | E4: 0.5625 | F4: 0.70833333 | G4: =IF(D4-C4+(F4-E4)=0,"",D4-C4+(F4-E4)) -> 0.3125 | H4: =IF(G4-A4>0,G4-A4,"") -> 5.5511151e-17 | I4: =IF(A4-G4>0,A4-G4,"") | M4: =H4 -> 5.5511151e-17
A5: 0.3125 | B5: =WORKDAY.INTL(B4,1,11) -> 45294 | C5: 0.33333333 | D5: 0.5 | E5: 0.5625 | F5: 0.70833333 | G5: =IF(D5-C5+(F5-E5)=0,"",D5-C5+(F5-E5)) -> 0.3125 | H5: =IF(G5-A5>0,G5-A5,"") -> 5.5511151e-17 | I5: =IF(A5-G5>0,A5-G5,"")
A6: 0.3125 | B6: =WORKDAY.INTL(B5,1,11) -> 45295 | C6: 0.33333333 | D6: 0.5 | E6: 0.5625 | F6: 0.70833333 | G6: =IF(D6-C6+(F6-E6)=0,"",D6-C6+(F6-E6)) -> 0.3125 | H6: =IF(G6-A6>0,G6-A6,"") -> 5.5511151e-17 | I6: =IF(A6-G6>0,A6-G6,"") | M6: =H6 -> 5.5511151e-17
A7: 0.3125 | B7: =WORKDAY.INTL(B6,1,11) -> 45296 | C7: 0.33333333 | D7: 0.5 | E7: 0.5625 | F7: 0.70833333 | G7: =IF(D7-C7+(F7-E7)=0,"",D7-C7+(F7-E7)) -> 0.3125 | H7: =IF(G7-A7>0,G7-A7,"") -> 5.5511151e-17 | I7: =IF(A7-G7>0,A7-G7,"") | M7: =H7 -> 5.5511151e-17
B8: =WORKDAY.INTL(B7,1,11) -> 45297
A9: 0.3125 | B9: =WORKDAY.INTL(B8,1,11) -> 45299 | C9: 0.33333333 | D9: 0.5 | E9: 0.5625 | F9: 0.70833333 | G9: =IF(D9-C9+(F9-E9)=0,"",D9-C9+(F9-E9)) -> 0.3125 | H9: =IF(G9-A9>0,G9-A9,"") -> 5.5511151e-17 | I9: =IF(A9-G9>0,A9-G9,"") | M9: =H9 -> 5.5511151e-17
A10: 0.3125 | B10: =WORKDAY.INTL(B9,1,11) -> 45300 | C10: 0.33333333 | D10: 0.5 | E10: 0.5625 | F10: 0.70833333 | G10: =IF(D10-C10+(F10-E10)=0,"",D10-C10+(F10-E10)) -> 0.3125 | H10: =IF(G10-A10>0,G10-A10,"") -> 5.5511151e-17 | I10: =IF(A10-G10>0,A10-G10,"") | M10: =H10 -> 5.5511151e-17
A11: 0.3125 | B11: =WORKDAY.INTL(B10,1,11) -> 45301 | C11: 0.33333333 | D11: 0.5 | E11: 0.5625 | F11: 0.70833333 | G11: =IF(D11-C11+(F11-E11)=0,"",D11-C11+(F11-E11)) -> 0.3125 | H11: =IF(G11-A11>0,G11-A11,"") -> 5.5511151e-17 | I11: =IF(A11-G11>0,A11-G11,"")
A12: 0.3125 | B12: =WORKDAY.INTL(B11,1,11) -> 45302 | C12: 0.33333333 | D12: 0.5 | E12: 0.5625 | F12: 0.70833333 | G12: =IF(D12-C12+(F12-E12)=0,"",D12-C12+(F12-E12)) -> 0.3125 | H12: =IF(G12-A12>0,G12-A12,"") -> 5.5511151e-17 | I12: =IF(A12-G12>0,A12-G12,"") | M12: =H12 -> 5.5511151e-17
A13: 0.3125 | B13: =WORKDAY.INTL(B12,1,11) -> 45303 | C13: 0.33333333 | D13: 0.5 | E13: 0.5625 | F13: 0.70833333 | G13: =IF(D13-C13+(F13-E13)=0,"",D13-C13+(F13-E13)) -> 0.3125 | H13: =IF(G13-A13>0,G13-A13,"") -> 5.5511151e-17 | I13: =IF(A13-G13>0,A13-G13,"") | M13: =H13 -> 5.5511151e-17
B14: =WORKDAY.INTL(B13,1,11) -> 45304
A15: 0.3125 | B15: =WORKDAY.INTL(B14,1,11) -> 45306 | C15: 0.33333333 | D15: 0.5 | E15: 0.5625 | F15: 0.70833333 | G15: =IF(D15-C15+(F15-E15)=0,"",D15-C15+(F15-E15)) -> 0.3125 | H15: =IF(G15-A15>0,G15-A15,"") -> 5.5511151e-17 | I15: =IF(A15-G15>0,A15-G15,"") | M15: =H15 -> 5.5511151e-17
A16: 0.3125 | B16: =WORKDAY.INTL(B15,1,11) -> 45307 | C16: 0.33333333 | D16: 0.5 | E16: 0.5625 | F16: 0.70833333 | G16: =IF(D16-C16+(F16-E16)=0,"",D16-C16+(F16-E16)) -> 0.3125 | H16: =IF(G16-A16>0,G16-A16,"") -> 5.5511151e-17 | I16: =IF(A16-G16>0,A16-G16,"") | M16: =H16 -> 5.5511151e-17
A17: 0.3125 | B17: =WORKDAY.INTL(B16,1,11) -> 45308 | C17: 0.33333333 | D17: 0.5 | E17: 0.5625 | F17: 0.70833333 | G17: =IF(D17-C17+(F17-E17)=0,"",D17-C17+(F17-E17)) -> 0.3125 | H17: =IF(G17-A17>0,G17-A17,"") -> 5.5511151e-17 | I17: =IF(A17-G17>0,A17-G17,"")
A18: 0.3125 | B18: =WORKDAY.INTL(B17,1,11) -> 45309 | C18: 0.33333333 | D18: 0.5 | E18: 0.5625 | F18: 0.70833333 | G18: =IF(D18-C18+(F18-E18)=0,"",D18-C18+(F18-E18)) -> 0.3125 | H18: =IF(G18-A18>0,G18-A18,"") -> 5.5511151e-17 | I18: =IF(A18-G18>0,A18-G18,"") | M18: =H18 -> 5.5511151e-17
A19: 0.3125 | B19: =WORKDAY.INTL(B18,1,11) -> 45310 | C19: 0.33333333 | D19: 0.5 | E19: 0.5625 | F19: 0.70833333 | G19: =IF(D19-C19+(F19-E19)=0,"",D19-C19+(F19-E19)) -> 0.3125 | H19: =IF(G19-A19>0,G19-A19,"") -> 5.5511151e-17 | I19: =IF(A19-G19>0,A19-G19,"") | M19: =H19 -> 5.5511151e-17
B20: =WORKDAY.INTL(B19,1,11) -> 45311
A21: 0.3125 | B21: =WORKDAY.INTL(B20,1,11) -> 45313 | C21: 0.33333333 | D21: 0.5 | E21: 0.5625 | F21: 0.70833333 | G21: =IF(D21-C21+(F21-E21)=0,"",D21-C21+(F21-E21)) -> 0.3125 | H21: =IF(G21-A21>0,G21-A21,"") -> 5.5511151e-17 | I21: =IF(A21-G21>0,A21-G21,"") | M21: =H21 -> 5.5511151e-17
A22: 0.3125 | B22: =WORKDAY.INTL(B21,1,11) -> 45314 | C22: 0.33333333 | D22: 0.5 | E22: 0.5625 | F22: 0.70833333 | G22: =IF(D22-C22+(F22-E22)=0,"",D22-C22+(F22-E22)) -> 0.3125 | H22: =IF(G22-A22>0,G22-A22,"") -> 5.5511151e-17 | I22: =IF(A22-G22>0,A22-G22,"") | M22: =H22 -> 5.5511151e-17
A23: 0.3125 | B23: =WORKDAY.INTL(B22,1,11) -> 45315 | C23: 0.33333333 | D23: 0.5 | E23: 0.5625 | F23: 0.70833333 | G23: =IF(D23-C23+(F23-E23)=0,"",D23-C23+(F23-E23)) -> 0.3125 | H23: =IF(G23-A23>0,G23-A23,"") -> 5.5511151e-17 | I23: =IF(A23-G23>0,A23-G23,"")
A24: 0.3125 | B24: =WORKDAY.INTL(B23,1,11) -> 45316 | C24: 0.33333333 | D24: 0.5 | E24: 0.5625 | F24: 0.70833333 | G24: =IF(D24-C24+(F24-E24)=0,"",D24-C24+(F24-E24)) -> 0.3125 | H24: =IF(G24-A24>0,G24-A24,"") -> 5.5511151e-17 | I24: =IF(A24-G24>0,A24-G24,"") | M24: =H24 -> 5.5511151e-17
A25: 0.3125 | B25: =WORKDAY.INTL(B24,1,11) -> 45317 | C25: 0.33333333 | D25: 0.5 | E25: 0.5625 | F25: 0.70833333 | G25: =IF(D25-C25+(F25-E25)=0,"",D25-C25+(F25-E25)) -> 0.3125 | H25: =IF(G25-A25>0,G25-A25,"") -> 5.5511151e-17 | I25: =IF(A25-G25>0,A25-G25,"") | M25: =H25 -> 5.5511151e-17
B26: =WORKDAY.INTL(B25,1,11) -> 45318
A27: 0.3125 | B27: =WORKDAY.INTL(B26,1,11) -> 45320 | C27: 0.33333333 | D27: 0.5 | E27: 0.5625 | F27: 0.70833333 | G27: =IF(D27-C27+(F27-E27)=0,"",D27-C27+(F27-E27)) -> 0.3125 | H27: =IF(G27-A27>0,G27-A27,"") -> 5.5511151e-17 | I27: =IF(A27-G27>0,A27-G27,"") | M27: =H27 -> 5.5511151e-17
A28: 0.3125 | B28: =WORKDAY.INTL(B27,1,11) -> 45321 | C28: 0.33333333 | D28: 0.5 | E28: 0.5625 | F28: 0.70833333 | G28: =IF(D28-C28+(F28-E28)=0,"",D28-C28+(F28-E28)) -> 0.3125 | H28: =IF(G28-A28>0,G28-A28,"") -> 5.5511151e-17 | I28: =IF(A28-G28>0,A28-G28,"") | M28: =H28 -> 5.5511151e-17
