Workbook

Sheet LISTE DOSSIERS CLOS 2021
A1: DOSSIER | B1: AGENT | C1: NATURE | D1: ETAT | E1: DATE OUVERTURE | F1: DATE CLOTURE | G1: ACTEURS | H1: JOURS | I1: DELAIS | J1: CLIENT | K1: TIERS | L1: REMARQUES
G2: JANVIER 2021
A3: A | B3: FC | C3: I | D3: CLOS | E3: 2018 | F3: 2021 | H3: 420 | I3: NON | J3: EFGH | K3: OUI
A4: B | B4: FC | C4: I | D4: CLOS | E4: 2019 | F4: 2021 | H4: 881 | I4: NON | J4: ABCD | K4: NON
G5: FEVRIER 2021
A6: C | B6: CS | C6: I | D6: CLOS | E6: 2020 | F6: 2021 | H6: 111 | I6: OUI | J6: ABCD | K6: OUI
A7: D | B7: CS | C7: I | D7: CLOS | E7: 2018 | F7: 2021 | H7: 881 | I7: NON | J7: EFGH | K7: NON
G8: MARS 2021
A9: E | B9: CS | C9: I | D9: CLOS | E9: 2018 | F9: 2021 | H9: 931 | I9: NON | J9: ABCD | K9: NON
A10: F | B10: CS | C10: I | D10: CLOS | E10: 2020 | F10: 2021 | H10: 110 | I10: OUI | J10: EFGH | K10: OUI
A11: G | B11: CS | C11: I | D11: CLOS | E11: 2020 | F11: 2021 | H11: 66 | I11: OUI | J11: ABCD | K11: OUI
A12: H | B12: CS | C12: I | D12: CLOS | E12: 2020 | F12: 2021 | H12: 64 | I12: OUI | J12: EFGH | K12: OUI
G13: AVRIL 2021
A14: I | B14: CS | C14: I | D14: CLOS | E14: 2021 | F14: 2021 | H14: 40 | I14: OUI | J14: ABCD | K14: NON
A15: J | B15: CS | C15: I | D15: CLOS | E15: 2021 | F15: 2021 | H15: 72 | I15: OUI | J15: EFGH | K15: NON
A16: K | B16: CS | C16: S | D16: CLOS | E16: 2021 | F16: 2021 | H16: 75 | I16: OUI | J16: ABCD | K16: NON
A17: L | B17: CS | C17: I | D17: CLOS | E17: 2021 | F17: 2021 | H17: 53 | I17: OUI | J17: EFGH | K17: OUI
A18: M | B18: FC | C18: I | D18: CLOS | E18: 2021 | F18: 2021 | H18: 75 | I18: OUI | J18: ABCD | K18: NON
G19: MAI 2021
A20: N | B20: PAP | C20: I | D20: CLOS | E20: 2021 | F20: 2021 | H20: 80 | I20: NON | J20: ABCD | K20: NON
G21: JUIN 2021
A22: O | B22: PAP | C22: I | D22: CLOS | E22: 2021 | F22: 2021 | H22: 60 | I22: OUI | J22: ABCD | K22: OUI
G23: JUILLET 2021
A24: P | B24: FC | C24: I | D24: CLOS | E24: 2021 | F24: 2021 | H24: 60 | I24: OUI | J24: ABCD | K24: OUI
A25: Q | B25: PAP | C25: I | D25: CLOS | E25: 2021 | F25: 2021 | H25: 95 | I25: OUI | J25: EFGH | K25: OUI
A26: R | B26: CS | C26: I | D26: CLOS | E26: 2020 | F26: 2021 | H26: 161 | I26: NON | J26: ABCD | K26: OUI
G27: AOUT 2021
A28: S | B28: PAP | C28: I | D28: CLOS | E28: 2021 | F28: 2022 | H28: 65 | I28: OUI | J28: ABCD | K28: OUI
G29: SEPTEMBRE 2021
A30: T | B30: PAP | C30: I | D30: CLOS | E30: 2021 | F30: 2022 | H30: 55 | I30: OUI | J30: ABCD | K30: OUI
A31: U | B31: CS | C31: I | D31: CLOS | E31: 2021 | F31: 2022 | H31: 78 | I31: OUI | J31: EFGH | K31: OUI
A32: V | B32: PAP | C32: I | D32: CLOS | E32: 2021 | F32: 2022 | H32: 99 | I32: NON | J32: EFGH | K32: NON
G33: OCTOBRE 2021
A34: W | B34: CS | C34: I | D34: CLOS | E34: 2021 | F34: 2021 | H34: 128 | I34: NON | J34: ABCD | K34: OUI
A35: X | B35: CS | C35: I | D35: CLOS | E35: 2021 | F35: 2021 | H35: 98 | I35: NON | J35: EFGH | K35: NON
G36: NOVEMBRE 2021
A37: Y | B37: JL | C37: X | D37: CLOS | E37: 2021 | F37: 2021 | H37: 109 | I37: NON | J37: ABCD | K37: NON
A38: Z | B38: FC | C38: I | D38: CLOS | E38: 2021 | F38: 2021 | H38: 98 | I38: OUI | J38: EFGH | K38: OUI
G39: DECEMBRE 2021
A40: AA | B40: FC | C40: I | D40: CLOS | E40: 2021 | F40: 2021 | H40: 228 | I40: NON | J40: ABCD | K40: OUI
A41: BB | B41: CS | C41: S | D41: CLOS | E41: 2020 | F41: 2021 | H41: 322 | I41: NON | J41: EFGH | K41: NON

Sheet LISTE DOSSIERS CLOS 2022
A1: DOSSIER | B1: AGENT | C1: NATURE | D1: ETAT | E1: DATE OUVERTURE | F1: DATE CLOTURE | G1: ACTEURS | H1: JOURS | I1: DELAIS | J1: CLIENT | K1: TIERS ? | L1: REMARQUES
G2: JANVIER 2022
A3: CC | B3: FC | C3: S | D3: CLOS | E3: 2020 | F3: 2022 | H3: 271 | I3: NON | J3: ABCD | K3: NON
A4: DD | B4: JL | C4: X | D4: CLOS | E4: 2020 | F4: 2022 | H4: 497 | I4: NON | J4: ABCD | K4: NON | L4: Expertise judiciaire
G5: FEVRIER 2022
A6: EE | B6: CS | C6: S | D6: CLOS | E6: 2021 | F6: 2022 | H6: 132 | I6: NON | J6: EFGH | K6: NON
A7: FF | B7: CS | C7: I | D7: CLOS | E7: 2021 | F7: 2022 | H7: 100 | I7: NON | J7: ABCD | K7: NON | L7: Cie estime que pas de tiers
A8: GG | B8: CS | C8: I | D8: CLOS | E8: 2021 | F8: 2022 | H8: 114 | I8: OUI | J8: EFGH | K8: OUI
A9: HH | B9: CS | C9: I | D9: CLOS | E9: 2021 | F9: 2022 | H9: 181 | I9: NON | J9: EFGH | K9: OUI
G10: MARS 2022
A11: II | B11: FC | C11: I | D11: CLOS | E11: 2021 | F11: 2022 | H11: 285 | I11: NON | J11: ABCD | K11: NON
A12: JJ | B12: JL | C12: I | D12: CLOS | E12: 2022 | F12: 2022 | H12: 52 | I12: OUI | J12: EFGH | K12: OUI
G13: AVRIL 2022
A14: KK | B14: JL | C14: I | D14: CLOS | E14: 2021 | F14: 2022 | H14: 209 | I14: NON | J14: ABCD | K14: OUI
G15: MAI 2022
A16: LL | B16: JL | C16: I | D16: CLOS | E16: 2022 | F16: 2022 | H16: 62 | I16: OUI | J16: EFGH | K16: OUI
G17: JUIN 2022
A18: MM | B18: CS | C18: I | D18: CLOS | E18: 2022 | F18: 2022 | H18: 75 | I18: OUI | J18: ABCD | K18: OUI
A19: NN | B19: CS | C19: I | D19: CLOS | E19: 2022 | F19: 2022 | H19: 113 | I19: NON | J19: EFGH | K19: NON
A20: OO | B20: CS | C20: I | D20: CLOS | E20: 2022 | F20: 2022 | H20: 62 | I20: OUI | J20: EFGH | K20: OUI
G21: JUILLET 2022
A22: PP | B22: CS | C22: I | D22: CLOS | E22: 2022 | F22: 2022 | H22: 116 | I22: OUI | J22: ABCD | K22: OUI
G23: AOUT 2022
A24: QQ | B24: JL | C24: I | D24: CLOS | E24: 2022 | F24: 2022 | H24: 79 | I24: NON | J24: EFGH | K24: NON
A25: RR | B25: JL | C25: I | D25: CLOS | E25: 2022 | F25: 2022 | H25: 96 | I25: OUI | J25: EFGH | K25: OUI
G26: SEPTEMBRE 2022
A27: SS | B27: CS | C27: S | D27: CLOS | E27: 2022 | F27: 2022 | H27: 386 | I27: NON | J27: ABCD | K27: NON
A28: TT | B28: CS | C28: I | D28: CLOS | E28: 2022 | F28: 2022 | H28: 55 | I28: OUI | J28: ABCD | K28: NON
G29: OCTOBRE 2022
A30: UU | B30: PAP | C30: I | D30: CLOS | E30: 2022 | F30: 2022 | H30: 106 | I30: NON | J30: EFGH | K30: NON

Sheet STATISTIQUES GLOBALES
C2: CS | E2: PAP | G2: JL | I2: FC | K2: ENTREPRISE
C3: 2021 | D3: 2022 | E3: 2021 | F3: 2022 | G3: 2021 | H3: 2022 | I3: 2021 | J3: 2022 | K3: 2021 | L3: 2022
B4: NOMBRE DE DOSSIERS CLOS | C4: =COUNTIF('LISTE DOSSIERS CLOS 2021'!$B:$B,'STATISTIQUES GLOBALES'!C2) -> 15 | D4: =COUNTIF('LISTE DOSSIERS CLOS 2022'!$B:$B,'STATISTIQUES GLOBALES'!C2) -> 10 | E4: =COUNTIF('LISTE DOSSIERS CLOS 2021'!$B:$B,'STATISTIQUES GLOBALES'!E2) -> 6 | F4: =COUNTIF('LISTE DOSSIERS CLOS 2022'!$B:$B,'STATISTIQUES GLOBALES'!E2) -> 1 | G4: =COUNTIF('LISTE DOSSIERS CLOS 2021'!$B:$B,'STATISTIQUES GLOBALES'!G2) -> 1 | H4: =COUNTIF('LISTE DOSSIERS CLOS 2022'!$B:$B,'STATISTIQUES GLOBALES'!G2) -> 6 | I4: =COUNTIF('LISTE DOSSIERS CLOS 2021'!$B:$B,'STATISTIQUES GLOBALES'!I2) -> 6 | J4: =COUNTIF('LISTE DOSSIERS CLOS 2022'!$B:$B,'STATISTIQUES GLOBALES'!I2) -> 2 | K4: =SUM(C4,E4,G4,I4) -> 28 | L4: =SUM(D4,F4,H4,J4) -> 19
B5: MOYENNE MENSUELLE DOSSIERS CLOS | C5: =C4/(MONTH(TODAY())-1) -> 1.6666667 | D5: =D4/(MONTH(TODAY())-1) -> 1.1111111 | E5: =E4/(MONTH(TODAY())-1) -> 0.66666667 | F5: =F4/(MONTH(TODAY())-1) -> 0.11111111 | G5: =G4/(MONTH(TODAY())-1) -> 0.11111111 | H5: =H4/(MONTH(TODAY())-1) -> 0.66666667 | I5: =I4/(MONTH(TODAY())-1) -> 0.66666667 | J5: =J4/(MONTH(TODAY())-1) -> 0.22222222 | K5: =SUM(C5,E5,G5,I5) -> 3.1111111 | L5: =SUM(D5,F5,H5,J5) -> 2.1111111
B6: NOMBRE DE DOSSIERS HORS DELAIS | C6: =COUNTIFS('LISTE DOSSIERS CLOS 2021'!$I:$I,"NON",'LISTE DOSSIERS CLOS 2021'!$B:$B,'STATISTIQUES GLOBALES'!C2) -> 6 | D6: =COUNTIFS('LISTE DOSSIERS CLOS 2022'!$I:$I,"NON",'LISTE DOSSIERS CLOS 2022'!$B:$B,'STATISTIQUES GLOBALES'!C2) -> 5 | E6: =COUNTIFS('LISTE DOSSIERS CLOS 2021'!$I:$I,"NON",'LISTE DOSSIERS CLOS 2021'!$B:$B,'STATISTIQUES GLOBALES'!E2) -> 2 | F6: =COUNTIFS('LISTE DOSSIERS CLOS 2022'!$I:$I,"NON",'LISTE DOSSIERS CLOS 2022'!$B:$B,'STATISTIQUES GLOBALES'!E2) -> 1 | G6: =COUNTIFS('LISTE DOSSIERS CLOS 2021'!$I:$I,"NON",'LISTE DOSSIERS CLOS 2021'!$B:$B,'STATISTIQUES GLOBALES'!G2) -> 1 | H6: =COUNTIFS('LISTE DOSSIERS CLOS 2022'!$I:$I,"NON",'LISTE DOSSIERS CLOS 2022'!$B:$B,'STATISTIQUES GLOBALES'!G2) -> 3 | I6: =COUNTIFS('LISTE DOSSIERS CLOS 2021'!$I:$I,"NON",'LISTE DOSSIERS CLOS 2021'!$B:$B,'STATISTIQUES GLOBALES'!I2) -> 3 | J6: =COUNTIFS('LISTE DOSSIERS CLOS 2022'!$I:$I,"NON",'LISTE DOSSIERS CLOS 2022'!$B:$B,'STATISTIQUES GLOBALES'!I2) -> 2 | K6: =SUM(C6,E6,G6,I6) -> 12 | L6: =SUM(D6,F6,H6,J6) -> 11
B7: MOYENNE DUREE DOSSIERS HORS DELAIS | C7: =AVERAGEIFS('LISTE DOSSIERS CLOS 2021'!$H:$H,'LISTE DOSSIERS CLOS 2021'!$I:$I,"NON",'LISTE DOSSIERS CLOS 2021'!$B:$B,"CS") -> 420.16667 | D7: =AVERAGEIFS('LISTE DOSSIERS CLOS 2022'!$H:$H,'LISTE DOSSIERS CLOS 2022'!$I:$I,"NON",'LISTE DOSSIERS CLOS 2022'!$B:$B,"CS") -> 182.4 | E7: =AVERAGEIFS('LISTE DOSSIERS CLOS 2021'!$H:$H,'LISTE DOSSIERS CLOS 2021'!$I:$I,"NON",'LISTE DOSSIERS CLOS 2021'!$B:$B,"PAP") -> 89.5 | F7: =AVERAGEIFS('LISTE DOSSIERS CLOS 2022'!$H:$H,'LISTE DOSSIERS CLOS 2022'!$I:$I,"NON",'LISTE DOSSIERS CLOS 2022'!$B:$B,"PAP") -> 106 | G7: =AVERAGEIFS('LISTE DOSSIERS CLOS 2021'!$H:$H,'LISTE DOSSIERS CLOS 2021'!$I:$I,"NON",'LISTE DOSSIERS CLOS 2021'!$B:$B,"JL") -> 109 | H7: =AVERAGEIFS('LISTE DOSSIERS CLOS 2022'!$H:$H,'LISTE DOSSIERS CLOS 2022'!$I:$I,"NON",'LISTE DOSSIERS CLOS 2022'!$B:$B,"JL") -> 261.66667 | I7: =AVERAGEIFS('LISTE DOSSIERS CLOS 2021'!$H:$H,'LISTE DOSSIERS CLOS 2021'!$I:$I,"NON",'LISTE DOSSIERS CLOS 2022'!$B:$B,"FC") -> 420 | J7: =AVERAGEIFS('LISTE DOSSIERS CLOS 2022'!$H:$H,'LISTE DOSSIERS CLOS 2022'!$I:$I,"NON",'LISTE DOSSIERS CLOS 2022'!$B:$B,"FC") -> 278 | K7: =AVERAGE(C7,E7,G7,I7) -> 259.66667 | L7: =AVERAGE(D7,F7,H7,J7) -> 207.01667
B8: NOMBRE DE DOSSIERS DANS LES DELAIS | C8: =COUNTIFS('LISTE DOSSIERS CLOS 2021'!$I:$I,"OUI",'LISTE DOSSIERS CLOS 2021'!$B:$B,'STATISTIQUES GLOBALES'!C2) -> 9 | D8: =COUNTIFS('LISTE DOSSIERS CLOS 2022'!$I:$I,"OUI",'LISTE DOSSIERS CLOS 2022'!$B:$B,'STATISTIQUES GLOBALES'!C2) -> 5 | E8: =COUNTIFS('LISTE DOSSIERS CLOS 2021'!$I:$I,"OUI",'LISTE DOSSIERS CLOS 2021'!$B:$B,'STATISTIQUES GLOBALES'!E2) -> 4 | F8: =COUNTIFS('LISTE DOSSIERS CLOS 2022'!$I:$I,"OUI",'LISTE DOSSIERS CLOS 2022'!$B:$B,'STATISTIQUES GLOBALES'!E2) -> 0 | G8: =COUNTIFS('LISTE DOSSIERS CLOS 2021'!$I:$I,"OUI",'LISTE DOSSIERS CLOS 2021'!$B:$B,'STATISTIQUES GLOBALES'!G2) -> 0 | H8: =COUNTIFS('LISTE DOSSIERS CLOS 2022'!$I:$I,"OUI",'LISTE DOSSIERS CLOS 2022'!$B:$B,'STATISTIQUES GLOBALES'!G2) -> 3 | I8: =COUNTIFS('LISTE DOSSIERS CLOS 2021'!$I:$I,"OUI",'LISTE DOSSIERS CLOS 2021'!$B:$B,'STATISTIQUES GLOBALES'!I2) -> 3 | J8: =COUNTIFS('LISTE DOSSIERS CLOS 2022'!$I:$I,"OUI",'LISTE DOSSIERS CLOS 2022'!$B:$B,'STATISTIQUES GLOBALES'!I2) -> 0 | K8: =SUM(C8,E8,G8,I8) -> 16 | L8: =SUM(D8,F8,H8,J8) -> 8
B9: MOYENNE DUREE DOSSIERS DANS LES DELAIS | C9: =AVERAGEIFS('LISTE DOSSIERS CLOS 2021'!$H:$H,'LISTE DOSSIERS CLOS 2021'!$I:$I,"OUI",'LISTE DOSSIERS CLOS 2021'!$B:$B,"CS") -> 74.333333 | D9: =AVERAGEIFS('LISTE DOSSIERS CLOS 2022'!$H:$H,'LISTE DOSSIERS CLOS 2022'!$I:$I,"OUI",'LISTE DOSSIERS CLOS 2022'!$B:$B,"CS") -> 84.4 | E9: =AVERAGEIFS('LISTE DOSSIERS CLOS 2021'!$H:$H,'LISTE DOSSIERS CLOS 2021'!$I:$I,"OUI",'LISTE DOSSIERS CLOS 2021'!$B:$B,"PAP") -> 68.75 | F9: =AVERAGEIFS('LISTE DOSSIERS CLOS 2022'!$H:$H,'LISTE DOSSIERS CLOS 2022'!$I:$I,"OUI",'LISTE DOSSIERS CLOS 2022'!$B:$B,"PAP") -> #DIV/0! | G9: =AVERAGEIFS('LISTE DOSSIERS CLOS 2021'!$H:$H,'LISTE DOSSIERS CLOS 2021'!$I:$I,"OUI",'LISTE DOSSIERS CLOS 2021'!$B:$B,"JL") -> #DIV/0! | H9: =AVERAGEIFS('LISTE DOSSIERS CLOS 2022'!$H:$H,'LISTE DOSSIERS CLOS 2022'!$I:$I,"OUI",'LISTE DOSSIERS CLOS 2022'!$B:$B,"JL") -> 70 | I9: =AVERAGEIFS('LISTE DOSSIERS CLOS 2021'!$H:$H,'LISTE DOSSIERS CLOS 2021'!$I:$I,"OUI",'LISTE DOSSIERS CLOS 2021'!$B:$B,"FC") -> 77.666667 | J9: =AVERAGEIFS('LISTE DOSSIERS CLOS 2022'!$H:$H,'LISTE DOSSIERS CLOS 2022'!$I:$I,"OUI",'LISTE DOSSIERS CLOS 2022'!$B:$B,"FC") -> #DIV/0! | K9: =AVERAGE(C9,E9,G9,I9) -> #DIV/0! | L9: =AVERAGE(D9,F9,H9,J9) -> #DIV/0!
B11: NOMBRE DE DOSSIERS AVEC TIERS | C11: =COUNTIFS('LISTE DOSSIERS CLOS 2021'!$K:$K,"OUI",'LISTE DOSSIERS CLOS 2021'!$B:$B,'STATISTIQUES GLOBALES'!C2) -> 8 | D11: =COUNTIFS('LISTE DOSSIERS CLOS 2022'!$K:$K,"OUI",'LISTE DOSSIERS CLOS 2022'!$B:$B,'STATISTIQUES GLOBALES'!C2) -> 5 | E11: =COUNTIFS('LISTE DOSSIERS CLOS 2021'!$K:$K,"OUI",'LISTE DOSSIERS CLOS 2021'!$B:$B,'STATISTIQUES GLOBALES'!E2) -> 4 | F11: =COUNTIFS('LISTE DOSSIERS CLOS 2022'!$K:$K,"OUI",'LISTE DOSSIERS CLOS 2022'!$B:$B,'STATISTIQUES GLOBALES'!E2) -> 0 | G11: =COUNTIFS('LISTE DOSSIERS CLOS 2021'!$K:$K,"OUI",'LISTE DOSSIERS CLOS 2021'!$B:$B,'STATISTIQUES GLOBALES'!G2) -> 0 | H11: =COUNTIFS('LISTE DOSSIERS CLOS 2022'!$K:$K,"OUI",'LISTE DOSSIERS CLOS 2022'!$B:$B,'STATISTIQUES GLOBALES'!G2) -> 4 | I11: =COUNTIFS('LISTE DOSSIERS CLOS 2021'!$K:$K,"OUI",'LISTE DOSSIERS CLOS 2021'!$B:$B,'STATISTIQUES GLOBALES'!I2) -> 4 | J11: =COUNTIFS('LISTE DOSSIERS CLOS 2022'!$K:$K,"OUI",'LISTE DOSSIERS CLOS 2022'!$B:$B,'STATISTIQUES GLOBALES'!I2) -> 0 | K11: =SUM(C11,E11,G11,I11) -> 16 | L11: =SUM(D11,F11,H11,J11) -> 9
B12: NOMBRE DE DOSSIERS SANS TIERS | C12: =COUNTIFS('LISTE DOSSIERS CLOS 2021'!$K:$K,"NON",'LISTE DOSSIERS CLOS 2021'!$B:$B,'STATISTIQUES GLOBALES'!C2) -> 7 | D12: =COUNTIFS('LISTE DOSSIERS CLOS 2022'!$K:$K,"NON",'LISTE DOSSIERS CLOS 2022'!$B:$B,'STATISTIQUES GLOBALES'!C2) -> 5 | E12: =COUNTIFS('LISTE DOSSIERS CLOS 2021'!$K:$K,"NON",'LISTE DOSSIERS CLOS 2021'!$B:$B,'STATISTIQUES GLOBALES'!E2) -> 2 | F12: =COUNTIFS('LISTE DOSSIERS CLOS 2022'!$K:$K,"NON",'LISTE DOSSIERS CLOS 2022'!$B:$B,'STATISTIQUES GLOBALES'!E2) -> 1 | G12: =COUNTIFS('LISTE DOSSIERS CLOS 2021'!$K:$K,"NON",'LISTE DOSSIERS CLOS 2021'!$B:$B,'STATISTIQUES GLOBALES'!G2) -> 1 | H12: =COUNTIFS('LISTE DOSSIERS CLOS 2022'!$K:$K,"NON",'LISTE DOSSIERS CLOS 2022'!$B:$B,'STATISTIQUES GLOBALES'!G2) -> 2 | I12: =COUNTIFS('LISTE DOSSIERS CLOS 2021'!$K:$K,"NON",'LISTE DOSSIERS CLOS 2021'!$B:$B,'STATISTIQUES GLOBALES'!I2) -> 2 | J12: =COUNTIFS('LISTE DOSSIERS CLOS 2022'!$K:$K,"NON",'LISTE DOSSIERS CLOS 2022'!$B:$B,'STATISTIQUES GLOBALES'!I2) -> 2 | K12: =SUM(C12,E12,G12,I12) -> 12 | L12: =SUM(D12,F12,H12,J12) -> 10
B13: MOYENNE DUREE DOSSIERS AVEC TIERS | C13: =AVERAGEIFS('LISTE DOSSIERS CLOS 2021'!$H:$H,'LISTE DOSSIERS CLOS 2021'!$K:$K,"OUI",'LISTE DOSSIERS CLOS 2021'!$B:$B,"CS") -> 96.375 | D13: =AVERAGEIFS('LISTE DOSSIERS CLOS 2022'!$H:$H,'LISTE DOSSIERS CLOS 2022'!$K:$K,"OUI",'LISTE DOSSIERS CLOS 2022'!$B:$B,"CS") -> 109.6 | E13: =AVERAGEIFS('LISTE DOSSIERS CLOS 2021'!$H:$H,'LISTE DOSSIERS CLOS 2021'!$K:$K,"OUI",'LISTE DOSSIERS CLOS 2021'!$B:$B,"PAP") -> 68.75 | F13: =AVERAGEIFS('LISTE DOSSIERS CLOS 2022'!$H:$H,'LISTE DOSSIERS CLOS 2022'!$K:$K,"OUI",'LISTE DOSSIERS CLOS 2022'!$B:$B,"PAP") -> #DIV/0! | G13: =AVERAGEIFS('LISTE DOSSIERS CLOS 2021'!$H:$H,'LISTE DOSSIERS CLOS 2021'!$K:$K,"OUI",'LISTE DOSSIERS CLOS 2021'!$B:$B,"JL") -> #DIV/0! | H13: =AVERAGEIFS('LISTE DOSSIERS CLOS 2022'!$H:$H,'LISTE DOSSIERS CLOS 2022'!$K:$K,"OUI",'LISTE DOSSIERS CLOS 2022'!$B:$B,"JL") -> 104.75 | I13: =AVERAGEIFS('LISTE DOSSIERS CLOS 2021'!$H:$H,'LISTE DOSSIERS CLOS 2021'!$K:$K,"OUI",'LISTE DOSSIERS CLOS 2021'!$B:$B,"FC") -> 201.5 | J13: =AVERAGEIFS('LISTE DOSSIERS CLOS 2022'!$H:$H,'LISTE DOSSIERS CLOS 2022'!$K:$K,"OUI",'LISTE DOSSIERS CLOS 2022'!$B:$B,"FC") -> #DIV/0! | K13: =AVERAGE(C13,E13,G13,I13) -> #DIV/0! | L13: =AVERAGE(D13,F13,H13,J13) -> #DIV/0!
B14: MOYENNE DUREE DOSSIERS SANS TIERS | C14: =AVERAGEIFS('LISTE DOSSIERS CLOS 2021'!$H:$H,'LISTE DOSSIERS CLOS 2021'!$K:$K,"NON",'LISTE DOSSIERS CLOS 2021'!$B:$B,"CS") -> 345.57143 | D14: =AVERAGEIFS('LISTE DOSSIERS CLOS 2022'!$H:$H,'LISTE DOSSIERS CLOS 2022'!$K:$K,"NON",'LISTE DOSSIERS CLOS 2022'!$B:$B,"CS") -> 157.2 | E14: =AVERAGEIFS('LISTE DOSSIERS CLOS 2021'!$H:$H,'LISTE DOSSIERS CLOS 2021'!$K:$K,"NON",'LISTE DOSSIERS CLOS 2021'!$B:$B,"PAP") -> 89.5 | F14: =AVERAGEIFS('LISTE DOSSIERS CLOS 2022'!$H:$H,'LISTE DOSSIERS CLOS 2022'!$K:$K,"NON",'LISTE DOSSIERS CLOS 2022'!$B:$B,"PAP") -> 106 | G14: =AVERAGEIFS('LISTE DOSSIERS CLOS 2021'!$H:$H,'LISTE DOSSIERS CLOS 2021'!$K:$K,"NON",'LISTE DOSSIERS CLOS 2021'!$B:$B,"JL") -> 109 | H14: =AVERAGEIFS('LISTE DOSSIERS CLOS 2022'!$H:$H,'LISTE DOSSIERS CLOS 2022'!$K:$K,"NON",'LISTE DOSSIERS CLOS 2022'!$B:$B,"JL") -> 288 | I14: =AVERAGEIFS('LISTE DOSSIERS CLOS 2021'!$H:$H,'LISTE DOSSIERS CLOS 2021'!$K:$K,"NON",'LISTE DOSSIERS CLOS 2021'!$B:$B,"FC") -> 478 | J14: =AVERAGEIFS('LISTE DOSSIERS CLOS 2022'!$H:$H,'LISTE DOSSIERS CLOS 2022'!$K:$K,"NON",'LISTE DOSSIERS CLOS 2022'!$B:$B,"FC") -> 278 | K14: =AVERAGE(C14,E14,G14,I14) -> 255.51786 | L14: =AVERAGE(D14,F14,H14,J14) -> 207.3
B16: NOMBRE DE DOSSIERS S | C16: =COUNTIFS('LISTE DOSSIERS CLOS 2021'!$C:$C,"S",'LISTE DOSSIERS CLOS 2021'!$B:$B,'STATISTIQUES GLOBALES'!C2) -> 2 | D16: =COUNTIFS('LISTE DOSSIERS CLOS 2022'!$C:$C,"S",'LISTE DOSSIERS CLOS 2022'!$B:$B,'STATISTIQUES GLOBALES'!C2) -> 2 | E16: =COUNTIFS('LISTE DOSSIERS CLOS 2021'!$C:$C,"S",'LISTE DOSSIERS CLOS 2021'!$B:$B,'STATISTIQUES GLOBALES'!E2) -> 0 | F16: =COUNTIFS('LISTE DOSSIERS CLOS 2022'!$C:$C,"S",'LISTE DOSSIERS CLOS 2022'!$B:$B,'STATISTIQUES GLOBALES'!E2) -> 0 | G16: =COUNTIFS('LISTE DOSSIERS CLOS 2021'!$C:$C,"S",'LISTE DOSSIERS CLOS 2021'!$B:$B,'STATISTIQUES GLOBALES'!G2) -> 0 | H16: =COUNTIFS('LISTE DOSSIERS CLOS 2022'!$C:$C,"S",'LISTE DOSSIERS CLOS 2022'!$B:$B,'STATISTIQUES GLOBALES'!G2) -> 0 | I16: =COUNTIFS('LISTE DOSSIERS CLOS 2021'!$C:$C,"S",'LISTE DOSSIERS CLOS 2021'!$B:$B,'STATISTIQUES GLOBALES'!I2) -> 0 | J16: =COUNTIFS('LISTE DOSSIERS CLOS 2022'!$C:$C,"S",'LISTE DOSSIERS CLOS 2022'!$B:$B,'STATISTIQUES GLOBALES'!I2) -> 1 | K16: =SUM(C16,E16,G16,I16) -> 2 | L16: =SUM(D16,F16,H16,J16) -> 3
B17: MOYENNE DUREE DOSSIERS S | C17: =AVERAGEIFS('LISTE DOSSIERS CLOS 2021'!$H:$H,'LISTE DOSSIERS CLOS 2021'!$C:$C,"S",'LISTE DOSSIERS CLOS 2021'!$B:$B,"CS") -> 198.5 | D17: =AVERAGEIFS('LISTE DOSSIERS CLOS 2022'!$H:$H,'LISTE DOSSIERS CLOS 2022'!$C:$C,"S",'LISTE DOSSIERS CLOS 2022'!$B:$B,"CS") -> 259 | E17: =AVERAGEIFS('LISTE DOSSIERS CLOS 2021'!$H:$H,'LISTE DOSSIERS CLOS 2021'!$C:$C,"S",'LISTE DOSSIERS CLOS 2021'!$B:$B,"PAP") -> #DIV/0! | F17: =AVERAGEIFS('LISTE DOSSIERS CLOS 2022'!$H:$H,'LISTE DOSSIERS CLOS 2022'!$C:$C,"S",'LISTE DOSSIERS CLOS 2022'!$B:$B,"PAP") -> #DIV/0! | G17: =AVERAGEIFS('LISTE DOSSIERS CLOS 2021'!$H:$H,'LISTE DOSSIERS CLOS 2021'!$C:$C,"S",'LISTE DOSSIERS CLOS 2021'!$B:$B,"JL") -> #DIV/0! | H17: =AVERAGEIFS('LISTE DOSSIERS CLOS 2022'!$H:$H,'LISTE DOSSIERS CLOS 2022'!$C:$C,"S",'LISTE DOSSIERS CLOS 2022'!$B:$B,"JL") -> #DIV/0! | I17: =AVERAGEIFS('LISTE DOSSIERS CLOS 2021'!$H:$H,'LISTE DOSSIERS CLOS 2021'!$C:$C,"S",'LISTE DOSSIERS CLOS 2021'!$B:$B,"FC") -> #DIV/0! | J17: =AVERAGEIFS('LISTE DOSSIERS CLOS 2022'!$H:$H,'LISTE DOSSIERS CLOS 2022'!$C:$C,"S",'LISTE DOSSIERS CLOS 2022'!$B:$B,"FC") -> 271 | K17: =AVERAGE(C17,I17) -> #DIV/0! | L17: =AVERAGE(D17,H17,J17) -> #DIV/0!
B18: NOMBRE DE DOSSIERS S DANS LES DELAIS | C18: =COUNTIFS('LISTE DOSSIERS CLOS 2021'!$C:$C,"S",'LISTE DOSSIERS CLOS 2021'!$B:$B,'STATISTIQUES GLOBALES'!C2,'LISTE DOSSIERS CLOS 2021'!$I:$I,"OUI") -> 1 | D18: =COUNTIFS('LISTE DOSSIERS CLOS 2022'!$C:$C,"S",'LISTE DOSSIERS CLOS 2022'!$B:$B,'STATISTIQUES GLOBALES'!C2,'LISTE DOSSIERS CLOS 2022'!$I:$I,"OUI") -> 0 | E18: =COUNTIFS('LISTE DOSSIERS CLOS 2021'!$C:$C,"S",'LISTE DOSSIERS CLOS 2021'!$B:$B,'STATISTIQUES GLOBALES'!E2,'LISTE DOSSIERS CLOS 2021'!$I:$I,"OUI") -> 0 | F18: =COUNTIFS('LISTE DOSSIERS CLOS 2022'!$C:$C,"S",'LISTE DOSSIERS CLOS 2022'!$B:$B,'STATISTIQUES GLOBALES'!E2,'LISTE DOSSIERS CLOS 2022'!$I:$I,"OUI") -> 0 | G18: =COUNTIFS('LISTE DOSSIERS CLOS 2021'!$C:$C,"S",'LISTE DOSSIERS CLOS 2021'!$B:$B,'STATISTIQUES GLOBALES'!G2,'LISTE DOSSIERS CLOS 2021'!$I:$I,"OUI") -> 0 | H18: =COUNTIFS('LISTE DOSSIERS CLOS 2022'!$C:$C,"S",'LISTE DOSSIERS CLOS 2022'!$B:$B,'STATISTIQUES GLOBALES'!G2,'LISTE DOSSIERS CLOS 2022'!$I:$I,"OUI") -> 0 | I18: =COUNTIFS('LISTE DOSSIERS CLOS 2021'!$C:$C,"S",'LISTE DOSSIERS CLOS 2021'!$B:$B,'STATISTIQUES GLOBALES'!I2,'LISTE DOSSIERS CLOS 2021'!$I:$I,"OUI") -> 0 | J18: =COUNTIFS('LISTE DOSSIERS CLOS 2022'!$C:$C,"S",'LISTE DOSSIERS CLOS 2022'!$B:$B,'STATISTIQUES GLOBALES'!I2,'LISTE DOSSIERS CLOS 2022'!$I:$I,"OUI") -> 0 | K18: =SUM(C18,E18,G18,I18) -> 1 | L18: =SUM(D18,F18,H18,J18) -> 0
B19: NOMBRE DE DOSSIERS S HORS DELAIS | C19: =COUNTIFS('LISTE DOSSIERS CLOS 2021'!$C:$C,"S",'LISTE DOSSIERS CLOS 2021'!$B:$B,'STATISTIQUES GLOBALES'!C2,'LISTE DOSSIERS CLOS 2021'!$I:$I,"NON") -> 1 | D19: =COUNTIFS('LISTE DOSSIERS CLOS 2022'!$C:$C,"S",'LISTE DOSSIERS CLOS 2022'!$B:$B,'STATISTIQUES GLOBALES'!C2,'LISTE DOSSIERS CLOS 2022'!$I:$I,"NON") -> 2 | E19: =COUNTIFS('LISTE DOSSIERS CLOS 2021'!$C:$C,"S",'LISTE DOSSIERS CLOS 2021'!$B:$B,'STATISTIQUES GLOBALES'!E2,'LISTE DOSSIERS CLOS 2021'!$I:$I,"NON") -> 0 | F19: =COUNTIFS('LISTE DOSSIERS CLOS 2022'!$C:$C,"S",'LISTE DOSSIERS CLOS 2022'!$B:$B,'STATISTIQUES GLOBALES'!E2,'LISTE DOSSIERS CLOS 2022'!$I:$I,"NON") -> 0 | G19: =COUNTIFS('LISTE DOSSIERS CLOS 2021'!$C:$C,"S",'LISTE DOSSIERS CLOS 2021'!$B:$B,'STATISTIQUES GLOBALES'!G2,'LISTE DOSSIERS CLOS 2021'!$I:$I,"NON") -> 0 | H19: =COUNTIFS('LISTE DOSSIERS CLOS 2022'!$C:$C,"S",'LISTE DOSSIERS CLOS 2022'!$B:$B,'STATISTIQUES GLOBALES'!G2,'LISTE DOSSIERS CLOS 2022'!$I:$I,"NON") -> 0 | I19: =COUNTIFS('LISTE DOSSIERS CLOS 2021'!$C:$C,"S",'LISTE DOSSIERS CLOS 2021'!$B:$B,'STATISTIQUES GLOBALES'!I2,'LISTE DOSSIERS CLOS 2021'!$I:$I,"NON") -> 0 | J19: =COUNTIFS('LISTE DOSSIERS CLOS 2022'!$C:$C,"S",'LISTE DOSSIERS CLOS 2022'!$B:$B,'STATISTIQUES GLOBALES'!I2,'LISTE DOSSIERS CLOS 2022'!$I:$I,"NON") -> 1 | K19: =SUM(C19,E19,G19,I19) -> 1 | L19: =SUM(D19,F19,H19,J19) -> 3
B20: NOMBRE DE DOSSIERS S AVEC TIERS | C20: =COUNTIFS('LISTE DOSSIERS CLOS 2021'!$C:$C,"S",'LISTE DOSSIERS CLOS 2021'!$B:$B,'STATISTIQUES GLOBALES'!C2,'LISTE DOSSIERS CLOS 2021'!$K:$K,"OUI") -> 0 | D20: =COUNTIFS('LISTE DOSSIERS CLOS 2022'!$C:$C,"S",'LISTE DOSSIERS CLOS 2022'!$B:$B,'STATISTIQUES GLOBALES'!C2,'LISTE DOSSIERS CLOS 2022'!$K:$K,"OUI") -> 0 | E20: =COUNTIFS('LISTE DOSSIERS CLOS 2021'!$C:$C,"S",'LISTE DOSSIERS CLOS 2021'!$B:$B,'STATISTIQUES GLOBALES'!E2,'LISTE DOSSIERS CLOS 2021'!$K:$K,"OUI") -> 0 | F20: =COUNTIFS('LISTE DOSSIERS CLOS 2022'!$C:$C,"S",'LISTE DOSSIERS CLOS 2022'!$B:$B,'STATISTIQUES GLOBALES'!E2,'LISTE DOSSIERS CLOS 2022'!$K:$K,"OUI") -> 0 | G20: =COUNTIFS('LISTE DOSSIERS CLOS 2021'!$C:$C,"S",'LISTE DOSSIERS CLOS 2021'!$B:$B,'STATISTIQUES GLOBALES'!G2,'LISTE DOSSIERS CLOS 2021'!$K:$K,"OUI") -> 0 | H20: =COUNTIFS('LISTE DOSSIERS CLOS 2022'!$C:$C,"S",'LISTE DOSSIERS CLOS 2022'!$B:$B,'STATISTIQUES GLOBALES'!G2,'LISTE DOSSIERS CLOS 2022'!$K:$K,"OUI") -> 0 | I20: =COUNTIFS('LISTE DOSSIERS CLOS 2021'!$C:$C,"S",'LISTE DOSSIERS CLOS 2021'!$B:$B,'STATISTIQUES GLOBALES'!I2,'LISTE DOSSIERS CLOS 2021'!$K:$K,"OUI") -> 0 | J20: =COUNTIFS('LISTE DOSSIERS CLOS 2022'!$C:$C,"S",'LISTE DOSSIERS CLOS 2022'!$B:$B,'STATISTIQUES GLOBALES'!I2,'LISTE DOSSIERS CLOS 2022'!$K:$K,"OUI") -> 0 | K20: =SUM(C20,E20,G20,I20) -> 0 | L20: =SUM(D20,F20,H20,J20) -> 0
B21: MOYENNE DUREE DOSSIERS S AVEC TIERS | C21: =AVERAGEIFS('LISTE DOSSIERS CLOS 2021'!$H:$H,'LISTE DOSSIERS CLOS 2021'!$C:$C,"S",'LISTE DOSSIERS CLOS 2021'!$B:$B,"CS",'LISTE DOSSIERS CLOS 2021'!$K:$K,"OUI") -> #DIV/0! | D21: =AVERAGEIFS('LISTE DOSSIERS CLOS 2022'!$H:$H,'LISTE DOSSIERS CLOS 2022'!$C:$C,"S",'LISTE DOSSIERS CLOS 2022'!$B:$B,"CS",'LISTE DOSSIERS CLOS 2022'!$K:$K,"OUI") -> #DIV/0! | E21: =AVERAGEIFS('LISTE DOSSIERS CLOS 2021'!$H:$H,'LISTE DOSSIERS CLOS 2021'!$C:$C,"S",'LISTE DOSSIERS CLOS 2021'!$B:$B,"PAP",'LISTE DOSSIERS CLOS 2021'!$K:$K,"OUI") -> #DIV/0! | F21: =AVERAGEIFS('LISTE DOSSIERS CLOS 2022'!$H:$H,'LISTE DOSSIERS CLOS 2022'!$C:$C,"S",'LISTE DOSSIERS CLOS 2022'!$B:$B,"PAP",'LISTE DOSSIERS CLOS 2022'!$K:$K,"OUI") -> #DIV/0! | G21: =AVERAGEIFS('LISTE DOSSIERS CLOS 2021'!$H:$H,'LISTE DOSSIERS CLOS 2021'!$C:$C,"S",'LISTE DOSSIERS CLOS 2021'!$B:$B,"jl",'LISTE DOSSIERS CLOS 2021'!$K:$K,"OUI") -> #DIV/0! | H21: =AVERAGEIFS('LISTE DOSSIERS CLOS 2022'!$H:$H,'LISTE DOSSIERS CLOS 2022'!$C:$C,"S",'LISTE DOSSIERS CLOS 2022'!$B:$B,"jl",'LISTE DOSSIERS CLOS 2022'!$K:$K,"OUI") -> #DIV/0! | I21: =AVERAGEIFS('LISTE DOSSIERS CLOS 2021'!$H:$H,'LISTE DOSSIERS CLOS 2021'!$C:$C,"S",'LISTE DOSSIERS CLOS 2021'!$B:$B,"FC",'LISTE DOSSIERS CLOS 2021'!$K:$K,"OUI") -> #DIV/0! | J21: =AVERAGEIFS('LISTE DOSSIERS CLOS 2022'!$H:$H,'LISTE DOSSIERS CLOS 2022'!$C:$C,"S",'LISTE DOSSIERS CLOS 2022'!$B:$B,"FC",'LISTE DOSSIERS CLOS 2022'!$K:$K,"OUI") -> #DIV/0! | K21: =AVERAGE(I21) -> #DIV/0! | L21: =AVERAGE(D21,J21) -> #DIV/0!
B22: NOMBRE DE DOSSIERS S SANS TIERS | C22: =COUNTIFS('LISTE DOSSIERS CLOS 2021'!$C:$C,"S",'LISTE DOSSIERS CLOS 2021'!$B:$B,'STATISTIQUES GLOBALES'!C2,'LISTE DOSSIERS CLOS 2021'!$K:$K,"NON") -> 2 | D22: =COUNTIFS('LISTE DOSSIERS CLOS 2022'!$C:$C,"S",'LISTE DOSSIERS CLOS 2022'!$B:$B,'STATISTIQUES GLOBALES'!C2,'LISTE DOSSIERS CLOS 2022'!$K:$K,"NON") -> 2 | E22: =COUNTIFS('LISTE DOSSIERS CLOS 2021'!$C:$C,"S",'LISTE DOSSIERS CLOS 2021'!$B:$B,'STATISTIQUES GLOBALES'!E2,'LISTE DOSSIERS CLOS 2021'!$K:$K,"NON") -> 0 | F22: =COUNTIFS('LISTE DOSSIERS CLOS 2022'!$C:$C,"S",'LISTE DOSSIERS CLOS 2022'!$B:$B,'STATISTIQUES GLOBALES'!E2,'LISTE DOSSIERS CLOS 2022'!$K:$K,"NON") -> 0 | G22: =COUNTIFS('LISTE DOSSIERS CLOS 2021'!$C:$C,"S",'LISTE DOSSIERS CLOS 2021'!$B:$B,'STATISTIQUES GLOBALES'!G2,'LISTE DOSSIERS CLOS 2021'!$K:$K,"NON") -> 0 | H22: =COUNTIFS('LISTE DOSSIERS CLOS 2022'!$C:$C,"S",'LISTE DOSSIERS CLOS 2022'!$B:$B,'STATISTIQUES GLOBALES'!G2,'LISTE DOSSIERS CLOS 2022'!$K:$K,"NON") -> 0 | I22: =COUNTIFS('LISTE DOSSIERS CLOS 2021'!$C:$C,"S",'LISTE DOSSIERS CLOS 2021'!$B:$B,'STATISTIQUES GLOBALES'!I2,'LISTE DOSSIERS CLOS 2021'!$K:$K,"NON") -> 0 | J22: =COUNTIFS('LISTE DOSSIERS CLOS 2022'!$C:$C,"S",'LISTE DOSSIERS CLOS 2022'!$B:$B,'STATISTIQUES GLOBALES'!I2,'LISTE DOSSIERS CLOS 2022'!$K:$K,"NON") -> 1 | K22: =SUM(C22,E22,G22,I22) -> 2 | L22: =SUM(D22,F22,H22,J22) -> 3
B23: MOYENNE DUREE DOSSIERS S SANS TIERS | C23: =AVERAGEIFS('LISTE DOSSIERS CLOS 2021'!$H:$H,'LISTE DOSSIERS CLOS 2021'!$C:$C,"S",'LISTE DOSSIERS CLOS 2021'!$B:$B,"CS",'LISTE DOSSIERS CLOS 2021'!$K:$K,"NON") -> 198.5 | D23: =AVERAGEIFS('LISTE DOSSIERS CLOS 2022'!$H:$H,'LISTE DOSSIERS CLOS 2022'!$C:$C,"S",'LISTE DOSSIERS CLOS 2022'!$B:$B,"CS",'LISTE DOSSIERS CLOS 2022'!$K:$K,"NON") -> 259 | E23: =AVERAGEIFS('LISTE DOSSIERS CLOS 2021'!$H:$H,'LISTE DOSSIERS CLOS 2021'!$C:$C,"S",'LISTE DOSSIERS CLOS 2021'!$B:$B,"PAP",'LISTE DOSSIERS CLOS 2021'!$K:$K,"NON") -> #DIV/0! | F23: =AVERAGEIFS('LISTE DOSSIERS CLOS 2022'!$H:$H,'LISTE DOSSIERS CLOS 2022'!$C:$C,"S",'LISTE DOSSIERS CLOS 2022'!$B:$B,"PAP",'LISTE DOSSIERS CLOS 2022'!$K:$K,"NON") -> #DIV/0! | G23: =AVERAGEIFS('LISTE DOSSIERS CLOS 2021'!$H:$H,'LISTE DOSSIERS CLOS 2021'!$C:$C,"S",'LISTE DOSSIERS CLOS 2021'!$B:$B,"jl",'LISTE DOSSIERS CLOS 2021'!$K:$K,"NON") -> #DIV/0! | H23: =AVERAGEIFS('LISTE DOSSIERS CLOS 2022'!$H:$H,'LISTE DOSSIERS CLOS 2022'!$C:$C,"S",'LISTE DOSSIERS CLOS 2022'!$B:$B,"jl",'LISTE DOSSIERS CLOS 2022'!$K:$K,"NON") -> #DIV/0! | I23: =AVERAGEIFS('LISTE DOSSIERS CLOS 2021'!$H:$H,'LISTE DOSSIERS CLOS 2021'!$C:$C,"S",'LISTE DOSSIERS CLOS 2021'!$B:$B,"FC",'LISTE DOSSIERS CLOS 2021'!$K:$K,"NON") -> #DIV/0! | J23: =AVERAGEIFS('LISTE DOSSIERS CLOS 2022'!$H:$H,'LISTE DOSSIERS CLOS 2022'!$C:$C,"S",'LISTE DOSSIERS CLOS 2022'!$B:$B,"FC",'LISTE DOSSIERS CLOS 2022'!$K:$K,"NON") -> 271 | K23: =AVERAGE(C23) -> 198.5 | L23: =AVERAGE(D23,H23,J23) -> #DIV/0!
B25: NOMBRE DE DOSSIERS "AUTRES" | C25: =COUNTIFS('LISTE DOSSIERS CLOS 2021'!$C:$C,"<>S",'LISTE DOSSIERS CLOS 2021'!$B:$B,'STATISTIQUES GLOBALES'!C2) -> 13 | D25: =COUNTIFS('LISTE DOSSIERS CLOS 2022'!$C:$C,"<>S",'LISTE DOSSIERS CLOS 2022'!$B:$B,'STATISTIQUES GLOBALES'!C2) -> 8 | E25: =COUNTIFS('LISTE DOSSIERS CLOS 2021'!$C:$C,"<>S",'LISTE DOSSIERS CLOS 2021'!$B:$B,'STATISTIQUES GLOBALES'!E2) -> 6 | F25: =COUNTIFS('LISTE DOSSIERS CLOS 2022'!$C:$C,"<>S",'LISTE DOSSIERS CLOS 2022'!$B:$B,'STATISTIQUES GLOBALES'!E2) -> 1 | G25: =COUNTIFS('LISTE DOSSIERS CLOS 2021'!$C:$C,"<>S",'LISTE DOSSIERS CLOS 2021'!$B:$B,'STATISTIQUES GLOBALES'!G2) -> 1 | H25: =COUNTIFS('LISTE DOSSIERS CLOS 2022'!$C:$C,"<>S",'LISTE DOSSIERS CLOS 2022'!$B:$B,'STATISTIQUES GLOBALES'!G2) -> 6 | I25: =COUNTIFS('LISTE DOSSIERS CLOS 2021'!$C:$C,"<>S",'LISTE DOSSIERS CLOS 2021'!$B:$B,'STATISTIQUES GLOBALES'!I2) -> 6 | J25: =COUNTIFS('LISTE DOSSIERS CLOS 2022'!$C:$C,"<>S",'LISTE DOSSIERS CLOS 2022'!$B:$B,'STATISTIQUES GLOBALES'!I2) -> 1 | K25: =SUM(C25,E25,G25,I25) -> 26 | L25: =SUM(D25,F25,H25,J25) -> 16
B26: MOYENNE DUREE DOSSIERS "AUTRES" | C26: =AVERAGEIFS('LISTE DOSSIERS CLOS 2021'!$H:$H,'LISTE DOSSIERS CLOS 2021'!$C:$C,"<>S",'LISTE DOSSIERS CLOS 2021'!$B:$B,"CS") -> 214.84615 | D26: =AVERAGEIFS('LISTE DOSSIERS CLOS 2022'!$H:$H,'LISTE DOSSIERS CLOS 2022'!$C:$C,"<>S",'LISTE DOSSIERS CLOS 2022'!$B:$B,"CS") -> 102 | E26: =AVERAGEIFS('LISTE DOSSIERS CLOS 2021'!$H:$H,'LISTE DOSSIERS CLOS 2021'!$C:$C,"<>S",'LISTE DOSSIERS CLOS 2021'!$B:$B,"PAP") -> 75.666667 | F26: =AVERAGEIFS('LISTE DOSSIERS CLOS 2022'!$H:$H,'LISTE DOSSIERS CLOS 2022'!$C:$C,"<>S",'LISTE DOSSIERS CLOS 2022'!$B:$B,"PAP") -> 106 | G26: =AVERAGEIFS('LISTE DOSSIERS CLOS 2021'!$H:$H,'LISTE DOSSIERS CLOS 2021'!$C:$C,"<>S",'LISTE DOSSIERS CLOS 2021'!$B:$B,"JL") -> 109 | H26: =AVERAGEIFS('LISTE DOSSIERS CLOS 2022'!$H:$H,'LISTE DOSSIERS CLOS 2022'!$C:$C,"<>S",'LISTE DOSSIERS CLOS 2022'!$B:$B,"JL") -> 165.83333 | I26: =AVERAGEIFS('LISTE DOSSIERS CLOS 2021'!$H:$H,'LISTE DOSSIERS CLOS 2021'!$C:$C,"<>S",'LISTE DOSSIERS CLOS 2021'!$B:$B,"FC") -> 293.66667 | J26: =AVERAGEIFS('LISTE DOSSIERS CLOS 2022'!$H:$H,'LISTE DOSSIERS CLOS 2022'!$C:$C,"<>S",'LISTE DOSSIERS CLOS 2022'!$B:$B,"FC") -> 285 | K26: =AVERAGE(C26,E26,G26,I26) -> 173.29487 | L26: =AVERAGE(D26,F26,H26,J26) -> 164.70833
B27: NOMBRE DE DOSSIERS "AUTRES" DANS LES DELAIS | C27: =COUNTIFS('LISTE DOSSIERS CLOS 2021'!$C:$C,"<>S",'LISTE DOSSIERS CLOS 2021'!$B:$B,'STATISTIQUES GLOBALES'!C2,'LISTE DOSSIERS CLOS 2021'!$I:$I,"OUI") -> 8 | D27: =COUNTIFS('LISTE DOSSIERS CLOS 2022'!$C:$C,"<>S",'LISTE DOSSIERS CLOS 2022'!$B:$B,'STATISTIQUES GLOBALES'!C2,'LISTE DOSSIERS CLOS 2022'!$I:$I,"OUI") -> 5 | E27: =COUNTIFS('LISTE DOSSIERS CLOS 2021'!$C:$C,"<>S",'LISTE DOSSIERS CLOS 2021'!$B:$B,'STATISTIQUES GLOBALES'!E2,'LISTE DOSSIERS CLOS 2021'!$I:$I,"OUI") -> 4 | F27: =COUNTIFS('LISTE DOSSIERS CLOS 2022'!$C:$C,"<>S",'LISTE DOSSIERS CLOS 2022'!$B:$B,'STATISTIQUES GLOBALES'!E2,'LISTE DOSSIERS CLOS 2022'!$I:$I,"OUI") -> 0 | G27: =COUNTIFS('LISTE DOSSIERS CLOS 2021'!$C:$C,"<>S",'LISTE DOSSIERS CLOS 2021'!$B:$B,'STATISTIQUES GLOBALES'!G2,'LISTE DOSSIERS CLOS 2021'!$I:$I,"OUI") -> 0 | H27: =COUNTIFS('LISTE DOSSIERS CLOS 2022'!$C:$C,"<>S",'LISTE DOSSIERS CLOS 2022'!$B:$B,'STATISTIQUES GLOBALES'!G2,'LISTE DOSSIERS CLOS 2022'!$I:$I,"OUI") -> 3 | I27: =COUNTIFS('LISTE DOSSIERS CLOS 2021'!$C:$C,"<>S",'LISTE DOSSIERS CLOS 2021'!$B:$B,'STATISTIQUES GLOBALES'!I2,'LISTE DOSSIERS CLOS 2021'!$I:$I,"OUI") -> 3 | J27: =COUNTIFS('LISTE DOSSIERS CLOS 2022'!$C:$C,"<>S",'LISTE DOSSIERS CLOS 2022'!$B:$B,'STATISTIQUES GLOBALES'!I2,'LISTE DOSSIERS CLOS 2022'!$I:$I,"OUI") -> 0 | K27: =SUM(C27,E27,G27,I27) -> 15 | L27: =SUM(D27,F27,H27,J27) -> 8
B28: NOMBRE DE DOSSIERS "AUTRES" HORS DELAIS | C28: =COUNTIFS('LISTE DOSSIERS CLOS 2021'!$C:$C,"<>S",'LISTE DOSSIERS CLOS 2021'!$B:$B,'STATISTIQUES GLOBALES'!C2,'LISTE DOSSIERS CLOS 2021'!$I:$I,"NON") -> 5 | D28: =COUNTIFS('LISTE DOSSIERS CLOS 2022'!$C:$C,"<>S",'LISTE DOSSIERS CLOS 2022'!$B:$B,'STATISTIQUES GLOBALES'!C2,'LISTE DOSSIERS CLOS 2022'!$I:$I,"NON") -> 3 | E28: =COUNTIFS('LISTE DOSSIERS CLOS 2021'!$C:$C,"<>S",'LISTE DOSSIERS CLOS 2021'!$B:$B,'STATISTIQUES GLOBALES'!E2,'LISTE DOSSIERS CLOS 2021'!$I:$I,"NON") -> 2 | F28: =COUNTIFS('LISTE DOSSIERS CLOS 2022'!$C:$C,"<>S",'LISTE DOSSIERS CLOS 2022'!$B:$B,'STATISTIQUES GLOBALES'!E2,'LISTE DOSSIERS CLOS 2022'!$I:$I,"NON") -> 1 | G28: =COUNTIFS('LISTE DOSSIERS CLOS 2021'!$C:$C,"<>S",'LISTE DOSSIERS CLOS 2021'!$B:$B,'STATISTIQUES GLOBALES'!G2,'LISTE DOSSIERS CLOS 2021'!$I:$I,"NON") -> 1 | H28: =COUNTIFS('LISTE DOSSIERS CLOS 2022'!$C:$C,"<>S",'LISTE DOSSIERS CLOS 2022'!$B:$B,'STATISTIQUES GLOBALES'!G2,'LISTE DOSSIERS CLOS 2022'!$I:$I,"NON") -> 3 | I28: =COUNTIFS('LISTE DOSSIERS CLOS 2021'!$C:$C,"<>S",'LISTE DOSSIERS CLOS 2021'!$B:$B,'STATISTIQUES GLOBALES'!I2,'LISTE DOSSIERS CLOS 2021'!$I:$I,"NON") -> 3 | J28: =COUNTIFS('LISTE DOSSIERS CLOS 2022'!$C:$C,"<>S",'LISTE DOSSIERS CLOS 2022'!$B:$B,'STATISTIQUES GLOBALES'!I2,'LISTE DOSSIERS CLOS 2022'!$I:$I,"NON") -> 1 | K28: =SUM(C28,E28,G28,I28) -> 11 | L28: =SUM(D28,F28,H28,J28) -> 8
B29: NOMBRE DE DOSSIERS "AUTRES" AVEC TIERS | C29: =COUNTIFS('LISTE DOSSIERS CLOS 2021'!$C:$C,"<>S",'LISTE DOSSIERS CLOS 2021'!$B:$B,'STATISTIQUES GLOBALES'!C2,'LISTE DOSSIERS CLOS 2021'!$K:$K,"OUI") -> 8 | D29: =COUNTIFS('LISTE DOSSIERS CLOS 2022'!$C:$C,"<>S",'LISTE DOSSIERS CLOS 2022'!$B:$B,'STATISTIQUES GLOBALES'!C2,'LISTE DOSSIERS CLOS 2022'!$K:$K,"OUI") -> 5 | E29: =COUNTIFS('LISTE DOSSIERS CLOS 2021'!$C:$C,"<>S",'LISTE DOSSIERS CLOS 2021'!$B:$B,'STATISTIQUES GLOBALES'!E2,'LISTE DOSSIERS CLOS 2021'!$K:$K,"OUI") -> 4 | F29: =COUNTIFS('LISTE DOSSIERS CLOS 2022'!$C:$C,"<>S",'LISTE DOSSIERS CLOS 2022'!$B:$B,'STATISTIQUES GLOBALES'!E2,'LISTE DOSSIERS CLOS 2022'!$K:$K,"OUI") -> 0 | G29: =COUNTIFS('LISTE DOSSIERS CLOS 2021'!$C:$C,"<>S",'LISTE DOSSIERS CLOS 2021'!$B:$B,'STATISTIQUES GLOBALES'!G2,'LISTE DOSSIERS CLOS 2021'!$K:$K,"OUI") -> 0 | H29: =COUNTIFS('LISTE DOSSIERS CLOS 2022'!$C:$C,"<>S",'LISTE DOSSIERS CLOS 2022'!$B:$B,'STATISTIQUES GLOBALES'!G2,'LISTE DOSSIERS CLOS 2022'!$K:$K,"OUI") -> 4 | I29: =COUNTIFS('LISTE DOSSIERS CLOS 2021'!$C:$C,"<>S",'LISTE DOSSIERS CLOS 2021'!$B:$B,'STATISTIQUES GLOBALES'!I2,'LISTE DOSSIERS CLOS 2021'!$K:$K,"OUI") -> 4 | J29: =COUNTIFS('LISTE DOSSIERS CLOS 2022'!$C:$C,"<>S",'LISTE DOSSIERS CLOS 2022'!$B:$B,'STATISTIQUES GLOBALES'!I2,'LISTE DOSSIERS CLOS 2022'!$K:$K,"OUI") -> 0 | K29: =SUM(C29,E29,G29,I29) -> 16 | L29: =SUM(D29,F29,H29,J29) -> 9
B30: MOYENNE DUREE DOSSIERS "AUTRES" AVEC TIERS | C30: =AVERAGEIFS('LISTE DOSSIERS CLOS 2021'!$H:$H,'LISTE DOSSIERS CLOS 2021'!$C:$C,"<>S",'LISTE DOSSIERS CLOS 2021'!$B:$B,"CS",'LISTE DOSSIERS CLOS 2021'!$K:$K,"OUI") -> 96.375 | D30: =AVERAGEIFS('LISTE DOSSIERS CLOS 2022'!$H:$H,'LISTE DOSSIERS CLOS 2022'!$C:$C,"<>S",'LISTE DOSSIERS CLOS 2022'!$B:$B,"CS",'LISTE DOSSIERS CLOS 2022'!$K:$K,"OUI") -> 109.6 | E30: =AVERAGEIFS('LISTE DOSSIERS CLOS 2021'!$H:$H,'LISTE DOSSIERS CLOS 2021'!$C:$C,"<>S",'LISTE DOSSIERS CLOS 2021'!$B:$B,"PAP",'LISTE DOSSIERS CLOS 2021'!$K:$K,"OUI") -> 68.75 | F30: =AVERAGEIFS('LISTE DOSSIERS CLOS 2022'!$H:$H,'LISTE DOSSIERS CLOS 2022'!$C:$C,"<>S",'LISTE DOSSIERS CLOS 2022'!$B:$B,"PAP",'LISTE DOSSIERS CLOS 2022'!$K:$K,"OUI") -> #DIV/0! | G30: =AVERAGEIFS('LISTE DOSSIERS CLOS 2021'!$H:$H,'LISTE DOSSIERS CLOS 2021'!$C:$C,"<>S",'LISTE DOSSIERS CLOS 2021'!$B:$B,"jl",'LISTE DOSSIERS CLOS 2021'!$K:$K,"OUI") -> #DIV/0! | H30: =AVERAGEIFS('LISTE DOSSIERS CLOS 2022'!$H:$H,'LISTE DOSSIERS CLOS 2022'!$C:$C,"<>S",'LISTE DOSSIERS CLOS 2022'!$B:$B,"jl",'LISTE DOSSIERS CLOS 2022'!$K:$K,"OUI") -> 104.75 | I30: =AVERAGEIFS('LISTE DOSSIERS CLOS 2021'!$H:$H,'LISTE DOSSIERS CLOS 2021'!$C:$C,"<>S",'LISTE DOSSIERS CLOS 2021'!$B:$B,"FC",'LISTE DOSSIERS CLOS 2021'!$K:$K,"OUI") -> 201.5 | J30: =AVERAGEIFS('LISTE DOSSIERS CLOS 2022'!$H:$H,'LISTE DOSSIERS CLOS 2022'!$C:$C,"<>S",'LISTE DOSSIERS CLOS 2022'!$B:$B,"FC",'LISTE DOSSIERS CLOS 2022'!$K:$K,"OUI") -> #DIV/0! | K30: =AVERAGE(C30,E30,G30,I30) -> #DIV/0! | L30: =AVERAGE(D30,F30,H30,J30) -> #DIV/0!
B31: NOMBRE DE DOSSIERS "AUTRES" SANS TIERS | C31: =COUNTIFS('LISTE DOSSIERS CLOS 2021'!$C:$C,"<>S",'LISTE DOSSIERS CLOS 2021'!$B:$B,'STATISTIQUES GLOBALES'!C2,'LISTE DOSSIERS CLOS 2021'!$K:$K,"NON") -> 5 | D31: =COUNTIFS('LISTE DOSSIERS CLOS 2022'!$C:$C,"<>S",'LISTE DOSSIERS CLOS 2022'!$B:$B,'STATISTIQUES GLOBALES'!C2,'LISTE DOSSIERS CLOS 2022'!$K:$K,"NON") -> 3 | E31: =COUNTIFS('LISTE DOSSIERS CLOS 2021'!$C:$C,"<>S",'LISTE DOSSIERS CLOS 2021'!$B:$B,'STATISTIQUES GLOBALES'!E2,'LISTE DOSSIERS CLOS 2021'!$K:$K,"NON") -> 2 | F31: =COUNTIFS('LISTE DOSSIERS CLOS 2022'!$C:$C,"<>S",'LISTE DOSSIERS CLOS 2022'!$B:$B,'STATISTIQUES GLOBALES'!E2,'LISTE DOSSIERS CLOS 2022'!$K:$K,"NON") -> 1 | G31: =COUNTIFS('LISTE DOSSIERS CLOS 2021'!$C:$C,"<>S",'LISTE DOSSIERS CLOS 2021'!$B:$B,'STATISTIQUES GLOBALES'!G2,'LISTE DOSSIERS CLOS 2021'!$K:$K,"NON") -> 1 | H31: =COUNTIFS('LISTE DOSSIERS CLOS 2022'!$C:$C,"<>S",'LISTE DOSSIERS CLOS 2022'!$B:$B,'STATISTIQUES GLOBALES'!G2,'LISTE DOSSIERS CLOS 2022'!$K:$K,"NON") -> 2 | I31: =COUNTIFS('LISTE DOSSIERS CLOS 2021'!$C:$C,"<>S",'LISTE DOSSIERS CLOS 2021'!$B:$B,'STATISTIQUES GLOBALES'!I2,'LISTE DOSSIERS CLOS 2021'!$K:$K,"NON") -> 2 | J31: =COUNTIFS('LISTE DOSSIERS CLOS 2022'!$C:$C,"<>S",'LISTE DOSSIERS CLOS 2022'!$B:$B,'STATISTIQUES GLOBALES'!I2,'LISTE DOSSIERS CLOS 2022'!$K:$K,"NON") -> 1 | K31: =SUM(C31,E31,G31,I31) -> 10 | L31: =SUM(D31,F31,H31,J31) -> 7
B32: MOYENNE DUREE DOSSIERS "AUTRES" SANS TIERS | C32: =AVERAGEIFS('LISTE DOSSIERS CLOS 2021'!$H:$H,'LISTE DOSSIERS CLOS 2021'!$C:$C,"<>S",'LISTE DOSSIERS CLOS 2021'!$B:$B,"CS",'LISTE DOSSIERS CLOS 2021'!$K:$K,"NON") -> 404.4 | D32: =AVERAGEIFS('LISTE DOSSIERS CLOS 2022'!$H:$H,'LISTE DOSSIERS CLOS 2022'!$C:$C,"<>S",'LISTE DOSSIERS CLOS 2022'!$B:$B,"CS",'LISTE DOSSIERS CLOS 2022'!$K:$K,"NON") -> 89.333333 | E32: =AVERAGEIFS('LISTE DOSSIERS CLOS 2021'!$H:$H,'LISTE DOSSIERS CLOS 2021'!$C:$C,"<>S",'LISTE DOSSIERS CLOS 2021'!$B:$B,"PAP",'LISTE DOSSIERS CLOS 2021'!$K:$K,"NON") -> 89.5 | F32: =AVERAGEIFS('LISTE DOSSIERS CLOS 2022'!$H:$H,'LISTE DOSSIERS CLOS 2022'!$C:$C,"<>S",'LISTE DOSSIERS CLOS 2022'!$B:$B,"PAP",'LISTE DOSSIERS CLOS 2022'!$K:$K,"NON") -> 106 | G32: =AVERAGEIFS('LISTE DOSSIERS CLOS 2021'!$H:$H,'LISTE DOSSIERS CLOS 2021'!$C:$C,"<>S",'LISTE DOSSIERS CLOS 2021'!$B:$B,"jl",'LISTE DOSSIERS CLOS 2021'!$K:$K,"NON") -> 109 | H32: =AVERAGEIFS('LISTE DOSSIERS CLOS 2022'!$H:$H,'LISTE DOSSIERS CLOS 2022'!$C:$C,"<>S",'LISTE DOSSIERS CLOS 2022'!$B:$B,"jl",'LISTE DOSSIERS CLOS 2022'!$K:$K,"NON") -> 288 | I32: =AVERAGEIFS('LISTE DOSSIERS CLOS 2021'!$H:$H,'LISTE DOSSIERS CLOS 2021'!$C:$C,"<>S",'LISTE DOSSIERS CLOS 2021'!$B:$B,"FC",'LISTE DOSSIERS CLOS 2021'!$K:$K,"NON") -> 478 | J32: =AVERAGEIFS('LISTE DOSSIERS CLOS 2022'!$H:$H,'LISTE DOSSIERS CLOS 2022'!$C:$C,"<>S",'LISTE DOSSIERS CLOS 2022'!$B:$B,"FC",'LISTE DOSSIERS CLOS 2022'!$K:$K,"NON") -> 285 | K32: =AVERAGE(C32,E32,G32,I32) -> 270.225 | L32: =AVERAGE(D32,F32,H32,J32) -> 192.08333
