Workbook

Sheet Résumé
A1: Lien direct : | B1: https://crm.earth-solar.fr/simulation/show/567?tab=administration
A3: Nom : | B3: Fringard

Sheet Suivi admin
H1: Suivi administratif :
A6: Acompte administratif | E6: Acompte 30% | I6: Solde
A7: Lien | B7: Date d'envoi | C7: Statut | D7: Le | E7: Lien | F7: Date d'envoi | G7: Statut | H7: Le | I7: Lien | J7: Date d'envoi | K7: Statut | L7: Le
E8: Ici | F8: 45366 | G8: Payé | H8: 45366
B10: DP envoyée le : | D10: par | F10: N° DP : | I10: Par :
B12: Statut : | C12: Non-opposition | D12: Date : | G12: Contact ABF :
B15: Référence panneau : | C15: ='Suivi technique'!C5 -> Longi-LR-54HTB-425 | D15: Quantité : | E15: ='Suivi technique'!C6 -> 47 | F15: Puissance : | G15: =((IF(C15="Astro 435",435,0)+IF(C15="Longi 430",430,0)+IF(C15="Longi 425",425,0)+IF(C15="Longi 580",580,0))*E15)/1000 -> 0 | H15: kWc
B17: Onduleur 1 : | C17: =NDC!C15 -> 50 | D17: Onduleur 2 : | E17: =NDC!C16 -> 0 | F17: Onduleur 3 : | G17: =NDC!C17 -> 0 | H17: Onduleur 4 : | I17: =NDC!C18 -> 0
B18: kVa : | C18: =(NDC!H15)/1000 -> 0.055 | D18: kVa : | E18: =(NDC!H16)/1000 -> 0 | F18: kVa : | G18: =(NDC!H17)/1000 -> 0 | H18: kVa : | I18: =(NDC!H18)/1000 -> 0 | J18: Puissance Q : | K18: =C18+E18+G18+I18 -> 0.055 | L18: kVa
B20: Description : | C20: Bonjour, je voulais savoir ce que ça donnerait d'afficher cela comme ceci
B23: Type d'installation : | C23: ='Suivi technique'!H6 -> 0
B24: Matériau : | C24: ='Suivi technique'!H5 -> Fibro amianté
A27: Avis final : | E27: Récépissé : | I27: Autre :

Sheet NDC
E2: Outil de dimensionnement
E3: et de répartition de string
A6: Projet : | B6: Defontaine | F6: Installateur :
B8: Choix du panneau : | C8: Longi-LR-54HTB-425 | F8: Nombre : | G8: 47 | H8: =IF(C8="Longi-LR-54HTB-420",420,0)+IF(C8="Longi-LR-54HTB-425",425,0)+IF(C8="Longi-LR-54HTB-430",430,0)+IF(C8="Longi-LR-72HTH-580",580,0)+IF(C8="Astronergy-CHSM54N-HC-435",435,0) -> 425
A10: Connecteur : | B10: Voc : | C10: Isc : | D10: Coef Voc : | E10: Coef Isc : | G10: VocMax : | H10: IscMax :
A11: MC4 | B11: =IF(C8='Variables 2'!K2,'Variables 2'!N2,0)+IF(C8='Variables 2'!K3,'Variables 2'!N3,0)+IF(C8='Variables 2'!K4,'Variables 2'!N4,0)+IF(C8='Variables 2'!K5,'Variables 2'!N5,0)+IF(C8='Variables 2'!K6,'Variables 2'!N6,0) -> 39.23 | C11: =IF(C8='Variables 2'!K2,'Variables 2'!O2,0)+IF(C8='Variables 2'!K3,'Variables 2'!O3,0)+IF(C8='Variables 2'!K4,'Variables 2'!O4,0)+IF(C8='Variables 2'!K5,'Variables 2'!O5,0)+IF(C8='Variables 2'!K6,'Variables 2'!O6,0) -> 13.93 | D11: =IF(C8='Variables 2'!K2,'Variables 2'!P2,0)+IF(C8='Variables 2'!K3,'Variables 2'!P3,0)+IF(C8='Variables 2'!K4,'Variables 2'!P4,0)+IF(C8='Variables 2'!K5,'Variables 2'!P5,0)+IF(C8='Variables 2'!K6,'Variables 2'!P6,0) -> -0.0023 | E11: =IF(C8='Variables 2'!K2,'Variables 2'!Q2,0)+IF(C8='Variables 2'!K3,'Variables 2'!Q3,0)+IF(C8='Variables 2'!K4,'Variables 2'!Q4,0)+IF(C8='Variables 2'!K5,'Variables 2'!Q5,0)+IF(C8='Variables 2'!K6,'Variables 2'!Q6,0) -> 0.0005 | G11: =B11*(1+D11*('Variables 2'!I3-25)) -> 37.876565 | H11: =C11*(1+E11*('Variables 2'!I2-25)) -> 13.616575
D13: U in max | E13: Isc Max | F13: MPPT | G13: Chaine | H13: Max kVa
B15: Choix de l'onduleur 1 : | C15: 50 | D15: =IF(C15='Variables 2'!$A$4,'Variables 2'!$B$4,0)+IF(C15='Variables 2'!$A$5,'Variables 2'!$B$5,0)+IF(C15='Variables 2'!$A$6,'Variables 2'!$B$6,0)+IF(C15='Variables 2'!$A$7,'Variables 2'!$B$7,0)+IF(C15='Variables 2'!$A$8,'Variables 2'!$B$8,0)+IF(C15='Variables 2'!$A$9,'Variables 2'!$B$9,0)+IF(C15='Variables 2'!$A$10,'Variables 2'!$B$10,0)+IF(C15='Variables 2'!$A$12,'Variables 2'!$B$12,0)+IF(C15='Variables 2'!$A$13,'Variables 2'!$B$13,0)+IF(C15='Variables 2'!$A$14,'Variables 2'!$B$14,0)+IF(C15='Variables 2'!$A$15,'Variables 2'!$B$15,0)+IF(C15='Variables 2'!$A$16,'Variables 2'!$B$16,0)+IF(C15='Variables 2'!$A$17,'Variables 2'!$B$17,0)+IF(C15='Variables 2'!$A$19,'Variables 2'!$B$19,0)+IF(C15='Variables 2'!$A$20,'Variables 2'!$B$20,0)+IF(C15='Variables 2'!$A$21,'Variables 2'!$B$21,0)+IF(C15='Variables 2'!$A$22,'Variables 2'!$B$22,0)+IF(C15='Variables 2'!$A$23,'Variables 2'!$B$23,0)+IF(C15='Variables 2'!$A$24,'Variables 2'!$B$24,0)+IF(C15='Variables 2'!$A$25,'Variables 2'!$B$25,0)+IF(C15='Variables 2'!$A$26,'Variables 2'!$B$26,0)+IF(C15='Variables 2'!$A$27,'Variables 2'!$B$27,0) -> 1100 | E15: =IF(C15='Variables 2'!$A$4,'Variables 2'!$C$4,0)+IF(C15='Variables 2'!$A$5,'Variables 2'!$C$5,0)+IF(C15='Variables 2'!$A$6,'Variables 2'!$C$6,0)+IF(C15='Variables 2'!$A$7,'Variables 2'!$C$7,0)+IF(C15='Variables 2'!$A$8,'Variables 2'!$C$8,0)+IF(C15='Variables 2'!$A$9,'Variables 2'!$C$9,0)+IF(C15='Variables 2'!$A$10,'Variables 2'!$C$10,0)+IF(C15='Variables 2'!$A$12,'Variables 2'!$C$12,0)+IF(C15='Variables 2'!$A$13,'Variables 2'!$C$13,0)+IF(C15='Variables 2'!$A$14,'Variables 2'!$C$14,0)+IF(C15='Variables 2'!$A$15,'Variables 2'!$C$15,0)+IF(C15='Variables 2'!$A$16,'Variables 2'!$C$16,0)+IF(C15='Variables 2'!$A$17,'Variables 2'!$C$17,0)+IF(C15='Variables 2'!$A$19,'Variables 2'!$C$19,0)+IF(C15='Variables 2'!$A$20,'Variables 2'!$C$20,0)+IF(C15='Variables 2'!$A$21,'Variables 2'!$C$21,0)+IF(C15='Variables 2'!$A$22,'Variables 2'!$C$22,0)+IF(C15='Variables 2'!$A$23,'Variables 2'!$C$23,0)+IF(C15='Variables 2'!$A$24,'Variables 2'!$C$24,0)+IF(C15='Variables 2'!$A$25,'Variables 2'!$C$25,0)+IF(C15='Variables 2'!$A$26,'Variables 2'!$C$26,0)+IF(C15='Variables 2'!$A$27,'Variables 2'!$C$27,0) -> 37.5 | F15: =IF(C15='Variables 2'!$A$4,'Variables 2'!$D$4,0)+IF(C15='Variables 2'!$A$5,'Variables 2'!$D$5,0)+IF(C15='Variables 2'!$A$6,'Variables 2'!$D$6,0)+IF(C15='Variables 2'!$A$7,'Variables 2'!$D$7,0)+IF(C15='Variables 2'!$A$8,'Variables 2'!$D$8,0)+IF(C15='Variables 2'!$A$9,'Variables 2'!$D$9,0)+IF(C15='Variables 2'!$A$10,'Variables 2'!$D$10,0)+IF(C15='Variables 2'!$A$12,'Variables 2'!$D$12,0)+IF(C15='Variables 2'!$A$13,'Variables 2'!$D$13,0)+IF(C15='Variables 2'!$A$14,'Variables 2'!$D$14,0)+IF(C15='Variables 2'!$A$15,'Variables 2'!$D$15,0)+IF(C15='Variables 2'!$A$16,'Variables 2'!$D$16,0)+IF(C15='Variables 2'!$A$17,'Variables 2'!$D$17,0)+IF(C15='Variables 2'!$A$19,'Variables 2'!$D$19,0)+IF(C15='Variables 2'!$A$20,'Variables 2'!$D$20,0)+IF(C15='Variables 2'!$A$21,'Variables 2'!$D$21,0)+IF(C15='Variables 2'!$A$22,'Variables 2'!$D$22,0)+IF(C15='Variables 2'!$A$23,'Variables 2'!$D$23,0)+IF(C15='Variables 2'!$A$24,'Variables 2'!$D$24,0)+IF(C15='Variables 2'!$A$25,'Variables 2'!$D$25,0)+IF(C15='Variables 2'!$A$26,'Variables 2'!$D$26,0)+IF(C15='Variables 2'!$A$27,'Variables 2'!$D$27,0) -> 5 | G15: =IF(C15='Variables 2'!$A$4,'Variables 2'!$E$4,0)+IF(C15='Variables 2'!$A$5,'Variables 2'!$E$5,0)+IF(C15='Variables 2'!$A$6,'Variables 2'!$E$6,0)+IF(C15='Variables 2'!$A$7,'Variables 2'!$E$7,0)+IF(C15='Variables 2'!$A$8,'Variables 2'!$E$8,0)+IF(C15='Variables 2'!$A$9,'Variables 2'!$E$9,0)+IF(C15='Variables 2'!$A$10,'Variables 2'!$E$10,0)+IF(C15='Variables 2'!$A$12,'Variables 2'!$E$12,0)+IF(C15='Variables 2'!$A$13,'Variables 2'!$E$13,0)+IF(C15='Variables 2'!$A$14,'Variables 2'!$E$14,0)+IF(C15='Variables 2'!$A$15,'Variables 2'!$E$15,0)+IF(C15='Variables 2'!$A$16,'Variables 2'!$E$16,0)+IF(C15='Variables 2'!$A$17,'Variables 2'!$E$17,0)+IF(C15='Variables 2'!$A$19,'Variables 2'!$E$19,0)+IF(C15='Variables 2'!$A$20,'Variables 2'!$E$20,0)+IF(C15='Variables 2'!$A$21,'Variables 2'!$E$21,0)+IF(C15='Variables 2'!$A$22,'Variables 2'!$E$22,0)+IF(C15='Variables 2'!$A$23,'Variables 2'!$E$23,0)+IF(C15='Variables 2'!$A$24,'Variables 2'!$E$24,0)+IF(C15='Variables 2'!$A$25,'Variables 2'!$E$25,0)+IF(C15='Variables 2'!$A$26,'Variables 2'!$E$26,0)+IF(C15='Variables 2'!$A$27,'Variables 2'!$E$27,0) -> 2 | H15: =IF(C15='Variables 2'!$A$4,'Variables 2'!$F$4,0)+IF(C15='Variables 2'!$A$5,'Variables 2'!$F$5,0)+IF(C15='Variables 2'!$A$6,'Variables 2'!$F$6,0)+IF(C15='Variables 2'!$A$7,'Variables 2'!$F$7,0)+IF(C15='Variables 2'!$A$8,'Variables 2'!$F$8,0)+IF(C15='Variables 2'!$A$9,'Variables 2'!$F$9,0)+IF(C15='Variables 2'!$A$10,'Variables 2'!$F$10,0)+IF(C15='Variables 2'!$A$12,'Variables 2'!$F$12,0)+IF(C15='Variables 2'!$A$13,'Variables 2'!$F$13,0)+IF(C15='Variables 2'!$A$14,'Variables 2'!$F$14,0)+IF(C15='Variables 2'!$A$15,'Variables 2'!$F$15,0)+IF(C15='Variables 2'!$A$16,'Variables 2'!$F$16,0)+IF(C15='Variables 2'!$A$17,'Variables 2'!$F$17,0)+IF(C15='Variables 2'!$A$19,'Variables 2'!$F$19,0)+IF(C15='Variables 2'!$A$20,'Variables 2'!$F$20,0)+IF(C15='Variables 2'!$A$21,'Variables 2'!$F$21,0)+IF(C15='Variables 2'!$A$22,'Variables 2'!$F$22,0)+IF(C15='Variables 2'!$A$23,'Variables 2'!$F$23,0)+IF(C15='Variables 2'!$A$24,'Variables 2'!$F$24,0)+IF(C15='Variables 2'!$A$25,'Variables 2'!$F$25,0)+IF(C15='Variables 2'!$A$26,'Variables 2'!$F$26,0)+IF(C15='Variables 2'!$A$27,'Variables 2'!$F$27,0) -> 55
B16: Choix de l'onduleur 2 : | D16: =IF(C16='Variables 2'!$A$4,'Variables 2'!$B$4,0)+IF(C16='Variables 2'!$A$5,'Variables 2'!$B$5,0)+IF(C16='Variables 2'!$A$6,'Variables 2'!$B$6,0)+IF(C16='Variables 2'!$A$7,'Variables 2'!$B$7,0)+IF(C16='Variables 2'!$A$8,'Variables 2'!$B$8,0)+IF(C16='Variables 2'!$A$9,'Variables 2'!$B$9,0)+IF(C16='Variables 2'!$A$10,'Variables 2'!$B$10,0)+IF(C16='Variables 2'!$A$12,'Variables 2'!$B$12,0)+IF(C16='Variables 2'!$A$13,'Variables 2'!$B$13,0)+IF(C16='Variables 2'!$A$14,'Variables 2'!$B$14,0)+IF(C16='Variables 2'!$A$15,'Variables 2'!$B$15,0)+IF(C16='Variables 2'!$A$16,'Variables 2'!$B$16,0)+IF(C16='Variables 2'!$A$17,'Variables 2'!$B$17,0)+IF(C16='Variables 2'!$A$19,'Variables 2'!$B$19,0)+IF(C16='Variables 2'!$A$20,'Variables 2'!$B$20,0)+IF(C16='Variables 2'!$A$21,'Variables 2'!$B$21,0)+IF(C16='Variables 2'!$A$22,'Variables 2'!$B$22,0)+IF(C16='Variables 2'!$A$23,'Variables 2'!$B$23,0)+IF(C16='Variables 2'!$A$24,'Variables 2'!$B$24,0)+IF(C16='Variables 2'!$A$25,'Variables 2'!$B$25,0)+IF(C16='Variables 2'!$A$26,'Variables 2'!$B$26,0)+IF(C16='Variables 2'!$A$27,'Variables 2'!$B$27,0) -> 0 | E16: =IF(C16='Variables 2'!$A$4,'Variables 2'!$C$4,0)+IF(C16='Variables 2'!$A$5,'Variables 2'!$C$5,0)+IF(C16='Variables 2'!$A$6,'Variables 2'!$C$6,0)+IF(C16='Variables 2'!$A$7,'Variables 2'!$C$7,0)+IF(C16='Variables 2'!$A$8,'Variables 2'!$C$8,0)+IF(C16='Variables 2'!$A$9,'Variables 2'!$C$9,0)+IF(C16='Variables 2'!$A$10,'Variables 2'!$C$10,0)+IF(C16='Variables 2'!$A$12,'Variables 2'!$C$12,0)+IF(C16='Variables 2'!$A$13,'Variables 2'!$C$13,0)+IF(C16='Variables 2'!$A$14,'Variables 2'!$C$14,0)+IF(C16='Variables 2'!$A$15,'Variables 2'!$C$15,0)+IF(C16='Variables 2'!$A$16,'Variables 2'!$C$16,0)+IF(C16='Variables 2'!$A$17,'Variables 2'!$C$17,0)+IF(C16='Variables 2'!$A$19,'Variables 2'!$C$19,0)+IF(C16='Variables 2'!$A$20,'Variables 2'!$C$20,0)+IF(C16='Variables 2'!$A$21,'Variables 2'!$C$21,0)+IF(C16='Variables 2'!$A$22,'Variables 2'!$C$22,0)+IF(C16='Variables 2'!$A$23,'Variables 2'!$C$23,0)+IF(C16='Variables 2'!$A$24,'Variables 2'!$C$24,0)+IF(C16='Variables 2'!$A$25,'Variables 2'!$C$25,0)+IF(C16='Variables 2'!$A$26,'Variables 2'!$C$26,0)+IF(C16='Variables 2'!$A$27,'Variables 2'!$C$27,0) -> 0 | F16: =IF(C16='Variables 2'!$A$4,'Variables 2'!$D$4,0)+IF(C16='Variables 2'!$A$5,'Variables 2'!$D$5,0)+IF(C16='Variables 2'!$A$6,'Variables 2'!$D$6,0)+IF(C16='Variables 2'!$A$7,'Variables 2'!$D$7,0)+IF(C16='Variables 2'!$A$8,'Variables 2'!$D$8,0)+IF(C16='Variables 2'!$A$9,'Variables 2'!$D$9,0)+IF(C16='Variables 2'!$A$10,'Variables 2'!$D$10,0)+IF(C16='Variables 2'!$A$12,'Variables 2'!$D$12,0)+IF(C16='Variables 2'!$A$13,'Variables 2'!$D$13,0)+IF(C16='Variables 2'!$A$14,'Variables 2'!$D$14,0)+IF(C16='Variables 2'!$A$15,'Variables 2'!$D$15,0)+IF(C16='Variables 2'!$A$16,'Variables 2'!$D$16,0)+IF(C16='Variables 2'!$A$17,'Variables 2'!$D$17,0)+IF(C16='Variables 2'!$A$19,'Variables 2'!$D$19,0)+IF(C16='Variables 2'!$A$20,'Variables 2'!$D$20,0)+IF(C16='Variables 2'!$A$21,'Variables 2'!$D$21,0)+IF(C16='Variables 2'!$A$22,'Variables 2'!$D$22,0)+IF(C16='Variables 2'!$A$23,'Variables 2'!$D$23,0)+IF(C16='Variables 2'!$A$24,'Variables 2'!$D$24,0)+IF(C16='Variables 2'!$A$25,'Variables 2'!$D$25,0)+IF(C16='Variables 2'!$A$26,'Variables 2'!$D$26,0)+IF(C16='Variables 2'!$A$27,'Variables 2'!$D$27,0) -> 0 | G16: =IF(C16='Variables 2'!$A$4,'Variables 2'!$E$4,0)+IF(C16='Variables 2'!$A$5,'Variables 2'!$E$5,0)+IF(C16='Variables 2'!$A$6,'Variables 2'!$E$6,0)+IF(C16='Variables 2'!$A$7,'Variables 2'!$E$7,0)+IF(C16='Variables 2'!$A$8,'Variables 2'!$E$8,0)+IF(C16='Variables 2'!$A$9,'Variables 2'!$E$9,0)+IF(C16='Variables 2'!$A$10,'Variables 2'!$E$10,0)+IF(C16='Variables 2'!$A$12,'Variables 2'!$E$12,0)+IF(C16='Variables 2'!$A$13,'Variables 2'!$E$13,0)+IF(C16='Variables 2'!$A$14,'Variables 2'!$E$14,0)+IF(C16='Variables 2'!$A$15,'Variables 2'!$E$15,0)+IF(C16='Variables 2'!$A$16,'Variables 2'!$E$16,0)+IF(C16='Variables 2'!$A$17,'Variables 2'!$E$17,0)+IF(C16='Variables 2'!$A$19,'Variables 2'!$E$19,0)+IF(C16='Variables 2'!$A$20,'Variables 2'!$E$20,0)+IF(C16='Variables 2'!$A$21,'Variables 2'!$E$21,0)+IF(C16='Variables 2'!$A$22,'Variables 2'!$E$22,0)+IF(C16='Variables 2'!$A$23,'Variables 2'!$E$23,0)+IF(C16='Variables 2'!$A$24,'Variables 2'!$E$24,0)+IF(C16='Variables 2'!$A$25,'Variables 2'!$E$25,0)+IF(C16='Variables 2'!$A$26,'Variables 2'!$E$26,0)+IF(C16='Variables 2'!$A$27,'Variables 2'!$E$27,0) -> 0 | H16: =IF(C16='Variables 2'!$A$4,'Variables 2'!$F$4,0)+IF(C16='Variables 2'!$A$5,'Variables 2'!$F$5,0)+IF(C16='Variables 2'!$A$6,'Variables 2'!$F$6,0)+IF(C16='Variables 2'!$A$7,'Variables 2'!$F$7,0)+IF(C16='Variables 2'!$A$8,'Variables 2'!$F$8,0)+IF(C16='Variables 2'!$A$9,'Variables 2'!$F$9,0)+IF(C16='Variables 2'!$A$10,'Variables 2'!$F$10,0)+IF(C16='Variables 2'!$A$12,'Variables 2'!$F$12,0)+IF(C16='Variables 2'!$A$13,'Variables 2'!$F$13,0)+IF(C16='Variables 2'!$A$14,'Variables 2'!$F$14,0)+IF(C16='Variables 2'!$A$15,'Variables 2'!$F$15,0)+IF(C16='Variables 2'!$A$16,'Variables 2'!$F$16,0)+IF(C16='Variables 2'!$A$17,'Variables 2'!$F$17,0)+IF(C16='Variables 2'!$A$19,'Variables 2'!$F$19,0)+IF(C16='Variables 2'!$A$20,'Variables 2'!$F$20,0)+IF(C16='Variables 2'!$A$21,'Variables 2'!$F$21,0)+IF(C16='Variables 2'!$A$22,'Variables 2'!$F$22,0)+IF(C16='Variables 2'!$A$23,'Variables 2'!$F$23,0)+IF(C16='Variables 2'!$A$24,'Variables 2'!$F$24,0)+IF(C16='Variables 2'!$A$25,'Variables 2'!$F$25,0)+IF(C16='Variables 2'!$A$26,'Variables 2'!$F$26,0)+IF(C16='Variables 2'!$A$27,'Variables 2'!$F$27,0) -> 0
B17: Choix de l'onduleur 3 : | D17: =IF(C17='Variables 2'!$A$4,'Variables 2'!$B$4,0)+IF(C17='Variables 2'!$A$5,'Variables 2'!$B$5,0)+IF(C17='Variables 2'!$A$6,'Variables 2'!$B$6,0)+IF(C17='Variables 2'!$A$7,'Variables 2'!$B$7,0)+IF(C17='Variables 2'!$A$8,'Variables 2'!$B$8,0)+IF(C17='Variables 2'!$A$9,'Variables 2'!$B$9,0)+IF(C17='Variables 2'!$A$10,'Variables 2'!$B$10,0)+IF(C17='Variables 2'!$A$12,'Variables 2'!$B$12,0)+IF(C17='Variables 2'!$A$13,'Variables 2'!$B$13,0)+IF(C17='Variables 2'!$A$14,'Variables 2'!$B$14,0)+IF(C17='Variables 2'!$A$15,'Variables 2'!$B$15,0)+IF(C17='Variables 2'!$A$16,'Variables 2'!$B$16,0)+IF(C17='Variables 2'!$A$17,'Variables 2'!$B$17,0)+IF(C17='Variables 2'!$A$19,'Variables 2'!$B$19,0)+IF(C17='Variables 2'!$A$20,'Variables 2'!$B$20,0)+IF(C17='Variables 2'!$A$21,'Variables 2'!$B$21,0)+IF(C17='Variables 2'!$A$22,'Variables 2'!$B$22,0)+IF(C17='Variables 2'!$A$23,'Variables 2'!$B$23,0)+IF(C17='Variables 2'!$A$24,'Variables 2'!$B$24,0)+IF(C17='Variables 2'!$A$25,'Variables 2'!$B$25,0)+IF(C17='Variables 2'!$A$26,'Variables 2'!$B$26,0)+IF(C17='Variables 2'!$A$27,'Variables 2'!$B$27,0) -> 0 | E17: =IF(C17='Variables 2'!$A$4,'Variables 2'!$C$4,0)+IF(C17='Variables 2'!$A$5,'Variables 2'!$C$5,0)+IF(C17='Variables 2'!$A$6,'Variables 2'!$C$6,0)+IF(C17='Variables 2'!$A$7,'Variables 2'!$C$7,0)+IF(C17='Variables 2'!$A$8,'Variables 2'!$C$8,0)+IF(C17='Variables 2'!$A$9,'Variables 2'!$C$9,0)+IF(C17='Variables 2'!$A$10,'Variables 2'!$C$10,0)+IF(C17='Variables 2'!$A$12,'Variables 2'!$C$12,0)+IF(C17='Variables 2'!$A$13,'Variables 2'!$C$13,0)+IF(C17='Variables 2'!$A$14,'Variables 2'!$C$14,0)+IF(C17='Variables 2'!$A$15,'Variables 2'!$C$15,0)+IF(C17='Variables 2'!$A$16,'Variables 2'!$C$16,0)+IF(C17='Variables 2'!$A$17,'Variables 2'!$C$17,0)+IF(C17='Variables 2'!$A$19,'Variables 2'!$C$19,0)+IF(C17='Variables 2'!$A$20,'Variables 2'!$C$20,0)+IF(C17='Variables 2'!$A$21,'Variables 2'!$C$21,0)+IF(C17='Variables 2'!$A$22,'Variables 2'!$C$22,0)+IF(C17='Variables 2'!$A$23,'Variables 2'!$C$23,0)+IF(C17='Variables 2'!$A$24,'Variables 2'!$C$24,0)+IF(C17='Variables 2'!$A$25,'Variables 2'!$C$25,0)+IF(C17='Variables 2'!$A$26,'Variables 2'!$C$26,0)+IF(C17='Variables 2'!$A$27,'Variables 2'!$C$27,0) -> 0 | F17: =IF(C17='Variables 2'!$A$4,'Variables 2'!$D$4,0)+IF(C17='Variables 2'!$A$5,'Variables 2'!$D$5,0)+IF(C17='Variables 2'!$A$6,'Variables 2'!$D$6,0)+IF(C17='Variables 2'!$A$7,'Variables 2'!$D$7,0)+IF(C17='Variables 2'!$A$8,'Variables 2'!$D$8,0)+IF(C17='Variables 2'!$A$9,'Variables 2'!$D$9,0)+IF(C17='Variables 2'!$A$10,'Variables 2'!$D$10,0)+IF(C17='Variables 2'!$A$12,'Variables 2'!$D$12,0)+IF(C17='Variables 2'!$A$13,'Variables 2'!$D$13,0)+IF(C17='Variables 2'!$A$14,'Variables 2'!$D$14,0)+IF(C17='Variables 2'!$A$15,'Variables 2'!$D$15,0)+IF(C17='Variables 2'!$A$16,'Variables 2'!$D$16,0)+IF(C17='Variables 2'!$A$17,'Variables 2'!$D$17,0)+IF(C17='Variables 2'!$A$19,'Variables 2'!$D$19,0)+IF(C17='Variables 2'!$A$20,'Variables 2'!$D$20,0)+IF(C17='Variables 2'!$A$21,'Variables 2'!$D$21,0)+IF(C17='Variables 2'!$A$22,'Variables 2'!$D$22,0)+IF(C17='Variables 2'!$A$23,'Variables 2'!$D$23,0)+IF(C17='Variables 2'!$A$24,'Variables 2'!$D$24,0)+IF(C17='Variables 2'!$A$25,'Variables 2'!$D$25,0)+IF(C17='Variables 2'!$A$26,'Variables 2'!$D$26,0)+IF(C17='Variables 2'!$A$27,'Variables 2'!$D$27,0) -> 0 | G17: =IF(C17='Variables 2'!$A$4,'Variables 2'!$E$4,0)+IF(C17='Variables 2'!$A$5,'Variables 2'!$E$5,0)+IF(C17='Variables 2'!$A$6,'Variables 2'!$E$6,0)+IF(C17='Variables 2'!$A$7,'Variables 2'!$E$7,0)+IF(C17='Variables 2'!$A$8,'Variables 2'!$E$8,0)+IF(C17='Variables 2'!$A$9,'Variables 2'!$E$9,0)+IF(C17='Variables 2'!$A$10,'Variables 2'!$E$10,0)+IF(C17='Variables 2'!$A$12,'Variables 2'!$E$12,0)+IF(C17='Variables 2'!$A$13,'Variables 2'!$E$13,0)+IF(C17='Variables 2'!$A$14,'Variables 2'!$E$14,0)+IF(C17='Variables 2'!$A$15,'Variables 2'!$E$15,0)+IF(C17='Variables 2'!$A$16,'Variables 2'!$E$16,0)+IF(C17='Variables 2'!$A$17,'Variables 2'!$E$17,0)+IF(C17='Variables 2'!$A$19,'Variables 2'!$E$19,0)+IF(C17='Variables 2'!$A$20,'Variables 2'!$E$20,0)+IF(C17='Variables 2'!$A$21,'Variables 2'!$E$21,0)+IF(C17='Variables 2'!$A$22,'Variables 2'!$E$22,0)+IF(C17='Variables 2'!$A$23,'Variables 2'!$E$23,0)+IF(C17='Variables 2'!$A$24,'Variables 2'!$E$24,0)+IF(C17='Variables 2'!$A$25,'Variables 2'!$E$25,0)+IF(C17='Variables 2'!$A$26,'Variables 2'!$E$26,0)+IF(C17='Variables 2'!$A$27,'Variables 2'!$E$27,0) -> 0 | H17: =IF(C17='Variables 2'!$A$4,'Variables 2'!$F$4,0)+IF(C17='Variables 2'!$A$5,'Variables 2'!$F$5,0)+IF(C17='Variables 2'!$A$6,'Variables 2'!$F$6,0)+IF(C17='Variables 2'!$A$7,'Variables 2'!$F$7,0)+IF(C17='Variables 2'!$A$8,'Variables 2'!$F$8,0)+IF(C17='Variables 2'!$A$9,'Variables 2'!$F$9,0)+IF(C17='Variables 2'!$A$10,'Variables 2'!$F$10,0)+IF(C17='Variables 2'!$A$12,'Variables 2'!$F$12,0)+IF(C17='Variables 2'!$A$13,'Variables 2'!$F$13,0)+IF(C17='Variables 2'!$A$14,'Variables 2'!$F$14,0)+IF(C17='Variables 2'!$A$15,'Variables 2'!$F$15,0)+IF(C17='Variables 2'!$A$16,'Variables 2'!$F$16,0)+IF(C17='Variables 2'!$A$17,'Variables 2'!$F$17,0)+IF(C17='Variables 2'!$A$19,'Variables 2'!$F$19,0)+IF(C17='Variables 2'!$A$20,'Variables 2'!$F$20,0)+IF(C17='Variables 2'!$A$21,'Variables 2'!$F$21,0)+IF(C17='Variables 2'!$A$22,'Variables 2'!$F$22,0)+IF(C17='Variables 2'!$A$23,'Variables 2'!$F$23,0)+IF(C17='Variables 2'!$A$24,'Variables 2'!$F$24,0)+IF(C17='Variables 2'!$A$25,'Variables 2'!$F$25,0)+IF(C17='Variables 2'!$A$26,'Variables 2'!$F$26,0)+IF(C17='Variables 2'!$A$27,'Variables 2'!$F$27,0) -> 0
B18: Choix de l'onduleur 4 : | D18: =IF(C18='Variables 2'!$A$4,'Variables 2'!$B$4,0)+IF(C18='Variables 2'!$A$5,'Variables 2'!$B$5,0)+IF(C18='Variables 2'!$A$6,'Variables 2'!$B$6,0)+IF(C18='Variables 2'!$A$7,'Variables 2'!$B$7,0)+IF(C18='Variables 2'!$A$8,'Variables 2'!$B$8,0)+IF(C18='Variables 2'!$A$9,'Variables 2'!$B$9,0)+IF(C18='Variables 2'!$A$10,'Variables 2'!$B$10,0)+IF(C18='Variables 2'!$A$12,'Variables 2'!$B$12,0)+IF(C18='Variables 2'!$A$13,'Variables 2'!$B$13,0)+IF(C18='Variables 2'!$A$14,'Variables 2'!$B$14,0)+IF(C18='Variables 2'!$A$15,'Variables 2'!$B$15,0)+IF(C18='Variables 2'!$A$16,'Variables 2'!$B$16,0)+IF(C18='Variables 2'!$A$17,'Variables 2'!$B$17,0)+IF(C18='Variables 2'!$A$19,'Variables 2'!$B$19,0)+IF(C18='Variables 2'!$A$20,'Variables 2'!$B$20,0)+IF(C18='Variables 2'!$A$21,'Variables 2'!$B$21,0)+IF(C18='Variables 2'!$A$22,'Variables 2'!$B$22,0)+IF(C18='Variables 2'!$A$23,'Variables 2'!$B$23,0)+IF(C18='Variables 2'!$A$24,'Variables 2'!$B$24,0)+IF(C18='Variables 2'!$A$25,'Variables 2'!$B$25,0)+IF(C18='Variables 2'!$A$26,'Variables 2'!$B$26,0)+IF(C18='Variables 2'!$A$27,'Variables 2'!$B$27,0) -> 0 | E18: =IF(C18='Variables 2'!$A$4,'Variables 2'!$C$4,0)+IF(C18='Variables 2'!$A$5,'Variables 2'!$C$5,0)+IF(C18='Variables 2'!$A$6,'Variables 2'!$C$6,0)+IF(C18='Variables 2'!$A$7,'Variables 2'!$C$7,0)+IF(C18='Variables 2'!$A$8,'Variables 2'!$C$8,0)+IF(C18='Variables 2'!$A$9,'Variables 2'!$C$9,0)+IF(C18='Variables 2'!$A$10,'Variables 2'!$C$10,0)+IF(C18='Variables 2'!$A$12,'Variables 2'!$C$12,0)+IF(C18='Variables 2'!$A$13,'Variables 2'!$C$13,0)+IF(C18='Variables 2'!$A$14,'Variables 2'!$C$14,0)+IF(C18='Variables 2'!$A$15,'Variables 2'!$C$15,0)+IF(C18='Variables 2'!$A$16,'Variables 2'!$C$16,0)+IF(C18='Variables 2'!$A$17,'Variables 2'!$C$17,0)+IF(C18='Variables 2'!$A$19,'Variables 2'!$C$19,0)+IF(C18='Variables 2'!$A$20,'Variables 2'!$C$20,0)+IF(C18='Variables 2'!$A$21,'Variables 2'!$C$21,0)+IF(C18='Variables 2'!$A$22,'Variables 2'!$C$22,0)+IF(C18='Variables 2'!$A$23,'Variables 2'!$C$23,0)+IF(C18='Variables 2'!$A$24,'Variables 2'!$C$24,0)+IF(C18='Variables 2'!$A$25,'Variables 2'!$C$25,0)+IF(C18='Variables 2'!$A$26,'Variables 2'!$C$26,0)+IF(C18='Variables 2'!$A$27,'Variables 2'!$C$27,0) -> 0 | F18: =IF(C18='Variables 2'!$A$4,'Variables 2'!$D$4,0)+IF(C18='Variables 2'!$A$5,'Variables 2'!$D$5,0)+IF(C18='Variables 2'!$A$6,'Variables 2'!$D$6,0)+IF(C18='Variables 2'!$A$7,'Variables 2'!$D$7,0)+IF(C18='Variables 2'!$A$8,'Variables 2'!$D$8,0)+IF(C18='Variables 2'!$A$9,'Variables 2'!$D$9,0)+IF(C18='Variables 2'!$A$10,'Variables 2'!$D$10,0)+IF(C18='Variables 2'!$A$12,'Variables 2'!$D$12,0)+IF(C18='Variables 2'!$A$13,'Variables 2'!$D$13,0)+IF(C18='Variables 2'!$A$14,'Variables 2'!$D$14,0)+IF(C18='Variables 2'!$A$15,'Variables 2'!$D$15,0)+IF(C18='Variables 2'!$A$16,'Variables 2'!$D$16,0)+IF(C18='Variables 2'!$A$17,'Variables 2'!$D$17,0)+IF(C18='Variables 2'!$A$19,'Variables 2'!$D$19,0)+IF(C18='Variables 2'!$A$20,'Variables 2'!$D$20,0)+IF(C18='Variables 2'!$A$21,'Variables 2'!$D$21,0)+IF(C18='Variables 2'!$A$22,'Variables 2'!$D$22,0)+IF(C18='Variables 2'!$A$23,'Variables 2'!$D$23,0)+IF(C18='Variables 2'!$A$24,'Variables 2'!$D$24,0)+IF(C18='Variables 2'!$A$25,'Variables 2'!$D$25,0)+IF(C18='Variables 2'!$A$26,'Variables 2'!$D$26,0)+IF(C18='Variables 2'!$A$27,'Variables 2'!$D$27,0) -> 0 | G18: =IF(C18='Variables 2'!$A$4,'Variables 2'!$E$4,0)+IF(C18='Variables 2'!$A$5,'Variables 2'!$E$5,0)+IF(C18='Variables 2'!$A$6,'Variables 2'!$E$6,0)+IF(C18='Variables 2'!$A$7,'Variables 2'!$E$7,0)+IF(C18='Variables 2'!$A$8,'Variables 2'!$E$8,0)+IF(C18='Variables 2'!$A$9,'Variables 2'!$E$9,0)+IF(C18='Variables 2'!$A$10,'Variables 2'!$E$10,0)+IF(C18='Variables 2'!$A$12,'Variables 2'!$E$12,0)+IF(C18='Variables 2'!$A$13,'Variables 2'!$E$13,0)+IF(C18='Variables 2'!$A$14,'Variables 2'!$E$14,0)+IF(C18='Variables 2'!$A$15,'Variables 2'!$E$15,0)+IF(C18='Variables 2'!$A$16,'Variables 2'!$E$16,0)+IF(C18='Variables 2'!$A$17,'Variables 2'!$E$17,0)+IF(C18='Variables 2'!$A$19,'Variables 2'!$E$19,0)+IF(C18='Variables 2'!$A$20,'Variables 2'!$E$20,0)+IF(C18='Variables 2'!$A$21,'Variables 2'!$E$21,0)+IF(C18='Variables 2'!$A$22,'Variables 2'!$E$22,0)+IF(C18='Variables 2'!$A$23,'Variables 2'!$E$23,0)+IF(C18='Variables 2'!$A$24,'Variables 2'!$E$24,0)+IF(C18='Variables 2'!$A$25,'Variables 2'!$E$25,0)+IF(C18='Variables 2'!$A$26,'Variables 2'!$E$26,0)+IF(C18='Variables 2'!$A$27,'Variables 2'!$E$27,0) -> 0 | H18: =IF(C18='Variables 2'!$A$4,'Variables 2'!$F$4,0)+IF(C18='Variables 2'!$A$5,'Variables 2'!$F$5,0)+IF(C18='Variables 2'!$A$6,'Variables 2'!$F$6,0)+IF(C18='Variables 2'!$A$7,'Variables 2'!$F$7,0)+IF(C18='Variables 2'!$A$8,'Variables 2'!$F$8,0)+IF(C18='Variables 2'!$A$9,'Variables 2'!$F$9,0)+IF(C18='Variables 2'!$A$10,'Variables 2'!$F$10,0)+IF(C18='Variables 2'!$A$12,'Variables 2'!$F$12,0)+IF(C18='Variables 2'!$A$13,'Variables 2'!$F$13,0)+IF(C18='Variables 2'!$A$14,'Variables 2'!$F$14,0)+IF(C18='Variables 2'!$A$15,'Variables 2'!$F$15,0)+IF(C18='Variables 2'!$A$16,'Variables 2'!$F$16,0)+IF(C18='Variables 2'!$A$17,'Variables 2'!$F$17,0)+IF(C18='Variables 2'!$A$19,'Variables 2'!$F$19,0)+IF(C18='Variables 2'!$A$20,'Variables 2'!$F$20,0)+IF(C18='Variables 2'!$A$21,'Variables 2'!$F$21,0)+IF(C18='Variables 2'!$A$22,'Variables 2'!$F$22,0)+IF(C18='Variables 2'!$A$23,'Variables 2'!$F$23,0)+IF(C18='Variables 2'!$A$24,'Variables 2'!$F$24,0)+IF(C18='Variables 2'!$A$25,'Variables 2'!$F$25,0)+IF(C18='Variables 2'!$A$26,'Variables 2'!$F$26,0)+IF(C18='Variables 2'!$A$27,'Variables 2'!$F$27,0) -> 0
C20: Max panneaux par chaine | D20: Min panneaux par chaine | E20: Nombre de chaine max
A21: Onduleur 1 : | B21: =C15 -> 50 | C21: =ROUNDDOWN((D15/$G$11),0) -> 29 | D21: =ROUNDUP((C21/2),0) -> 15 | E21: =G15 -> 2
A22: Onduleur 2 : | B22: =C16 -> 0 | C22: =ROUNDDOWN((D16/$G$11),0) -> 0 | D22: =ROUNDUP((C22/2),0) -> 0 | E22: =G16 -> 0
A23: Onduleur 3 : | B23: =C17 -> 0 | C23: =ROUNDDOWN((D17/$G$11),0) -> 0 | D23: =ROUNDUP((C23/2),0) -> 0 | E23: =G17 -> 0
A24: Onduleur 4 : | B24: =C18 -> 0 | C24: =ROUNDDOWN((D18/$G$11),0) -> 0 | D24: =ROUNDUP((C24/2),0) -> 0 | E24: =G18 -> 0
B27: Puissance Centrale : | C27: =G8*H8 -> 19975 | D27: Wc
B28: Section Dc : | C28: 4mm2
B29: Coffret AC : | C29: RI2E | D29: 24-0197 | E29: Bouton ERP : | F29: 1 | G29: Intégré au coffret AC
C31: Métré Onduleur - Coffret AC : | D31: 7 | E31: mètres, en | F31: 5G 6
C32: Métré Coffret AC - Enedis : | D32: 6 | E32: mètres, en | F32: 5G 6
A50: Simulateur de dimensionnement - Créé par Mathieu Gentges - Earth, tous droits réservés
A51: Check | B51: =(SUM(B53:B100)-D51) -> -3 | C51: Max : | D51: =F15+F16+F17+F18 -> 5
B52: MPPT | C52: # Chaine | D52: # panneaux | E52: Total | F52: Sur onduleur
A53: String 1 | B53: 1 | C53: 1 | D53: 24 | E53: =C53*D53 -> 24 | F53: 1 | G53: =IF(F53=1,$C$21,0)+IF(F53=2,$C$22,0)+IF(F53=3,$C$23,0)+IF(F53=4,$C$24,0) -> 29 | H53: =ROUNDUP((G53/2),0) -> 15
A54: String 2 | B54: 1 | C54: 1 | D54: 23 | E54: =C54*D54 -> 23 | F54: 1 | G54: =IF(F54=1,$C$21,0)+IF(F54=2,$C$22,0)+IF(F54=3,$C$23,0)+IF(F54=4,$C$24,0) -> 29 | H54: =ROUNDUP((G54/2),0) -> 15
A55: String 3 | E55: =C55*D55 -> 0 | G55: =IF(F55=1,$C$21,0)+IF(F55=2,$C$22,0)+IF(F55=3,$C$23,0)+IF(F55=4,$C$24,0) -> 0 | H55: =ROUNDUP((G55/2),0) -> 0 | M55: x
A56: String 4 | E56: =C56*D56 -> 0 | G56: =IF(F56=1,$C$21,0)+IF(F56=2,$C$22,0)+IF(F56=3,$C$23,0)+IF(F56=4,$C$24,0) -> 0 | H56: =ROUNDUP((G56/2),0) -> 0
A57: String 5 | E57: =C57*D57 -> 0 | G57: =IF(F57=1,$C$21,0)+IF(F57=2,$C$22,0)+IF(F57=3,$C$23,0)+IF(F57=4,$C$24,0) -> 0 | H57: =ROUNDUP((G57/2),0) -> 0
A58: String 6 | E58: =C58*D58 -> 0 | G58: =IF(F58=1,$C$21,0)+IF(F58=2,$C$22,0)+IF(F58=3,$C$23,0)+IF(F58=4,$C$24,0) -> 0 | H58: =ROUNDUP((G58/2),0) -> 0
A59: String 7 | E59: =C59*D59 -> 0 | G59: =IF(F59=1,$C$21,0)+IF(F59=2,$C$22,0)+IF(F59=3,$C$23,0)+IF(F59=4,$C$24,0) -> 0 | H59: =ROUNDUP((G59/2),0) -> 0
A60: String 8 | E60: =C60*D60 -> 0 | G60: =IF(F60=1,$C$21,0)+IF(F60=2,$C$22,0)+IF(F60=3,$C$23,0)+IF(F60=4,$C$24,0) -> 0 | H60: =ROUNDUP((G60/2),0) -> 0
A61: String 9 | E61: =C61*D61 -> 0 | G61: =IF(F61=1,$C$21,0)+IF(F61=2,$C$22,0)+IF(F61=3,$C$23,0)+IF(F61=4,$C$24,0) -> 0 | H61: =ROUNDUP((G61/2),0) -> 0
A62: String 10 | E62: =C62*D62 -> 0 | G62: =IF(F62=1,$C$21,0)+IF(F62=2,$C$22,0)+IF(F62=3,$C$23,0)+IF(F62=4,$C$24,0) -> 0 | H62: =ROUNDUP((G62/2),0) -> 0
A63: String 11 | E63: =C63*D63 -> 0 | G63: =IF(F63=1,$C$21,0)+IF(F63=2,$C$22,0)+IF(F63=3,$C$23,0)+IF(F63=4,$C$24,0) -> 0 | H63: =ROUNDUP((G63/2),0) -> 0
A64: String 12 | E64: =C64*D64 -> 0 | G64: =IF(F64=1,$C$21,0)+IF(F64=2,$C$22,0)+IF(F64=3,$C$23,0)+IF(F64=4,$C$24,0) -> 0 | H64: =ROUNDUP((G64/2),0) -> 0
A65: String 13 | E65: =C65*D65 -> 0 | G65: =IF(F65=1,$C$21,0)+IF(F65=2,$C$22,0)+IF(F65=3,$C$23,0)+IF(F65=4,$C$24,0) -> 0 | H65: =ROUNDUP((G65/2),0) -> 0
A66: String 14 | E66: =C66*D66 -> 0 | G66: =IF(F66=1,$C$21,0)+IF(F66=2,$C$22,0)+IF(F66=3,$C$23,0)+IF(F66=4,$C$24,0) -> 0 | H66: =ROUNDUP((G66/2),0) -> 0
A67: String 15 | E67: =C67*D67 -> 0 | G67: =IF(F67=1,$C$21,0)+IF(F67=2,$C$22,0)+IF(F67=3,$C$23,0)+IF(F67=4,$C$24,0) -> 0 | H67: =ROUNDUP((G67/2),0) -> 0
... A100: String 48 | E100: =C100*D100 -> 0 | G100: =IF(F100=1,$C$21,0)+IF(F100=2,$C$22,0)+IF(F100=3,$C$23,0)+IF(F100=4,$C$24,0) -> 0 | H100: =ROUNDUP((G100/2),0) -> 0
...

Sheet Suivi technique
B5: Référence panneaux : | C5: =NDC!C8 -> Longi-LR-54HTB-425 | E5: Installateur : | F5: =NDC!G6 -> 0 | G5: Matériau : | H5: Fibro amianté
B6: Nombre : | C6: =NDC!G8 -> 47 | G6: Type instal :
B7: Puissance : | C7: =NDC!C27/1000 -> 19.975 | D7: kWc
C9: Modèle | D9: kVa
B10: Onduleur 1 : | C10: =NDC!B21 -> 50 | D10: =NDC!H15 -> 55
B11: Onduleur 2 : | C11: =NDC!B22 -> 0 | D11: =NDC!H16 -> 0
B12: Onduleur 3 : | C12: =NDC!B23 -> 0 | D12: =NDC!H17 -> 0
B13: Onduleur 4 : | C13: =NDC!B24 -> 0 | D13: =NDC!H18 -> 0
E14: N° | F14: Prix | H14: Devis : | I14: Prix :
B15: Choix élévateur : | D15: Devis : | G15: Transport 1 :
B16: Choix manitou : | D16: Devis : | G16: Transport 2 :
B17: Choix autre : | D17: Devis : | G17: Transport 3 :
B19: Description :

Sheet Notes

Sheet Logistique
A1: Liste du matériel
B3: Bon de commande :
A5: Fournisseur | B5: Ref | C5: Quantité | D5: Prix | E5: Moq | F5: Statut
B6: Câble solaire
B7: Onduleur PVMAX 6TP
B8: Crochet ardoise
B9: Vis 6/30

Sheet Couverture
D4: Remplacement de toiture
D7: Toiture d'origine :
D8: Surface : | F8: m2
D9: Nouvelle toiture :
D11: Total : | E11: {=((_xlfn.SWITCH(E7,"Ardoise",135,0)+_xlfn.SWITCH(E7,"Tuile",90,0)+_xlfn.SWITCH(E7,"Fibrociment",105,0))+(_xlfn.SWITCH(E9,"Bac acier",25,0)+_xlfn.SWITCH(E7,"Panneau sandwich",130,0)))*E8} -> 0 | F11: €

Sheet Financement
A1: Financeur : | D1: Statut :
A3: Gestionnaire :
A5: Montant financé : | C5: €
A7: Dossier complet le : | C7: (date)
A9: Complétude demandée :
A11: Remarque :

Sheet Variables
A1: DP : | B1: Statut DP : | C1: Panneau : | D1: Installateur : | E1: Type : | F1: Matériau : | G1: Financement : | H1: Finance conseil : | I1: Statut € | J1: Type :
A3: Projet solaire | B3: Envoyé | C3: Longi 425 | D3: Aniselec | E3: Toiture | F3: Ardoise | G3: Fonds propres | H3: Ludovic | I3: Créé | J3: Envoyé
A4: Guichet unique | B4: En cours | C4: Longi 430 | D4: MG Réseau | E4: Sol | F4: Tuile | G4: Banque client | H4: François | I4: Incomplet | J4: Impayé
A5: E-permis | B5: Complétude | C5: Astro 435 | E5: Ombrière | F5: Fibrociment | G5: Finance conseil | H5: Marie | I5: En cours | J5: Payé
A6: Mail | B6: ABF | C6: Longi 580 | E6: Autre | F6: Fibro amianté | G6: Autre | H6: Alexandre | I6: Accepté partiel | J6: Crédité
A7: Autre | B7: Opposition | F7: Bac acier trap | H7: Thomas | I7: Accepté total
B8: Non-opposition | F8: Bac acier sinuo | H8: Autre | I8: Refusé
F9: Toit terrasse
F10: Autre
I11: Stock BE
I12: Stock installateur
I13: A commander
I14: Commandé
I15: Livré
A18: Stop | B18: Stop | C18: Stop | D18: Stop | E18: Stop | F18: Stop | G18: Stop | H18: Stop | I18: Stop | J18: Stop | K18: Stop | L18: Stop

Sheet Variables 2
A1: Goodwe | H1: Temp | K1: Panneaux | N1: Voc : | O1: Isc : | P1: Coef Voc : | Q1: Coef Isc :
B2: T entrée max | C2: ISC Max | D2: Nbre MPPT | E2: Chaine MPPT | F2: Max Va | H2: Min | I2: -20 | K2: Longi-LR-54HTB-420 | M2: 420 | N2: 39.03 | O2: 13.85 | P2: -0.0023 | Q2: 0.0005
A3: GOODWE Tri | H3: Max | I3: 40 | K3: Longi-LR-54HTB-425 | M3: 425 | N3: 39.23 | O3: 13.93 | P3: -0.0023 | Q3: 0.0005
A4: 30 | B4: 1100 | C4: 37.5 | D4: 3 | E4: 2 | F4: 33 | K4: Longi-LR-54HTB-430 | M4: 430 | N4: 39.43 | O4: 14 | P4: -0.0023 | Q4: 0.0005
A5: 36 | B5: 1100 | C5: 37.5 | D5: 3 | E5: 2 | F5: 36 | H5: Section : | K5: Longi-LR-72HTH-580 | M5: 580 | N5: 52.21 | O5: 14.2 | P5: -0.0023 | Q5: 0.0005
A6: 50 | B6: 1100 | C6: 37.5 | D6: 5 | E6: 2 | F6: 55 | K6: Astronergy-CHSM54N-HC-435 | M6: 435 | N6: 38.6 | O6: 14.19 | P6: -0.0025 | Q6: 0.00043
A7: 60 | B7: 1100 | C7: 37.5 | D7: 6 | E7: 2 | F7: 66 | H7: 3G 3,5
A8: 100 | B8: 1100 | C8: 45 | D8: 10 | E8: 2 | F8: 110 | H8: 3G 6
A9: 110 | B9: 1100 | C9: 45 | D9: 12 | E9: 2 | F9: 121 | H9: 5G 3,5
A10: 120 | B10: 1100 | C10: 45 | D10: 12 | E10: 2 | F10: 132 | H10: 5G 6
A11: SIGEN Mono | H11: 5G 10
A12: 3SP | B12: 600 | C12: 20 | D12: 2 | E12: 1 | F12: 3300 | H12: 5G 26
A13: 3,6SP | B13: 600 | C13: 20 | D13: 2 | E13: 1 | F13: 3680 | H13: 5G 25
A14: 4SP | B14: 600 | C14: 20 | D14: 2 | E14: 1 | F14: 4400 | H14: 5G 50
A15: 4,6SP | B15: 600 | C15: 20 | D15: 2 | E15: 1 | F15: 5000 | H15: 5G 75
A16: 5SP | B16: 600 | C16: 20 | D16: 2 | E16: 1 | F16: 5500 | H16: 5G 90
A17: 6SP | B17: 600 | C17: 20 | D17: 2 | E17: 1 | F17: 6600 | H17: 5G 120
A18: SIGEN Tri
A19: 5TP | B19: 1100 | C19: 20 | D19: 2 | E19: 1 | F19: 5500
A20: 6TP | B20: 1100 | C20: 20 | D20: 2 | E20: 1 | F20: 6600
A21: 8TP | B21: 1100 | C21: 20 | D21: 2 | E21: 1 | F21: 8800
A22: 10TP | B22: 1100 | C22: 20 | D22: 3 | E22: 1 | F22: 11000
A23: 12TP | B23: 1100 | C23: 20 | D23: 3 | E23: 1 | F23: 13200
A24: 15TP | B24: 1100 | C24: 20 | D24: 3 | E24: 1 | F24: 16500
A25: 17TP | B25: 1100 | C25: 20 | D25: 4 | E25: 1 | F25: 18700
A26: 20TP | B26: 1100 | C26: 20 | D26: 4 | E26: 1 | F26: 22000
A27: 25TP | B27: 1100 | C27: 20 | D27: 4 | E27: 1 | F27: 27500

Sheet Pricing
A1: Fournisseur | B1: Ref | C1: Description | D1: PU | E1: Prix kit | F1: Conditionné | G1: MOQ | H1: Prix MOQ
A3: Earth | B3: 15842 | C3: Onduleur PVMAX 6TP | D3: 679 | E3: 679 | F3: 1 | G3: 1 | H3: =E3*G3 -> 679
A4: Earth | B4: 65444 | C4: Câble solaire | D4: 287 | E4: 287 | F4: 500 | G4: 1 | H4: =E4*G4 -> 287
A5: CKW | B5: 85198 | C5: Crochet ardoise | D5: 4.5 | E5: 4.5 | F5: 1 | G5: 28 | H5: =E5*G5 -> 126
A6: Earth | B6: 87981 | C6: Vis 6/30 | D6: =E6*F6 -> 78 | E6: 0.78 | F6: 100 | G6: 1 | H6: =E6*G6 -> 0.78
A7: Earth | B7: 92796 | H7: =E7*G7 -> 0
A8: Earth
A9: Earth
A10: Earth
A11: Earth
A12: Earth
A13: Earth
A14: Earth
A15: Earth
A16: Earth
A17: Earth
A18: Earth
