Workbook

Sheet Livre
A1: Date | B1: Semaine | C1: Type | D1: Bpm moy | E1: Durée | F1: Standard | G1: Distance | H1: Dénivelé | I1: Training | J1: Allure | K1: Cumul semaine | L1: Cumul dur/sem | M1: Cumul min/sem | N1: Cumul dis/sem | P1: Cumul par semaine
A2: 45782 | B2: =WEEKNUM(livre[[#This Row],[Date]]-1) -> 19 | C2: Course | D2: 152 | E2: 0.031261574 | F2: Vernets7 | G2: =VLOOKUP(livre[[#This Row],[Standard]],Liste!C:E,2,0) -> 7 | H2: =VLOOKUP(livre[[#This Row],[Standard]],Liste!C:E,3,0) -> 140 | I2: Fond | J2: 0.26319444 | K2: =IF(livre[[#This Row],[Semaine]]=B3,,B2) -> 0 | L2: =IF(livre[[#This Row],[Cumul semaine]]=0,0,SUMIF(livre[Semaine],livre[[#This Row],[Cumul semaine]],livre[Durée])) -> 0 | M2: =livre[[#This Row],[Cumul dur/sem]]*1440 -> 0 | N2: =IF(livre[[#This Row],[Cumul semaine]]=0,0,SUMIF(livre[Semaine],livre[[#This Row],[Cumul semaine]],livre[Distance])) -> 0 | P2: Semaine | Q2: Durée | R2: Minute | S2: Distance
A3: 45783 | B3: =WEEKNUM(livre[[#This Row],[Date]]-1) -> 19 | C3: HIIT | D3: 133 | E3: 0.013888889 | I3: Renfo | K3: =IF(livre[[#This Row],[Semaine]]=B4,,B3) -> 19 | L3: =IF(livre[[#This Row],[Cumul semaine]]=0,0,SUMIF(livre[Semaine],livre[[#This Row],[Cumul semaine]],livre[Durée])) -> 0.045150463 | M3: =livre[[#This Row],[Cumul dur/sem]]*1440 -> 65.016667 | N3: =IF(livre[[#This Row],[Cumul semaine]]=0,0,SUMIF(livre[Semaine],livre[[#This Row],[Cumul semaine]],livre[Distance])) -> 7 | P3: {=_xlfn._xlws.FILTER(_xlfn.CHOOSECOLS(livre[],11,12,13,14),livre[Cumul semaine],0)} -> 19 | Q3: 0.045150463 | R3: 65.016667 | S3: 7
A4: 45789 | B4: =WEEKNUM(livre[[#This Row],[Date]]-1) -> 20 | C4: Course | D4: 155 | E4: 0.030428241 | F4: Vernets7 | G4: =VLOOKUP(livre[[#This Row],[Standard]],Liste!C:E,2,0) -> 7 | H4: =VLOOKUP(livre[[#This Row],[Standard]],Liste!C:E,3,0) -> 140 | I4: Fond | J4: 0.26111111 | K4: =IF(livre[[#This Row],[Semaine]]=B5,,B4) -> 0 | L4: =IF(livre[[#This Row],[Cumul semaine]]=0,0,SUMIF(livre[Semaine],livre[[#This Row],[Cumul semaine]],livre[Durée])) -> 0 | M4: =livre[[#This Row],[Cumul dur/sem]]*1440 -> 0 | N4: =IF(livre[[#This Row],[Cumul semaine]]=0,0,SUMIF(livre[Semaine],livre[[#This Row],[Cumul semaine]],livre[Distance])) -> 0 | P4: 20 | Q4: 0.084710648 | R4: 121.98333 | S4: 15
A5: 45790 | B5: =WEEKNUM(livre[[#This Row],[Date]]-1) -> 20 | C5: HIIT | D5: 131 | E5: 0.020833333 | I5: Renfo | K5: =IF(livre[[#This Row],[Semaine]]=B6,,B5) -> 0 | L5: =IF(livre[[#This Row],[Cumul semaine]]=0,0,SUMIF(livre[Semaine],livre[[#This Row],[Cumul semaine]],livre[Durée])) -> 0 | M5: =livre[[#This Row],[Cumul dur/sem]]*1440 -> 0 | N5: =IF(livre[[#This Row],[Cumul semaine]]=0,0,SUMIF(livre[Semaine],livre[[#This Row],[Cumul semaine]],livre[Distance])) -> 0 | P5: 21 | Q5: 0.10340278 | R5: 148.9 | S5: 16
A6: 45791 | B6: =WEEKNUM(livre[[#This Row],[Date]]-1) -> 20 | C6: Course | D6: 151 | E6: 0.033449074 | F6: Bdm8 | G6: =VLOOKUP(livre[[#This Row],[Standard]],Liste!C:E,2,0) -> 8 | H6: =VLOOKUP(livre[[#This Row],[Standard]],Liste!C:E,3,0) -> 120 | I6: Fond | J6: 0.25069444 | K6: =IF(livre[[#This Row],[Semaine]]=B7,,B6) -> 20 | L6: =IF(livre[[#This Row],[Cumul semaine]]=0,0,SUMIF(livre[Semaine],livre[[#This Row],[Cumul semaine]],livre[Durée])) -> 0.084710648 | M6: =livre[[#This Row],[Cumul dur/sem]]*1440 -> 121.98333 | N6: =IF(livre[[#This Row],[Cumul semaine]]=0,0,SUMIF(livre[Semaine],livre[[#This Row],[Cumul semaine]],livre[Distance])) -> 15 | P6: 22 | Q6: 0.092650463 | R6: 133.41667 | S6: 15
A7: 45796 | B7: =WEEKNUM(livre[[#This Row],[Date]]-1) -> 21 | C7: Course | D7: 155 | E7: 0.029131944 | F7: Vernets7 | G7: =VLOOKUP(livre[[#This Row],[Standard]],Liste!C:E,2,0) -> 7 | H7: =VLOOKUP(livre[[#This Row],[Standard]],Liste!C:E,3,0) -> 140 | I7: Fond | J7: 0.25069444 | K7: =IF(livre[[#This Row],[Semaine]]=B8,,B7) -> 0 | L7: =IF(livre[[#This Row],[Cumul semaine]]=0,0,SUMIF(livre[Semaine],livre[[#This Row],[Cumul semaine]],livre[Durée])) -> 0 | M7: =livre[[#This Row],[Cumul dur/sem]]*1440 -> 0 | N7: =IF(livre[[#This Row],[Cumul semaine]]=0,0,SUMIF(livre[Semaine],livre[[#This Row],[Cumul semaine]],livre[Distance])) -> 0 | P7: 23 | Q7: 0.094178241 | R7: 135.61667 | S7: 22
A8: 45797 | B8: =WEEKNUM(livre[[#This Row],[Date]]-1) -> 21 | C8: Badmington | D8: 109 | E8: 0.036805556 | I8: Renfo | K8: =IF(livre[[#This Row],[Semaine]]=B9,,B8) -> 0 | L8: =IF(livre[[#This Row],[Cumul semaine]]=0,0,SUMIF(livre[Semaine],livre[[#This Row],[Cumul semaine]],livre[Durée])) -> 0 | M8: =livre[[#This Row],[Cumul dur/sem]]*1440 -> 0 | N8: =IF(livre[[#This Row],[Cumul semaine]]=0,0,SUMIF(livre[Semaine],livre[[#This Row],[Cumul semaine]],livre[Distance])) -> 0 | P8: 24 | Q8: 0.1215162 | R8: 174.98333 | S8: 28
A9: 45798 | B9: =WEEKNUM(livre[[#This Row],[Date]]-1) -> 21 | C9: Course | D9: 153 | E9: 0.037465278 | F9: Bdm9 | G9: =VLOOKUP(livre[[#This Row],[Standard]],Liste!C:E,2,0) -> 9 | H9: =VLOOKUP(livre[[#This Row],[Standard]],Liste!C:E,3,0) -> 120 | I9: Fond | J9: 0.25 | K9: =IF(livre[[#This Row],[Semaine]]=B10,,B9) -> 21 | L9: =IF(livre[[#This Row],[Cumul semaine]]=0,0,SUMIF(livre[Semaine],livre[[#This Row],[Cumul semaine]],livre[Durée])) -> 0.10340278 | M9: =livre[[#This Row],[Cumul dur/sem]]*1440 -> 148.9 | N9: =IF(livre[[#This Row],[Cumul semaine]]=0,0,SUMIF(livre[Semaine],livre[[#This Row],[Cumul semaine]],livre[Distance])) -> 16 | P9: 25 | Q9: 0.13427083 | R9: 193.35 | S9: 27
A10: 45804 | B10: =WEEKNUM(livre[[#This Row],[Date]]-1) -> 22 | C10: HIIT | D10: 134 | E10: 0.027777778 | I10: Renfo | K10: =IF(livre[[#This Row],[Semaine]]=B11,,B10) -> 0 | L10: =IF(livre[[#This Row],[Cumul semaine]]=0,0,SUMIF(livre[Semaine],livre[[#This Row],[Cumul semaine]],livre[Durée])) -> 0 | M10: =livre[[#This Row],[Cumul dur/sem]]*1440 -> 0 | N10: =IF(livre[[#This Row],[Cumul semaine]]=0,0,SUMIF(livre[Semaine],livre[[#This Row],[Cumul semaine]],livre[Distance])) -> 0
A11: 45805 | B11: =WEEKNUM(livre[[#This Row],[Date]]-1) -> 22 | C11: Course | D11: 154 | E11: 0.028935185 | F11: Vernets7 | G11: =VLOOKUP(livre[[#This Row],[Standard]],Liste!C:E,2,0) -> 7 | H11: =VLOOKUP(livre[[#This Row],[Standard]],Liste!C:E,3,0) -> 140 | I11: Fond | J11: 0.24791667 | K11: =IF(livre[[#This Row],[Semaine]]=B12,,B11) -> 0 | L11: =IF(livre[[#This Row],[Cumul semaine]]=0,0,SUMIF(livre[Semaine],livre[[#This Row],[Cumul semaine]],livre[Durée])) -> 0 | M11: =livre[[#This Row],[Cumul dur/sem]]*1440 -> 0 | N11: =IF(livre[[#This Row],[Cumul semaine]]=0,0,SUMIF(livre[Semaine],livre[[#This Row],[Cumul semaine]],livre[Distance])) -> 0
A12: 45809 | B12: =WEEKNUM(livre[[#This Row],[Date]]-1) -> 22 | C12: Course | D12: 152 | E12: 0.0359375 | F12: Ballaison8 | G12: =VLOOKUP(livre[[#This Row],[Standard]],Liste!C:E,2,0) -> 8 | H12: =VLOOKUP(livre[[#This Row],[Standard]],Liste!C:E,3,0) -> 140 | I12: Fond | J12: 0.26944444 | K12: =IF(livre[[#This Row],[Semaine]]=B13,,B12) -> 22 | L12: =IF(livre[[#This Row],[Cumul semaine]]=0,0,SUMIF(livre[Semaine],livre[[#This Row],[Cumul semaine]],livre[Durée])) -> 0.092650463 | M12: =livre[[#This Row],[Cumul dur/sem]]*1440 -> 133.41667 | N12: =IF(livre[[#This Row],[Cumul semaine]]=0,0,SUMIF(livre[Semaine],livre[[#This Row],[Cumul semaine]],livre[Distance])) -> 15
A13: 45810 | B13: =WEEKNUM(livre[[#This Row],[Date]]-1) -> 23 | C13: Course | D13: 153 | E13: 0.035613426 | F13: Ballaison8 | G13: =VLOOKUP(livre[[#This Row],[Standard]],Liste!C:E,2,0) -> 8 | H13: =VLOOKUP(livre[[#This Row],[Standard]],Liste!C:E,3,0) -> 140 | I13: Fond | J13: 0.26736111 | K13: =IF(livre[[#This Row],[Semaine]]=B14,,B13) -> 0 | L13: =IF(livre[[#This Row],[Cumul semaine]]=0,0,SUMIF(livre[Semaine],livre[[#This Row],[Cumul semaine]],livre[Durée])) -> 0 | M13: =livre[[#This Row],[Cumul dur/sem]]*1440 -> 0 | N13: =IF(livre[[#This Row],[Cumul semaine]]=0,0,SUMIF(livre[Semaine],livre[[#This Row],[Cumul semaine]],livre[Distance])) -> 0
A14: 45812 | B14: =WEEKNUM(livre[[#This Row],[Date]]-1) -> 23 | C14: Course | D14: 150 | E14: 0.025173611 | F14: Ballaison6 | G14: =VLOOKUP(livre[[#This Row],[Standard]],Liste!C:E,2,0) -> 6 | H14: =VLOOKUP(livre[[#This Row],[Standard]],Liste!C:E,3,0) -> 110 | I14: Fond | J14: 0.25208333 | K14: =IF(livre[[#This Row],[Semaine]]=B15,,B14) -> 0 | L14: =IF(livre[[#This Row],[Cumul semaine]]=0,0,SUMIF(livre[Semaine],livre[[#This Row],[Cumul semaine]],livre[Durée])) -> 0 | M14: =livre[[#This Row],[Cumul dur/sem]]*1440 -> 0 | N14: =IF(livre[[#This Row],[Cumul semaine]]=0,0,SUMIF(livre[Semaine],livre[[#This Row],[Cumul semaine]],livre[Distance])) -> 0
A15: 45814 | B15: =WEEKNUM(livre[[#This Row],[Date]]-1) -> 23 | C15: Course | D15: 153 | E15: 0.033391204 | F15: Ballaison8 | G15: =VLOOKUP(livre[[#This Row],[Standard]],Liste!C:E,2,0) -> 8 | H15: =VLOOKUP(livre[[#This Row],[Standard]],Liste!C:E,3,0) -> 140 | I15: Fond | J15: 0.25069444 | K15: =IF(livre[[#This Row],[Semaine]]=B16,,B15) -> 23 | L15: =IF(livre[[#This Row],[Cumul semaine]]=0,0,SUMIF(livre[Semaine],livre[[#This Row],[Cumul semaine]],livre[Durée])) -> 0.094178241 | M15: =livre[[#This Row],[Cumul dur/sem]]*1440 -> 135.61667 | N15: =IF(livre[[#This Row],[Cumul semaine]]=0,0,SUMIF(livre[Semaine],livre[[#This Row],[Cumul semaine]],livre[Distance])) -> 22
A16: 45817 | B16: =WEEKNUM(livre[[#This Row],[Date]]-1) -> 24 | C16: Course | D16: 149 | E16: 0.040324074 | F16: Ballaison9 | G16: =VLOOKUP(livre[[#This Row],[Standard]],Liste!C:E,2,0) -> 9 | H16: =VLOOKUP(livre[[#This Row],[Standard]],Liste!C:E,3,0) -> 160 | I16: Fond | J16: 0.26875 | K16: =IF(livre[[#This Row],[Semaine]]=B17,,B16) -> 0 | L16: =IF(livre[[#This Row],[Cumul semaine]]=0,0,SUMIF(livre[Semaine],livre[[#This Row],[Cumul semaine]],livre[Durée])) -> 0 | M16: =livre[[#This Row],[Cumul dur/sem]]*1440 -> 0 | N16: =IF(livre[[#This Row],[Cumul semaine]]=0,0,SUMIF(livre[Semaine],livre[[#This Row],[Cumul semaine]],livre[Distance])) -> 0
A17: 45819 | B17: =WEEKNUM(livre[[#This Row],[Date]]-1) -> 24 | C17: Course | D17: 163 | E17: 0.027523148 | F17: Vernets7 | G17: =VLOOKUP(livre[[#This Row],[Standard]],Liste!C:E,2,0) -> 7 | H17: =VLOOKUP(livre[[#This Row],[Standard]],Liste!C:E,3,0) -> 140 | I17: Seuil | J17: 0.23541667 | K17: =IF(livre[[#This Row],[Semaine]]=B18,,B17) -> 0 | L17: =IF(livre[[#This Row],[Cumul semaine]]=0,0,SUMIF(livre[Semaine],livre[[#This Row],[Cumul semaine]],livre[Durée])) -> 0 | M17: =livre[[#This Row],[Cumul dur/sem]]*1440 -> 0 | N17: =IF(livre[[#This Row],[Cumul semaine]]=0,0,SUMIF(livre[Semaine],livre[[#This Row],[Cumul semaine]],livre[Distance])) -> 0
A18: 45821 | B18: =WEEKNUM(livre[[#This Row],[Date]]-1) -> 24 | C18: Course | D18: 148 | E18: 0.0265625 | F18: Ulteam6 | G18: 6 | H18: 140 | I18: Fond | J18: 0.26597222 | K18: =IF(livre[[#This Row],[Semaine]]=B19,,B18) -> 0 | L18: =IF(livre[[#This Row],[Cumul semaine]]=0,0,SUMIF(livre[Semaine],livre[[#This Row],[Cumul semaine]],livre[Durée])) -> 0 | M18: =livre[[#This Row],[Cumul dur/sem]]*1440 -> 0 | N18: =IF(livre[[#This Row],[Cumul semaine]]=0,0,SUMIF(livre[Semaine],livre[[#This Row],[Cumul semaine]],livre[Distance])) -> 0
A19: 45821 | B19: =WEEKNUM(livre[[#This Row],[Date]]-1) -> 24 | C19: Course | D19: 160 | E19: 0.027106481 | F19: Ulteam6 | G19: 6 | H19: 100 | I19: Seuil | J19: 0.27083333 | K19: =IF(livre[[#This Row],[Semaine]]=B20,,B19) -> 24 | L19: =IF(livre[[#This Row],[Cumul semaine]]=0,0,SUMIF(livre[Semaine],livre[[#This Row],[Cumul semaine]],livre[Durée])) -> 0.1215162 | M19: =livre[[#This Row],[Cumul dur/sem]]*1440 -> 174.98333 | N19: =IF(livre[[#This Row],[Cumul semaine]]=0,0,SUMIF(livre[Semaine],livre[[#This Row],[Cumul semaine]],livre[Distance])) -> 28
A20: 45824 | B20: =WEEKNUM(livre[[#This Row],[Date]]-1) -> 25 | C20: Course | D20: 153 | E20: 0.03625 | F20: Bdm9 | G20: =VLOOKUP(livre[[#This Row],[Standard]],Liste!C:E,2,0) -> 9 | H20: =VLOOKUP(livre[[#This Row],[Standard]],Liste!C:E,3,0) -> 120 | I20: Fond | J20: 0.24166667 | K20: =IF(livre[[#This Row],[Semaine]]=B21,,B20) -> 0 | L20: =IF(livre[[#This Row],[Cumul semaine]]=0,0,SUMIF(livre[Semaine],livre[[#This Row],[Cumul semaine]],livre[Durée])) -> 0 | M20: =livre[[#This Row],[Cumul dur/sem]]*1440 -> 0 | N20: =IF(livre[[#This Row],[Cumul semaine]]=0,0,SUMIF(livre[Semaine],livre[[#This Row],[Cumul semaine]],livre[Distance])) -> 0
A21: 45825 | B21: =WEEKNUM(livre[[#This Row],[Date]]-1) -> 25 | C21: HIIT | D21: 117 | E21: 0.020833333 | I21: Renfo | K21: =IF(livre[[#This Row],[Semaine]]=B22,,B21) -> 0 | L21: =IF(livre[[#This Row],[Cumul semaine]]=0,0,SUMIF(livre[Semaine],livre[[#This Row],[Cumul semaine]],livre[Durée])) -> 0 | M21: =livre[[#This Row],[Cumul dur/sem]]*1440 -> 0 | N21: =IF(livre[[#This Row],[Cumul semaine]]=0,0,SUMIF(livre[Semaine],livre[[#This Row],[Cumul semaine]],livre[Distance])) -> 0
A22: 45826 | B22: =WEEKNUM(livre[[#This Row],[Date]]-1) -> 25 | C22: Course | D22: 150 | E22: 0.037395833 | F22: Bdm9 | G22: =VLOOKUP(livre[[#This Row],[Standard]],Liste!C:E,2,0) -> 9 | H22: =VLOOKUP(livre[[#This Row],[Standard]],Liste!C:E,3,0) -> 120 | I22: Fond | J22: 0.24930556 | K22: =IF(livre[[#This Row],[Semaine]]=B23,,B22) -> 0 | L22: =IF(livre[[#This Row],[Cumul semaine]]=0,0,SUMIF(livre[Semaine],livre[[#This Row],[Cumul semaine]],livre[Durée])) -> 0 | M22: =livre[[#This Row],[Cumul dur/sem]]*1440 -> 0 | N22: =IF(livre[[#This Row],[Cumul semaine]]=0,0,SUMIF(livre[Semaine],livre[[#This Row],[Cumul semaine]],livre[Distance])) -> 0
A23: 45828 | B23: =WEEKNUM(livre[[#This Row],[Date]]-1) -> 25 | C23: Course | D23: 150 | E23: 0.039791667 | F23: Ballaison9 | G23: =VLOOKUP(livre[[#This Row],[Standard]],Liste!C:E,2,0) -> 9 | H23: =VLOOKUP(livre[[#This Row],[Standard]],Liste!C:E,3,0) -> 160 | I23: Fond | J23: 0.26527778 | K23: =IF(livre[[#This Row],[Semaine]]=B24,,B23) -> 25 | L23: =IF(livre[[#This Row],[Cumul semaine]]=0,0,SUMIF(livre[Semaine],livre[[#This Row],[Cumul semaine]],livre[Durée])) -> 0.13427083 | M23: =livre[[#This Row],[Cumul dur/sem]]*1440 -> 193.35 | N23: =IF(livre[[#This Row],[Cumul semaine]]=0,0,SUMIF(livre[Semaine],livre[[#This Row],[Cumul semaine]],livre[Distance])) -> 27

Sheet Liste
A1: Type | B1: Training | C1: Standard | D1: Distance | E1: Dénivelé
A2: Badmington | B2: Fond | C2: Vernets7 | D2: 7 | E2: 140
A3: Course | B3: Seuil | C3: Ballaison6 | D3: 6 | E3: 110
A4: HIIT | B4: Renfo | C4: Ballaison8 | D4: 8 | E4: 140
A5: Tennis | C5: Ballaison9 | D5: 9 | E5: 160
C6: Bdm8 | D6: 8 | E6: 120
C7: Bdm9 | D7: 9 | E7: 120
