Workbook
Name Année_civile: 'Affichage du calendrier'!$C$3
Name ColumnTitleRegion..AC22.1: 'Affichage du calendrier'!$C$19:$E$19
Name lstCongés: JoursFériés[Jours fériés]
Name lstDatesD: Suivi_des_congés[Date de début]
Name lstDatesF: Suivi_des_congés[Date de fin]
Name lstEmployés: Employés[Noms des employés]
Name lstNomsEmpl: Suivi_des_congés[Nom de l’employé]
Name lstTypesC: Suivi_des_congés[Type de congé]
Name lstTypesCongés: TypesCongés[Codes]
Name Titre1: RegistrePrésence[[#Headers],[Jour de la semarine/mois]]
Name Titre2: Suivi_des_congés[[#Headers],[Nom de l’employé]]
Name TitreColonne3: Employés[[#Headers],[Noms des employés]]
Name TitreColonne4: TypesCongés[[#Headers],[Codes]]
Name TitreColonne5: JoursFériés[[#Headers],[Jours fériés]]
Name valSelEmployé: 'Affichage du calendrier'!$C$2

Sheet Affichage du calendrier
B1: REGISTRE DE PRÉSENCE DES EMPLOYÉS
B2: Sélectionnez un employé : | C2: Employé 1
B3: Entrez l’année : | C3: 2026
B5: Jour de la semarine/mois | C5: lun | D5: mar | E5: mer | F5: jeu | G5: ven | H5: sam | I5: dim | J5: lun | K5: mar | L5: mer | M5: jeu | N5: ven | O5: sam | P5: dim | Q5: lun | R5: mar | S5: mer | T5: jeu | U5: ven | V5: sam | W5: dim | X5: lun | Y5: mar | Z5: mer 2 | AA5: jeu | AB5: ven | AC5: sam | AD5: dim | AE5: lun | AF5: mar | AG5: mer | AH5: jeu | AI5: ven | AJ5: sam | AK5: dim | AL5: lun | AM5: mar | AN5: mer | AO5: jeu 2 | AP5: ven | AQ5: sam | AR5: dim
B6: Janvier | C6: {=IFERROR(DAY(DATE(Année_civile,ROW($A1),COLUMN(A1)))&" "&INDEX(Suivi_des_congés[[Type de congé]:[Type de congé]],SUMPRODUCT((DATE(Année_civile,ROW($A1),COLUMN(A1))>=Suivi_des_congés[[Date de début]:[Date de début]])*(DATE(Année_civile,ROW($A1),COLUMN(A1))<=Suivi_des_congés[[Date de fin]:[Date de fin]])*(Suivi_des_congés[[Nom de l’employé]:[Nom de l’employé]]=valSelEmployé)*ROW(Suivi_des_congés[[Nom de l’employé]:[Nom de l’employé]]))-3),"")} -> 1 CPT | D6: {=IFERROR(DAY(DATE(Année_civile,ROW($A1),COLUMN(B1)))&" "&INDEX(Suivi_des_congés[[Type de congé]:[Type de congé]],SUMPRODUCT((DATE(Année_civile,ROW($A1),COLUMN(B1))>=Suivi_des_congés[[Date de début]:[Date de début]])*(DATE(Année_civile,ROW($A1),COLUMN(B1))<=Suivi_des_congés[[Date de fin]:[Date de fin]])*(Suivi_des_congés[[Nom de l’employé]:[Nom de l’employé]]=valSelEmployé)*ROW(Suivi_des_congés[[Nom de l’employé]:[Nom de l’employé]]))-3),"")} -> 2 CPT | E6: {=IFERROR(DAY(DATE(Année_civile,ROW($A1),COLUMN(C1)))&" "&INDEX(Suivi_des_congés[[Type de congé]:[Type de congé]],SUMPRODUCT((DATE(Année_civile,ROW($A1),COLUMN(C1))>=Suivi_des_congés[[Date de début]:[Date de début]])*(DATE(Année_civile,ROW($A1),COLUMN(C1))<=Suivi_des_congés[[Date de fin]:[Date de fin]])*(Suivi_des_congés[[Nom de l’employé]:[Nom de l’employé]]=valSelEmployé)*ROW(Suivi_des_congés[[Nom de l’employé]:[Nom de l’employé]]))-3),"")} -> 3 CPT | F6: {=IFERROR(DAY(DATE(Année_civile,ROW($A1),COLUMN(D1)))&" "&INDEX(Suivi_des_congés[[Type de congé]:[Type de congé]],SUMPRODUCT((DATE(Année_civile,ROW($A1),COLUMN(D1))>=Suivi_des_congés[[Date de début]:[Date de début]])*(DATE(Année_civile,ROW($A1),COLUMN(D1))<=Suivi_des_congés[[Date de fin]:[Date de fin]])*(Suivi_des_congés[[Nom de l’employé]:[Nom de l’employé]]=valSelEmployé)*ROW(Suivi_des_congés[[Nom de l’employé]:[Nom de l’employé]]))-3),"")} -> 4 CPT | G6: {=IFERROR(DAY(DATE(Année_civile,ROW($A1),COLUMN(E1)))&" "&INDEX(Suivi_des_congés[[Type de congé]:[Type de congé]],SUMPRODUCT((DATE(Année_civile,ROW($A1),COLUMN(E1))>=Suivi_des_congés[[Date de début]:[Date de début]])*(DATE(Année_civile,ROW($A1),COLUMN(E1))<=Suivi_des_congés[[Date de fin]:[Date de fin]])*(Suivi_des_congés[[Nom de l’employé]:[Nom de l’employé]]=valSelEmployé)*ROW(Suivi_des_congés[[Nom de l’employé]:[Nom de l’employé]]))-3),"")} | H6: {=IFERROR(DAY(DATE(Année_civile,ROW($A1),COLUMN(F1)))&" "&INDEX(Suivi_des_congés[[Type de congé]:[Type de congé]],SUMPRODUCT((DATE(Année_civile,ROW($A1),COLUMN(F1))>=Suivi_des_congés[[Date de début]:[Date de début]])*(DATE(Année_civile,ROW($A1),COLUMN(F1))<=Suivi_des_congés[[Date de fin]:[Date de fin]])*(Suivi_des_congés[[Nom de l’employé]:[Nom de l’employé]]=valSelEmployé)*ROW(Suivi_des_congés[[Nom de l’employé]:[Nom de l’employé]]))-3),"")} | I6: {=IFERROR(DAY(DATE(Année_civile,ROW($A1),COLUMN(G1)))&" "&INDEX(Suivi_des_congés[[Type de congé]:[Type de congé]],SUMPRODUCT((DATE(Année_civile,ROW($A1),COLUMN(G1))>=Suivi_des_congés[[Date de début]:[Date de début]])*(DATE(Année_civile,ROW($A1),COLUMN(G1))<=Suivi_des_congés[[Date de fin]:[Date de fin]])*(Suivi_des_congés[[Nom de l’employé]:[Nom de l’employé]]=valSelEmployé)*ROW(Suivi_des_congés[[Nom de l’employé]:[Nom de l’employé]]))-3),"")} | J6: {=IFERROR(DAY(DATE(Année_civile,ROW($A1),COLUMN(H1)))&" "&INDEX(Suivi_des_congés[[Type de congé]:[Type de congé]],SUMPRODUCT((DATE(Année_civile,ROW($A1),COLUMN(H1))>=Suivi_des_congés[[Date de début]:[Date de début]])*(DATE(Année_civile,ROW($A1),COLUMN(H1))<=Suivi_des_congés[[Date de fin]:[Date de fin]])*(Suivi_des_congés[[Nom de l’employé]:[Nom de l’employé]]=valSelEmployé)*ROW(Suivi_des_congés[[Nom de l’employé]:[Nom de l’employé]]))-3),"")} | ... AR6: {=IFERROR(DAY(DATE(Année_civile,ROW($A1),COLUMN(AP1)))&" "&INDEX(Suivi_des_congés[[Type de congé]:[Type de congé]],SUMPRODUCT((DATE(Année_civile,ROW($A1),COLUMN(AP1))>=Suivi_des_congés[[Date de début]:[Date de début]])*(DATE(Année_civile,ROW($A1),COLUMN(AP1))<=Suivi_des_congés[[Date de fin]:[Date de fin]])*(Suivi_des_congés[[Nom de l’employé]:[Nom de l’employé]]=valSelEmployé)*ROW(Suivi_des_congés[[Nom de l’employé]:[Nom de l’employé]]))-3),"")}
B7: Février | C7: {=IFERROR(DAY(DATE(Année_civile,ROW($A2),COLUMN(A2)))&" "&INDEX(Suivi_des_congés[[Type de congé]:[Type de congé]],SUMPRODUCT((DATE(Année_civile,ROW($A2),COLUMN(A2))>=Suivi_des_congés[[Date de début]:[Date de début]])*(DATE(Année_civile,ROW($A2),COLUMN(A2))<=Suivi_des_congés[[Date de fin]:[Date de fin]])*(Suivi_des_congés[[Nom de l’employé]:[Nom de l’employé]]=valSelEmployé)*ROW(Suivi_des_congés[[Nom de l’employé]:[Nom de l’employé]]))-3),"")} | D7: {=IFERROR(DAY(DATE(Année_civile,ROW($A2),COLUMN(B2)))&" "&INDEX(Suivi_des_congés[[Type de congé]:[Type de congé]],SUMPRODUCT((DATE(Année_civile,ROW($A2),COLUMN(B2))>=Suivi_des_congés[[Date de début]:[Date de début]])*(DATE(Année_civile,ROW($A2),COLUMN(B2))<=Suivi_des_congés[[Date de fin]:[Date de fin]])*(Suivi_des_congés[[Nom de l’employé]:[Nom de l’employé]]=valSelEmployé)*ROW(Suivi_des_congés[[Nom de l’employé]:[Nom de l’employé]]))-3),"")} | E7: {=IFERROR(DAY(DATE(Année_civile,ROW($A2),COLUMN(C2)))&" "&INDEX(Suivi_des_congés[[Type de congé]:[Type de congé]],SUMPRODUCT((DATE(Année_civile,ROW($A2),COLUMN(C2))>=Suivi_des_congés[[Date de début]:[Date de début]])*(DATE(Année_civile,ROW($A2),COLUMN(C2))<=Suivi_des_congés[[Date de fin]:[Date de fin]])*(Suivi_des_congés[[Nom de l’employé]:[Nom de l’employé]]=valSelEmployé)*ROW(Suivi_des_congés[[Nom de l’employé]:[Nom de l’employé]]))-3),"")} | F7: {=IFERROR(DAY(DATE(Année_civile,ROW($A2),COLUMN(D2)))&" "&INDEX(Suivi_des_congés[[Type de congé]:[Type de congé]],SUMPRODUCT((DATE(Année_civile,ROW($A2),COLUMN(D2))>=Suivi_des_congés[[Date de début]:[Date de début]])*(DATE(Année_civile,ROW($A2),COLUMN(D2))<=Suivi_des_congés[[Date de fin]:[Date de fin]])*(Suivi_des_congés[[Nom de l’employé]:[Nom de l’employé]]=valSelEmployé)*ROW(Suivi_des_congés[[Nom de l’employé]:[Nom de l’employé]]))-3),"")} | G7: {=IFERROR(DAY(DATE(Année_civile,ROW($A2),COLUMN(E2)))&" "&INDEX(Suivi_des_congés[[Type de congé]:[Type de congé]],SUMPRODUCT((DATE(Année_civile,ROW($A2),COLUMN(E2))>=Suivi_des_congés[[Date de début]:[Date de début]])*(DATE(Année_civile,ROW($A2),COLUMN(E2))<=Suivi_des_congés[[Date de fin]:[Date de fin]])*(Suivi_des_congés[[Nom de l’employé]:[Nom de l’employé]]=valSelEmployé)*ROW(Suivi_des_congés[[Nom de l’employé]:[Nom de l’employé]]))-3),"")} | H7: {=IFERROR(DAY(DATE(Année_civile,ROW($A2),COLUMN(F2)))&" "&INDEX(Suivi_des_congés[[Type de congé]:[Type de congé]],SUMPRODUCT((DATE(Année_civile,ROW($A2),COLUMN(F2))>=Suivi_des_congés[[Date de début]:[Date de début]])*(DATE(Année_civile,ROW($A2),COLUMN(F2))<=Suivi_des_congés[[Date de fin]:[Date de fin]])*(Suivi_des_congés[[Nom de l’employé]:[Nom de l’employé]]=valSelEmployé)*ROW(Suivi_des_congés[[Nom de l’employé]:[Nom de l’employé]]))-3),"")} | I7: {=IFERROR(DAY(DATE(Année_civile,ROW($A2),COLUMN(G2)))&" "&INDEX(Suivi_des_congés[[Type de congé]:[Type de congé]],SUMPRODUCT((DATE(Année_civile,ROW($A2),COLUMN(G2))>=Suivi_des_congés[[Date de début]:[Date de début]])*(DATE(Année_civile,ROW($A2),COLUMN(G2))<=Suivi_des_congés[[Date de fin]:[Date de fin]])*(Suivi_des_congés[[Nom de l’employé]:[Nom de l’employé]]=valSelEmployé)*ROW(Suivi_des_congés[[Nom de l’employé]:[Nom de l’employé]]))-3),"")} | J7: {=IFERROR(DAY(DATE(Année_civile,ROW($A2),COLUMN(H2)))&" "&INDEX(Suivi_des_congés[[Type de congé]:[Type de congé]],SUMPRODUCT((DATE(Année_civile,ROW($A2),COLUMN(H2))>=Suivi_des_congés[[Date de début]:[Date de début]])*(DATE(Année_civile,ROW($A2),COLUMN(H2))<=Suivi_des_congés[[Date de fin]:[Date de fin]])*(Suivi_des_congés[[Nom de l’employé]:[Nom de l’employé]]=valSelEmployé)*ROW(Suivi_des_congés[[Nom de l’employé]:[Nom de l’employé]]))-3),"")} | ... AR7: {=IFERROR(DAY(DATE(Année_civile,ROW($A2),COLUMN(AP2)))&" "&INDEX(Suivi_des_congés[[Type de congé]:[Type de congé]],SUMPRODUCT((DATE(Année_civile,ROW($A2),COLUMN(AP2))>=Suivi_des_congés[[Date de début]:[Date de début]])*(DATE(Année_civile,ROW($A2),COLUMN(AP2))<=Suivi_des_congés[[Date de fin]:[Date de fin]])*(Suivi_des_congés[[Nom de l’employé]:[Nom de l’employé]]=valSelEmployé)*ROW(Suivi_des_congés[[Nom de l’employé]:[Nom de l’employé]]))-3),"")}
B8: mars | C8: {=IFERROR(DAY(DATE(Année_civile,ROW($A3),COLUMN(A3)))&" "&INDEX(Suivi_des_congés[[Type de congé]:[Type de congé]],SUMPRODUCT((DATE(Année_civile,ROW($A3),COLUMN(A3))>=Suivi_des_congés[[Date de début]:[Date de début]])*(DATE(Année_civile,ROW($A3),COLUMN(A3))<=Suivi_des_congés[[Date de fin]:[Date de fin]])*(Suivi_des_congés[[Nom de l’employé]:[Nom de l’employé]]=valSelEmployé)*ROW(Suivi_des_congés[[Nom de l’employé]:[Nom de l’employé]]))-3),"")} | D8: {=IFERROR(DAY(DATE(Année_civile,ROW($A3),COLUMN(B3)))&" "&INDEX(Suivi_des_congés[[Type de congé]:[Type de congé]],SUMPRODUCT((DATE(Année_civile,ROW($A3),COLUMN(B3))>=Suivi_des_congés[[Date de début]:[Date de début]])*(DATE(Année_civile,ROW($A3),COLUMN(B3))<=Suivi_des_congés[[Date de fin]:[Date de fin]])*(Suivi_des_congés[[Nom de l’employé]:[Nom de l’employé]]=valSelEmployé)*ROW(Suivi_des_congés[[Nom de l’employé]:[Nom de l’employé]]))-3),"")} | E8: {=IFERROR(DAY(DATE(Année_civile,ROW($A3),COLUMN(C3)))&" "&INDEX(Suivi_des_congés[[Type de congé]:[Type de congé]],SUMPRODUCT((DATE(Année_civile,ROW($A3),COLUMN(C3))>=Suivi_des_congés[[Date de début]:[Date de début]])*(DATE(Année_civile,ROW($A3),COLUMN(C3))<=Suivi_des_congés[[Date de fin]:[Date de fin]])*(Suivi_des_congés[[Nom de l’employé]:[Nom de l’employé]]=valSelEmployé)*ROW(Suivi_des_congés[[Nom de l’employé]:[Nom de l’employé]]))-3),"")} | F8: {=IFERROR(DAY(DATE(Année_civile,ROW($A3),COLUMN(D3)))&" "&INDEX(Suivi_des_congés[[Type de congé]:[Type de congé]],SUMPRODUCT((DATE(Année_civile,ROW($A3),COLUMN(D3))>=Suivi_des_congés[[Date de début]:[Date de début]])*(DATE(Année_civile,ROW($A3),COLUMN(D3))<=Suivi_des_congés[[Date de fin]:[Date de fin]])*(Suivi_des_congés[[Nom de l’employé]:[Nom de l’employé]]=valSelEmployé)*ROW(Suivi_des_congés[[Nom de l’employé]:[Nom de l’employé]]))-3),"")} | G8: {=IFERROR(DAY(DATE(Année_civile,ROW($A3),COLUMN(E3)))&" "&INDEX(Suivi_des_congés[[Type de congé]:[Type de congé]],SUMPRODUCT((DATE(Année_civile,ROW($A3),COLUMN(E3))>=Suivi_des_congés[[Date de début]:[Date de début]])*(DATE(Année_civile,ROW($A3),COLUMN(E3))<=Suivi_des_congés[[Date de fin]:[Date de fin]])*(Suivi_des_congés[[Nom de l’employé]:[Nom de l’employé]]=valSelEmployé)*ROW(Suivi_des_congés[[Nom de l’employé]:[Nom de l’employé]]))-3),"")} | H8: {=IFERROR(DAY(DATE(Année_civile,ROW($A3),COLUMN(F3)))&" "&INDEX(Suivi_des_congés[[Type de congé]:[Type de congé]],SUMPRODUCT((DATE(Année_civile,ROW($A3),COLUMN(F3))>=Suivi_des_congés[[Date de début]:[Date de début]])*(DATE(Année_civile,ROW($A3),COLUMN(F3))<=Suivi_des_congés[[Date de fin]:[Date de fin]])*(Suivi_des_congés[[Nom de l’employé]:[Nom de l’employé]]=valSelEmployé)*ROW(Suivi_des_congés[[Nom de l’employé]:[Nom de l’employé]]))-3),"")} | I8: {=IFERROR(DAY(DATE(Année_civile,ROW($A3),COLUMN(G3)))&" "&INDEX(Suivi_des_congés[[Type de congé]:[Type de congé]],SUMPRODUCT((DATE(Année_civile,ROW($A3),COLUMN(G3))>=Suivi_des_congés[[Date de début]:[Date de début]])*(DATE(Année_civile,ROW($A3),COLUMN(G3))<=Suivi_des_congés[[Date de fin]:[Date de fin]])*(Suivi_des_congés[[Nom de l’employé]:[Nom de l’employé]]=valSelEmployé)*ROW(Suivi_des_congés[[Nom de l’employé]:[Nom de l’employé]]))-3),"")} | J8: {=IFERROR(DAY(DATE(Année_civile,ROW($A3),COLUMN(H3)))&" "&INDEX(Suivi_des_congés[[Type de congé]:[Type de congé]],SUMPRODUCT((DATE(Année_civile,ROW($A3),COLUMN(H3))>=Suivi_des_congés[[Date de début]:[Date de début]])*(DATE(Année_civile,ROW($A3),COLUMN(H3))<=Suivi_des_congés[[Date de fin]:[Date de fin]])*(Suivi_des_congés[[Nom de l’employé]:[Nom de l’employé]]=valSelEmployé)*ROW(Suivi_des_congés[[Nom de l’employé]:[Nom de l’employé]]))-3),"")} | ... AR8: {=IFERROR(DAY(DATE(Année_civile,ROW($A3),COLUMN(AP3)))&" "&INDEX(Suivi_des_congés[[Type de congé]:[Type de congé]],SUMPRODUCT((DATE(Année_civile,ROW($A3),COLUMN(AP3))>=Suivi_des_congés[[Date de début]:[Date de début]])*(DATE(Année_civile,ROW($A3),COLUMN(AP3))<=Suivi_des_congés[[Date de fin]:[Date de fin]])*(Suivi_des_congés[[Nom de l’employé]:[Nom de l’employé]]=valSelEmployé)*ROW(Suivi_des_congés[[Nom de l’employé]:[Nom de l’employé]]))-3),"")}
B9: Avril | C9: {=IFERROR(DAY(DATE(Année_civile,ROW($A4),COLUMN(A4)))&" "&INDEX(Suivi_des_congés[[Type de congé]:[Type de congé]],SUMPRODUCT((DATE(Année_civile,ROW($A4),COLUMN(A4))>=Suivi_des_congés[[Date de début]:[Date de début]])*(DATE(Année_civile,ROW($A4),COLUMN(A4))<=Suivi_des_congés[[Date de fin]:[Date de fin]])*(Suivi_des_congés[[Nom de l’employé]:[Nom de l’employé]]=valSelEmployé)*ROW(Suivi_des_congés[[Nom de l’employé]:[Nom de l’employé]]))-3),"")} | D9: {=IFERROR(DAY(DATE(Année_civile,ROW($A4),COLUMN(B4)))&" "&INDEX(Suivi_des_congés[[Type de congé]:[Type de congé]],SUMPRODUCT((DATE(Année_civile,ROW($A4),COLUMN(B4))>=Suivi_des_congés[[Date de début]:[Date de début]])*(DATE(Année_civile,ROW($A4),COLUMN(B4))<=Suivi_des_congés[[Date de fin]:[Date de fin]])*(Suivi_des_congés[[Nom de l’employé]:[Nom de l’employé]]=valSelEmployé)*ROW(Suivi_des_congés[[Nom de l’employé]:[Nom de l’employé]]))-3),"")} | E9: {=IFERROR(DAY(DATE(Année_civile,ROW($A4),COLUMN(C4)))&" "&INDEX(Suivi_des_congés[[Type de congé]:[Type de congé]],SUMPRODUCT((DATE(Année_civile,ROW($A4),COLUMN(C4))>=Suivi_des_congés[[Date de début]:[Date de début]])*(DATE(Année_civile,ROW($A4),COLUMN(C4))<=Suivi_des_congés[[Date de fin]:[Date de fin]])*(Suivi_des_congés[[Nom de l’employé]:[Nom de l’employé]]=valSelEmployé)*ROW(Suivi_des_congés[[Nom de l’employé]:[Nom de l’employé]]))-3),"")} | F9: {=IFERROR(DAY(DATE(Année_civile,ROW($A4),COLUMN(D4)))&" "&INDEX(Suivi_des_congés[[Type de congé]:[Type de congé]],SUMPRODUCT((DATE(Année_civile,ROW($A4),COLUMN(D4))>=Suivi_des_congés[[Date de début]:[Date de début]])*(DATE(Année_civile,ROW($A4),COLUMN(D4))<=Suivi_des_congés[[Date de fin]:[Date de fin]])*(Suivi_des_congés[[Nom de l’employé]:[Nom de l’employé]]=valSelEmployé)*ROW(Suivi_des_congés[[Nom de l’employé]:[Nom de l’employé]]))-3),"")} | G9: {=IFERROR(DAY(DATE(Année_civile,ROW($A4),COLUMN(E4)))&" "&INDEX(Suivi_des_congés[[Type de congé]:[Type de congé]],SUMPRODUCT((DATE(Année_civile,ROW($A4),COLUMN(E4))>=Suivi_des_congés[[Date de début]:[Date de début]])*(DATE(Année_civile,ROW($A4),COLUMN(E4))<=Suivi_des_congés[[Date de fin]:[Date de fin]])*(Suivi_des_congés[[Nom de l’employé]:[Nom de l’employé]]=valSelEmployé)*ROW(Suivi_des_congés[[Nom de l’employé]:[Nom de l’employé]]))-3),"")} | H9: {=IFERROR(DAY(DATE(Année_civile,ROW($A4),COLUMN(F4)))&" "&INDEX(Suivi_des_congés[[Type de congé]:[Type de congé]],SUMPRODUCT((DATE(Année_civile,ROW($A4),COLUMN(F4))>=Suivi_des_congés[[Date de début]:[Date de début]])*(DATE(Année_civile,ROW($A4),COLUMN(F4))<=Suivi_des_congés[[Date de fin]:[Date de fin]])*(Suivi_des_congés[[Nom de l’employé]:[Nom de l’employé]]=valSelEmployé)*ROW(Suivi_des_congés[[Nom de l’employé]:[Nom de l’employé]]))-3),"")} | I9: {=IFERROR(DAY(DATE(Année_civile,ROW($A4),COLUMN(G4)))&" "&INDEX(Suivi_des_congés[[Type de congé]:[Type de congé]],SUMPRODUCT((DATE(Année_civile,ROW($A4),COLUMN(G4))>=Suivi_des_congés[[Date de début]:[Date de début]])*(DATE(Année_civile,ROW($A4),COLUMN(G4))<=Suivi_des_congés[[Date de fin]:[Date de fin]])*(Suivi_des_congés[[Nom de l’employé]:[Nom de l’employé]]=valSelEmployé)*ROW(Suivi_des_congés[[Nom de l’employé]:[Nom de l’employé]]))-3),"")} | J9: {=IFERROR(DAY(DATE(Année_civile,ROW($A4),COLUMN(H4)))&" "&INDEX(Suivi_des_congés[[Type de congé]:[Type de congé]],SUMPRODUCT((DATE(Année_civile,ROW($A4),COLUMN(H4))>=Suivi_des_congés[[Date de début]:[Date de début]])*(DATE(Année_civile,ROW($A4),COLUMN(H4))<=Suivi_des_congés[[Date de fin]:[Date de fin]])*(Suivi_des_congés[[Nom de l’employé]:[Nom de l’employé]]=valSelEmployé)*ROW(Suivi_des_congés[[Nom de l’employé]:[Nom de l’employé]]))-3),"")} | ... AR9: {=IFERROR(DAY(DATE(Année_civile,ROW($A4),COLUMN(AP4)))&" "&INDEX(Suivi_des_congés[[Type de congé]:[Type de congé]],SUMPRODUCT((DATE(Année_civile,ROW($A4),COLUMN(AP4))>=Suivi_des_congés[[Date de début]:[Date de début]])*(DATE(Année_civile,ROW($A4),COLUMN(AP4))<=Suivi_des_congés[[Date de fin]:[Date de fin]])*(Suivi_des_congés[[Nom de l’employé]:[Nom de l’employé]]=valSelEmployé)*ROW(Suivi_des_congés[[Nom de l’employé]:[Nom de l’employé]]))-3),"")}
B10: mari | C10: {=IFERROR(DAY(DATE(Année_civile,ROW($A5),COLUMN(A5)))&" "&INDEX(Suivi_des_congés[[Type de congé]:[Type de congé]],SUMPRODUCT((DATE(Année_civile,ROW($A5),COLUMN(A5))>=Suivi_des_congés[[Date de début]:[Date de début]])*(DATE(Année_civile,ROW($A5),COLUMN(A5))<=Suivi_des_congés[[Date de fin]:[Date de fin]])*(Suivi_des_congés[[Nom de l’employé]:[Nom de l’employé]]=valSelEmployé)*ROW(Suivi_des_congés[[Nom de l’employé]:[Nom de l’employé]]))-3),"")} | D10: {=IFERROR(DAY(DATE(Année_civile,ROW($A5),COLUMN(B5)))&" "&INDEX(Suivi_des_congés[[Type de congé]:[Type de congé]],SUMPRODUCT((DATE(Année_civile,ROW($A5),COLUMN(B5))>=Suivi_des_congés[[Date de début]:[Date de début]])*(DATE(Année_civile,ROW($A5),COLUMN(B5))<=Suivi_des_congés[[Date de fin]:[Date de fin]])*(Suivi_des_congés[[Nom de l’employé]:[Nom de l’employé]]=valSelEmployé)*ROW(Suivi_des_congés[[Nom de l’employé]:[Nom de l’employé]]))-3),"")} | E10: {=IFERROR(DAY(DATE(Année_civile,ROW($A5),COLUMN(C5)))&" "&INDEX(Suivi_des_congés[[Type de congé]:[Type de congé]],SUMPRODUCT((DATE(Année_civile,ROW($A5),COLUMN(C5))>=Suivi_des_congés[[Date de début]:[Date de début]])*(DATE(Année_civile,ROW($A5),COLUMN(C5))<=Suivi_des_congés[[Date de fin]:[Date de fin]])*(Suivi_des_congés[[Nom de l’employé]:[Nom de l’employé]]=valSelEmployé)*ROW(Suivi_des_congés[[Nom de l’employé]:[Nom de l’employé]]))-3),"")} | F10: {=IFERROR(DAY(DATE(Année_civile,ROW($A5),COLUMN(D5)))&" "&INDEX(Suivi_des_congés[[Type de congé]:[Type de congé]],SUMPRODUCT((DATE(Année_civile,ROW($A5),COLUMN(D5))>=Suivi_des_congés[[Date de début]:[Date de début]])*(DATE(Année_civile,ROW($A5),COLUMN(D5))<=Suivi_des_congés[[Date de fin]:[Date de fin]])*(Suivi_des_congés[[Nom de l’employé]:[Nom de l’employé]]=valSelEmployé)*ROW(Suivi_des_congés[[Nom de l’employé]:[Nom de l’employé]]))-3),"")} | G10: {=IFERROR(DAY(DATE(Année_civile,ROW($A5),COLUMN(E5)))&" "&INDEX(Suivi_des_congés[[Type de congé]:[Type de congé]],SUMPRODUCT((DATE(Année_civile,ROW($A5),COLUMN(E5))>=Suivi_des_congés[[Date de début]:[Date de début]])*(DATE(Année_civile,ROW($A5),COLUMN(E5))<=Suivi_des_congés[[Date de fin]:[Date de fin]])*(Suivi_des_congés[[Nom de l’employé]:[Nom de l’employé]]=valSelEmployé)*ROW(Suivi_des_congés[[Nom de l’employé]:[Nom de l’employé]]))-3),"")} | H10: {=IFERROR(DAY(DATE(Année_civile,ROW($A5),COLUMN(F5)))&" "&INDEX(Suivi_des_congés[[Type de congé]:[Type de congé]],SUMPRODUCT((DATE(Année_civile,ROW($A5),COLUMN(F5))>=Suivi_des_congés[[Date de début]:[Date de début]])*(DATE(Année_civile,ROW($A5),COLUMN(F5))<=Suivi_des_congés[[Date de fin]:[Date de fin]])*(Suivi_des_congés[[Nom de l’employé]:[Nom de l’employé]]=valSelEmployé)*ROW(Suivi_des_congés[[Nom de l’employé]:[Nom de l’employé]]))-3),"")} | I10: {=IFERROR(DAY(DATE(Année_civile,ROW($A5),COLUMN(G5)))&" "&INDEX(Suivi_des_congés[[Type de congé]:[Type de congé]],SUMPRODUCT((DATE(Année_civile,ROW($A5),COLUMN(G5))>=Suivi_des_congés[[Date de début]:[Date de début]])*(DATE(Année_civile,ROW($A5),COLUMN(G5))<=Suivi_des_congés[[Date de fin]:[Date de fin]])*(Suivi_des_congés[[Nom de l’employé]:[Nom de l’employé]]=valSelEmployé)*ROW(Suivi_des_congés[[Nom de l’employé]:[Nom de l’employé]]))-3),"")} | J10: {=IFERROR(DAY(DATE(Année_civile,ROW($A5),COLUMN(H5)))&" "&INDEX(Suivi_des_congés[[Type de congé]:[Type de congé]],SUMPRODUCT((DATE(Année_civile,ROW($A5),COLUMN(H5))>=Suivi_des_congés[[Date de début]:[Date de début]])*(DATE(Année_civile,ROW($A5),COLUMN(H5))<=Suivi_des_congés[[Date de fin]:[Date de fin]])*(Suivi_des_congés[[Nom de l’employé]:[Nom de l’employé]]=valSelEmployé)*ROW(Suivi_des_congés[[Nom de l’employé]:[Nom de l’employé]]))-3),"")} | ... AR10: {=IFERROR(DAY(DATE(Année_civile,ROW($A5),COLUMN(AP5)))&" "&INDEX(Suivi_des_congés[[Type de congé]:[Type de congé]],SUMPRODUCT((DATE(Année_civile,ROW($A5),COLUMN(AP5))>=Suivi_des_congés[[Date de début]:[Date de début]])*(DATE(Année_civile,ROW($A5),COLUMN(AP5))<=Suivi_des_congés[[Date de fin]:[Date de fin]])*(Suivi_des_congés[[Nom de l’employé]:[Nom de l’employé]]=valSelEmployé)*ROW(Suivi_des_congés[[Nom de l’employé]:[Nom de l’employé]]))-3),"")}
B11: Juin | C11: {=IFERROR(DAY(DATE(Année_civile,ROW($A6),COLUMN(A6)))&" "&INDEX(Suivi_des_congés[[Type de congé]:[Type de congé]],SUMPRODUCT((DATE(Année_civile,ROW($A6),COLUMN(A6))>=Suivi_des_congés[[Date de début]:[Date de début]])*(DATE(Année_civile,ROW($A6),COLUMN(A6))<=Suivi_des_congés[[Date de fin]:[Date de fin]])*(Suivi_des_congés[[Nom de l’employé]:[Nom de l’employé]]=valSelEmployé)*ROW(Suivi_des_congés[[Nom de l’employé]:[Nom de l’employé]]))-3),"")} | D11: {=IFERROR(DAY(DATE(Année_civile,ROW($A6),COLUMN(B6)))&" "&INDEX(Suivi_des_congés[[Type de congé]:[Type de congé]],SUMPRODUCT((DATE(Année_civile,ROW($A6),COLUMN(B6))>=Suivi_des_congés[[Date de début]:[Date de début]])*(DATE(Année_civile,ROW($A6),COLUMN(B6))<=Suivi_des_congés[[Date de fin]:[Date de fin]])*(Suivi_des_congés[[Nom de l’employé]:[Nom de l’employé]]=valSelEmployé)*ROW(Suivi_des_congés[[Nom de l’employé]:[Nom de l’employé]]))-3),"")} | E11: {=IFERROR(DAY(DATE(Année_civile,ROW($A6),COLUMN(C6)))&" "&INDEX(Suivi_des_congés[[Type de congé]:[Type de congé]],SUMPRODUCT((DATE(Année_civile,ROW($A6),COLUMN(C6))>=Suivi_des_congés[[Date de début]:[Date de début]])*(DATE(Année_civile,ROW($A6),COLUMN(C6))<=Suivi_des_congés[[Date de fin]:[Date de fin]])*(Suivi_des_congés[[Nom de l’employé]:[Nom de l’employé]]=valSelEmployé)*ROW(Suivi_des_congés[[Nom de l’employé]:[Nom de l’employé]]))-3),"")} | F11: {=IFERROR(DAY(DATE(Année_civile,ROW($A6),COLUMN(D6)))&" "&INDEX(Suivi_des_congés[[Type de congé]:[Type de congé]],SUMPRODUCT((DATE(Année_civile,ROW($A6),COLUMN(D6))>=Suivi_des_congés[[Date de début]:[Date de début]])*(DATE(Année_civile,ROW($A6),COLUMN(D6))<=Suivi_des_congés[[Date de fin]:[Date de fin]])*(Suivi_des_congés[[Nom de l’employé]:[Nom de l’employé]]=valSelEmployé)*ROW(Suivi_des_congés[[Nom de l’employé]:[Nom de l’employé]]))-3),"")} | G11: {=IFERROR(DAY(DATE(Année_civile,ROW($A6),COLUMN(E6)))&" "&INDEX(Suivi_des_congés[[Type de congé]:[Type de congé]],SUMPRODUCT((DATE(Année_civile,ROW($A6),COLUMN(E6))>=Suivi_des_congés[[Date de début]:[Date de début]])*(DATE(Année_civile,ROW($A6),COLUMN(E6))<=Suivi_des_congés[[Date de fin]:[Date de fin]])*(Suivi_des_congés[[Nom de l’employé]:[Nom de l’employé]]=valSelEmployé)*ROW(Suivi_des_congés[[Nom de l’employé]:[Nom de l’employé]]))-3),"")} | H11: {=IFERROR(DAY(DATE(Année_civile,ROW($A6),COLUMN(F6)))&" "&INDEX(Suivi_des_congés[[Type de congé]:[Type de congé]],SUMPRODUCT((DATE(Année_civile,ROW($A6),COLUMN(F6))>=Suivi_des_congés[[Date de début]:[Date de début]])*(DATE(Année_civile,ROW($A6),COLUMN(F6))<=Suivi_des_congés[[Date de fin]:[Date de fin]])*(Suivi_des_congés[[Nom de l’employé]:[Nom de l’employé]]=valSelEmployé)*ROW(Suivi_des_congés[[Nom de l’employé]:[Nom de l’employé]]))-3),"")} | I11: {=IFERROR(DAY(DATE(Année_civile,ROW($A6),COLUMN(G6)))&" "&INDEX(Suivi_des_congés[[Type de congé]:[Type de congé]],SUMPRODUCT((DATE(Année_civile,ROW($A6),COLUMN(G6))>=Suivi_des_congés[[Date de début]:[Date de début]])*(DATE(Année_civile,ROW($A6),COLUMN(G6))<=Suivi_des_congés[[Date de fin]:[Date de fin]])*(Suivi_des_congés[[Nom de l’employé]:[Nom de l’employé]]=valSelEmployé)*ROW(Suivi_des_congés[[Nom de l’employé]:[Nom de l’employé]]))-3),"")} | J11: {=IFERROR(DAY(DATE(Année_civile,ROW($A6),COLUMN(H6)))&" "&INDEX(Suivi_des_congés[[Type de congé]:[Type de congé]],SUMPRODUCT((DATE(Année_civile,ROW($A6),COLUMN(H6))>=Suivi_des_congés[[Date de début]:[Date de début]])*(DATE(Année_civile,ROW($A6),COLUMN(H6))<=Suivi_des_congés[[Date de fin]:[Date de fin]])*(Suivi_des_congés[[Nom de l’employé]:[Nom de l’employé]]=valSelEmployé)*ROW(Suivi_des_congés[[Nom de l’employé]:[Nom de l’employé]]))-3),"")} | ... AR11: {=IFERROR(DAY(DATE(Année_civile,ROW($A6),COLUMN(AP6)))&" "&INDEX(Suivi_des_congés[[Type de congé]:[Type de congé]],SUMPRODUCT((DATE(Année_civile,ROW($A6),COLUMN(AP6))>=Suivi_des_congés[[Date de début]:[Date de début]])*(DATE(Année_civile,ROW($A6),COLUMN(AP6))<=Suivi_des_congés[[Date de fin]:[Date de fin]])*(Suivi_des_congés[[Nom de l’employé]:[Nom de l’employé]]=valSelEmployé)*ROW(Suivi_des_congés[[Nom de l’employé]:[Nom de l’employé]]))-3),"")}
B12: Juillet | C12: {=IFERROR(DAY(DATE(Année_civile,ROW($A7),COLUMN(A7)))&" "&INDEX(Suivi_des_congés[[Type de congé]:[Type de congé]],SUMPRODUCT((DATE(Année_civile,ROW($A7),COLUMN(A7))>=Suivi_des_congés[[Date de début]:[Date de début]])*(DATE(Année_civile,ROW($A7),COLUMN(A7))<=Suivi_des_congés[[Date de fin]:[Date de fin]])*(Suivi_des_congés[[Nom de l’employé]:[Nom de l’employé]]=valSelEmployé)*ROW(Suivi_des_congés[[Nom de l’employé]:[Nom de l’employé]]))-3),"")} | D12: {=IFERROR(DAY(DATE(Année_civile,ROW($A7),COLUMN(B7)))&" "&INDEX(Suivi_des_congés[[Type de congé]:[Type de congé]],SUMPRODUCT((DATE(Année_civile,ROW($A7),COLUMN(B7))>=Suivi_des_congés[[Date de début]:[Date de début]])*(DATE(Année_civile,ROW($A7),COLUMN(B7))<=Suivi_des_congés[[Date de fin]:[Date de fin]])*(Suivi_des_congés[[Nom de l’employé]:[Nom de l’employé]]=valSelEmployé)*ROW(Suivi_des_congés[[Nom de l’employé]:[Nom de l’employé]]))-3),"")} | E12: {=IFERROR(DAY(DATE(Année_civile,ROW($A7),COLUMN(C7)))&" "&INDEX(Suivi_des_congés[[Type de congé]:[Type de congé]],SUMPRODUCT((DATE(Année_civile,ROW($A7),COLUMN(C7))>=Suivi_des_congés[[Date de début]:[Date de début]])*(DATE(Année_civile,ROW($A7),COLUMN(C7))<=Suivi_des_congés[[Date de fin]:[Date de fin]])*(Suivi_des_congés[[Nom de l’employé]:[Nom de l’employé]]=valSelEmployé)*ROW(Suivi_des_congés[[Nom de l’employé]:[Nom de l’employé]]))-3),"")} | F12: {=IFERROR(DAY(DATE(Année_civile,ROW($A7),COLUMN(D7)))&" "&INDEX(Suivi_des_congés[[Type de congé]:[Type de congé]],SUMPRODUCT((DATE(Année_civile,ROW($A7),COLUMN(D7))>=Suivi_des_congés[[Date de début]:[Date de début]])*(DATE(Année_civile,ROW($A7),COLUMN(D7))<=Suivi_des_congés[[Date de fin]:[Date de fin]])*(Suivi_des_congés[[Nom de l’employé]:[Nom de l’employé]]=valSelEmployé)*ROW(Suivi_des_congés[[Nom de l’employé]:[Nom de l’employé]]))-3),"")} | G12: {=IFERROR(DAY(DATE(Année_civile,ROW($A7),COLUMN(E7)))&" "&INDEX(Suivi_des_congés[[Type de congé]:[Type de congé]],SUMPRODUCT((DATE(Année_civile,ROW($A7),COLUMN(E7))>=Suivi_des_congés[[Date de début]:[Date de début]])*(DATE(Année_civile,ROW($A7),COLUMN(E7))<=Suivi_des_congés[[Date de fin]:[Date de fin]])*(Suivi_des_congés[[Nom de l’employé]:[Nom de l’employé]]=valSelEmployé)*ROW(Suivi_des_congés[[Nom de l’employé]:[Nom de l’employé]]))-3),"")} | H12: {=IFERROR(DAY(DATE(Année_civile,ROW($A7),COLUMN(F7)))&" "&INDEX(Suivi_des_congés[[Type de congé]:[Type de congé]],SUMPRODUCT((DATE(Année_civile,ROW($A7),COLUMN(F7))>=Suivi_des_congés[[Date de début]:[Date de début]])*(DATE(Année_civile,ROW($A7),COLUMN(F7))<=Suivi_des_congés[[Date de fin]:[Date de fin]])*(Suivi_des_congés[[Nom de l’employé]:[Nom de l’employé]]=valSelEmployé)*ROW(Suivi_des_congés[[Nom de l’employé]:[Nom de l’employé]]))-3),"")} | I12: {=IFERROR(DAY(DATE(Année_civile,ROW($A7),COLUMN(G7)))&" "&INDEX(Suivi_des_congés[[Type de congé]:[Type de congé]],SUMPRODUCT((DATE(Année_civile,ROW($A7),COLUMN(G7))>=Suivi_des_congés[[Date de début]:[Date de début]])*(DATE(Année_civile,ROW($A7),COLUMN(G7))<=Suivi_des_congés[[Date de fin]:[Date de fin]])*(Suivi_des_congés[[Nom de l’employé]:[Nom de l’employé]]=valSelEmployé)*ROW(Suivi_des_congés[[Nom de l’employé]:[Nom de l’employé]]))-3),"")} | J12: {=IFERROR(DAY(DATE(Année_civile,ROW($A7),COLUMN(H7)))&" "&INDEX(Suivi_des_congés[[Type de congé]:[Type de congé]],SUMPRODUCT((DATE(Année_civile,ROW($A7),COLUMN(H7))>=Suivi_des_congés[[Date de début]:[Date de début]])*(DATE(Année_civile,ROW($A7),COLUMN(H7))<=Suivi_des_congés[[Date de fin]:[Date de fin]])*(Suivi_des_congés[[Nom de l’employé]:[Nom de l’employé]]=valSelEmployé)*ROW(Suivi_des_congés[[Nom de l’employé]:[Nom de l’employé]]))-3),"")} | ... AR12: {=IFERROR(DAY(DATE(Année_civile,ROW($A7),COLUMN(AP7)))&" "&INDEX(Suivi_des_congés[[Type de congé]:[Type de congé]],SUMPRODUCT((DATE(Année_civile,ROW($A7),COLUMN(AP7))>=Suivi_des_congés[[Date de début]:[Date de début]])*(DATE(Année_civile,ROW($A7),COLUMN(AP7))<=Suivi_des_congés[[Date de fin]:[Date de fin]])*(Suivi_des_congés[[Nom de l’employé]:[Nom de l’employé]]=valSelEmployé)*ROW(Suivi_des_congés[[Nom de l’employé]:[Nom de l’employé]]))-3),"")}
B13: Août | C13: {=IFERROR(DAY(DATE(Année_civile,ROW($A8),COLUMN(A8)))&" "&INDEX(Suivi_des_congés[[Type de congé]:[Type de congé]],SUMPRODUCT((DATE(Année_civile,ROW($A8),COLUMN(A8))>=Suivi_des_congés[[Date de début]:[Date de début]])*(DATE(Année_civile,ROW($A8),COLUMN(A8))<=Suivi_des_congés[[Date de fin]:[Date de fin]])*(Suivi_des_congés[[Nom de l’employé]:[Nom de l’employé]]=valSelEmployé)*ROW(Suivi_des_congés[[Nom de l’employé]:[Nom de l’employé]]))-3),"")} | D13: {=IFERROR(DAY(DATE(Année_civile,ROW($A8),COLUMN(B8)))&" "&INDEX(Suivi_des_congés[[Type de congé]:[Type de congé]],SUMPRODUCT((DATE(Année_civile,ROW($A8),COLUMN(B8))>=Suivi_des_congés[[Date de début]:[Date de début]])*(DATE(Année_civile,ROW($A8),COLUMN(B8))<=Suivi_des_congés[[Date de fin]:[Date de fin]])*(Suivi_des_congés[[Nom de l’employé]:[Nom de l’employé]]=valSelEmployé)*ROW(Suivi_des_congés[[Nom de l’employé]:[Nom de l’employé]]))-3),"")} | E13: {=IFERROR(DAY(DATE(Année_civile,ROW($A8),COLUMN(C8)))&" "&INDEX(Suivi_des_congés[[Type de congé]:[Type de congé]],SUMPRODUCT((DATE(Année_civile,ROW($A8),COLUMN(C8))>=Suivi_des_congés[[Date de début]:[Date de début]])*(DATE(Année_civile,ROW($A8),COLUMN(C8))<=Suivi_des_congés[[Date de fin]:[Date de fin]])*(Suivi_des_congés[[Nom de l’employé]:[Nom de l’employé]]=valSelEmployé)*ROW(Suivi_des_congés[[Nom de l’employé]:[Nom de l’employé]]))-3),"")} | F13: {=IFERROR(DAY(DATE(Année_civile,ROW($A8),COLUMN(D8)))&" "&INDEX(Suivi_des_congés[[Type de congé]:[Type de congé]],SUMPRODUCT((DATE(Année_civile,ROW($A8),COLUMN(D8))>=Suivi_des_congés[[Date de début]:[Date de début]])*(DATE(Année_civile,ROW($A8),COLUMN(D8))<=Suivi_des_congés[[Date de fin]:[Date de fin]])*(Suivi_des_congés[[Nom de l’employé]:[Nom de l’employé]]=valSelEmployé)*ROW(Suivi_des_congés[[Nom de l’employé]:[Nom de l’employé]]))-3),"")} | G13: {=IFERROR(DAY(DATE(Année_civile,ROW($A8),COLUMN(E8)))&" "&INDEX(Suivi_des_congés[[Type de congé]:[Type de congé]],SUMPRODUCT((DATE(Année_civile,ROW($A8),COLUMN(E8))>=Suivi_des_congés[[Date de début]:[Date de début]])*(DATE(Année_civile,ROW($A8),COLUMN(E8))<=Suivi_des_congés[[Date de fin]:[Date de fin]])*(Suivi_des_congés[[Nom de l’employé]:[Nom de l’employé]]=valSelEmployé)*ROW(Suivi_des_congés[[Nom de l’employé]:[Nom de l’employé]]))-3),"")} | H13: {=IFERROR(DAY(DATE(Année_civile,ROW($A8),COLUMN(F8)))&" "&INDEX(Suivi_des_congés[[Type de congé]:[Type de congé]],SUMPRODUCT((DATE(Année_civile,ROW($A8),COLUMN(F8))>=Suivi_des_congés[[Date de début]:[Date de début]])*(DATE(Année_civile,ROW($A8),COLUMN(F8))<=Suivi_des_congés[[Date de fin]:[Date de fin]])*(Suivi_des_congés[[Nom de l’employé]:[Nom de l’employé]]=valSelEmployé)*ROW(Suivi_des_congés[[Nom de l’employé]:[Nom de l’employé]]))-3),"")} | I13: {=IFERROR(DAY(DATE(Année_civile,ROW($A8),COLUMN(G8)))&" "&INDEX(Suivi_des_congés[[Type de congé]:[Type de congé]],SUMPRODUCT((DATE(Année_civile,ROW($A8),COLUMN(G8))>=Suivi_des_congés[[Date de début]:[Date de début]])*(DATE(Année_civile,ROW($A8),COLUMN(G8))<=Suivi_des_congés[[Date de fin]:[Date de fin]])*(Suivi_des_congés[[Nom de l’employé]:[Nom de l’employé]]=valSelEmployé)*ROW(Suivi_des_congés[[Nom de l’employé]:[Nom de l’employé]]))-3),"")} | J13: {=IFERROR(DAY(DATE(Année_civile,ROW($A8),COLUMN(H8)))&" "&INDEX(Suivi_des_congés[[Type de congé]:[Type de congé]],SUMPRODUCT((DATE(Année_civile,ROW($A8),COLUMN(H8))>=Suivi_des_congés[[Date de début]:[Date de début]])*(DATE(Année_civile,ROW($A8),COLUMN(H8))<=Suivi_des_congés[[Date de fin]:[Date de fin]])*(Suivi_des_congés[[Nom de l’employé]:[Nom de l’employé]]=valSelEmployé)*ROW(Suivi_des_congés[[Nom de l’employé]:[Nom de l’employé]]))-3),"")} | ... AR13: {=IFERROR(DAY(DATE(Année_civile,ROW($A8),COLUMN(AP8)))&" "&INDEX(Suivi_des_congés[[Type de congé]:[Type de congé]],SUMPRODUCT((DATE(Année_civile,ROW($A8),COLUMN(AP8))>=Suivi_des_congés[[Date de début]:[Date de début]])*(DATE(Année_civile,ROW($A8),COLUMN(AP8))<=Suivi_des_congés[[Date de fin]:[Date de fin]])*(Suivi_des_congés[[Nom de l’employé]:[Nom de l’employé]]=valSelEmployé)*ROW(Suivi_des_congés[[Nom de l’employé]:[Nom de l’employé]]))-3),"")}
B14: Septembre | C14: {=IFERROR(DAY(DATE(Année_civile,ROW($A9),COLUMN(A9)))&" "&INDEX(Suivi_des_congés[[Type de congé]:[Type de congé]],SUMPRODUCT((DATE(Année_civile,ROW($A9),COLUMN(A9))>=Suivi_des_congés[[Date de début]:[Date de début]])*(DATE(Année_civile,ROW($A9),COLUMN(A9))<=Suivi_des_congés[[Date de fin]:[Date de fin]])*(Suivi_des_congés[[Nom de l’employé]:[Nom de l’employé]]=valSelEmployé)*ROW(Suivi_des_congés[[Nom de l’employé]:[Nom de l’employé]]))-3),"")} | D14: {=IFERROR(DAY(DATE(Année_civile,ROW($A9),COLUMN(B9)))&" "&INDEX(Suivi_des_congés[[Type de congé]:[Type de congé]],SUMPRODUCT((DATE(Année_civile,ROW($A9),COLUMN(B9))>=Suivi_des_congés[[Date de début]:[Date de début]])*(DATE(Année_civile,ROW($A9),COLUMN(B9))<=Suivi_des_congés[[Date de fin]:[Date de fin]])*(Suivi_des_congés[[Nom de l’employé]:[Nom de l’employé]]=valSelEmployé)*ROW(Suivi_des_congés[[Nom de l’employé]:[Nom de l’employé]]))-3),"")} | E14: {=IFERROR(DAY(DATE(Année_civile,ROW($A9),COLUMN(C9)))&" "&INDEX(Suivi_des_congés[[Type de congé]:[Type de congé]],SUMPRODUCT((DATE(Année_civile,ROW($A9),COLUMN(C9))>=Suivi_des_congés[[Date de début]:[Date de début]])*(DATE(Année_civile,ROW($A9),COLUMN(C9))<=Suivi_des_congés[[Date de fin]:[Date de fin]])*(Suivi_des_congés[[Nom de l’employé]:[Nom de l’employé]]=valSelEmployé)*ROW(Suivi_des_congés[[Nom de l’employé]:[Nom de l’employé]]))-3),"")} | F14: {=IFERROR(DAY(DATE(Année_civile,ROW($A9),COLUMN(D9)))&" "&INDEX(Suivi_des_congés[[Type de congé]:[Type de congé]],SUMPRODUCT((DATE(Année_civile,ROW($A9),COLUMN(D9))>=Suivi_des_congés[[Date de début]:[Date de début]])*(DATE(Année_civile,ROW($A9),COLUMN(D9))<=Suivi_des_congés[[Date de fin]:[Date de fin]])*(Suivi_des_congés[[Nom de l’employé]:[Nom de l’employé]]=valSelEmployé)*ROW(Suivi_des_congés[[Nom de l’employé]:[Nom de l’employé]]))-3),"")} | G14: {=IFERROR(DAY(DATE(Année_civile,ROW($A9),COLUMN(E9)))&" "&INDEX(Suivi_des_congés[[Type de congé]:[Type de congé]],SUMPRODUCT((DATE(Année_civile,ROW($A9),COLUMN(E9))>=Suivi_des_congés[[Date de début]:[Date de début]])*(DATE(Année_civile,ROW($A9),COLUMN(E9))<=Suivi_des_congés[[Date de fin]:[Date de fin]])*(Suivi_des_congés[[Nom de l’employé]:[Nom de l’employé]]=valSelEmployé)*ROW(Suivi_des_congés[[Nom de l’employé]:[Nom de l’employé]]))-3),"")} | H14: {=IFERROR(DAY(DATE(Année_civile,ROW($A9),COLUMN(F9)))&" "&INDEX(Suivi_des_congés[[Type de congé]:[Type de congé]],SUMPRODUCT((DATE(Année_civile,ROW($A9),COLUMN(F9))>=Suivi_des_congés[[Date de début]:[Date de début]])*(DATE(Année_civile,ROW($A9),COLUMN(F9))<=Suivi_des_congés[[Date de fin]:[Date de fin]])*(Suivi_des_congés[[Nom de l’employé]:[Nom de l’employé]]=valSelEmployé)*ROW(Suivi_des_congés[[Nom de l’employé]:[Nom de l’employé]]))-3),"")} | I14: {=IFERROR(DAY(DATE(Année_civile,ROW($A9),COLUMN(G9)))&" "&INDEX(Suivi_des_congés[[Type de congé]:[Type de congé]],SUMPRODUCT((DATE(Année_civile,ROW($A9),COLUMN(G9))>=Suivi_des_congés[[Date de début]:[Date de début]])*(DATE(Année_civile,ROW($A9),COLUMN(G9))<=Suivi_des_congés[[Date de fin]:[Date de fin]])*(Suivi_des_congés[[Nom de l’employé]:[Nom de l’employé]]=valSelEmployé)*ROW(Suivi_des_congés[[Nom de l’employé]:[Nom de l’employé]]))-3),"")} | J14: {=IFERROR(DAY(DATE(Année_civile,ROW($A9),COLUMN(H9)))&" "&INDEX(Suivi_des_congés[[Type de congé]:[Type de congé]],SUMPRODUCT((DATE(Année_civile,ROW($A9),COLUMN(H9))>=Suivi_des_congés[[Date de début]:[Date de début]])*(DATE(Année_civile,ROW($A9),COLUMN(H9))<=Suivi_des_congés[[Date de fin]:[Date de fin]])*(Suivi_des_congés[[Nom de l’employé]:[Nom de l’employé]]=valSelEmployé)*ROW(Suivi_des_congés[[Nom de l’employé]:[Nom de l’employé]]))-3),"")} | ... AR14: {=IFERROR(DAY(DATE(Année_civile,ROW($A9),COLUMN(AP9)))&" "&INDEX(Suivi_des_congés[[Type de congé]:[Type de congé]],SUMPRODUCT((DATE(Année_civile,ROW($A9),COLUMN(AP9))>=Suivi_des_congés[[Date de début]:[Date de début]])*(DATE(Année_civile,ROW($A9),COLUMN(AP9))<=Suivi_des_congés[[Date de fin]:[Date de fin]])*(Suivi_des_congés[[Nom de l’employé]:[Nom de l’employé]]=valSelEmployé)*ROW(Suivi_des_congés[[Nom de l’employé]:[Nom de l’employé]]))-3),"")}
B15: Octobre | C15: {=IFERROR(DAY(DATE(Année_civile,ROW($A10),COLUMN(A10)))&" "&INDEX(Suivi_des_congés[[Type de congé]:[Type de congé]],SUMPRODUCT((DATE(Année_civile,ROW($A10),COLUMN(A10))>=Suivi_des_congés[[Date de début]:[Date de début]])*(DATE(Année_civile,ROW($A10),COLUMN(A10))<=Suivi_des_congés[[Date de fin]:[Date de fin]])*(Suivi_des_congés[[Nom de l’employé]:[Nom de l’employé]]=valSelEmployé)*ROW(Suivi_des_congés[[Nom de l’employé]:[Nom de l’employé]]))-3),"")} | D15: {=IFERROR(DAY(DATE(Année_civile,ROW($A10),COLUMN(B10)))&" "&INDEX(Suivi_des_congés[[Type de congé]:[Type de congé]],SUMPRODUCT((DATE(Année_civile,ROW($A10),COLUMN(B10))>=Suivi_des_congés[[Date de début]:[Date de début]])*(DATE(Année_civile,ROW($A10),COLUMN(B10))<=Suivi_des_congés[[Date de fin]:[Date de fin]])*(Suivi_des_congés[[Nom de l’employé]:[Nom de l’employé]]=valSelEmployé)*ROW(Suivi_des_congés[[Nom de l’employé]:[Nom de l’employé]]))-3),"")} | E15: {=IFERROR(DAY(DATE(Année_civile,ROW($A10),COLUMN(C10)))&" "&INDEX(Suivi_des_congés[[Type de congé]:[Type de congé]],SUMPRODUCT((DATE(Année_civile,ROW($A10),COLUMN(C10))>=Suivi_des_congés[[Date de début]:[Date de début]])*(DATE(Année_civile,ROW($A10),COLUMN(C10))<=Suivi_des_congés[[Date de fin]:[Date de fin]])*(Suivi_des_congés[[Nom de l’employé]:[Nom de l’employé]]=valSelEmployé)*ROW(Suivi_des_congés[[Nom de l’employé]:[Nom de l’employé]]))-3),"")} | F15: {=IFERROR(DAY(DATE(Année_civile,ROW($A10),COLUMN(D10)))&" "&INDEX(Suivi_des_congés[[Type de congé]:[Type de congé]],SUMPRODUCT((DATE(Année_civile,ROW($A10),COLUMN(D10))>=Suivi_des_congés[[Date de début]:[Date de début]])*(DATE(Année_civile,ROW($A10),COLUMN(D10))<=Suivi_des_congés[[Date de fin]:[Date de fin]])*(Suivi_des_congés[[Nom de l’employé]:[Nom de l’employé]]=valSelEmployé)*ROW(Suivi_des_congés[[Nom de l’employé]:[Nom de l’employé]]))-3),"")} | G15: {=IFERROR(DAY(DATE(Année_civile,ROW($A10),COLUMN(E10)))&" "&INDEX(Suivi_des_congés[[Type de congé]:[Type de congé]],SUMPRODUCT((DATE(Année_civile,ROW($A10),COLUMN(E10))>=Suivi_des_congés[[Date de début]:[Date de début]])*(DATE(Année_civile,ROW($A10),COLUMN(E10))<=Suivi_des_congés[[Date de fin]:[Date de fin]])*(Suivi_des_congés[[Nom de l’employé]:[Nom de l’employé]]=valSelEmployé)*ROW(Suivi_des_congés[[Nom de l’employé]:[Nom de l’employé]]))-3),"")} | H15: {=IFERROR(DAY(DATE(Année_civile,ROW($A10),COLUMN(F10)))&" "&INDEX(Suivi_des_congés[[Type de congé]:[Type de congé]],SUMPRODUCT((DATE(Année_civile,ROW($A10),COLUMN(F10))>=Suivi_des_congés[[Date de début]:[Date de début]])*(DATE(Année_civile,ROW($A10),COLUMN(F10))<=Suivi_des_congés[[Date de fin]:[Date de fin]])*(Suivi_des_congés[[Nom de l’employé]:[Nom de l’employé]]=valSelEmployé)*ROW(Suivi_des_congés[[Nom de l’employé]:[Nom de l’employé]]))-3),"")} | I15: {=IFERROR(DAY(DATE(Année_civile,ROW($A10),COLUMN(G10)))&" "&INDEX(Suivi_des_congés[[Type de congé]:[Type de congé]],SUMPRODUCT((DATE(Année_civile,ROW($A10),COLUMN(G10))>=Suivi_des_congés[[Date de début]:[Date de début]])*(DATE(Année_civile,ROW($A10),COLUMN(G10))<=Suivi_des_congés[[Date de fin]:[Date de fin]])*(Suivi_des_congés[[Nom de l’employé]:[Nom de l’employé]]=valSelEmployé)*ROW(Suivi_des_congés[[Nom de l’employé]:[Nom de l’employé]]))-3),"")} | J15: {=IFERROR(DAY(DATE(Année_civile,ROW($A10),COLUMN(H10)))&" "&INDEX(Suivi_des_congés[[Type de congé]:[Type de congé]],SUMPRODUCT((DATE(Année_civile,ROW($A10),COLUMN(H10))>=Suivi_des_congés[[Date de début]:[Date de début]])*(DATE(Année_civile,ROW($A10),COLUMN(H10))<=Suivi_des_congés[[Date de fin]:[Date de fin]])*(Suivi_des_congés[[Nom de l’employé]:[Nom de l’employé]]=valSelEmployé)*ROW(Suivi_des_congés[[Nom de l’employé]:[Nom de l’employé]]))-3),"")} | ... AR15: {=IFERROR(DAY(DATE(Année_civile,ROW($A10),COLUMN(AP10)))&" "&INDEX(Suivi_des_congés[[Type de congé]:[Type de congé]],SUMPRODUCT((DATE(Année_civile,ROW($A10),COLUMN(AP10))>=Suivi_des_congés[[Date de début]:[Date de début]])*(DATE(Année_civile,ROW($A10),COLUMN(AP10))<=Suivi_des_congés[[Date de fin]:[Date de fin]])*(Suivi_des_congés[[Nom de l’employé]:[Nom de l’employé]]=valSelEmployé)*ROW(Suivi_des_congés[[Nom de l’employé]:[Nom de l’employé]]))-3),"")}
B16: Novenmbre | C16: {=IFERROR(DAY(DATE(Année_civile,ROW($A11),COLUMN(A11)))&" "&INDEX(Suivi_des_congés[[Type de congé]:[Type de congé]],SUMPRODUCT((DATE(Année_civile,ROW($A11),COLUMN(A11))>=Suivi_des_congés[[Date de début]:[Date de début]])*(DATE(Année_civile,ROW($A11),COLUMN(A11))<=Suivi_des_congés[[Date de fin]:[Date de fin]])*(Suivi_des_congés[[Nom de l’employé]:[Nom de l’employé]]=valSelEmployé)*ROW(Suivi_des_congés[[Nom de l’employé]:[Nom de l’employé]]))-3),"")} | D16: {=IFERROR(DAY(DATE(Année_civile,ROW($A11),COLUMN(B11)))&" "&INDEX(Suivi_des_congés[[Type de congé]:[Type de congé]],SUMPRODUCT((DATE(Année_civile,ROW($A11),COLUMN(B11))>=Suivi_des_congés[[Date de début]:[Date de début]])*(DATE(Année_civile,ROW($A11),COLUMN(B11))<=Suivi_des_congés[[Date de fin]:[Date de fin]])*(Suivi_des_congés[[Nom de l’employé]:[Nom de l’employé]]=valSelEmployé)*ROW(Suivi_des_congés[[Nom de l’employé]:[Nom de l’employé]]))-3),"")} | E16: {=IFERROR(DAY(DATE(Année_civile,ROW($A11),COLUMN(C11)))&" "&INDEX(Suivi_des_congés[[Type de congé]:[Type de congé]],SUMPRODUCT((DATE(Année_civile,ROW($A11),COLUMN(C11))>=Suivi_des_congés[[Date de début]:[Date de début]])*(DATE(Année_civile,ROW($A11),COLUMN(C11))<=Suivi_des_congés[[Date de fin]:[Date de fin]])*(Suivi_des_congés[[Nom de l’employé]:[Nom de l’employé]]=valSelEmployé)*ROW(Suivi_des_congés[[Nom de l’employé]:[Nom de l’employé]]))-3),"")} | F16: {=IFERROR(DAY(DATE(Année_civile,ROW($A11),COLUMN(D11)))&" "&INDEX(Suivi_des_congés[[Type de congé]:[Type de congé]],SUMPRODUCT((DATE(Année_civile,ROW($A11),COLUMN(D11))>=Suivi_des_congés[[Date de début]:[Date de début]])*(DATE(Année_civile,ROW($A11),COLUMN(D11))<=Suivi_des_congés[[Date de fin]:[Date de fin]])*(Suivi_des_congés[[Nom de l’employé]:[Nom de l’employé]]=valSelEmployé)*ROW(Suivi_des_congés[[Nom de l’employé]:[Nom de l’employé]]))-3),"")} | G16: {=IFERROR(DAY(DATE(Année_civile,ROW($A11),COLUMN(E11)))&" "&INDEX(Suivi_des_congés[[Type de congé]:[Type de congé]],SUMPRODUCT((DATE(Année_civile,ROW($A11),COLUMN(E11))>=Suivi_des_congés[[Date de début]:[Date de début]])*(DATE(Année_civile,ROW($A11),COLUMN(E11))<=Suivi_des_congés[[Date de fin]:[Date de fin]])*(Suivi_des_congés[[Nom de l’employé]:[Nom de l’employé]]=valSelEmployé)*ROW(Suivi_des_congés[[Nom de l’employé]:[Nom de l’employé]]))-3),"")} | H16: {=IFERROR(DAY(DATE(Année_civile,ROW($A11),COLUMN(F11)))&" "&INDEX(Suivi_des_congés[[Type de congé]:[Type de congé]],SUMPRODUCT((DATE(Année_civile,ROW($A11),COLUMN(F11))>=Suivi_des_congés[[Date de début]:[Date de début]])*(DATE(Année_civile,ROW($A11),COLUMN(F11))<=Suivi_des_congés[[Date de fin]:[Date de fin]])*(Suivi_des_congés[[Nom de l’employé]:[Nom de l’employé]]=valSelEmployé)*ROW(Suivi_des_congés[[Nom de l’employé]:[Nom de l’employé]]))-3),"")} | I16: {=IFERROR(DAY(DATE(Année_civile,ROW($A11),COLUMN(G11)))&" "&INDEX(Suivi_des_congés[[Type de congé]:[Type de congé]],SUMPRODUCT((DATE(Année_civile,ROW($A11),COLUMN(G11))>=Suivi_des_congés[[Date de début]:[Date de début]])*(DATE(Année_civile,ROW($A11),COLUMN(G11))<=Suivi_des_congés[[Date de fin]:[Date de fin]])*(Suivi_des_congés[[Nom de l’employé]:[Nom de l’employé]]=valSelEmployé)*ROW(Suivi_des_congés[[Nom de l’employé]:[Nom de l’employé]]))-3),"")} | J16: {=IFERROR(DAY(DATE(Année_civile,ROW($A11),COLUMN(H11)))&" "&INDEX(Suivi_des_congés[[Type de congé]:[Type de congé]],SUMPRODUCT((DATE(Année_civile,ROW($A11),COLUMN(H11))>=Suivi_des_congés[[Date de début]:[Date de début]])*(DATE(Année_civile,ROW($A11),COLUMN(H11))<=Suivi_des_congés[[Date de fin]:[Date de fin]])*(Suivi_des_congés[[Nom de l’employé]:[Nom de l’employé]]=valSelEmployé)*ROW(Suivi_des_congés[[Nom de l’employé]:[Nom de l’employé]]))-3),"")} | ... AR16: {=IFERROR(DAY(DATE(Année_civile,ROW($A11),COLUMN(AP11)))&" "&INDEX(Suivi_des_congés[[Type de congé]:[Type de congé]],SUMPRODUCT((DATE(Année_civile,ROW($A11),COLUMN(AP11))>=Suivi_des_congés[[Date de début]:[Date de début]])*(DATE(Année_civile,ROW($A11),COLUMN(AP11))<=Suivi_des_congés[[Date de fin]:[Date de fin]])*(Suivi_des_congés[[Nom de l’employé]:[Nom de l’employé]]=valSelEmployé)*ROW(Suivi_des_congés[[Nom de l’employé]:[Nom de l’employé]]))-3),"")}
B17: Décembre | C17: {=IFERROR(DAY(DATE(Année_civile,ROW($A12),COLUMN(A12)))&" "&INDEX(Suivi_des_congés[[Type de congé]:[Type de congé]],SUMPRODUCT((DATE(Année_civile,ROW($A12),COLUMN(A12))>=Suivi_des_congés[[Date de début]:[Date de début]])*(DATE(Année_civile,ROW($A12),COLUMN(A12))<=Suivi_des_congés[[Date de fin]:[Date de fin]])*(Suivi_des_congés[[Nom de l’employé]:[Nom de l’employé]]=valSelEmployé)*ROW(Suivi_des_congés[[Nom de l’employé]:[Nom de l’employé]]))-3),"")} | D17: {=IFERROR(DAY(DATE(Année_civile,ROW($A12),COLUMN(B12)))&" "&INDEX(Suivi_des_congés[[Type de congé]:[Type de congé]],SUMPRODUCT((DATE(Année_civile,ROW($A12),COLUMN(B12))>=Suivi_des_congés[[Date de début]:[Date de début]])*(DATE(Année_civile,ROW($A12),COLUMN(B12))<=Suivi_des_congés[[Date de fin]:[Date de fin]])*(Suivi_des_congés[[Nom de l’employé]:[Nom de l’employé]]=valSelEmployé)*ROW(Suivi_des_congés[[Nom de l’employé]:[Nom de l’employé]]))-3),"")} | E17: {=IFERROR(DAY(DATE(Année_civile,ROW($A12),COLUMN(C12)))&" "&INDEX(Suivi_des_congés[[Type de congé]:[Type de congé]],SUMPRODUCT((DATE(Année_civile,ROW($A12),COLUMN(C12))>=Suivi_des_congés[[Date de début]:[Date de début]])*(DATE(Année_civile,ROW($A12),COLUMN(C12))<=Suivi_des_congés[[Date de fin]:[Date de fin]])*(Suivi_des_congés[[Nom de l’employé]:[Nom de l’employé]]=valSelEmployé)*ROW(Suivi_des_congés[[Nom de l’employé]:[Nom de l’employé]]))-3),"")} | F17: {=IFERROR(DAY(DATE(Année_civile,ROW($A12),COLUMN(D12)))&" "&INDEX(Suivi_des_congés[[Type de congé]:[Type de congé]],SUMPRODUCT((DATE(Année_civile,ROW($A12),COLUMN(D12))>=Suivi_des_congés[[Date de début]:[Date de début]])*(DATE(Année_civile,ROW($A12),COLUMN(D12))<=Suivi_des_congés[[Date de fin]:[Date de fin]])*(Suivi_des_congés[[Nom de l’employé]:[Nom de l’employé]]=valSelEmployé)*ROW(Suivi_des_congés[[Nom de l’employé]:[Nom de l’employé]]))-3),"")} | G17: {=IFERROR(DAY(DATE(Année_civile,ROW($A12),COLUMN(E12)))&" "&INDEX(Suivi_des_congés[[Type de congé]:[Type de congé]],SUMPRODUCT((DATE(Année_civile,ROW($A12),COLUMN(E12))>=Suivi_des_congés[[Date de début]:[Date de début]])*(DATE(Année_civile,ROW($A12),COLUMN(E12))<=Suivi_des_congés[[Date de fin]:[Date de fin]])*(Suivi_des_congés[[Nom de l’employé]:[Nom de l’employé]]=valSelEmployé)*ROW(Suivi_des_congés[[Nom de l’employé]:[Nom de l’employé]]))-3),"")} | H17: {=IFERROR(DAY(DATE(Année_civile,ROW($A12),COLUMN(F12)))&" "&INDEX(Suivi_des_congés[[Type de congé]:[Type de congé]],SUMPRODUCT((DATE(Année_civile,ROW($A12),COLUMN(F12))>=Suivi_des_congés[[Date de début]:[Date de début]])*(DATE(Année_civile,ROW($A12),COLUMN(F12))<=Suivi_des_congés[[Date de fin]:[Date de fin]])*(Suivi_des_congés[[Nom de l’employé]:[Nom de l’employé]]=valSelEmployé)*ROW(Suivi_des_congés[[Nom de l’employé]:[Nom de l’employé]]))-3),"")} | I17: {=IFERROR(DAY(DATE(Année_civile,ROW($A12),COLUMN(G12)))&" "&INDEX(Suivi_des_congés[[Type de congé]:[Type de congé]],SUMPRODUCT((DATE(Année_civile,ROW($A12),COLUMN(G12))>=Suivi_des_congés[[Date de début]:[Date de début]])*(DATE(Année_civile,ROW($A12),COLUMN(G12))<=Suivi_des_congés[[Date de fin]:[Date de fin]])*(Suivi_des_congés[[Nom de l’employé]:[Nom de l’employé]]=valSelEmployé)*ROW(Suivi_des_congés[[Nom de l’employé]:[Nom de l’employé]]))-3),"")} | J17: {=IFERROR(DAY(DATE(Année_civile,ROW($A12),COLUMN(H12)))&" "&INDEX(Suivi_des_congés[[Type de congé]:[Type de congé]],SUMPRODUCT((DATE(Année_civile,ROW($A12),COLUMN(H12))>=Suivi_des_congés[[Date de début]:[Date de début]])*(DATE(Année_civile,ROW($A12),COLUMN(H12))<=Suivi_des_congés[[Date de fin]:[Date de fin]])*(Suivi_des_congés[[Nom de l’employé]:[Nom de l’employé]]=valSelEmployé)*ROW(Suivi_des_congés[[Nom de l’employé]:[Nom de l’employé]]))-3),"")} | ... AR17: {=IFERROR(DAY(DATE(Année_civile,ROW($A12),COLUMN(AP12)))&" "&INDEX(Suivi_des_congés[[Type de congé]:[Type de congé]],SUMPRODUCT((DATE(Année_civile,ROW($A12),COLUMN(AP12))>=Suivi_des_congés[[Date de début]:[Date de début]])*(DATE(Année_civile,ROW($A12),COLUMN(AP12))<=Suivi_des_congés[[Date de fin]:[Date de fin]])*(Suivi_des_congés[[Nom de l’employé]:[Nom de l’employé]]=valSelEmployé)*ROW(Suivi_des_congés[[Nom de l’employé]:[Nom de l’employé]]))-3),"")}
B18: CHIFFRES CLÉS
C19: Jours de congés | H19: Jours travaillés | N19: Nombre de jours d’arrêt maladie | S19: Congé | X19: Congé de deuil | AC19: Autres
C20: =SUMIFS(Suivi_des_congés[Jours],Suivi_des_congés[Nom de l’employé],valSelEmployé,Suivi_des_congés[Date de début],">="&DATE(Année_civile,1,1),Suivi_des_congés[Date de fin],"<"&DATE(Année_civile+1,1,1)) -> 7 | H20: =NETWORKDAYS(DATE(Année_civile,1,1),EDATE(DATE(Année_civile,1,1),12)-1) -> 261 | N20: =COUNTIF(RegistrePrésence[[lun]:[dim]],"*mal") -> 4 | S20: =COUNTIF(RegistrePrésence[[lun]:[dim]],"*cpt") -> 4 | X20: =SUMIFS(Suivi_des_congés[Jours],Suivi_des_congés[Nom de l’employé],valSelEmployé,Suivi_des_congés[Date de début],">="&DATE(Année_civile,1,1),Suivi_des_congés[Date de fin],"<"&DATE(Année_civile+1,1,1),Suivi_des_congés[Type de congé],'Types de congés'!B7) -> 0 | AC20: =SUMIFS(Suivi_des_congés[Jours],Suivi_des_congés[Nom de l’employé],valSelEmployé,Suivi_des_congés[Date de début],">="&DATE(Année_civile,1,1),Suivi_des_congés[Date de fin],"<"&DATE(Année_civile+1,1,1),Suivi_des_congés[Type de congé],'Types de congés'!B8) -> 0
C21: =SUMIFS(Suivi_des_congés[Jours],Suivi_des_congés[Nom de l’employé],valSelEmployé,Suivi_des_congés[Date de début],">="&DATE(Année_civile-1,1,1),Suivi_des_congés[Date de fin],"<"&DATE(Année_civile,1,1)) -> 0 | H21: =NETWORKDAYS(DATE(Année_civile-1,1,1),EDATE(DATE(Année_civile-1,1,1),12)-1) -> 261 | N21: =SUMIFS(Suivi_des_congés[Jours],Suivi_des_congés[Nom de l’employé],valSelEmployé,Suivi_des_congés[Date de début],">="&DATE(Année_civile-1,1,1),Suivi_des_congés[Date de fin],"<"&DATE(Année_civile,1,1),Suivi_des_congés[Type de congé],'Types de congés'!B5) -> 0 | S21: =SUMIFS(Suivi_des_congés[Jours],Suivi_des_congés[Nom de l’employé],valSelEmployé,Suivi_des_congés[Date de début],">="&DATE(Année_civile-1,1,1),Suivi_des_congés[Date de fin],"<"&DATE(Année_civile,1,1),Suivi_des_congés[Type de congé],'Types de congés'!B6) -> 0 | X21: =SUMIFS(Suivi_des_congés[Jours],Suivi_des_congés[Nom de l’employé],valSelEmployé,Suivi_des_congés[Date de début],">="&DATE(Année_civile-1,1,1),Suivi_des_congés[Date de fin],"<"&DATE(Année_civile,1,1),Suivi_des_congés[Type de congé],'Types de congés'!B7) -> 0 | AC21: =SUMIFS(Suivi_des_congés[Jours],Suivi_des_congés[Nom de l’employé],valSelEmployé,Suivi_des_congés[Date de début],">="&DATE(Année_civile-1,1,1),Suivi_des_congés[Date de fin],"<"&DATE(Année_civile,1,1),Suivi_des_congés[Type de congé],'Types de congés'!B8) -> 0
C22: =IFERROR(IF(C21<>0,IF(C20>=C21,"HAUT ", "BAS ")&TEXT(C20/C21-1,"0%;0%"),"HAUT 100%"),"") -> HAUT 100% | H22: =IFERROR(IF(H21<>0,IF(H20>=H21,"HAUT ", "BAS ")&TEXT(H20/H21-1,"0%;0%"),"HAUT 100%"),"") -> HAUT 0% | N22: =IFERROR(IF(N21<>0,IF(N20>=N21,"HAUT ", "BAS ")&TEXT(N20/N21-1,"0%;0%"),"HAUT 100%"),"") -> HAUT 100% | S22: =IFERROR(IF(S21<>0,IF(S20>=S21,"HAUT ", "BAS ")&TEXT(S20/S21-1,"0%;0%"),"HAUT 100%"),"") -> HAUT 100% | X22: =IFERROR(IF(X21<>0,IF(X20>=X21,"HAUT ", "BAS ")&TEXT(X20/X21-1,"0%;0%"),"HAUT 100%"),"") -> HAUT 100% | AC22: =IFERROR(IF(AC21<>0,IF(AC20>=AC21,"HAUT ", "BAS ")&TEXT(AC20/AC21-1,"0%;0%"),"HAUT 100%"),"") -> HAUT 100%
N24: =COUNTIF(RegistrePrésence[[lun]:[dim]],"*mal") -> 4

Sheet Suivi des congés des employés
B1: Suivi des congés des employés
B3: Nom de l’employé | C3: Acquis | D3: Date de début | E3: Date de fin | F3: Type de congé | G3: Jours
B4: Employé 1 | C4: 25 | D4: 46023 | E4: 46026 | F4: CPT | G4: =NETWORKDAYS(Suivi_des_congés[[#This Row],[Date de début]],Suivi_des_congés[[#This Row],[Date de fin]],lstCongés) -> 1
B5: Employé 1 | D5: 46032 | E5: 46037 | F5: RTT | G5: =NETWORKDAYS(Suivi_des_congés[[#This Row],[Date de début]],Suivi_des_congés[[#This Row],[Date de fin]],lstCongés) -> 4
B6: Employé 1 | D6: 46065 | E6: 46068 | F6: MAL | G6: =NETWORKDAYS(Suivi_des_congés[[#This Row],[Date de début]],Suivi_des_congés[[#This Row],[Date de fin]],lstCongés) -> 2
B7: Employé 4 | G7: =NETWORKDAYS(Suivi_des_congés[[#This Row],[Date de début]],Suivi_des_congés[[#This Row],[Date de fin]],lstCongés) -> 0
B8: Employé 5 | G8: =NETWORKDAYS(Suivi_des_congés[[#This Row],[Date de début]],Suivi_des_congés[[#This Row],[Date de fin]],lstCongés) -> 0
B9: Employé 6 | G9: =NETWORKDAYS(Suivi_des_congés[[#This Row],[Date de début]],Suivi_des_congés[[#This Row],[Date de fin]],lstCongés) -> 0
B10: Employé 7 | G10: =NETWORKDAYS(Suivi_des_congés[[#This Row],[Date de début]],Suivi_des_congés[[#This Row],[Date de fin]],lstCongés) -> 0
B11: Employé 8 | G11: =NETWORKDAYS(Suivi_des_congés[[#This Row],[Date de début]],Suivi_des_congés[[#This Row],[Date de fin]],lstCongés) -> 0
B12: Employé 9 | G12: =NETWORKDAYS(Suivi_des_congés[[#This Row],[Date de début]],Suivi_des_congés[[#This Row],[Date de fin]],lstCongés) -> 0
B13: Employé 10 | G13: =NETWORKDAYS(Suivi_des_congés[[#This Row],[Date de début]],Suivi_des_congés[[#This Row],[Date de fin]],lstCongés) -> 0
B14: Employé 11 | G14: =NETWORKDAYS(Suivi_des_congés[[#This Row],[Date de début]],Suivi_des_congés[[#This Row],[Date de fin]],lstCongés) -> 0
B15: Employé 12 | G15: =NETWORKDAYS(Suivi_des_congés[[#This Row],[Date de début]],Suivi_des_congés[[#This Row],[Date de fin]],lstCongés) -> 0
B16: Employé 13 | G16: =NETWORKDAYS(Suivi_des_congés[[#This Row],[Date de début]],Suivi_des_congés[[#This Row],[Date de fin]],lstCongés) -> 0
B17: Employé 14 | G17: =NETWORKDAYS(Suivi_des_congés[[#This Row],[Date de début]],Suivi_des_congés[[#This Row],[Date de fin]],lstCongés) -> 0
B18: Employé 15 | G18: =NETWORKDAYS(Suivi_des_congés[[#This Row],[Date de début]],Suivi_des_congés[[#This Row],[Date de fin]],lstCongés) -> 0
... B26: Employé 23 | G26: =NETWORKDAYS(Suivi_des_congés[[#This Row],[Date de début]],Suivi_des_congés[[#This Row],[Date de fin]],lstCongés) -> 0

Sheet Liste des employés
B1: Liste des employés
B3: Noms des employés
B4: Employé 1
B5: Employé 2
B6: Employé 3
B7: Employé 4
B8: Employé 5
B9: Employé 6
B10: Employé 7
B11: Employé 8
B12: Employé 9
B13: Employé 10
... B24: Employé 21

Sheet Types de congés
B1: Types de congés
B3: Codes | C3: Libellés
B4: AIJ | C4: Absence injustifiée
B5: ANJ | C5: Absence justifiée non payée
B6: ATV | C6: Accident du travail
B7: CAT | C7: Congé d'ancienneté
B8: CEX | C8: Congé exceptionnel
B9: CFT | C9: Congé de fractionnement
B10: CIF | C10: CIF
B11: CME | C11: Congés mère de famille
B12: CPE | C12: Congés père de famille
B13: CPT | C13: Congés
B14: 1/2CPT | C14: Congés 1/2 journée
... B26: RTT | C26: Congés RTT

Sheet Jours fériés
B1: Jours fériés
B3: Jours fériés | C3: Description
B4: 46023 | C4: Nouvel an
B5: 46118 | C5: Lundi de Pâques
B6: 46143 | C6: Fête du Travail
B7: 46150 | C7: Fête de la Victoire de 1945
B8: 46156 | C8: Ascension
B9: 46167 | C9: Lundi de Pentecôte
B10: 46217 | C10: Fête Nationale
B11: 46249 | C11: Assomption
B12: 46327 | C12: Toussaint
B13: 46337 | C13: Jour de l'Armistice
B14: 46381 | C14: Noël
