Workbook

Sheet tar-0751284-standard-nonreg-fr-
A1: Date edition : 02/06/2025 | H1: 0.999999
A3: Ref. Tarif : | C3: 0751284 LABORATOIRE PHYKIDIS - MESSAGERIE
A4: Tarif HT au depart de : | C4: VOSQUAIS
A5: Agence de rattachement : | C5: RENNES
A6: Devise : | C6: EURO (EUR)
A7: Unite de taxe : | C7: Kilo (KG)
A8: Periode d'application : | C8: du 01/02/2025 au 30/11/2025
A9: Métier : | C9: MessagerieProduit : | E9: Standard
A10: Taux FIX (si secteur desservi) : | C10: 0.3
A11: Taux FIRST (si secteur desservi) : | C11: 0.5
A12: Pays : | C12: France, Monaco
A16: (*): F: Prix forfaitaire - A (Arrondi) - D (Prix au detail ramene au diviseur)
A17: Tarif | F17: de | G17: 1 | H17: 30 | I17: 40 | J17: 50 | K17: 60 | L17: 70 | M17: 80 | N17: 90 | O17: 101 | P17: 300 | Q17: 500 | R17: 700 | S17: 1000
F18: a | G18: 29 | H18: 39 | I18: 49 | J18: 59 | K18: 69 | L18: 79 | M18: 89 | N18: 100 | O18: 299 | P18: 499 | Q18: 699 | R18: 999 | S18: 1500
A19: Pays | B19: Dpt | C19: Destination | D19: Difficulte | E19: Poids reel | F19: (*) | G19: F | H19: F | I19: F | J19: F | K19: F | L19: F | M19: F | N19: F | O19: A/10 - D/100 | P19: A/10 - D/100 | Q19: A/10 - D/100 | R19: A/10 - D/100 | S19: A/10 - D/100
A20: FR | B20: 1 | C20: Ain | E20: Oui | G20: 34.46 | H20: 38.74 | I20: 40.26 | J20: 41.82 | K20: 46.24 | L20: 47.9 | M20: 49.53 | N20: 51.19 | O20: 42.55 | P20: 27.59 | Q20: 22.89 | R20: 20.07 | S20: 18.5
A21: FR | B21: 1 | C21: Ain | D21: Montagne | E21: Oui | G21: 43.08 | H21: 48.41 | I21: 50.34 | J21: 52.28 | K21: 57.79 | L21: 59.86 | M21: 61.91 | N21: 63.99 | O21: 53.19 | P21: 34.5 | Q21: 28.62 | R21: 25.08 | S21: 23.14
A22: FR | B22: 2 | C22: Aisne | E22: Oui | G22: 28.66 | H22: 32.19 | I22: 33.51 | J22: 34.79 | K22: 37.94 | L22: 39.3 | M22: 40.65 | N22: 42.01 | O22: 34.92 | P22: 22.64 | Q22: 18.78 | R22: 16.48 | S22: 15.18
A23: FR | B23: 3 | C23: Allier | E23: Oui | G23: 31.06 | H23: 34.91 | I23: 36.3 | J23: 37.7 | K23: 41.32 | L23: 42.78 | M23: 44.26 | N23: 45.74 | O23: 38.02 | P23: 24.65 | Q23: 20.45 | R23: 17.92 | S23: 16.54
A24: FR | B24: 4 | C24: Alpes-de-Haute-Provence | E24: Oui | G24: 49.1 | H24: 55.15 | I24: 57.38 | J24: 59.58 | K24: 66.56 | L24: 68.94 | M24: 71.3 | N24: 73.7 | O24: 61.26 | P24: 39.72 | Q24: 32.96 | R24: 28.88 | S24: 26.64
A25: FR | B25: 4 | C25: Alpes-de-Haute-Provence | D25: Haute montagne | E25: Oui | G25: 61.36 | H25: 68.95 | I25: 71.7 | J25: 74.46 | K25: 83.2 | L25: 86.17 | M25: 89.15 | N25: 92.12 | O25: 76.58 | P25: 49.67 | Q25: 41.2 | R25: 36.12 | S25: 33.29
A26: FR | B26: 5 | C26: Hautes-Alpes | E26: Oui | G26: 45 | H26: 50.57 | I26: 52.59 | J26: 54.62 | K26: 60.72 | L26: 62.88 | M26: 65.06 | N26: 67.22 | O26: 55.87 | P26: 36.23 | Q26: 30.06 | R26: 26.35 | S26: 24.28
A27: FR | B27: 5 | C27: Hautes-Alpes | D27: Haute montagne | E27: Oui | G27: 56.28 | H27: 63.21 | I27: 65.75 | J27: 68.26 | K27: 75.9 | L27: 78.6 | M27: 81.3 | N27: 84.02 | O27: 69.86 | P27: 45.3 | Q27: 37.58 | R27: 32.94 | S27: 30.37
A28: FR | B28: 6 | C28: Alpes-Maritimes | E28: Oui | G28: 44.9 | H28: 50.45 | I28: 52.46 | J28: 54.48 | K28: 61.24 | L28: 63.42 | M28: 65.62 | N28: 67.8 | O28: 56.38 | P28: 36.55 | Q28: 30.32 | R28: 26.59 | S28: 24.5
A29: FR | B29: 6 | C29: Alpes-Maritimes | D29: Haute montagne | E29: Oui | G29: 56.1 | H29: 63.06 | I29: 65.58 | J29: 68.1 | K29: 76.56 | L29: 79.28 | M29: 82.02 | N29: 84.77 | O29: 70.44 | P29: 45.7 | Q29: 37.9 | R29: 33.22 | S29: 30.63
A30: FR | B30: 7 | C30: Ardeche | E30: Oui | G30: 37.66 | H30: 42.32 | I30: 44.03 | J30: 45.72 | K30: 50.81 | L30: 52.64 | M30: 54.45 | N30: 56.28 | O30: 46.77 | P30: 30.32 | Q30: 25.17 | R30: 22.05 | S30: 20.33
A31: FR | B31: 8 | C31: Ardennes | E31: Oui | G31: 30.58 | H31: 34.37 | I31: 35.74 | J31: 37.1 | K31: 40.69 | L31: 42.15 | M31: 43.59 | N31: 45.04 | O31: 37.45 | P31: 24.28 | Q31: 20.15 | R31: 17.67 | S31: 16.28
A32: FR | B32: 9 | C32: Ariege | E32: Oui | G32: 42.59 | H32: 47.85 | I32: 49.77 | J32: 51.68 | K32: 57.26 | L32: 59.32 | M32: 61.36 | N32: 63.4 | O32: 52.7 | P32: 34.17 | Q32: 28.35 | R32: 24.86 | S32: 22.9
A33: FR | B33: 9 | C33: Ariege | D33: Haute montagne | E33: Oui | G33: 53.23 | H33: 59.82 | I33: 62.21 | J33: 64.61 | K33: 71.58 | L33: 74.15 | M33: 76.72 | N33: 79.25 | O33: 65.87 | P33: 42.73 | Q33: 35.46 | R33: 31.07 | S33: 28.64
A34: FR | B34: 10 | C34: Aube | E34: Oui | G34: 29.38 | H34: 33 | I34: 34.34 | J34: 35.66 | K34: 38.85 | L34: 40.23 | M34: 41.62 | N34: 43.01 | O34: 35.76 | P34: 23.17 | Q34: 19.23 | R34: 16.86 | S34: 15.54
A35: FR | B35: 11 | C35: Aude | E35: Oui | G35: 35.93 | H35: 40.35 | I35: 41.98 | J35: 43.59 | K35: 48.41 | L35: 50.12 | M35: 51.87 | N35: 53.61 | O35: 44.56 | P35: 28.88 | Q35: 23.97 | R35: 21.01 | S35: 19.36
A36: FR | B36: 12 | C36: Aveyron | E36: Oui | G36: 37.4 | H36: 42.02 | I36: 43.7 | J36: 45.39 | K36: 50.39 | L36: 52.19 | M36: 53.98 | N36: 55.78 | O36: 46.37 | P36: 30.06 | Q36: 24.94 | R36: 21.88 | S36: 20.17
A37: FR | B37: 13 | C37: Bouches-du-Rhone | E37: Oui | G37: 39.96 | H37: 44.9 | I37: 46.69 | J37: 48.5 | K37: 54.17 | L37: 56.1 | M37: 58.06 | N37: 59.98 | O37: 49.86 | P37: 32.34 | Q37: 26.82 | R37: 23.51 | S37: 21.67
A38: FR | B38: 14 | C38: Calvados | E38: Oui | G38: 22.5 | H38: 25.27 | I38: 26.3 | J38: 27.3 | K38: 29.08 | L38: 30.1 | M38: 31.14 | N38: 32.18 | O38: 26.75 | P38: 17.34 | Q38: 14.39 | R38: 12.61 | S38: 11.63
A39: FR | B39: 15 | C39: Cantal | E39: Oui | G39: 31.97 | H39: 35.89 | I39: 37.33 | J39: 38.75 | K39: 42.51 | L39: 44 | M39: 45.54 | N39: 47.06 | O39: 39.13 | P39: 25.37 | Q39: 21.05 | R39: 18.45 | S39: 17.01
A40: FR | B40: 16 | C40: Charente | E40: Oui | G40: 26.13 | H40: 29.35 | I40: 30.53 | J40: 31.69 | K40: 34.3 | L40: 35.53 | M40: 36.74 | N40: 37.98 | O40: 31.58 | P40: 20.48 | Q40: 16.98 | R40: 14.88 | S40: 13.72
A41: FR | B41: 17 | C41: Charente-Maritime | E41: Oui | G41: 25.05 | H41: 28.14 | I41: 29.25 | J41: 30.38 | K41: 32.85 | L41: 34.02 | M41: 35.19 | N41: 36.37 | O41: 30.22 | P41: 19.59 | Q41: 16.26 | R41: 14.25 | S41: 13.14
A42: FR | B42: 17 | C42: Charente-Maritime | D42: Ile | E42: Oui | G42: 31.3 | H42: 35.18 | I42: 36.57 | J42: 37.97 | K42: 41.06 | L42: 42.52 | M42: 44 | N42: 45.45 | O42: 37.79 | P42: 24.49 | Q42: 20.33 | R42: 17.82 | S42: 16.42
A43: FR | B43: 18 | C43: Cher | E43: Oui | G43: 27.38 | H43: 30.78 | I43: 32 | J43: 33.22 | K43: 36.06 | L43: 37.34 | M43: 38.65 | N43: 39.92 | O43: 33.18 | P43: 21.51 | Q43: 17.86 | R43: 15.65 | S43: 14.43
A44: FR | B44: 19 | C44: Correze | E44: Oui | G44: 36.05 | H44: 40.51 | I44: 42.11 | J44: 43.73 | K44: 47.97 | L44: 49.69 | M44: 51.39 | N44: 53.12 | O44: 44.15 | P44: 28.62 | Q44: 23.75 | R44: 20.81 | S44: 19.2
...

Sheet Feuil1
L1: =DATE(YEAR(E7),5,1) -> 45778
H2: Base | I2: {=INDEX('tar-0751284-standard-nonreg-fr-'!G1:S132,SUMPRODUCT(('tar-0751284-standard-nonreg-fr-'!B20:B132=E3)*('tar-0751284-standard-nonreg-fr-'!D20:D132="")*ROW(20:132)),IFERROR(MATCH(E3,'tar-0751284-standard-nonreg-fr-'!G18:S18,0),MATCH(E3,'tar-0751284-standard-nonreg-fr-'!G18:S18)+1))} -> 34.7 | L2: =DATE(YEAR(E7),8,31) -> 45900
D3: Poids | E3: 51
D4: Ville | E4: Cannes la Bocca | H4: Frais livraison ile (Corse) : | I4: =IF(E5=20,'tar-0751284-standard-nonreg-fr-'!E139,0) -> 0
D5: Département | E5: 6 | H5: Frais livraison plateforme logistique hors creneaux :
D6: Montagne | E6: oui | H6: Frais march. dangereuses QL : | I6: =IF(E7<>"",MAX('tar-0751284-standard-nonreg-fr-'!F141,SUM(I2:I5,Feuil1!H7:H18)*'tar-0751284-standard-nonreg-fr-'!G141/100,0)) -> 20
D7: Date | E7: 45877 | H7: Frais march. dangereuses QT : | I7: =IF(E8<>"",MAX('tar-0751284-standard-nonreg-fr-'!F142,SUM(I3:I6,Feuil1!H8:H19)*'tar-0751284-standard-nonreg-fr-'!G142/100,0)) -> 20
D8: march dangereuse QL | E8: x | H8: Frais de gestion piles et batteries lithium : | I8: =IF(E9<>"",'tar-0751284-standard-nonreg-fr-'!E143,0) -> 3
D9: march dangereuse QT | E9: x | H9: Frais gestion palette europe : | I9: =E11*'tar-0751284-standard-nonreg-fr-'!F144 -> 13
D10: Piles lithium | E10: x
D11: Nbre palettes autres pays | E11: 2 | H11: Frais livraison saisonniere : | I11: =IF(AND(ISNUMBER(MATCH(E5,'tar-0751284-standard-nonreg-fr-'!B183:B203,0)),Feuil1!E7>=L1,E7<=L2),Feuil1!I2/4,0) -> 8.675
D12: surete : | H12: Frais de surete :
D13: contraintes RDV : | E13: x | H13: Frais de livraison enseigne avec contraintes de RDV : | I13: =IF(E13<>"",'tar-0751284-standard-nonreg-fr-'!E149,0) -> 8
D14: valeur declaree : | H14: Frais de livraison urbaine : | I14: =IFERROR(MATCH(E4,OFFSET(25:25,MATCH(E5,B26:B45,0),),0)*'tar-0751284-standard-nonreg-fr-'!E150,0) -> 35
D15: livraison avant 10H : | E15: x | H15: Frais valeur declaree :
D16: livraison avant 12H : | E16: x
H17: Engagement de livraison avant 10H : | I17: =IF(E15<>"",'tar-0751284-standard-nonreg-fr-'!E155,0) -> 45
D18: Total : | E18: =SUM(I2:I19) -> 212.375 | H18: Engagement de livraison avant 12H : | I18: =IF(E16<>"",'tar-0751284-standard-nonreg-fr-'!E156,0) -> 25
A26: France | B26: 6 | C26: Alpes-Maritimes | D26: {=IFERROR(TRANSPOSE(_xlfn.FILTERXML("<M><R>"&SUBSTITUTE('tar-0751284-standard-nonreg-fr-'!D161,", ","</R><R>")&"</R></M>","//R")),'tar-0751284-standard-nonreg-fr-'!C161)} -> CANNES | E26: CANNES LA BOCCA | F26: NICE
A27: France | B27: 13 | C27: Bouches-du-Rhone | D27: {=IFERROR(TRANSPOSE(_xlfn.FILTERXML("<M><R>"&SUBSTITUTE('tar-0751284-standard-nonreg-fr-'!D162,", ","</R><R>")&"</R></M>","//R")),'tar-0751284-standard-nonreg-fr-'!C162)} -> AIX EN PROVENCE | E27: MARSEILLE
A28: France | B28: 17 | C28: Charente-Maritime | D28: {=IFERROR(TRANSPOSE(_xlfn.FILTERXML("<M><R>"&SUBSTITUTE('tar-0751284-standard-nonreg-fr-'!D163,", ","</R><R>")&"</R></M>","//R")),'tar-0751284-standard-nonreg-fr-'!C163)} -> LA ROCHELLE
A29: France | B29: 31 | C29: Haute-Garonne | D29: {=IFERROR(TRANSPOSE(_xlfn.FILTERXML("<M><R>"&SUBSTITUTE('tar-0751284-standard-nonreg-fr-'!D164,", ","</R><R>")&"</R></M>","//R")),'tar-0751284-standard-nonreg-fr-'!C164)} -> TOULOUSE
A30: France | B30: 33 | C30: Gironde | D30: {=IFERROR(TRANSPOSE(_xlfn.FILTERXML("<M><R>"&SUBSTITUTE('tar-0751284-standard-nonreg-fr-'!D165,", ","</R><R>")&"</R></M>","//R")),'tar-0751284-standard-nonreg-fr-'!C165)} -> BORDEAUX
A31: France | B31: 35 | C31: Ille-et-Vilaine | D31: {=IFERROR(TRANSPOSE(_xlfn.FILTERXML("<M><R>"&SUBSTITUTE('tar-0751284-standard-nonreg-fr-'!D166,", ","</R><R>")&"</R></M>","//R")),'tar-0751284-standard-nonreg-fr-'!C166)} -> RENNES
A32: France | B32: 38 | C32: Isere | D32: {=IFERROR(TRANSPOSE(_xlfn.FILTERXML("<M><R>"&SUBSTITUTE('tar-0751284-standard-nonreg-fr-'!D167,", ","</R><R>")&"</R></M>","//R")),'tar-0751284-standard-nonreg-fr-'!C167)} -> GRENOBLE
A33: France | B33: 44 | C33: Loire-Atlantique | D33: {=IFERROR(TRANSPOSE(_xlfn.FILTERXML("<M><R>"&SUBSTITUTE('tar-0751284-standard-nonreg-fr-'!D168,", ","</R><R>")&"</R></M>","//R")),'tar-0751284-standard-nonreg-fr-'!C168)} -> NANTES
A34: France | B34: 59 | C34: Nord | D34: {=IFERROR(TRANSPOSE(_xlfn.FILTERXML("<M><R>"&SUBSTITUTE('tar-0751284-standard-nonreg-fr-'!D169,", ","</R><R>")&"</R></M>","//R")),'tar-0751284-standard-nonreg-fr-'!C169)} -> EURALILLE | E34: HELLEMMES LILLE | F34: LILLE | G34: ROUBAIX | H34: TOURCOING
A35: France | B35: 67 | C35: Bas-Rhin | D35: {=IFERROR(TRANSPOSE(_xlfn.FILTERXML("<M><R>"&SUBSTITUTE('tar-0751284-standard-nonreg-fr-'!D170,", ","</R><R>")&"</R></M>","//R")),'tar-0751284-standard-nonreg-fr-'!C170)} -> STRASBOURG
A36: France | B36: 69 | C36: Rhone | D36: {=IFERROR(TRANSPOSE(_xlfn.FILTERXML("<M><R>"&SUBSTITUTE('tar-0751284-standard-nonreg-fr-'!D171,", ","</R><R>")&"</R></M>","//R")),'tar-0751284-standard-nonreg-fr-'!C171)} -> LYON | E36: VILLEURBANNE
A37: France | B37: 74 | C37: Haute-Savoie | D37: {=IFERROR(TRANSPOSE(_xlfn.FILTERXML("<M><R>"&SUBSTITUTE('tar-0751284-standard-nonreg-fr-'!D172,", ","</R><R>")&"</R></M>","//R")),'tar-0751284-standard-nonreg-fr-'!C172)} -> ANNECY
A38: France | B38: 75 | C38: Paris | D38: {=IFERROR(TRANSPOSE(_xlfn.FILTERXML("<M><R>"&SUBSTITUTE('tar-0751284-standard-nonreg-fr-'!D173,", ","</R><R>")&"</R></M>","//R")),'tar-0751284-standard-nonreg-fr-'!C173)} -> Paris
A39: France | B39: 76 | C39: Seine-Maritime | D39: {=IFERROR(TRANSPOSE(_xlfn.FILTERXML("<M><R>"&SUBSTITUTE('tar-0751284-standard-nonreg-fr-'!D174,", ","</R><R>")&"</R></M>","//R")),'tar-0751284-standard-nonreg-fr-'!C174)} -> ROUEN
A40: France | B40: 84 | C40: Vaucluse | D40: {=IFERROR(TRANSPOSE(_xlfn.FILTERXML("<M><R>"&SUBSTITUTE('tar-0751284-standard-nonreg-fr-'!D175,", ","</R><R>")&"</R></M>","//R")),'tar-0751284-standard-nonreg-fr-'!C175)} -> AVIGNON
A41: France | B41: 91 | C41: Essonne | D41: {=IFERROR(TRANSPOSE(_xlfn.FILTERXML("<M><R>"&SUBSTITUTE('tar-0751284-standard-nonreg-fr-'!D176,", ","</R><R>")&"</R></M>","//R")),'tar-0751284-standard-nonreg-fr-'!C176)} -> ORLY AEROGARE
A42: France | B42: 92 | C42: Hauts-de-Seine | D42: {=IFERROR(TRANSPOSE(_xlfn.FILTERXML("<M><R>"&SUBSTITUTE('tar-0751284-standard-nonreg-fr-'!D177,", ","</R><R>")&"</R></M>","//R")),'tar-0751284-standard-nonreg-fr-'!C177)} -> Hauts-de-Seine
A43: France | B43: 93 | C43: Seine-St-Denis | D43: {=IFERROR(TRANSPOSE(_xlfn.FILTERXML("<M><R>"&SUBSTITUTE('tar-0751284-standard-nonreg-fr-'!D178,", ","</R><R>")&"</R></M>","//R")),'tar-0751284-standard-nonreg-fr-'!C178)} -> Seine-St-Denis
A44: France | B44: 94 | C44: Val-de-Marne | D44: {=IFERROR(TRANSPOSE(_xlfn.FILTERXML("<M><R>"&SUBSTITUTE('tar-0751284-standard-nonreg-fr-'!D179,", ","</R><R>")&"</R></M>","//R")),'tar-0751284-standard-nonreg-fr-'!C179)} -> Val-de-Marne
A45: Monaco | B45: 98 | C45: 98 | D45: {=IFERROR(TRANSPOSE(_xlfn.FILTERXML("<M><R>"&SUBSTITUTE('tar-0751284-standard-nonreg-fr-'!D180,", ","</R><R>")&"</R></M>","//R")),'tar-0751284-standard-nonreg-fr-'!C180)} -> 98
A47: 29.999999
A48: 39.999999
...
