Workbook

Sheet Tableau 1
C3: Numéro d'opération | D3: Techniciens | E3: Patron | F3: Erreur 1 | G3: Erreur 2 | H3: Erreur 3 | I3: Erreur 4 | J3: Si cable RACC cb m ? | K3: Si cable intérieur cb m ?
C5: 22337165 | D5: Danny Lukombo Kinonya | E5: Sol30 | F5: Devis incorect | G5: Pose et dépose de câbles de raccordement | J5: 30
C6: 22336848 | D6: Abdel Mounim Bargach | E6: Ns Telecom | F6: Raccordement avec ou sans ouverture (RACC-1)
C7: 22331798 | D7: Abdel Mounim Bargach | E7: Ns Telecom | F7: Raccordement avec ou sans ouverture (RACC-1)
C8: 22141893 | D8: Danny Lukombo Kinonya | E8: Sol30 | F8: Raccordement avec ou sans ouverture (RACC-1) | G8: Raccordement avec ou sans ouverture (RACC-1)
C9: 22336208 | D9: Romain Théatre | E9: Faramineux | F9: Pose et dépose de câbles de raccordement | G9: Raccordement avec ou sans ouverture (RACC-1) | J9: 10
C10: 22330699 | D10: Vandenbosch Thibault | E10: ITELEC | F10: Pose et dépose de câbles de raccordement | G10: Raccordement avec ou sans ouverture (RACC-1) | J10: 10
C11: 22337324 | D11: Dimitri Senden | E11: BPS | F11: Pose et dépose de câbles supp en intérieur | G11: Raccordement avec ou sans ouverture (RACC-1) | J11: 40
C12: 22337133 | D12: Antonio Gomes | E12: TSM | F12: Pose et dépose de câbles de raccordement | J12: 30
C13: 12569861 | D13: Youssef El Ouahabi | E13: Fitel | F13: Pose et dépose de câbles de raccordement | G13: Raccordement avec ou sans ouverture (RACC-1) | J13: 20
C14: 21948980 | D14: Romain Debrassine | E14: Sol30 | F14: Raccordement avec ou sans ouverture (RACC-1)
C15: 21927977 | D15: Mehdi Moetez | E15: Project GROUP | F15: Pose et dépose de câbles de raccordement | J15: 25
C16: 21470718 | D16: Sacha Robyns | E16: Sol30 | F16: Raccordement avec ou sans ouverture (RACC-1)
C17: 22331656 | D17: El Attar Hakim | E17: Ns Telecom | F17: Raccordement avec ou sans ouverture (RACC-1)
C18: 22187003 | D18: Vandenbosch Thibault | E18: ITELEC | F18: Pose et dépose de câbles de raccordement | J18: 15
C19: 21946134 | D19: Vandenbosch Thibault | E19: ITELEC | F19: Raccordement avec ou sans ouverture (RACC-1)
C20: 22210417 | D20: El Attar Hakim | E20: Ns Telecom | F20: Raccordement avec ou sans ouverture (RACC-1)
C21: 21289037 | D21: Mohammed Lecheb | E21: BPS | F21: Pose et dépose de câbles de raccordement | J21: 15

Sheet Info
C5: Techniciens | D5: Patron | E5: Erreur | F5: Point cable intérieur | G5: Cable RACC
C6: Abdelhakim Yahya Cherif | D6: Sol30 | E6: Raccordement avec ou sans ouverture (RACC-1) | F6: 0.03 | G6: 0.04
C7: Antonio Gomes | D7: Ns Telecom | E7: Pose et dépose de câbles de raccordement
C8: Danny Lukombo Kinonya | D8: ATA | E8: Devis incorect
C9: Dohmen Sébastien | D9: BPS | E9: Pose et dépose de câbles supp en intérieur
C10: Florent Lebrun | D10: Fitel
C11: Boudar Haida Abid | D11: TTM Buisness
C12: Ilias Oufregh Liégeois | D12: Soluce Tel
C13: Jean-Paul Detilloux | D13: Project GROUP
C14: Masones Timoty | D14: NR CONNECT
C15: Mathis Jourdain | D15: ITELEC
C16: Mestapha Ait Yahir | D16: Faramineux
C17: Michael Lefevre | D17: Nolitel
C18: Michael Mizrahi | D18: TSM
C19: Mohamed Kaddouri
C20: De Nardi Loris
C21: Mohammed Lecheb
C22: Nicolas Leloup PXS
C23: Preet Kumar
C24: Rayane Fakih
C25: Romain Debrassine
C26: Sacha Robyns
C27: Wergifosse Sébastien
C28: Youssef El Ouahabi
C29: Steve Vanhorick
C30: Rayane Sadiki
... C56: Lucas Vercammen

Sheet Résultat
C3: Techniciens | D3: Devis incorect | E3: Pose et dépose de câbles de raccordement | F3: Raccordement avec ou sans ouverture (RACC-1) | G3: Pose et dépose de câbles supp en intérieur | H3: Point cable extérieur | I3: Point cable intérieur
C5: Abdelhakim Yahya Cherif | D5: {=SUM(('Tableau 1'!$F$5:$I$37=Résultat!D$3)*('Tableau 1'!$D$5:$D$37=Résultat!$C5))} -> 0 | E5: {=SUM(('Tableau 1'!$F$5:$I$37=Résultat!E$3)*('Tableau 1'!$D$5:$D$37=Résultat!$C5))} -> 0 | F5: {=SUM(('Tableau 1'!$F$5:$I$37=Résultat!F$3)*('Tableau 1'!$D$5:$D$37=Résultat!$C5))} -> 0 | G5: {=SUM(('Tableau 1'!$F$5:$I$37=Résultat!G$3)*('Tableau 1'!$D$5:$D$37=Résultat!$C5))} -> 0 | H5: {=IFERROR(SUM(('Tableau 1'!$D$5:$D$37=Résultat!$C5)*'Tableau 1'!$J$5:$J$37)*Info!$G$6,"")} -> 0 | I5: {=IFERROR(SUM(('Tableau 1'!$D$5:$D$37=Résultat!$C5)*'Tableau 1'!$K$5:$K$37)*Info!$G$6,"")} -> 0
C6: Antonio Gomes | D6: {=SUM(('Tableau 1'!$F$5:$I$37=Résultat!D$3)*('Tableau 1'!$D$5:$D$37=Résultat!$C6))} -> 0 | E6: {=SUM(('Tableau 1'!$F$5:$I$37=Résultat!E$3)*('Tableau 1'!$D$5:$D$37=Résultat!$C6))} -> 1 | F6: {=SUM(('Tableau 1'!$F$5:$I$37=Résultat!F$3)*('Tableau 1'!$D$5:$D$37=Résultat!$C6))} -> 0 | G6: {=SUM(('Tableau 1'!$F$5:$I$37=Résultat!G$3)*('Tableau 1'!$D$5:$D$37=Résultat!$C6))} -> 0 | H6: {=IFERROR(SUM(('Tableau 1'!$D$5:$D$37=Résultat!$C6)*'Tableau 1'!$J$5:$J$37)*Info!$G$6,"")} -> 1.2 | I6: {=IFERROR(SUM(('Tableau 1'!$D$5:$D$37=Résultat!$C6)*'Tableau 1'!$K$5:$K$37)*Info!$G$6,"")} -> 0
C7: Danny Lukombo Kinonya | D7: {=SUM(('Tableau 1'!$F$5:$I$37=Résultat!D$3)*('Tableau 1'!$D$5:$D$37=Résultat!$C7))} -> 1 | E7: {=SUM(('Tableau 1'!$F$5:$I$37=Résultat!E$3)*('Tableau 1'!$D$5:$D$37=Résultat!$C7))} -> 1 | F7: {=SUM(('Tableau 1'!$F$5:$I$37=Résultat!F$3)*('Tableau 1'!$D$5:$D$37=Résultat!$C7))} -> 2 | G7: {=SUM(('Tableau 1'!$F$5:$I$37=Résultat!G$3)*('Tableau 1'!$D$5:$D$37=Résultat!$C7))} -> 0 | H7: {=IFERROR(SUM(('Tableau 1'!$D$5:$D$37=Résultat!$C7)*'Tableau 1'!$J$5:$J$37)*Info!$G$6,"")} -> 1.2 | I7: {=IFERROR(SUM(('Tableau 1'!$D$5:$D$37=Résultat!$C7)*'Tableau 1'!$K$5:$K$37)*Info!$G$6,"")} -> 0
C8: Dohmen Sébastien | D8: {=SUM(('Tableau 1'!$F$5:$I$37=Résultat!D$3)*('Tableau 1'!$D$5:$D$37=Résultat!$C8))} -> 0 | E8: {=SUM(('Tableau 1'!$F$5:$I$37=Résultat!E$3)*('Tableau 1'!$D$5:$D$37=Résultat!$C8))} -> 0 | F8: {=SUM(('Tableau 1'!$F$5:$I$37=Résultat!F$3)*('Tableau 1'!$D$5:$D$37=Résultat!$C8))} -> 0 | G8: {=SUM(('Tableau 1'!$F$5:$I$37=Résultat!G$3)*('Tableau 1'!$D$5:$D$37=Résultat!$C8))} -> 0 | H8: {=IFERROR(SUM(('Tableau 1'!$D$5:$D$37=Résultat!$C8)*'Tableau 1'!$J$5:$J$37)*Info!$G$6,"")} -> 0 | I8: {=IFERROR(SUM(('Tableau 1'!$D$5:$D$37=Résultat!$C8)*'Tableau 1'!$K$5:$K$37)*Info!$G$6,"")} -> 0
C9: Florent Lebrun | D9: {=SUM(('Tableau 1'!$F$5:$I$37=Résultat!D$3)*('Tableau 1'!$D$5:$D$37=Résultat!$C9))} -> 0 | E9: {=SUM(('Tableau 1'!$F$5:$I$37=Résultat!E$3)*('Tableau 1'!$D$5:$D$37=Résultat!$C9))} -> 0 | F9: {=SUM(('Tableau 1'!$F$5:$I$37=Résultat!F$3)*('Tableau 1'!$D$5:$D$37=Résultat!$C9))} -> 0 | G9: {=SUM(('Tableau 1'!$F$5:$I$37=Résultat!G$3)*('Tableau 1'!$D$5:$D$37=Résultat!$C9))} -> 0 | H9: {=IFERROR(SUM(('Tableau 1'!$D$5:$D$37=Résultat!$C9)*'Tableau 1'!$J$5:$J$37)*Info!$G$6,"")} -> 0 | I9: {=IFERROR(SUM(('Tableau 1'!$D$5:$D$37=Résultat!$C9)*'Tableau 1'!$K$5:$K$37)*Info!$G$6,"")} -> 0
C10: Boudar Haida Abid | D10: {=SUM(('Tableau 1'!$F$5:$I$37=Résultat!D$3)*('Tableau 1'!$D$5:$D$37=Résultat!$C10))} -> 0 | E10: {=SUM(('Tableau 1'!$F$5:$I$37=Résultat!E$3)*('Tableau 1'!$D$5:$D$37=Résultat!$C10))} -> 0 | F10: {=SUM(('Tableau 1'!$F$5:$I$37=Résultat!F$3)*('Tableau 1'!$D$5:$D$37=Résultat!$C10))} -> 0 | G10: {=SUM(('Tableau 1'!$F$5:$I$37=Résultat!G$3)*('Tableau 1'!$D$5:$D$37=Résultat!$C10))} -> 0 | H10: {=IFERROR(SUM(('Tableau 1'!$D$5:$D$37=Résultat!$C10)*'Tableau 1'!$J$5:$J$37)*Info!$G$6,"")} -> 0 | I10: {=IFERROR(SUM(('Tableau 1'!$D$5:$D$37=Résultat!$C10)*'Tableau 1'!$K$5:$K$37)*Info!$G$6,"")} -> 0
C11: Ilias Oufregh Liégeois | D11: {=SUM(('Tableau 1'!$F$5:$I$37=Résultat!D$3)*('Tableau 1'!$D$5:$D$37=Résultat!$C11))} -> 0 | E11: {=SUM(('Tableau 1'!$F$5:$I$37=Résultat!E$3)*('Tableau 1'!$D$5:$D$37=Résultat!$C11))} -> 0 | F11: {=SUM(('Tableau 1'!$F$5:$I$37=Résultat!F$3)*('Tableau 1'!$D$5:$D$37=Résultat!$C11))} -> 0 | G11: {=SUM(('Tableau 1'!$F$5:$I$37=Résultat!G$3)*('Tableau 1'!$D$5:$D$37=Résultat!$C11))} -> 0 | H11: {=IFERROR(SUM(('Tableau 1'!$D$5:$D$37=Résultat!$C11)*'Tableau 1'!$J$5:$J$37)*Info!$G$6,"")} -> 0 | I11: {=IFERROR(SUM(('Tableau 1'!$D$5:$D$37=Résultat!$C11)*'Tableau 1'!$K$5:$K$37)*Info!$G$6,"")} -> 0
C12: Jean-Paul Detilloux | D12: {=SUM(('Tableau 1'!$F$5:$I$37=Résultat!D$3)*('Tableau 1'!$D$5:$D$37=Résultat!$C12))} -> 0 | E12: {=SUM(('Tableau 1'!$F$5:$I$37=Résultat!E$3)*('Tableau 1'!$D$5:$D$37=Résultat!$C12))} -> 0 | F12: {=SUM(('Tableau 1'!$F$5:$I$37=Résultat!F$3)*('Tableau 1'!$D$5:$D$37=Résultat!$C12))} -> 0 | G12: {=SUM(('Tableau 1'!$F$5:$I$37=Résultat!G$3)*('Tableau 1'!$D$5:$D$37=Résultat!$C12))} -> 0 | H12: {=IFERROR(SUM(('Tableau 1'!$D$5:$D$37=Résultat!$C12)*'Tableau 1'!$J$5:$J$37)*Info!$G$6,"")} -> 0 | I12: {=IFERROR(SUM(('Tableau 1'!$D$5:$D$37=Résultat!$C12)*'Tableau 1'!$K$5:$K$37)*Info!$G$6,"")} -> 0
C13: Masones Timoty | D13: {=SUM(('Tableau 1'!$F$5:$I$37=Résultat!D$3)*('Tableau 1'!$D$5:$D$37=Résultat!$C13))} -> 0 | E13: {=SUM(('Tableau 1'!$F$5:$I$37=Résultat!E$3)*('Tableau 1'!$D$5:$D$37=Résultat!$C13))} -> 0 | F13: {=SUM(('Tableau 1'!$F$5:$I$37=Résultat!F$3)*('Tableau 1'!$D$5:$D$37=Résultat!$C13))} -> 0 | G13: {=SUM(('Tableau 1'!$F$5:$I$37=Résultat!G$3)*('Tableau 1'!$D$5:$D$37=Résultat!$C13))} -> 0 | H13: {=IFERROR(SUM(('Tableau 1'!$D$5:$D$37=Résultat!$C13)*'Tableau 1'!$J$5:$J$37)*Info!$G$6,"")} -> 0 | I13: {=IFERROR(SUM(('Tableau 1'!$D$5:$D$37=Résultat!$C13)*'Tableau 1'!$K$5:$K$37)*Info!$G$6,"")} -> 0
C14: Mathis Jourdain | D14: {=SUM(('Tableau 1'!$F$5:$I$37=Résultat!D$3)*('Tableau 1'!$D$5:$D$37=Résultat!$C14))} -> 0 | E14: {=SUM(('Tableau 1'!$F$5:$I$37=Résultat!E$3)*('Tableau 1'!$D$5:$D$37=Résultat!$C14))} -> 0 | F14: {=SUM(('Tableau 1'!$F$5:$I$37=Résultat!F$3)*('Tableau 1'!$D$5:$D$37=Résultat!$C14))} -> 0 | G14: {=SUM(('Tableau 1'!$F$5:$I$37=Résultat!G$3)*('Tableau 1'!$D$5:$D$37=Résultat!$C14))} -> 0 | H14: {=IFERROR(SUM(('Tableau 1'!$D$5:$D$37=Résultat!$C14)*'Tableau 1'!$J$5:$J$37)*Info!$G$6,"")} -> 0 | I14: {=IFERROR(SUM(('Tableau 1'!$D$5:$D$37=Résultat!$C14)*'Tableau 1'!$K$5:$K$37)*Info!$G$6,"")} -> 0
C15: Mestapha Ait Yahir | D15: {=SUM(('Tableau 1'!$F$5:$I$37=Résultat!D$3)*('Tableau 1'!$D$5:$D$37=Résultat!$C15))} -> 0 | E15: {=SUM(('Tableau 1'!$F$5:$I$37=Résultat!E$3)*('Tableau 1'!$D$5:$D$37=Résultat!$C15))} -> 0 | F15: {=SUM(('Tableau 1'!$F$5:$I$37=Résultat!F$3)*('Tableau 1'!$D$5:$D$37=Résultat!$C15))} -> 0 | G15: {=SUM(('Tableau 1'!$F$5:$I$37=Résultat!G$3)*('Tableau 1'!$D$5:$D$37=Résultat!$C15))} -> 0 | H15: {=IFERROR(SUM(('Tableau 1'!$D$5:$D$37=Résultat!$C15)*'Tableau 1'!$J$5:$J$37)*Info!$G$6,"")} -> 0 | I15: {=IFERROR(SUM(('Tableau 1'!$D$5:$D$37=Résultat!$C15)*'Tableau 1'!$K$5:$K$37)*Info!$G$6,"")} -> 0
C16: Michael Lefevre | D16: {=SUM(('Tableau 1'!$F$5:$I$37=Résultat!D$3)*('Tableau 1'!$D$5:$D$37=Résultat!$C16))} -> 0 | E16: {=SUM(('Tableau 1'!$F$5:$I$37=Résultat!E$3)*('Tableau 1'!$D$5:$D$37=Résultat!$C16))} -> 0 | F16: {=SUM(('Tableau 1'!$F$5:$I$37=Résultat!F$3)*('Tableau 1'!$D$5:$D$37=Résultat!$C16))} -> 0 | G16: {=SUM(('Tableau 1'!$F$5:$I$37=Résultat!G$3)*('Tableau 1'!$D$5:$D$37=Résultat!$C16))} -> 0 | H16: {=IFERROR(SUM(('Tableau 1'!$D$5:$D$37=Résultat!$C16)*'Tableau 1'!$J$5:$J$37)*Info!$G$6,"")} -> 0 | I16: {=IFERROR(SUM(('Tableau 1'!$D$5:$D$37=Résultat!$C16)*'Tableau 1'!$K$5:$K$37)*Info!$G$6,"")} -> 0
... C55: Lucas Vercammen | D55: {=SUM(('Tableau 1'!$F$5:$I$37=Résultat!D$3)*('Tableau 1'!$D$5:$D$37=Résultat!$C55))} -> 0 | E55: {=SUM(('Tableau 1'!$F$5:$I$37=Résultat!E$3)*('Tableau 1'!$D$5:$D$37=Résultat!$C55))} -> 0 | F55: {=SUM(('Tableau 1'!$F$5:$I$37=Résultat!F$3)*('Tableau 1'!$D$5:$D$37=Résultat!$C55))} -> 0 | G55: {=SUM(('Tableau 1'!$F$5:$I$37=Résultat!G$3)*('Tableau 1'!$D$5:$D$37=Résultat!$C55))} -> 0 | H55: {=IFERROR(SUM(('Tableau 1'!$D$5:$D$37=Résultat!$C55)*'Tableau 1'!$J$5:$J$37)*Info!$G$6,"")} -> 0 | I55: {=IFERROR(SUM(('Tableau 1'!$D$5:$D$37=Résultat!$C55)*'Tableau 1'!$K$5:$K$37)*Info!$G$6,"")} -> 0
