Workbook

Sheet Feuil1
A1: Date fact. | B1: Qté vendue | C1: TypeProduit | D1: $ coûtant unit. | E1: $ vendant | F1: Produit (desc.) | G1: Escompte | H1: Date comm. | I1: Dimension | J1: QtyAdjusted | K1: NoCommande | L1: Client | M1: TypeChantier | N1: NoFacture | O1: NoProduit | P1: Concat_Produit | Q1: $ vendant unit. | R1: MargeProduit | S1: Seq | T1: Concat_SeqProduit | U1: FlagInvoiceWithNoCost | V1: Concat_FactureCommande | W1: OrderMarginBracketIndex | X1: MargeCommande | Y1: EndOfCycleReason | Z1: StatutCommande | AA1: TypeCommande | AB1: OrderMarginBracketName | AC1: ProductMarginBracketIndex | AD1: ProductMarginBracketName | AE1: FlagInvoiceWithNoSold | AF1: Representant | AG1: TypeService | AH1: Territoire | AI1: TypeClient | AJ1: GroupeProduit | AK1: GroupeEscompte | AL1: EscompteAjuste | AM1: Commande validée
A2: 44562 | B2: 2 | C2: def1 | D2: 25 | E2: 50 | F2: kjj | G2: 5 | H2: =A2 -> 44562 | I2: 5 | J2: 5 | K2: 22566 | L2: Paul1 | M2: 5 | N2: 5698 | O2: 1558 | P2: 659 | Q2: 259 | R2: 69 | S2: 458 | T2: 659 | U2: 5669 | V2: 556 | W2: 669 | X2: 66 | Y2: 669 | Z2: p | AA2: 59 | AB2: 669 | AC2: 54 | AD2: 44 | AE2: 55 | AF2: Jules 1 | AG2: 8 | AH2: 9 | AI2: p1 | AJ2: k6 | AK2: u8 | AL2: 5 | AM2: 6
A3: 44563 | B3: 5 | C3: def3 | D3: 26 | E3: 51 | F3: kjj | G3: 6 | H3: =A3 -> 44563 | I3: 5 | J3: 5 | K3: 22566 | L3: Paul2 | M3: 5 | N3: 5698 | O3: 1558 | P3: 659 | Q3: 259 | R3: 69 | S3: 458 | T3: 659 | U3: 5669 | V3: 556 | W3: 669 | X3: 66 | Y3: 669 | Z3: p | AA3: 59 | AB3: 669 | AC3: 54 | AD3: 44 | AE3: 55 | AF3: Jules 2 | AG3: 8 | AH3: 9 | AI3: p2 | AJ3: k7 | AK3: u9 | AL3: 5 | AM3: 6
A4: 44564 | B4: 8 | C4: def5 | D4: 27 | E4: 52 | F4: kjj | G4: 7 | H4: =A4 -> 44564 | I4: 5 | J4: 5 | K4: 22566 | L4: Paul3 | M4: 5 | N4: 5698 | O4: 1558 | P4: 659 | Q4: 259 | R4: 69 | S4: 458 | T4: 659 | U4: 5669 | V4: 556 | W4: 669 | X4: 66 | Y4: 669 | Z4: p | AA4: 59 | AB4: 669 | AC4: 54 | AD4: 44 | AE4: 55 | AF4: Jules 3 | AG4: 8 | AH4: 9 | AI4: p3 | AJ4: k8 | AK4: u10 | AL4: 5 | AM4: 6
A5: 44565 | B5: 11 | C5: def7 | D5: 28 | E5: 53 | F5: kjj | G5: 8 | H5: =A5 -> 44565 | I5: 5 | J5: 5 | K5: 22566 | L5: Paul4 | M5: 5 | N5: 5698 | O5: 1558 | P5: 659 | Q5: 259 | R5: 69 | S5: 458 | T5: 659 | U5: 5669 | V5: 556 | W5: 669 | X5: 66 | Y5: 669 | Z5: p | AA5: 59 | AB5: 669 | AC5: 54 | AD5: 44 | AE5: 55 | AF5: Jules 4 | AG5: 8 | AH5: 9 | AI5: p4 | AJ5: k9 | AK5: u11 | AL5: 5 | AM5: 6
A6: 44566 | B6: 14 | C6: def9 | D6: 29 | E6: 54 | F6: kjj | G6: 9 | H6: =A6 -> 44566 | I6: 5 | J6: 5 | K6: 22566 | L6: Paul5 | M6: 5 | N6: 5698 | O6: 1558 | P6: 659 | Q6: 259 | R6: 69 | S6: 458 | T6: 659 | U6: 5669 | V6: 556 | W6: 669 | X6: 66 | Y6: 669 | Z6: p | AA6: 59 | AB6: 669 | AC6: 54 | AD6: 44 | AE6: 55 | AF6: Jules 5 | AG6: 8 | AH6: 9 | AI6: p5 | AJ6: k10 | AK6: u12 | AL6: 5 | AM6: 6
A7: 44567 | B7: 17 | C7: def11 | D7: 30 | E7: 55 | F7: kjj | G7: 10 | H7: =A7 -> 44567 | I7: 5 | J7: 5 | K7: 22566 | L7: Paul6 | M7: 5 | N7: 5698 | O7: 1558 | P7: 659 | Q7: 259 | R7: 69 | S7: 458 | T7: 659 | U7: 5669 | V7: 556 | W7: 669 | X7: 66 | Y7: 669 | Z7: p | AA7: 59 | AB7: 669 | AC7: 54 | AD7: 44 | AE7: 55 | AF7: Jules 6 | AG7: 8 | AH7: 9 | AI7: p6 | AJ7: k11 | AK7: u13 | AL7: 5 | AM7: 6
A8: 44568 | B8: 20 | C8: def13 | D8: 31 | E8: 56 | F8: kjj | G8: 11 | H8: =A8 -> 44568 | I8: 5 | J8: 5 | K8: 22566 | L8: Paul7 | M8: 5 | N8: 5698 | O8: 1558 | P8: 659 | Q8: 259 | R8: 69 | S8: 458 | T8: 659 | U8: 5669 | V8: 556 | W8: 669 | X8: 66 | Y8: 669 | Z8: p | AA8: 59 | AB8: 669 | AC8: 54 | AD8: 44 | AE8: 55 | AF8: Jules 7 | AG8: 8 | AH8: 9 | AI8: p7 | AJ8: k12 | AK8: u14 | AL8: 5 | AM8: 6
A9: 44569 | B9: 23 | C9: def15 | D9: 32 | E9: 57 | F9: kjj | G9: 12 | H9: =A9 -> 44569 | I9: 5 | J9: 5 | K9: 22566 | L9: Paul8 | M9: 5 | N9: 5698 | O9: 1558 | P9: 659 | Q9: 259 | R9: 69 | S9: 458 | T9: 659 | U9: 5669 | V9: 556 | W9: 669 | X9: 66 | Y9: 669 | Z9: p | AA9: 59 | AB9: 669 | AC9: 54 | AD9: 44 | AE9: 55 | AF9: Jules 8 | AG9: 8 | AH9: 9 | AI9: p8 | AJ9: k13 | AK9: u15 | AL9: 5 | AM9: 6
A10: 44570 | B10: 26 | C10: def17 | D10: 33 | E10: 58 | F10: kjj | G10: 13 | H10: =A10 -> 44570 | I10: 5 | J10: 5 | K10: 22566 | L10: Paul9 | M10: 5 | N10: 5698 | O10: 1558 | P10: 659 | Q10: 259 | R10: 69 | S10: 458 | T10: 659 | U10: 5669 | V10: 556 | W10: 669 | X10: 66 | Y10: 669 | Z10: p | AA10: 59 | AB10: 669 | AC10: 54 | AD10: 44 | AE10: 55 | AF10: Jules 9 | AG10: 8 | AH10: 9 | AI10: p9 | AJ10: k14 | AK10: u16 | AL10: 5 | AM10: 6
A11: 44571 | B11: 29 | C11: def19 | D11: 34 | E11: 59 | F11: kjj | G11: 14 | H11: =A11 -> 44571 | I11: 5 | J11: 5 | K11: 22566 | L11: Paul10 | M11: 5 | N11: 5698 | O11: 1558 | P11: 659 | Q11: 259 | R11: 69 | S11: 458 | T11: 659 | U11: 5669 | V11: 556 | W11: 669 | X11: 66 | Y11: 669 | Z11: p | AA11: 59 | AB11: 669 | AC11: 54 | AD11: 44 | AE11: 55 | AF11: Jules 10 | AG11: 8 | AH11: 9 | AI11: p10 | AJ11: k15 | AK11: u17 | AL11: 5 | AM11: 6
A12: 44572 | B12: 32 | C12: def21 | D12: 35 | E12: 60 | F12: kjj | G12: 15 | H12: =A12 -> 44572 | I12: 5 | J12: 5 | K12: 22566 | L12: Paul11 | M12: 5 | N12: 5698 | O12: 1558 | P12: 659 | Q12: 259 | R12: 69 | S12: 458 | T12: 659 | U12: 5669 | V12: 556 | W12: 669 | X12: 66 | Y12: 669 | Z12: p | AA12: 59 | AB12: 669 | AC12: 54 | AD12: 44 | AE12: 55 | AF12: Jules 11 | AG12: 8 | AH12: 9 | AI12: p11 | AJ12: k16 | AK12: u18 | AL12: 5 | AM12: 6
A13: 44573 | B13: 35 | C13: def23 | D13: 36 | E13: 61 | F13: kjj | G13: 16 | H13: =A13 -> 44573 | I13: 5 | J13: 5 | K13: 22566 | L13: Paul12 | M13: 5 | N13: 5698 | O13: 1558 | P13: 659 | Q13: 259 | R13: 69 | S13: 458 | T13: 659 | U13: 5669 | V13: 556 | W13: 669 | X13: 66 | Y13: 669 | Z13: p | AA13: 59 | AB13: 669 | AC13: 54 | AD13: 44 | AE13: 55 | AF13: Jules 12 | AG13: 8 | AH13: 9 | AI13: p12 | AJ13: k17 | AK13: u19 | AL13: 5 | AM13: 6
... A121: 44681 | B121: 359 | C121: def239 | D121: 144 | E121: 169 | F121: kjj | G121: 124 | H121: =A121 -> 44681 | I121: 5 | J121: 5 | K121: 22566 | L121: Paul120 | M121: 5 | N121: 5698 | O121: 1558 | P121: 659 | Q121: 259 | R121: 69 | S121: 458 | T121: 659 | U121: 5669 | V121: 556 | W121: 669 | X121: 66 | Y121: 669 | Z121: p | AA121: 59 | AB121: 669 | AC121: 54 | AD121: 44 | AE121: 55 | AF121: Jules 120 | AG121: 8 | AH121: 9 | AI121: p120 | AJ121: k125 | AK121: u127 | AL121: 5 | AM121: 6

Sheet Feuil2
A1: Date fact. | B1: Qté vendue | C1: $ coûtant unit. | D1: $ vendant | E1: Produit (desc.) | F1: Escompte | G1: Client | H1: NoProduit
A2: {=OFFSET(Feuil1!$A$2,,MATCH(Feuil2!A$1,Feuil1!$1:$1,0)-1,COUNTA(OFFSET(Feuil1!$A:$A,,MATCH(Feuil2!A$1,Feuil1!$1:$1,0)-1))-1)} -> 44562 | B2: {=OFFSET(Feuil1!$A$2,,MATCH(Feuil2!B$1,Feuil1!$1:$1,0)-1,COUNTA(OFFSET(Feuil1!$A:$A,,MATCH(Feuil2!B$1,Feuil1!$1:$1,0)-1))-1)} -> 2 | C2: {=OFFSET(Feuil1!$A$2,,MATCH(Feuil2!C$1,Feuil1!$1:$1,0)-1,COUNTA(OFFSET(Feuil1!$A:$A,,MATCH(Feuil2!C$1,Feuil1!$1:$1,0)-1))-1)} -> 25 | D2: {=OFFSET(Feuil1!$A$2,,MATCH(Feuil2!D$1,Feuil1!$1:$1,0)-1,COUNTA(OFFSET(Feuil1!$A:$A,,MATCH(Feuil2!D$1,Feuil1!$1:$1,0)-1))-1)} -> 50 | E2: {=OFFSET(Feuil1!$A$2,,MATCH(Feuil2!E$1,Feuil1!$1:$1,0)-1,COUNTA(OFFSET(Feuil1!$A:$A,,MATCH(Feuil2!E$1,Feuil1!$1:$1,0)-1))-1)} -> kjj | F2: {=OFFSET(Feuil1!$A$2,,MATCH(Feuil2!F$1,Feuil1!$1:$1,0)-1,COUNTA(OFFSET(Feuil1!$A:$A,,MATCH(Feuil2!F$1,Feuil1!$1:$1,0)-1))-1)} -> 5 | G2: {=OFFSET(Feuil1!$A$2,,MATCH(Feuil2!G$1,Feuil1!$1:$1,0)-1,COUNTA(OFFSET(Feuil1!$A:$A,,MATCH(Feuil2!G$1,Feuil1!$1:$1,0)-1))-1)} -> Paul1 | H2: {=OFFSET(Feuil1!$A$2,,MATCH(Feuil2!H$1,Feuil1!$1:$1,0)-1,COUNTA(OFFSET(Feuil1!$A:$A,,MATCH(Feuil2!H$1,Feuil1!$1:$1,0)-1))-1)} -> 1558
A3: 44563 | B3: 5 | C3: 26 | D3: 51 | E3: kjj | F3: 6 | G3: Paul2 | H3: 1558
A4: 44564 | B4: 8 | C4: 27 | D4: 52 | E4: kjj | F4: 7 | G4: Paul3 | H4: 1558
A5: 44565 | B5: 11 | C5: 28 | D5: 53 | E5: kjj | F5: 8 | G5: Paul4 | H5: 1558
A6: 44566 | B6: 14 | C6: 29 | D6: 54 | E6: kjj | F6: 9 | G6: Paul5 | H6: 1558
A7: 44567 | B7: 17 | C7: 30 | D7: 55 | E7: kjj | F7: 10 | G7: Paul6 | H7: 1558
A8: 44568 | B8: 20 | C8: 31 | D8: 56 | E8: kjj | F8: 11 | G8: Paul7 | H8: 1558
A9: 44569 | B9: 23 | C9: 32 | D9: 57 | E9: kjj | F9: 12 | G9: Paul8 | H9: 1558
A10: 44570 | B10: 26 | C10: 33 | D10: 58 | E10: kjj | F10: 13 | G10: Paul9 | H10: 1558
A11: 44571 | B11: 29 | C11: 34 | D11: 59 | E11: kjj | F11: 14 | G11: Paul10 | H11: 1558
A12: 44572 | B12: 32 | C12: 35 | D12: 60 | E12: kjj | F12: 15 | G12: Paul11 | H12: 1558
A13: 44573 | B13: 35 | C13: 36 | D13: 61 | E13: kjj | F13: 16 | G13: Paul12 | H13: 1558
A14: 44574 | B14: 38 | C14: 37 | D14: 62 | E14: kjj | F14: 17 | G14: Paul13 | H14: 1558
... A121: 44681 | B121: 359 | C121: 144 | D121: 169 | E121: kjj | F121: 124 | G121: Paul120 | H121: 1558
