Workbook
Name commande: Feuil1!$J$2:$S$22
Name couche: Tableau1[[#All],[qty2]:[couche]]
Name database: Tableau1[]
Name gasket: Tableau1[[#All],[qty]:[gasket]]
Name joint: Tableau1[[#All],[joint]]
Name segment: Tableau1[[#All],[qty3]:[segment]]

Sheet Feuil1
A1: joint | B1: qty | C1: gasket | D1: qty2 | E1: couche | F1: qty3 | G1: segment | I1: qty | J1: joint | K1: gasket | L1: qty | M1: Gasket | N1: qty3 | O1: couche | P1: Couche | Q1: qty2 | R1: segment | S1: Segment
A2: h500 | B2: 1 | C2: gas500 | D2: 1 | E2: cou500 | F2: 2 | G2: seg500 | I2: 4 | J2: h1200 | K2: =VLOOKUP(Feuil1!$J2,Tableau1[],4,FALSE) -> 1 | L2: {=_xlfn.XLOOKUP($J$2:$J$9,A:A,B:B)*I2:I9} -> 4 | M2: {=_xlfn.XLOOKUP($J$2:$J$9,Tableau1[joint],Tableau1[gasket])} -> gas1200 | N2: {=_xlfn.XLOOKUP($J$2:$J$9,$A:$A,D:D)*I2:I9} -> 4 | P2: {=_xlfn.XLOOKUP($J$2:$J$9,Tableau1[joint],Tableau1[couche])} -> cou1200 | Q2: {=_xlfn.XLOOKUP($J$2:$J$9,$A:$A,F:F)*L2:L9} -> 16 | S2: {=_xlfn.XLOOKUP($J$2:$J$9,Tableau1[joint],Tableau1[segment])} -> seg1200
A3: h700 | B3: 1 | C3: gas700 | D3: 1 | E3: cou700 | F3: 2 | G3: seg700 | I3: 1 | J3: h950 | K3: =VLOOKUP(Feuil1!$J3,Tableau1[],4,FALSE) -> 1 | L3: 1 | M3: gas950 | N3: 1 | P3: cou950 | Q3: 4 | S3: seg950
A4: h950 | B4: 1 | C4: gas950 | D4: 1 | E4: cou950 | F4: 4 | G4: seg950 | I4: 1 | J4: h1200 | K4: =VLOOKUP(Feuil1!$J4,Tableau1[],4,FALSE) -> 1 | L4: 1 | M4: gas1200 | N4: 1 | P4: cou1200 | Q4: 4 | S4: seg1200
A5: h1200 | B5: 1 | C5: gas1200 | D5: 1 | E5: cou1200 | F5: 4 | G5: seg1200 | I5: 1 | J5: h1200 | K5: =VLOOKUP(Feuil1!$J5,Tableau1[],4,FALSE) -> 1 | L5: 1 | M5: gas1200 | N5: 1 | P5: cou1200 | Q5: 4 | S5: seg1200
I6: 1 | J6: h1200 | K6: =VLOOKUP(Feuil1!$J6,Tableau1[],4,FALSE) -> 1 | L6: 1 | M6: gas1200 | N6: 1 | P6: cou1200 | Q6: 4 | S6: seg1200
I7: 5 | J7: h1200 | K7: =VLOOKUP(Feuil1!$J7,Tableau1[],4,FALSE) -> 1 | L7: 5 | M7: gas1200 | N7: 5 | P7: cou1200 | Q7: 20 | S7: seg1200
I8: 5 | J8: h1200 | K8: =VLOOKUP(Feuil1!$J8,Tableau1[],4,FALSE) -> 1 | L8: 5 | M8: gas1200 | N8: 5 | P8: cou1200 | Q8: 20 | S8: seg1200
I9: 4 | J9: h500 | K9: =VLOOKUP(Feuil1!$J9,Tableau1[],4,FALSE) -> 1 | L9: 4 | M9: gas500 | N9: 4 | P9: cou500 | Q9: 8 | S9: seg500
K10: =VLOOKUP(Feuil1!$J10,Tableau1[],4,FALSE) -> #N/A
K11: =VLOOKUP(Feuil1!$J11,Tableau1[],4,FALSE) -> #N/A
K12: =VLOOKUP(Feuil1!$J12,Tableau1[],4,FALSE) -> #N/A
K13: =VLOOKUP(Feuil1!$J13,Tableau1[],4,FALSE) -> #N/A
K14: =VLOOKUP(Feuil1!$J14,Tableau1[],4,FALSE) -> #N/A
K15: =VLOOKUP(Feuil1!$J15,Tableau1[],4,FALSE) -> #N/A
K16: =VLOOKUP(Feuil1!$J16,Tableau1[],4,FALSE) -> #N/A
K17: =VLOOKUP(Feuil1!$J17,Tableau1[],4,FALSE) -> #N/A
K18: =VLOOKUP(Feuil1!$J18,Tableau1[],4,FALSE) -> #N/A
K19: =VLOOKUP(Feuil1!$J19,Tableau1[],4,FALSE) -> #N/A
K20: =VLOOKUP(Feuil1!$J20,Tableau1[],4,FALSE) -> #N/A
K21: =VLOOKUP(Feuil1!$J21,Tableau1[],4,FALSE) -> #N/A
K22: =VLOOKUP(Feuil1!$J22,Tableau1[],4,FALSE) -> #N/A
J25: h1200 | L25: 4 | M25: gas1200 | N25: 4 | O25: 1 | P25: cou1200 | Q25: 16 | R25: 4 | S25: seg1200
J26: h950 | L26: 1 | M26: gas950 | N26: 1 | O26: 1 | P26: cou950 | Q26: 4 | R26: 4 | S26: seg950
J27: h1200 | L27: 1 | M27: gas1200 | N27: 1 | O27: 1 | P27: cou1200 | Q27: 4 | R27: 4 | S27: seg1200
J28: h1200 | L28: 1 | M28: gas1200 | N28: 1 | O28: 1 | P28: cou1200 | Q28: 4 | R28: 4 | S28: seg1200
J29: h1200 | L29: 1 | M29: gas1200 | N29: 1 | O29: 1 | P29: cou1200 | Q29: 4 | R29: 4 | S29: seg1200
J30: h1200 | L30: 5 | M30: gas1200 | N30: 5 | O30: 1 | P30: cou1200 | Q30: 20 | R30: 4 | S30: seg1200
J31: h1200 | L31: 5 | M31: gas1200 | N31: 5 | O31: 1 | P31: cou1200 | Q31: 20 | R31: 4 | S31: seg1200
J32: h500 | L32: 4 | M32: gas500 | N32: 4 | O32: 1 | P32: cou500 | Q32: 8 | R32: 2 | S32: seg500
