Workbook
Name Equipes: Listes!#REF!
Name Logo1: INDEX(Listes!#REF!,MATCH(Impression!$H$4,Listes!#REF!,0))
Name Logo2: INDEX(Listes!#REF!,MATCH(Impression!$D$4,Listes!#REF!,0))

Sheet Compo
A2: Composition :
A4: US Dax | C4: / | D4: Stado Tarbes
A6: DATE : | C6: 45262
A8: n° | B8: Nom | C8: Cap | D8: Poste
A9: 1 | B9: BARATGIN | C9: Cap. | D9: G
A10: 2 | B10: TURLAN | D10: GT
A11: 3 | B11: MONFORT | D11: GTD
A12: 4 | B12: NIETO
A13: 5 | B13: VIGUIER
A14: 6 | B14: ABADIE
A15: 7 | B15: FLOUS
A16: 8 | B16: ESTAQUE
A17: 9 | B17: FEIGNA
A18: 10 | B18: RANCOULE
A19: 11 | B19: GAYRI
A20: 12 | B20: DUCOS
A21: 13 | B21: LARTIGUE
A22: 14 | B22: BERT
A23: 15 | B23: PARGALA
A24: 16 | B24: GIBERT CAMPOS | D24: T
A25: 17 | B25: CAUBE | D25: GT
A26: 18 | B26: DUFAU
A27: 19 | B27: EPRON
A28: 20 | B28: MITHIEUX
A29: 21 | B29: LACASSAGNE
A30: 22 | B30: LAGARDERE
A31: 23 | B31: LAMBERT | D31: D

Sheet Impression
E1: COMPOSITION
F3: =Compo!C6 -> 45262
D4: US Montauban | H4: US Dax
B13: 1 | F13: 2 | J13: 3
B14: =Compo!B9 -> BARATGIN | C14: =IF(Compo!C9=0,"",Compo!C9) -> Cap. | F14: =Compo!B10 -> TURLAN | G14: =IF(Compo!F9=0,"",Compo!F9) | J14: =Compo!B11 -> MONFORT | K14: =IF(Compo!C11=0,"",Compo!C11)
B15: =IF(Compo!D9=0,"",Compo!D9) -> G | F15: =IF(Compo!D10=0,"",Compo!D10) -> GT | J15: =IF(Compo!D11=0,"",Compo!D11) -> GTD
D19: 4 | H19: 5
D20: =Compo!B12 -> NIETO | E20: =IF(Compo!C12=0,"",Compo!C12) | H20: =Compo!B13 -> VIGUIER | I20: =IF(Compo!C13=0,"",Compo!C13)
D22: =IF(Compo!D12=0,"",Compo!D12) | H22: =IF(Compo!D13=0,"",Compo!D13)
C25: 6 | F25: 8 | I25: 7
C26: =Compo!B14 -> ABADIE | D26: =IF(Compo!C14=0,"",Compo!C14) | F26: =Compo!B15 -> FLOUS | G26: =IF(Compo!C15=0,"",Compo!C15) | I26: =Compo!B16 -> ESTAQUE | J26: =IF(Compo!C16=0,"",Compo!C16)
C28: =IF(Compo!D14=0,"",Compo!D14) | F28: =IF(Compo!D15=0,"",Compo!D15) | I28: =IF(Compo!D16=0,"",Compo!D16)
E31: 9
E32: =Compo!B17 -> FEIGNA | F32: =IF(Compo!C17=0,"",Compo!C17)
E35: =IF(Compo!D17=0,"",Compo!D17) | G35: 10
G36: =Compo!B18 -> RANCOULE | H36: =IF(Compo!C18=0,"",Compo!C18)
B39: 11 | J39: 14
B40: =Compo!B19 -> GAYRI | C40: =IF(Compo!C19=0,"",Compo!C19) | J40: =Compo!B22 -> BERT | K40: =IF(Compo!C22=0,"",Compo!C22)
D45: 12 | H45: 13
D46: =Compo!B20 -> DUCOS | E46: =IF(Compo!C20=0,"",Compo!C20) | H46: =Compo!B21 -> LARTIGUE | I46: =IF(Compo!C21=0,"",Compo!C21)
F49: 15
F50: =Compo!B23 -> PARGALA | G50: =IF(Compo!C23=0,"",Compo!C23)
F51: =IF(Compo!D23=0,"",Compo!D23)
B55: 16 | C55: 17 | D55: 18 | E55: 19 | F55: 20 | G55: 21 | H55: 22 | I55: 23
B56: =Compo!B24 -> GIBERT CAMPOS | C56: =Compo!B25 -> CAUBE | D56: =Compo!B26 -> DUFAU | E56: =Compo!B27 -> EPRON | F56: =Compo!B28 -> MITHIEUX | G56: =Compo!B29 -> LACASSAGNE | H56: =Compo!B30 -> LAGARDERE | I56: =Compo!B31 -> LAMBERT
B57: =IF(Compo!D24=0,"",Compo!D24) -> T | C57: =IF(Compo!D25=0,"",Compo!D25) -> GT | D57: =IF(Compo!D26=0,"",Compo!D26) | E57: =IF(Compo!D27=0,"",Compo!D27) | F57: =IF(Compo!D28=0,"",Compo!D28) | G57: =IF(Compo!D29=0,"",Compo!D29) | H57: =IF(Compo!D30=0,"",Compo!D30) | I57: =IF(Compo!D31=0,"",Compo!D31) -> D

Sheet Listes
A1: Liste joueur
D2: Postes | F2: Equipes
A4: ABADIE | B4: Jon | D4: G | F4: Stado Tarbes
A5: BARATGIN | B5: Léo | D5: T | F5: Stade montois
A6: BARRAU | B6: Vincent | D6: D | F6: CA Périgourdin
A7: BERGER | B7: Paul | D7: GT | F7: US Montauban
A8: BERT | B8: Kylian | D8: GD | F8: US Dax
A9: BEUGIN | B9: Aubin | D9: TD | F9: Biarrtz Olympique
A10: BIZIEN | B10: Nolhan | D10: GTD
A11: BORDES | B11: Henri
A12: BROQUA | B12: Theo
A13: CAMPAGNARI | B13: Mattéo
A14: CAMOU | B14: Yon | D14: Capitaine
A15: CAUBE | B15: Justin
A16: COUDRAIS | B16: Maxime | D16: Cap.
A17: CROUZIER | B17: Nathan
A18: DANTAGNAN | B18: Léo
A19: DESCOUBET | B19: Pierre
A20: DOLIER | B20: Vincent
A21: DOUHOU | B21: Salim
A22: DUCOS | B22: Matt
A23: DUFAU | B23: Maxime
A24: DULUCQ | B24: Thibault
A25: DUPOUY | B25: Clément
A26: DUSSERRE TELMON | B26: Tony
A27: DUSSON | B27: Alexy
A28: EPRON | B28: Romain
... A69: WEBERT | B69: Romain

Sheet Calendrier
A4: 45241 | B4: Stado Tarbes | C4: Stade montois
A5: 45242
A7: 45248 | B7: CA Périgourdin | C7: Stado Tarbes
A8: 45249
A10: 45255 | B10: Stado Tarbes | C10: Biarrtz Olympique
A11: 45256
A13: 45262 | B13: US Dax | C13: Stado Tarbes
A14: 45263
A16: 45276 | B16: Stado Tarbes | C16: US Montauban
A17: 45277
A19: 45311 | B19: Stade montois | C19: Stado Tarbes
A20: 45312
A22: 45332 | B22: Stado Tarbes | C22: CA Périgourdin
A23: 45333
A25: 45338 | B25: Biarrtz Olympique | C25: Stado Tarbes
A26: 45339
A28: 45346 | B28: Stado Tarbes | C28: US Dax
A29: 45347
A31: 45367 | B31: Stado Tarbes | C31: US Dax
A32: 45368
A34: 45374 | B34: US Dax | C34: US Dax
A35: 45375
A37: 45388 | B37: US Dax | C37: US Dax
A38: 45389
A40: 45395 | B40: US Dax | C40: US Dax
A41: 45396
A43: 45402 | B43: US Dax | C43: US Dax
A44: 45403
A46: 45409 | B46: US Dax | C46: US Dax
A47: 45410
A49: 45423 | B49: US Dax | C49: US Dax
A50: 45424
A52: 45430 | B52: US Dax | C52: US Dax
A53: 45431
A55: 45078 | B55: US Dax | C55: US Dax
A56: 45079
A58: 45085 | B58: US Dax | C58: US Dax
A59: 45086

Sheet SUIVI
C3: Match | D3: T | E3: R | F3: tps de jeux | G3: moyenne
A4: ABADIE | B4: Jon | D4: {=_xlfn.LET(_xlpm.nom,_xlfn.CHOOSECOLS(_xlfn.VSTACK('11112023:02122023'!$B$9:$Q$31),1),_xlpm.temps,_xlfn.CHOOSECOLS(_xlfn.VSTACK('11112023:02122023'!$B$9:$Q$31),15),SUMPRODUCT((_xlpm.nom=$A4)*_xlpm.temps))} -> 4 | E4: {=_xlfn.LET(_xlpm.nom,_xlfn.CHOOSECOLS(_xlfn.VSTACK('11112023:02122023'!$B$9:$Q$31),1),_xlpm.temps,_xlfn.CHOOSECOLS(_xlfn.VSTACK('11112023:02122023'!$B$9:$Q$31),16),SUMPRODUCT((_xlpm.nom=$A4)*_xlpm.temps))} -> 0 | F4: {=_xlfn.LET(_xlpm.nom,_xlfn.CHOOSECOLS(_xlfn.VSTACK('11112023:02122023'!$B$9:$Q$31),1),_xlpm.temps,_xlfn.CHOOSECOLS(_xlfn.VSTACK('11112023:02122023'!$B$9:$Q$31),5),SUMPRODUCT((_xlpm.nom=$A4)*_xlpm.temps))} -> 252
A5: BARATGIN | B5: Léo | D5: {=_xlfn.LET(_xlpm.nom,_xlfn.CHOOSECOLS(_xlfn.VSTACK('11112023:02122023'!$B$9:$Q$31),1),_xlpm.temps,_xlfn.CHOOSECOLS(_xlfn.VSTACK('11112023:02122023'!$B$9:$Q$31),15),SUMPRODUCT((_xlpm.nom=$A5)*_xlpm.temps))} -> 4 | E5: {=_xlfn.LET(_xlpm.nom,_xlfn.CHOOSECOLS(_xlfn.VSTACK('11112023:02122023'!$B$9:$Q$31),1),_xlpm.temps,_xlfn.CHOOSECOLS(_xlfn.VSTACK('11112023:02122023'!$B$9:$Q$31),16),SUMPRODUCT((_xlpm.nom=$A5)*_xlpm.temps))} -> 0 | F5: {=_xlfn.LET(_xlpm.nom,_xlfn.CHOOSECOLS(_xlfn.VSTACK('11112023:02122023'!$B$9:$Q$31),1),_xlpm.temps,_xlfn.CHOOSECOLS(_xlfn.VSTACK('11112023:02122023'!$B$9:$Q$31),5),SUMPRODUCT((_xlpm.nom=$A5)*_xlpm.temps))} -> 200
A6: BARRAU | B6: Vincent | D6: {=_xlfn.LET(_xlpm.nom,_xlfn.CHOOSECOLS(_xlfn.VSTACK('11112023:02122023'!$B$9:$Q$31),1),_xlpm.temps,_xlfn.CHOOSECOLS(_xlfn.VSTACK('11112023:02122023'!$B$9:$Q$31),15),SUMPRODUCT((_xlpm.nom=$A6)*_xlpm.temps))} -> 0 | E6: {=_xlfn.LET(_xlpm.nom,_xlfn.CHOOSECOLS(_xlfn.VSTACK('11112023:02122023'!$B$9:$Q$31),1),_xlpm.temps,_xlfn.CHOOSECOLS(_xlfn.VSTACK('11112023:02122023'!$B$9:$Q$31),16),SUMPRODUCT((_xlpm.nom=$A6)*_xlpm.temps))} -> 1 | F6: {=_xlfn.LET(_xlpm.nom,_xlfn.CHOOSECOLS(_xlfn.VSTACK('11112023:02122023'!$B$9:$Q$31),1),_xlpm.temps,_xlfn.CHOOSECOLS(_xlfn.VSTACK('11112023:02122023'!$B$9:$Q$31),5),SUMPRODUCT((_xlpm.nom=$A6)*_xlpm.temps))} -> 80
A7: BERGER | B7: Paul | D7: {=_xlfn.LET(_xlpm.nom,_xlfn.CHOOSECOLS(_xlfn.VSTACK('11112023:02122023'!$B$9:$Q$31),1),_xlpm.temps,_xlfn.CHOOSECOLS(_xlfn.VSTACK('11112023:02122023'!$B$9:$Q$31),15),SUMPRODUCT((_xlpm.nom=$A7)*_xlpm.temps))} -> 0 | E7: {=_xlfn.LET(_xlpm.nom,_xlfn.CHOOSECOLS(_xlfn.VSTACK('11112023:02122023'!$B$9:$Q$31),1),_xlpm.temps,_xlfn.CHOOSECOLS(_xlfn.VSTACK('11112023:02122023'!$B$9:$Q$31),16),SUMPRODUCT((_xlpm.nom=$A7)*_xlpm.temps))} -> 0 | F7: {=_xlfn.LET(_xlpm.nom,_xlfn.CHOOSECOLS(_xlfn.VSTACK('11112023:02122023'!$B$9:$Q$31),1),_xlpm.temps,_xlfn.CHOOSECOLS(_xlfn.VSTACK('11112023:02122023'!$B$9:$Q$31),5),SUMPRODUCT((_xlpm.nom=$A7)*_xlpm.temps))} -> 0
A8: BERT | B8: Kylian | D8: {=_xlfn.LET(_xlpm.nom,_xlfn.CHOOSECOLS(_xlfn.VSTACK('11112023:02122023'!$B$9:$Q$31),1),_xlpm.temps,_xlfn.CHOOSECOLS(_xlfn.VSTACK('11112023:02122023'!$B$9:$Q$31),15),SUMPRODUCT((_xlpm.nom=$A8)*_xlpm.temps))} -> 1 | E8: {=_xlfn.LET(_xlpm.nom,_xlfn.CHOOSECOLS(_xlfn.VSTACK('11112023:02122023'!$B$9:$Q$31),1),_xlpm.temps,_xlfn.CHOOSECOLS(_xlfn.VSTACK('11112023:02122023'!$B$9:$Q$31),16),SUMPRODUCT((_xlpm.nom=$A8)*_xlpm.temps))} -> 1 | F8: {=_xlfn.LET(_xlpm.nom,_xlfn.CHOOSECOLS(_xlfn.VSTACK('11112023:02122023'!$B$9:$Q$31),1),_xlpm.temps,_xlfn.CHOOSECOLS(_xlfn.VSTACK('11112023:02122023'!$B$9:$Q$31),5),SUMPRODUCT((_xlpm.nom=$A8)*_xlpm.temps))} -> 136
A9: BEUGIN | B9: Aubin | D9: {=_xlfn.LET(_xlpm.nom,_xlfn.CHOOSECOLS(_xlfn.VSTACK('11112023:02122023'!$B$9:$Q$31),1),_xlpm.temps,_xlfn.CHOOSECOLS(_xlfn.VSTACK('11112023:02122023'!$B$9:$Q$31),15),SUMPRODUCT((_xlpm.nom=$A9)*_xlpm.temps))} -> 0 | E9: {=_xlfn.LET(_xlpm.nom,_xlfn.CHOOSECOLS(_xlfn.VSTACK('11112023:02122023'!$B$9:$Q$31),1),_xlpm.temps,_xlfn.CHOOSECOLS(_xlfn.VSTACK('11112023:02122023'!$B$9:$Q$31),16),SUMPRODUCT((_xlpm.nom=$A9)*_xlpm.temps))} -> 0 | F9: {=_xlfn.LET(_xlpm.nom,_xlfn.CHOOSECOLS(_xlfn.VSTACK('11112023:02122023'!$B$9:$Q$31),1),_xlpm.temps,_xlfn.CHOOSECOLS(_xlfn.VSTACK('11112023:02122023'!$B$9:$Q$31),5),SUMPRODUCT((_xlpm.nom=$A9)*_xlpm.temps))} -> 0
A10: BIZIEN | B10: Nolhan | D10: {=_xlfn.LET(_xlpm.nom,_xlfn.CHOOSECOLS(_xlfn.VSTACK('11112023:02122023'!$B$9:$Q$31),1),_xlpm.temps,_xlfn.CHOOSECOLS(_xlfn.VSTACK('11112023:02122023'!$B$9:$Q$31),15),SUMPRODUCT((_xlpm.nom=$A10)*_xlpm.temps))} -> 1 | E10: {=_xlfn.LET(_xlpm.nom,_xlfn.CHOOSECOLS(_xlfn.VSTACK('11112023:02122023'!$B$9:$Q$31),1),_xlpm.temps,_xlfn.CHOOSECOLS(_xlfn.VSTACK('11112023:02122023'!$B$9:$Q$31),16),SUMPRODUCT((_xlpm.nom=$A10)*_xlpm.temps))} -> 0 | F10: {=_xlfn.LET(_xlpm.nom,_xlfn.CHOOSECOLS(_xlfn.VSTACK('11112023:02122023'!$B$9:$Q$31),1),_xlpm.temps,_xlfn.CHOOSECOLS(_xlfn.VSTACK('11112023:02122023'!$B$9:$Q$31),5),SUMPRODUCT((_xlpm.nom=$A10)*_xlpm.temps))} -> 18
A11: BORDES | B11: Henri | D11: {=_xlfn.LET(_xlpm.nom,_xlfn.CHOOSECOLS(_xlfn.VSTACK('11112023:02122023'!$B$9:$Q$31),1),_xlpm.temps,_xlfn.CHOOSECOLS(_xlfn.VSTACK('11112023:02122023'!$B$9:$Q$31),15),SUMPRODUCT((_xlpm.nom=$A11)*_xlpm.temps))} -> 0 | E11: {=_xlfn.LET(_xlpm.nom,_xlfn.CHOOSECOLS(_xlfn.VSTACK('11112023:02122023'!$B$9:$Q$31),1),_xlpm.temps,_xlfn.CHOOSECOLS(_xlfn.VSTACK('11112023:02122023'!$B$9:$Q$31),16),SUMPRODUCT((_xlpm.nom=$A11)*_xlpm.temps))} -> 0 | F11: {=_xlfn.LET(_xlpm.nom,_xlfn.CHOOSECOLS(_xlfn.VSTACK('11112023:02122023'!$B$9:$Q$31),1),_xlpm.temps,_xlfn.CHOOSECOLS(_xlfn.VSTACK('11112023:02122023'!$B$9:$Q$31),5),SUMPRODUCT((_xlpm.nom=$A11)*_xlpm.temps))} -> 0
A12: BROQUA | B12: Theo | D12: {=_xlfn.LET(_xlpm.nom,_xlfn.CHOOSECOLS(_xlfn.VSTACK('11112023:02122023'!$B$9:$Q$31),1),_xlpm.temps,_xlfn.CHOOSECOLS(_xlfn.VSTACK('11112023:02122023'!$B$9:$Q$31),15),SUMPRODUCT((_xlpm.nom=$A12)*_xlpm.temps))} -> 0 | E12: {=_xlfn.LET(_xlpm.nom,_xlfn.CHOOSECOLS(_xlfn.VSTACK('11112023:02122023'!$B$9:$Q$31),1),_xlpm.temps,_xlfn.CHOOSECOLS(_xlfn.VSTACK('11112023:02122023'!$B$9:$Q$31),16),SUMPRODUCT((_xlpm.nom=$A12)*_xlpm.temps))} -> 0 | F12: {=_xlfn.LET(_xlpm.nom,_xlfn.CHOOSECOLS(_xlfn.VSTACK('11112023:02122023'!$B$9:$Q$31),1),_xlpm.temps,_xlfn.CHOOSECOLS(_xlfn.VSTACK('11112023:02122023'!$B$9:$Q$31),5),SUMPRODUCT((_xlpm.nom=$A12)*_xlpm.temps))} -> 0
A13: CAMPAGNARI | B13: Mattéo | D13: {=_xlfn.LET(_xlpm.nom,_xlfn.CHOOSECOLS(_xlfn.VSTACK('11112023:02122023'!$B$9:$Q$31),1),_xlpm.temps,_xlfn.CHOOSECOLS(_xlfn.VSTACK('11112023:02122023'!$B$9:$Q$31),15),SUMPRODUCT((_xlpm.nom=$A13)*_xlpm.temps))} -> 0 | E13: {=_xlfn.LET(_xlpm.nom,_xlfn.CHOOSECOLS(_xlfn.VSTACK('11112023:02122023'!$B$9:$Q$31),1),_xlpm.temps,_xlfn.CHOOSECOLS(_xlfn.VSTACK('11112023:02122023'!$B$9:$Q$31),16),SUMPRODUCT((_xlpm.nom=$A13)*_xlpm.temps))} -> 0 | F13: {=_xlfn.LET(_xlpm.nom,_xlfn.CHOOSECOLS(_xlfn.VSTACK('11112023:02122023'!$B$9:$Q$31),1),_xlpm.temps,_xlfn.CHOOSECOLS(_xlfn.VSTACK('11112023:02122023'!$B$9:$Q$31),5),SUMPRODUCT((_xlpm.nom=$A13)*_xlpm.temps))} -> 0
A14: CAMOU | B14: Yon | D14: {=_xlfn.LET(_xlpm.nom,_xlfn.CHOOSECOLS(_xlfn.VSTACK('11112023:02122023'!$B$9:$Q$31),1),_xlpm.temps,_xlfn.CHOOSECOLS(_xlfn.VSTACK('11112023:02122023'!$B$9:$Q$31),15),SUMPRODUCT((_xlpm.nom=$A14)*_xlpm.temps))} -> 0 | E14: {=_xlfn.LET(_xlpm.nom,_xlfn.CHOOSECOLS(_xlfn.VSTACK('11112023:02122023'!$B$9:$Q$31),1),_xlpm.temps,_xlfn.CHOOSECOLS(_xlfn.VSTACK('11112023:02122023'!$B$9:$Q$31),16),SUMPRODUCT((_xlpm.nom=$A14)*_xlpm.temps))} -> 0 | F14: {=_xlfn.LET(_xlpm.nom,_xlfn.CHOOSECOLS(_xlfn.VSTACK('11112023:02122023'!$B$9:$Q$31),1),_xlpm.temps,_xlfn.CHOOSECOLS(_xlfn.VSTACK('11112023:02122023'!$B$9:$Q$31),5),SUMPRODUCT((_xlpm.nom=$A14)*_xlpm.temps))} -> 0
A15: CAUBE | B15: Justin | D15: {=_xlfn.LET(_xlpm.nom,_xlfn.CHOOSECOLS(_xlfn.VSTACK('11112023:02122023'!$B$9:$Q$31),1),_xlpm.temps,_xlfn.CHOOSECOLS(_xlfn.VSTACK('11112023:02122023'!$B$9:$Q$31),15),SUMPRODUCT((_xlpm.nom=$A15)*_xlpm.temps))} -> 0 | E15: {=_xlfn.LET(_xlpm.nom,_xlfn.CHOOSECOLS(_xlfn.VSTACK('11112023:02122023'!$B$9:$Q$31),1),_xlpm.temps,_xlfn.CHOOSECOLS(_xlfn.VSTACK('11112023:02122023'!$B$9:$Q$31),16),SUMPRODUCT((_xlpm.nom=$A15)*_xlpm.temps))} -> 4 | F15: {=_xlfn.LET(_xlpm.nom,_xlfn.CHOOSECOLS(_xlfn.VSTACK('11112023:02122023'!$B$9:$Q$31),1),_xlpm.temps,_xlfn.CHOOSECOLS(_xlfn.VSTACK('11112023:02122023'!$B$9:$Q$31),5),SUMPRODUCT((_xlpm.nom=$A15)*_xlpm.temps))} -> 320
... A69: WEBERT | B69: Romain | D69: {=_xlfn.LET(_xlpm.nom,_xlfn.CHOOSECOLS(_xlfn.VSTACK('11112023:02122023'!$B$9:$Q$31),1),_xlpm.temps,_xlfn.CHOOSECOLS(_xlfn.VSTACK('11112023:02122023'!$B$9:$Q$31),15),SUMPRODUCT((_xlpm.nom=$A69)*_xlpm.temps))} -> 0 | E69: {=_xlfn.LET(_xlpm.nom,_xlfn.CHOOSECOLS(_xlfn.VSTACK('11112023:02122023'!$B$9:$Q$31),1),_xlpm.temps,_xlfn.CHOOSECOLS(_xlfn.VSTACK('11112023:02122023'!$B$9:$Q$31),16),SUMPRODUCT((_xlpm.nom=$A69)*_xlpm.temps))} -> 1 | F69: {=_xlfn.LET(_xlpm.nom,_xlfn.CHOOSECOLS(_xlfn.VSTACK('11112023:02122023'!$B$9:$Q$31),1),_xlpm.temps,_xlfn.CHOOSECOLS(_xlfn.VSTACK('11112023:02122023'!$B$9:$Q$31),5),SUMPRODUCT((_xlpm.nom=$A69)*_xlpm.temps))} -> 80

Sheet 11112023
A2: Composition :
A4: US Dax | C4: / | D4: Stado Tarbes
A6: DATE : | C6: 45262
A8: n° | B8: Nom | C8: Cap | D8: Poste | E8: Entrée 1 | F8: sortie 1 | G8: Entrée 2 | H8: Sortie 2 | I8: Tps de jeu | J8: Essai | K8: Transformation | L8: Pénalité | M8: Total point | N8: CJ | O8: CR | P8: T | Q8: R
A9: 1 | B9: BARATGIN | C9: Cap. | D9: G | E9: 0 | F9: 48 | I9: =(F9-E9)+(H9-G9) -> 48 | M9: =(J9*5)+(K9*2)+(L9*3) -> 0 | P9: =IF(A9<16,1,0) -> 1 | Q9: =IF(A9>15,1,0) -> 0
A10: 2 | B10: TURLAN | D10: GT | E10: 0 | F10: 65 | I10: =(F10-E10)+(H10-G10) -> 65 | M10: =(J10*5)+(K10*2)+(L10*3) -> 0 | P10: =IF(A10<16,1,0) -> 1 | Q10: =IF(A10>15,1,0) -> 0
A11: 3 | B11: MONFORT | D11: GTD | E11: 0 | F11: 48 | I11: =(F11-E11)+(H11-G11) -> 48 | M11: =(J11*5)+(K11*2)+(L11*3) -> 0 | P11: =IF(A11<16,1,0) -> 1 | Q11: =IF(A11>15,1,0) -> 0
A12: 4 | B12: BIZIEN | E12: 0 | F12: 18 | I12: =(F12-E12)+(H12-G12) -> 18 | M12: =(J12*5)+(K12*2)+(L12*3) -> 0 | P12: =IF(A12<16,1,0) -> 1 | Q12: =IF(A12>15,1,0) -> 0
A13: 5 | B13: VIGUIER | E13: 0 | F13: 75 | I13: =(F13-E13)+(H13-G13) -> 75 | M13: =(J13*5)+(K13*2)+(L13*3) -> 0 | P13: =IF(A13<16,1,0) -> 1 | Q13: =IF(A13>15,1,0) -> 0
A14: 6 | B14: GUICHERD | E14: 0 | F14: 65 | I14: =(F14-E14)+(H14-G14) -> 65 | M14: =(J14*5)+(K14*2)+(L14*3) -> 0 | P14: =IF(A14<16,1,0) -> 1 | Q14: =IF(A14>15,1,0) -> 0
A15: 7 | B15: ABADIE | E15: 0 | F15: 80 | I15: =(F15-E15)+(H15-G15) -> 80 | J15: 1 | M15: =(J15*5)+(K15*2)+(L15*3) -> 5 | P15: =IF(A15<16,1,0) -> 1 | Q15: =IF(A15>15,1,0) -> 0
A16: 8 | B16: FLOUS | E16: 0 | F16: 80 | I16: =(F16-E16)+(H16-G16) -> 80 | M16: =(J16*5)+(K16*2)+(L16*3) -> 0 | P16: =IF(A16<16,1,0) -> 1 | Q16: =IF(A16>15,1,0) -> 0
A17: 9 | B17: FEIGNA | E17: 0 | F17: 80 | I17: =(F17-E17)+(H17-G17) -> 80 | M17: =(J17*5)+(K17*2)+(L17*3) -> 0 | P17: =IF(A17<16,1,0) -> 1 | Q17: =IF(A17>15,1,0) -> 0
A18: 10 | B18: RANCOULE | E18: 0 | F18: 80 | I18: =(F18-E18)+(H18-G18) -> 80 | M18: =(J18*5)+(K18*2)+(L18*3) -> 0 | P18: =IF(A18<16,1,0) -> 1 | Q18: =IF(A18>15,1,0) -> 0
A19: 11 | B19: GAYRI | E19: 0 | F19: 80 | I19: =(F19-E19)+(H19-G19) -> 80 | K19: 1 | L19: 2 | M19: =(J19*5)+(K19*2)+(L19*3) -> 8 | P19: =IF(A19<16,1,0) -> 1 | Q19: =IF(A19>15,1,0) -> 0
A20: 12 | B20: DUCOS | E20: 0 | F20: 47 | I20: =(F20-E20)+(H20-G20) -> 47 | M20: =(J20*5)+(K20*2)+(L20*3) -> 0 | P20: =IF(A20<16,1,0) -> 1 | Q20: =IF(A20>15,1,0) -> 0
A21: 13 | B21: LARTIGUE | E21: 0 | F21: 80 | I21: =(F21-E21)+(H21-G21) -> 80 | M21: =(J21*5)+(K21*2)+(L21*3) -> 0 | P21: =IF(A21<16,1,0) -> 1 | Q21: =IF(A21>15,1,0) -> 0
A22: 14 | B22: PARGALA | E22: 0 | F22: 80 | I22: =(F22-E22)+(H22-G22) -> 80 | M22: =(J22*5)+(K22*2)+(L22*3) -> 0 | P22: =IF(A22<16,1,0) -> 1 | Q22: =IF(A22>15,1,0) -> 0
A23: 15 | B23: LAGARDERE | E23: 0 | F23: 65 | I23: =(F23-E23)+(H23-G23) -> 65 | M23: =(J23*5)+(K23*2)+(L23*3) -> 0 | P23: =IF(A23<16,1,0) -> 1 | Q23: =IF(A23>15,1,0) -> 0
A24: 16 | B24: GIBERT CAMPOS | D24: T | E24: 65 | F24: 80 | I24: =(F24-E24)+(H24-G24) -> 15 | M24: =(J24*5)+(K24*2)+(L24*3) -> 0 | P24: =IF(A24<16,1,0) -> 0 | Q24: =IF(A24>15,1,0) -> 1
A25: 17 | B25: CAUBE | D25: GT | E25: 48 | F25: 80 | I25: =(F25-E25)+(H25-G25) -> 32 | M25: =(J25*5)+(K25*2)+(L25*3) -> 0 | P25: =IF(A25<16,1,0) -> 0 | Q25: =IF(A25>15,1,0) -> 1
A26: 18 | B26: DUFAU | E26: 18 | F26: 80 | I26: =(F26-E26)+(H26-G26) -> 62 | M26: =(J26*5)+(K26*2)+(L26*3) -> 0 | P26: =IF(A26<16,1,0) -> 0 | Q26: =IF(A26>15,1,0) -> 1
A27: 19 | B27: EPRON | E27: 65 | F27: 80 | I27: =(F27-E27)+(H27-G27) -> 15 | M27: =(J27*5)+(K27*2)+(L27*3) -> 0 | P27: =IF(A27<16,1,0) -> 0 | Q27: =IF(A27>15,1,0) -> 1
A28: 20 | B28: GALY | E28: 75 | F28: 80 | I28: =(F28-E28)+(H28-G28) -> 5 | M28: =(J28*5)+(K28*2)+(L28*3) -> 0 | P28: =IF(A28<16,1,0) -> 0 | Q28: =IF(A28>15,1,0) -> 1
A29: 21 | B29: MITHIEUX | E29: 65 | F29: 80 | I29: =(F29-E29)+(H29-G29) -> 15 | M29: =(J29*5)+(K29*2)+(L29*3) -> 0 | P29: =IF(A29<16,1,0) -> 0 | Q29: =IF(A29>15,1,0) -> 1
A30: 22 | B30: LE MEZEC | E30: 47 | F30: 80 | I30: =(F30-E30)+(H30-G30) -> 33 | M30: =(J30*5)+(K30*2)+(L30*3) -> 0 | P30: =IF(A30<16,1,0) -> 0 | Q30: =IF(A30>15,1,0) -> 1
A31: 23 | B31: LAMBERT | D31: D | E31: 48 | F31: 80 | I31: =(F31-E31)+(H31-G31) -> 32 | M31: =(J31*5)+(K31*2)+(L31*3) -> 0 | P31: =IF(A31<16,1,0) -> 0 | Q31: =IF(A31>15,1,0) -> 1
J32: =SUM(J9:J31) -> 1 | K32: =SUM(K9:K31) -> 1 | L32: =SUM(L9:L31) -> 2 | M32: =SUM(M9:M31) -> 13

Sheet 19112023
A2: Composition :
A4: US Dax | C4: / | D4: Stado Tarbes
A6: DATE : | C6: 45262
A8: n° | B8: Nom | C8: Cap | D8: Poste | E8: Entrée 1 | F8: sortie 1 | G8: Entrée 2 | H8: Sortie 2 | I8: Tps de jeu | J8: Essai | K8: Transformation | L8: Pénalité | M8: Total point | N8: CJ | O8: CR | P8: T | Q8: R
A9: 1 | B9: BARATGIN | C9: Cap. | D9: G | E9: 0 | F9: 61 | I9: =(F9-E9)+(H9-G9) -> 61 | M9: =(J9*5)+(K9*2)+(L9*3) -> 0 | P9: =IF(A9<16,1,0) -> 1 | Q9: =IF(A9>15,1,0) -> 0
A10: 2 | B10: TURLAN | D10: GT | E10: 0 | F10: 61 | I10: =(F10-E10)+(H10-G10) -> 61 | M10: =(J10*5)+(K10*2)+(L10*3) -> 0 | P10: =IF(A10<16,1,0) -> 1 | Q10: =IF(A10>15,1,0) -> 0
A11: 3 | B11: MONFORT | D11: GTD | E11: 0 | F11: 61 | I11: =(F11-E11)+(H11-G11) -> 61 | M11: =(J11*5)+(K11*2)+(L11*3) -> 0 | P11: =IF(A11<16,1,0) -> 1 | Q11: =IF(A11>15,1,0) -> 0
A12: 4 | B12: ESTAQUE | E12: 0 | F12: 80 | I12: =(F12-E12)+(H12-G12) -> 80 | M12: =(J12*5)+(K12*2)+(L12*3) -> 0 | P12: =IF(A12<16,1,0) -> 1 | Q12: =IF(A12>15,1,0) -> 0
A13: 5 | B13: VIGUIER | E13: 0 | F13: 80 | I13: =(F13-E13)+(H13-G13) -> 80 | M13: =(J13*5)+(K13*2)+(L13*3) -> 0 | P13: =IF(A13<16,1,0) -> 1 | Q13: =IF(A13>15,1,0) -> 0
A14: 6 | B14: EPRON | E14: 0 | F14: 67 | I14: =(F14-E14)+(H14-G14) -> 67 | M14: =(J14*5)+(K14*2)+(L14*3) -> 0 | P14: =IF(A14<16,1,0) -> 1 | Q14: =IF(A14>15,1,0) -> 0
A15: 7 | B15: ABADIE | E15: 0 | F15: 53 | I15: =(F15-E15)+(H15-G15) -> 53 | M15: =(J15*5)+(K15*2)+(L15*3) -> 0 | P15: =IF(A15<16,1,0) -> 1 | Q15: =IF(A15>15,1,0) -> 0
A16: 8 | B16: FLOUS | E16: 0 | F16: 80 | I16: =(F16-E16)+(H16-G16) -> 80 | M16: =(J16*5)+(K16*2)+(L16*3) -> 0 | P16: =IF(A16<16,1,0) -> 1 | Q16: =IF(A16>15,1,0) -> 0
A17: 9 | B17: MITHIEUX | E17: 0 | F17: 53 | G17: 67 | H17: 80 | I17: =(F17-E17)+(H17-G17) -> 66 | M17: =(J17*5)+(K17*2)+(L17*3) -> 0 | P17: =IF(A17<16,1,0) -> 1 | Q17: =IF(A17>15,1,0) -> 0
A18: 10 | B18: RANCOULE | E18: 0 | F18: 67 | I18: =(F18-E18)+(H18-G18) -> 67 | M18: =(J18*5)+(K18*2)+(L18*3) -> 0 | P18: =IF(A18<16,1,0) -> 1 | Q18: =IF(A18>15,1,0) -> 0
A19: 11 | B19: GAYRI | E19: 0 | F19: 80 | I19: =(F19-E19)+(H19-G19) -> 80 | L19: 3 | M19: =(J19*5)+(K19*2)+(L19*3) -> 9 | P19: =IF(A19<16,1,0) -> 1 | Q19: =IF(A19>15,1,0) -> 0
A20: 12 | B20: LE MEZEC | E20: 0 | F20: 80 | I20: =(F20-E20)+(H20-G20) -> 80 | M20: =(J20*5)+(K20*2)+(L20*3) -> 0 | P20: =IF(A20<16,1,0) -> 1 | Q20: =IF(A20>15,1,0) -> 0
A21: 13 | B21: LARTIGUE | E21: 0 | F21: 53 | I21: =(F21-E21)+(H21-G21) -> 53 | M21: =(J21*5)+(K21*2)+(L21*3) -> 0 | P21: =IF(A21<16,1,0) -> 1 | Q21: =IF(A21>15,1,0) -> 0
A22: 14 | B22: LACASSAGNE | E22: 0 | F22: 67 | I22: =(F22-E22)+(H22-G22) -> 67 | M22: =(J22*5)+(K22*2)+(L22*3) -> 0 | P22: =IF(A22<16,1,0) -> 1 | Q22: =IF(A22>15,1,0) -> 0
A23: 15 | B23: LAGARDERE | E23: 0 | F23: 80 | I23: =(F23-E23)+(H23-G23) -> 80 | M23: =(J23*5)+(K23*2)+(L23*3) -> 0 | P23: =IF(A23<16,1,0) -> 1 | Q23: =IF(A23>15,1,0) -> 0
A24: 16 | B24: GIBERT CAMPOS | D24: T | E24: 61 | F24: 80 | I24: =(F24-E24)+(H24-G24) -> 19 | M24: =(J24*5)+(K24*2)+(L24*3) -> 0 | P24: =IF(A24<16,1,0) -> 0 | Q24: =IF(A24>15,1,0) -> 1
A25: 17 | B25: CAUBE | D25: GT | E25: 61 | F25: 80 | I25: =(F25-E25)+(H25-G25) -> 19 | M25: =(J25*5)+(K25*2)+(L25*3) -> 0 | P25: =IF(A25<16,1,0) -> 0 | Q25: =IF(A25>15,1,0) -> 1
A26: 18 | B26: DUFAU | E26: 53 | F26: 80 | I26: =(F26-E26)+(H26-G26) -> 27 | M26: =(J26*5)+(K26*2)+(L26*3) -> 0 | P26: =IF(A26<16,1,0) -> 0 | Q26: =IF(A26>15,1,0) -> 1
A27: 19 | B27: RANICA | E27: 67 | F27: 80 | I27: =(F27-E27)+(H27-G27) -> 13 | M27: =(J27*5)+(K27*2)+(L27*3) -> 0 | P27: =IF(A27<16,1,0) -> 0 | Q27: =IF(A27>15,1,0) -> 1
A28: 20 | B28: DUCOS | E28: 53 | F28: 80 | I28: =(F28-E28)+(H28-G28) -> 27 | M28: =(J28*5)+(K28*2)+(L28*3) -> 0 | P28: =IF(A28<16,1,0) -> 0 | Q28: =IF(A28>15,1,0) -> 1
A29: 21 | B29: FEIGNA | E29: 53 | F29: 80 | I29: =(F29-E29)+(H29-G29) -> 27 | M29: =(J29*5)+(K29*2)+(L29*3) -> 0 | P29: =IF(A29<16,1,0) -> 0 | Q29: =IF(A29>15,1,0) -> 1
A30: 22 | B30: BERT | E30: 67 | F30: 80 | I30: =(F30-E30)+(H30-G30) -> 13 | M30: =(J30*5)+(K30*2)+(L30*3) -> 0 | P30: =IF(A30<16,1,0) -> 0 | Q30: =IF(A30>15,1,0) -> 1
A31: 23 | B31: LAMBERT | D31: D | E31: 61 | F31: 80 | I31: =(F31-E31)+(H31-G31) -> 19 | M31: =(J31*5)+(K31*2)+(L31*3) -> 0 | P31: =IF(A31<16,1,0) -> 0 | Q31: =IF(A31>15,1,0) -> 1
J32: =SUM(J9:J31) -> 0 | K32: =SUM(K9:K31) -> 0 | L32: =SUM(L9:L31) -> 3 | M32: =SUM(M9:M31) -> 9

Sheet 26112023
A2: Composition :
A4: US Dax | C4: / | D4: Stado Tarbes
A6: DATE : | C6: 45262
A8: n° | B8: Nom | C8: Cap | D8: Poste | E8: Entrée 1 | F8: sortie 1 | G8: Entrée 2 | H8: Sortie 2 | I8: Tps de jeu | J8: Essai | K8: Transformation | L8: Pénalité | M8: Total point | N8: CJ | O8: CR | P8: T | Q8: R
A9: 1 | B9: BARATGIN | C9: Cap. | D9: G | E9: 0 | F9: 51 | I9: =(F9-E9)+(H9-G9) -> 51 | M9: =(J9*5)+(K9*2)+(L9*3) -> 0 | P9: =IF(A9<16,1,0) -> 1 | Q9: =IF(A9>15,1,0) -> 0
A10: 2 | B10: TURLAN | D10: GT | E10: 0 | F10: 51 | I10: =(F10-E10)+(H10-G10) -> 51 | M10: =(J10*5)+(K10*2)+(L10*3) -> 0 | P10: =IF(A10<16,1,0) -> 1 | Q10: =IF(A10>15,1,0) -> 0
A11: 3 | B11: MONFORT | D11: GTD | E11: 0 | F11: 51 | I11: =(F11-E11)+(H11-G11) -> 51 | J11: 2 | M11: =(J11*5)+(K11*2)+(L11*3) -> 10 | P11: =IF(A11<16,1,0) -> 1 | Q11: =IF(A11>15,1,0) -> 0
A12: 4 | B12: FLOUS | E12: 0 | F12: 80 | I12: =(F12-E12)+(H12-G12) -> 80 | M12: =(J12*5)+(K12*2)+(L12*3) -> 0 | P12: =IF(A12<16,1,0) -> 1 | Q12: =IF(A12>15,1,0) -> 0
A13: 5 | B13: VIGUIER | E13: 0 | F13: 80 | I13: =(F13-E13)+(H13-G13) -> 80 | M13: =(J13*5)+(K13*2)+(L13*3) -> 0 | P13: =IF(A13<16,1,0) -> 1 | Q13: =IF(A13>15,1,0) -> 0
A14: 6 | B14: GUICHERD | E14: 0 | F14: 80 | I14: =(F14-E14)+(H14-G14) -> 80 | M14: =(J14*5)+(K14*2)+(L14*3) -> 0 | P14: =IF(A14<16,1,0) -> 1 | Q14: =IF(A14>15,1,0) -> 0
A15: 7 | B15: ABADIE | E15: 0 | F15: 56 | I15: =(F15-E15)+(H15-G15) -> 56 | J15: 2 | M15: =(J15*5)+(K15*2)+(L15*3) -> 10 | P15: =IF(A15<16,1,0) -> 1 | Q15: =IF(A15>15,1,0) -> 0
A16: 8 | B16: RANICA | E16: 0 | F16: 62 | I16: =(F16-E16)+(H16-G16) -> 62 | M16: =(J16*5)+(K16*2)+(L16*3) -> 0 | P16: =IF(A16<16,1,0) -> 1 | Q16: =IF(A16>15,1,0) -> 0
A17: 9 | B17: FEIGNA | E17: 0 | F17: 80 | I17: =(F17-E17)+(H17-G17) -> 80 | M17: =(J17*5)+(K17*2)+(L17*3) -> 0 | P17: =IF(A17<16,1,0) -> 1 | Q17: =IF(A17>15,1,0) -> 0
A18: 10 | B18: RANCOULE | E18: 0 | F18: 62 | I18: =(F18-E18)+(H18-G18) -> 62 | K18: 3 | L18: 2 | M18: =(J18*5)+(K18*2)+(L18*3) -> 12 | P18: =IF(A18<16,1,0) -> 1 | Q18: =IF(A18>15,1,0) -> 0
A19: 11 | B19: LACASSAGNE | E19: 0 | F19: 62 | G19: 67 | H19: 80 | I19: =(F19-E19)+(H19-G19) -> 75 | J19: 1 | M19: =(J19*5)+(K19*2)+(L19*3) -> 5 | P19: =IF(A19<16,1,0) -> 1 | Q19: =IF(A19>15,1,0) -> 0
A20: 12 | B20: DESCOUBET | E20: 0 | F20: 67 | I20: =(F20-E20)+(H20-G20) -> 67 | M20: =(J20*5)+(K20*2)+(L20*3) -> 0 | P20: =IF(A20<16,1,0) -> 1 | Q20: =IF(A20>15,1,0) -> 0
A21: 13 | B21: LE MEZEC | E21: 0 | F21: 32 | I21: =(F21-E21)+(H21-G21) -> 32 | M21: =(J21*5)+(K21*2)+(L21*3) -> 0 | P21: =IF(A21<16,1,0) -> 1 | Q21: =IF(A21>15,1,0) -> 0
A22: 14 | B22: PARGALA | E22: 0 | F22: 80 | I22: =(F22-E22)+(H22-G22) -> 80 | J22: 1 | M22: =(J22*5)+(K22*2)+(L22*3) -> 5 | P22: =IF(A22<16,1,0) -> 1 | Q22: =IF(A22>15,1,0) -> 0
A23: 15 | B23: LAGARDERE | E23: 0 | F23: 80 | I23: =(F23-E23)+(H23-G23) -> 80 | J23: 1 | M23: =(J23*5)+(K23*2)+(L23*3) -> 5 | P23: =IF(A23<16,1,0) -> 1 | Q23: =IF(A23>15,1,0) -> 0
A24: 16 | B24: GIBERT CAMPOS | D24: T | E24: 51 | F24: 80 | I24: =(F24-E24)+(H24-G24) -> 29 | M24: =(J24*5)+(K24*2)+(L24*3) -> 0 | P24: =IF(A24<16,1,0) -> 0 | Q24: =IF(A24>15,1,0) -> 1
A25: 17 | B25: CAUBE | D25: GT | E25: 51 | F25: 80 | I25: =(F25-E25)+(H25-G25) -> 29 | M25: =(J25*5)+(K25*2)+(L25*3) -> 0 | P25: =IF(A25<16,1,0) -> 0 | Q25: =IF(A25>15,1,0) -> 1
A26: 18 | B26: DUFAU | E26: 56 | F26: 80 | I26: =(F26-E26)+(H26-G26) -> 24 | M26: =(J26*5)+(K26*2)+(L26*3) -> 0 | P26: =IF(A26<16,1,0) -> 0 | Q26: =IF(A26>15,1,0) -> 1
A27: 19 | B27: WEBERT | E27: 62 | F27: 80 | I27: =(F27-E27)+(H27-G27) -> 18 | M27: =(J27*5)+(K27*2)+(L27*3) -> 0 | P27: =IF(A27<16,1,0) -> 0 | Q27: =IF(A27>15,1,0) -> 1
A28: 20 | B28: GAYRI | E28: 62 | F28: 80 | I28: =(F28-E28)+(H28-G28) -> 18 | K28: 1 | M28: =(J28*5)+(K28*2)+(L28*3) -> 2 | P28: =IF(A28<16,1,0) -> 0 | Q28: =IF(A28>15,1,0) -> 1
A29: 21 | B29: MITHIEUX | E29: 62 | F29: 80 | I29: =(F29-E29)+(H29-G29) -> 18 | M29: =(J29*5)+(K29*2)+(L29*3) -> 0 | P29: =IF(A29<16,1,0) -> 0 | Q29: =IF(A29>15,1,0) -> 1
A30: 22 | B30: BARRAU | E30: 32 | F30: 80 | I30: =(F30-E30)+(H30-G30) -> 48 | M30: =(J30*5)+(K30*2)+(L30*3) -> 0 | P30: =IF(A30<16,1,0) -> 0 | Q30: =IF(A30>15,1,0) -> 1
A31: 23 | B31: LAMBERT | D31: D | E31: 51 | F31: 80 | I31: =(F31-E31)+(H31-G31) -> 29 | M31: =(J31*5)+(K31*2)+(L31*3) -> 0 | P31: =IF(A31<16,1,0) -> 0 | Q31: =IF(A31>15,1,0) -> 1
J32: =SUM(J9:J31) -> 7 | K32: =SUM(K9:K31) -> 4 | L32: =SUM(L9:L31) -> 2 | M32: =SUM(M9:M31) -> 49

Sheet 02122023
A2: Composition :
A4: US Dax | C4: / | D4: Stado Tarbes
A6: DATE : | C6: 45262
A8: n° | B8: Nom | C8: Cap | D8: Poste | E8: Entrée 1 | F8: sortie 1 | G8: Entrée 2 | H8: Sortie 2 | I8: Tps de jeu | J8: Essai | K8: Transformation | L8: Pénalité | M8: Total point | N8: CJ | O8: CR | P8: T | Q8: R
A9: 1 | B9: BARATGIN | C9: Cap. | D9: G | E9: 0 | F9: 40 | I9: =(F9-E9)+(H9-G9) -> 40 | M9: =(J9*5)+(K9*2)+(L9*3) -> 0 | P9: =IF(A9<16,1,0) -> 1 | Q9: =IF(A9>15,1,0) -> 0
A10: 2 | B10: TURLAN | D10: GT | E10: 0 | F10: 60 | I10: =(F10-E10)+(H10-G10) -> 60 | J10: 1 | M10: =(J10*5)+(K10*2)+(L10*3) -> 5 | P10: =IF(A10<16,1,0) -> 1 | Q10: =IF(A10>15,1,0) -> 0
A11: 3 | B11: MONFORT | D11: GTD | E11: 0 | F11: 48 | I11: =(F11-E11)+(H11-G11) -> 48 | J11: 1 | M11: =(J11*5)+(K11*2)+(L11*3) -> 5 | P11: =IF(A11<16,1,0) -> 1 | Q11: =IF(A11>15,1,0) -> 0
A12: 4 | B12: NIETO | E12: 0 | F12: 48 | I12: =(F12-E12)+(H12-G12) -> 48 | M12: =(J12*5)+(K12*2)+(L12*3) -> 0 | P12: =IF(A12<16,1,0) -> 1 | Q12: =IF(A12>15,1,0) -> 0
A13: 5 | B13: VIGUIER | E13: 0 | F13: 80 | I13: =(F13-E13)+(H13-G13) -> 80 | M13: =(J13*5)+(K13*2)+(L13*3) -> 0 | P13: =IF(A13<16,1,0) -> 1 | Q13: =IF(A13>15,1,0) -> 0
A14: 6 | B14: ABADIE | E14: 0 | F14: 63 | I14: =(F14-E14)+(H14-G14) -> 63 | M14: =(J14*5)+(K14*2)+(L14*3) -> 0 | P14: =IF(A14<16,1,0) -> 1 | Q14: =IF(A14>15,1,0) -> 0
A15: 7 | B15: FLOUS | E15: 0 | F15: 80 | I15: =(F15-E15)+(H15-G15) -> 80 | M15: =(J15*5)+(K15*2)+(L15*3) -> 0 | P15: =IF(A15<16,1,0) -> 1 | Q15: =IF(A15>15,1,0) -> 0
A16: 8 | B16: ESTAQUE | E16: 0 | F16: 80 | I16: =(F16-E16)+(H16-G16) -> 80 | M16: =(J16*5)+(K16*2)+(L16*3) -> 0 | P16: =IF(A16<16,1,0) -> 1 | Q16: =IF(A16>15,1,0) -> 0
A17: 9 | B17: FEIGNA | E17: 0 | F17: 80 | I17: =(F17-E17)+(H17-G17) -> 80 | M17: =(J17*5)+(K17*2)+(L17*3) -> 0 | P17: =IF(A17<16,1,0) -> 1 | Q17: =IF(A17>15,1,0) -> 0
A18: 10 | B18: RANCOULE | E18: 0 | F18: 78 | I18: =(F18-E18)+(H18-G18) -> 78 | M18: =(J18*5)+(K18*2)+(L18*3) -> 0 | P18: =IF(A18<16,1,0) -> 1 | Q18: =IF(A18>15,1,0) -> 0
A19: 11 | B19: GAYRI | E19: 0 | F19: 73 | I19: =(F19-E19)+(H19-G19) -> 73 | K19: 2 | L19: 4 | M19: =(J19*5)+(K19*2)+(L19*3) -> 16 | P19: =IF(A19<16,1,0) -> 1 | Q19: =IF(A19>15,1,0) -> 0
A20: 12 | B20: DUCOS | E20: 0 | F20: 80 | I20: =(F20-E20)+(H20-G20) -> 80 | M20: =(J20*5)+(K20*2)+(L20*3) -> 0 | N20: 1 | P20: =IF(A20<16,1,0) -> 1 | Q20: =IF(A20>15,1,0) -> 0
A21: 13 | B21: LARTIGUE | E21: 0 | F21: 80 | I21: =(F21-E21)+(H21-G21) -> 80 | M21: =(J21*5)+(K21*2)+(L21*3) -> 0 | P21: =IF(A21<16,1,0) -> 1 | Q21: =IF(A21>15,1,0) -> 0
A22: 14 | B22: BERT | E22: 0 | F22: 56 | I22: =(F22-E22)+(H22-G22) -> 56 | M22: =(J22*5)+(K22*2)+(L22*3) -> 0 | P22: =IF(A22<16,1,0) -> 1 | Q22: =IF(A22>15,1,0) -> 0
A23: 15 | B23: PARGALA | E23: 0 | F23: 80 | I23: =(F23-E23)+(H23-G23) -> 80 | M23: =(J23*5)+(K23*2)+(L23*3) -> 0 | P23: =IF(A23<16,1,0) -> 1 | Q23: =IF(A23>15,1,0) -> 0
A24: 16 | B24: GIBERT CAMPOS | D24: T | E24: 60 | F24: 80 | I24: =(F24-E24)+(H24-G24) -> 20 | M24: =(J24*5)+(K24*2)+(L24*3) -> 0 | P24: =IF(A24<16,1,0) -> 0 | Q24: =IF(A24>15,1,0) -> 1
A25: 17 | B25: CAUBE | D25: GT | E25: 40 | F25: 80 | I25: =(F25-E25)+(H25-G25) -> 40 | M25: =(J25*5)+(K25*2)+(L25*3) -> 0 | P25: =IF(A25<16,1,0) -> 0 | Q25: =IF(A25>15,1,0) -> 1
A26: 18 | B26: DUFAU | E26: 63 | F26: 80 | I26: =(F26-E26)+(H26-G26) -> 17 | M26: =(J26*5)+(K26*2)+(L26*3) -> 0 | P26: =IF(A26<16,1,0) -> 0 | Q26: =IF(A26>15,1,0) -> 1
A27: 19 | B27: EPRON | E27: 48 | F27: 80 | I27: =(F27-E27)+(H27-G27) -> 32 | M27: =(J27*5)+(K27*2)+(L27*3) -> 0 | P27: =IF(A27<16,1,0) -> 0 | Q27: =IF(A27>15,1,0) -> 1
A28: 20 | B28: MITHIEUX | E28: 78 | F28: 80 | I28: =(F28-E28)+(H28-G28) -> 2 | M28: =(J28*5)+(K28*2)+(L28*3) -> 0 | P28: =IF(A28<16,1,0) -> 0 | Q28: =IF(A28>15,1,0) -> 1
A29: 21 | B29: LACASSAGNE | E29: 56 | F29: 80 | I29: =(F29-E29)+(H29-G29) -> 24 | M29: =(J29*5)+(K29*2)+(L29*3) -> 0 | P29: =IF(A29<16,1,0) -> 0 | Q29: =IF(A29>15,1,0) -> 1
A30: 22 | B30: LAGARDERE | E30: 73 | F30: 80 | I30: =(F30-E30)+(H30-G30) -> 7 | M30: =(J30*5)+(K30*2)+(L30*3) -> 0 | P30: =IF(A30<16,1,0) -> 0 | Q30: =IF(A30>15,1,0) -> 1
A31: 23 | B31: LAMBERT | D31: D | E31: 48 | F31: 80 | I31: =(F31-E31)+(H31-G31) -> 32 | M31: =(J31*5)+(K31*2)+(L31*3) -> 0 | P31: =IF(A31<16,1,0) -> 0 | Q31: =IF(A31>15,1,0) -> 1
J32: =SUM(J9:J31) -> 2 | K32: =SUM(K9:K31) -> 2 | L32: =SUM(L9:L31) -> 4 | M32: =SUM(M9:M31) -> 26
