Workbook

Sheet 0903222 - 072023
A1: Date facture | B1: N° Facture | C1: Désignation | D1: Qté facturée | E1: Pu HT facturé | F1: Total HT facturé | G1: Bien facturé | H1: Bien facturé (client) | I1: Bien facturé libellé | J1: Nom grandeur | K1: Valeur grandeur | L1: Catégorie | M1: A4 N&B | N1: A3 N&B | O1: A4 COUL | P1: A3 COUL
A2: 45161 | B2: 46464646 | C2: Relevé copies N/B | D2: 0 | E2: 0 | F2: 10 | G2: NSERIE1 | H2: IMP01 | I2: MACHINE1 | J2: 112 / Total Noir A3 | K2: 172 | L2: CATEGORIE1 | M2: =IF(J2="113 / Total Noir A4",K2,) -> 0 | N2: =IF(J2="112 / Total Noir A3",K2,) -> 172 | O2: =IF(J2="123 / Total Couleur A4",K2,) -> 0 | P2: =IF(J2="122 / Total Couleur A3",K2,) -> 0
A3: 45161 | B3: 46464646 | C3: Relevé copies N/B | D3: 0 | E3: 0 | F3: 10 | G3: NSERIE1 | H3: IMP01 | I3: MACHINE1 | J3: 113 / Total Noir A4 | K3: 126 | L3: CATEGORIE1 | M3: =IF(J3="113 / Total Noir A4",K3,) -> 126 | N3: =IF(J3="112 / Total Noir A3",K3,) -> 0 | O3: =IF(J3="123 / Total Couleur A4",K3,) -> 0 | P3: =IF(J3="122 / Total Couleur A3",K3,) -> 0
A4: 45161 | B4: 46464646 | C4: Relevé copies N/B | D4: 0 | E4: 0 | F4: 10 | G4: NSERIE1 | H4: IMP01 | I4: MACHINE1 | J4: 112 / Total Noir A3 | K4: 99 | L4: CATEGORIE1 | M4: =IF(J4="113 / Total Noir A4",K4,) -> 0 | N4: =IF(J4="112 / Total Noir A3",K4,) -> 99 | O4: =IF(J4="123 / Total Couleur A4",K4,) -> 0 | P4: =IF(J4="122 / Total Couleur A3",K4,) -> 0
A5: 45161 | B5: 46464646 | C5: Relevé copies N/B | D5: 0 | E5: 0 | F5: 10 | G5: NSERIE2 | H5: IMP02 | I5: MACHINE2 | J5: 113 / Total Noir A4 | K5: 503 | L5: CATEGORIE1 | M5: 0 | N5: =IF(J5="112 / Total Noir A3",K5,) -> 0 | O5: =IF(J5="123 / Total Couleur A4",K5,) -> 0 | P5: =IF(J5="122 / Total Couleur A3",K5,) -> 0
A6: 45161 | B6: 46464646 | C6: Relevé copies N/B | D6: 0 | E6: 0 | F6: 10 | G6: NSERIE2 | H6: IMP02 | I6: MACHINE2 | J6: 123 / Total Couleur A4 | K6: 1000 | L6: CATEGORIE1 | M6: 0 | N6: =IF(J6="112 / Total Noir A3",K6,) -> 0 | O6: =IF(J6="123 / Total Couleur A4",K6,) -> 1000 | P6: =IF(J6="122 / Total Couleur A3",K6,) -> 0
A7: 45161 | B7: 46464646 | C7: Relevé copies N/B | D7: 0 | E7: 0 | F7: 10 | G7: NSERIE2 | H7: IMP02 | I7: MACHINE2 | J7: 123 / Total Couleur A4 | K7: 1000 | L7: CATEGORIE1 | M7: 66
A8: 45161 | B8: 46464646 | C8: Relevé copies N/B | D8: 0 | E8: 0 | F8: 10 | G8: NSERIE2 | H8: IMP02 | I8: MACHINE2 | J8: 123 / Total Couleur A4 | K8: 1000 | L8: CATEGORIE1 | M8: 1

Sheet BC1
A1: n° de serie | B1: Nom | C1: Loyer moteur | D1: Socle double cassette AW1 | E1: Module Finition-L1 | F1: Finisseur externe-AE1 | G1: Socle double cassette-AQ1 | H1: Finisseur externe-AB2 | I1: Loyer total | J1: loyer trimestrielle | K1: Cout N&B A4 | L1: Cout N&B A3 | M1: Cout COUL A4 | N1: Cout COUL A3 | O1: Catégorie | P1: A4 N&B | Q1: A3 N&B | R1: A4 COUL | S1: A3 COUL | T1: TOTAL RELEVE COPIE
A2: NSERIE2 | B2: IMP02 | C2: 0 | I2: 0 | J2: =I2*3 -> 0 | K2: 0 | L2: =K2*2 -> 0 | N2: =M2*2 -> 0 | O2: CATEGORIE 1 | P2: {=INDEX('0903222 - 072023'!M:M,_xlfn.AGGREGATE(15,6,ROW('0903222 - 072023'!$M$2:$M$8)/(('0903222 - 072023'!$G$2:$G$8='BC1'!A2)*('0903222 - 072023'!$M$2:$M$8<>0)),1))} -> 66 | Q2: =IFERROR(VLOOKUP(A2,'0903222 - 072023'!$G$1:$P$355,8,FALSE),0) -> 0 | R2: =IFERROR(VLOOKUP(A2,'0903222 - 072023'!$G$1:$P$355,9,FALSE),0) -> 0 | S2: =IFERROR(VLOOKUP(A2,'0903222 - 072023'!$G$1:$P$355,10,FALSE),0) -> 0 | T2: =P2*K2+Q2*L2+R2*M2+S2*N2 -> 0
A3: NSERIE1 | B3: IMP01 | C3: 0 | I3: 0 | J3: =I3*3 -> 0 | K3: 0 | L3: =K3*2 -> 0 | N3: =M3*2 -> 0 | O3: CATEGORIE 1 | P3: {=INDEX('0903222 - 072023'!M:M,_xlfn.AGGREGATE(15,6,ROW('0903222 - 072023'!$M$2:$M$8)/(('0903222 - 072023'!$G$2:$G$8='BC1'!A3)*('0903222 - 072023'!$M$2:$M$8<>0)),1))} -> 126 | Q3: =IFERROR(VLOOKUP(A3,'0903222 - 072023'!$G$1:$P$355,8,FALSE),0) -> 172 | R3: =IFERROR(VLOOKUP(A3,'0903222 - 072023'!$G$1:$P$355,9,FALSE),0) -> 0 | S3: =IFERROR(VLOOKUP(A3,'0903222 - 072023'!$G$1:$P$355,10,FALSE),0) -> 0 | T3: =P3*K3+Q3*L3+R3*M3+S3*N3 -> 0
K6: {=_xlfn.TAKE(_xlfn._xlws.FILTER('0903222 - 072023'!M:M,('0903222 - 072023'!G:G='BC1'!A2)*('0903222 - 072023'!M:M>0)),1)} -> 66
E8: max.si.ens( | G8: =IF(VLOOKUP(A2,'0903222 - 072023'!G:M,7,0)>0,VLOOKUP(A2,'0903222 - 072023'!G:M,7,0),VLOOKUP(A2,OFFSET('0903222 - 072023'!$G$1,MATCH(A2,'0903222 - 072023'!$G:$G,0),,1000,7),7,0)) -> 0 | K8: {=(('0903222 - 072023'!$G$2:$G$1000='BC1'!A2)*('0903222 - 072023'!M2:M1000>0)*ROW(M2:M1000))} -> 0
K9: 0
K10: 0
K11: 0
F12: {=INDEX('0903222 - 072023'!M:M,_xlfn.AGGREGATE(15,6,ROW('0903222 - 072023'!$M$2:$M$8)/(('0903222 - 072023'!$G$2:$G$8='BC1'!A2)*('0903222 - 072023'!$M$2:$M$8<>0)),1))} -> 66 | K12: 0
K13: 7
K14: 8
K15: 0
K16: 0
K17: 0
K18: 0
K19: 0
K20: 0
K21: 0
K22: 0
K23: 0
K24: 0
... K1006: 0
