Workbook

Sheet Mauvais Format
B1: cmNwu56FJBGru53IwQt3 | C1: XHDxGKyFkz0qHQeeWrwO | D1: WAEF0qlMTs5KXkdIxL4H | E1: ZAEGqhYR9fU0bjNtr0lS | F1: G81kvAz0BZYZZJRwOyr1 | G1: ZGQM7VbX51SAC9cyuz4o | H1: 9VgYlpDG2RdB5hq4rGJZ | I1: 6iFfeU1RGqCIlQiq1tfv | J1: 8ZnvUggiLGUWy12Bp51J | K1: diYv0wnG5gnnbmMBkVeu | L1: cY56ZXQmdc0xyubsQPGk | M1: Wqt9KlYKe4PI5RAuIfml | N1: Sf88nPDaVTTb9jeDoc9r | O1: 1GibuNDD8RmEo2ugyIOT | P1: 98Ws0nUUFs9aUbVeVtDb | Q1: 1yyOLGKdHb8gxsDitdWZ | R1: eyLlgUNssl0Tmm81c0H2 | S1: nuken4G3QQVoMA4xrm60 | T1: UdXZM0nrkah3Wb5LamHY | U1: SykRs2fZHNM4DLnq7F1m | V1: 6f9GzxOgYtsHWe3fO0Si | W1: n26sf7Z1TuOttb7zbBGC | X1: UP7VefpoxiAbzdCc5mZD | Y1: XESYFICZkfmuYVtULpWM | Z1: OsX4uVHki83U3zh4alo7 | AA1: v4qJF4tzgPSppqDiB5D0 | AB1: IhBlDfnABCzS5hriTaaO | AC1: Ly6WgBoUHmYzj629o5qC | AD1: 6i8LlLSVGO76YPbz4Gpc | AE1: jy0tC6Z1d1sfweEmIzQz | AF1: iEwojOBhAg6Xft1LUZU1 | AG1: bfnVwI75muvlXCXfcMpR | AH1: ZwAOYbB9XkGkL78MoaC9 | AI1: cL24IcHZPLgHFm3ZLFst | AJ1: 9kHo9XM9VfjN13cp8iua | AK1: wWOXKPPEjnwsOx5NgbyZ | AL1: e6DyT4d41LdzbQz8ke4m | AM1: hDtXhfr7wqDq30YnR2rB | AN1: I1bUKiA9jXDR5Q2bU7XP | AO1: vhvBh49NDX41XnJ0Oi2P | AP1: cpuZNCo5vOCEyEOqkcIt | AQ1: 1Vic4of2jVoy5pMdK6VA
A2: Curcumine E100 | B2: medicineFamilyNeutral | C2: medicineFamilyNeutral | D2: medicineFamilyNeutral | E2: medicineFamilyNeutral | F2: medicineFamilyNeutral | G2: medicineFamilyNeutral | H2: medicineFamilyNeutral | I2: diseasesNeutral | J2: diseasesNeutral | K2: diseasesNeutral | L2: diseasesBad | M2: diseasesNeutral | N2: diseasesNeutral | O2: diseasesNeutral | P2: diseasesNeutral | Q2: diseasesNeutral | R2: diseasesNeutral | S2: diseasesNeutral | T2: diseasesNeutral | U2: diseasesNeutral | V2: diseasesNeutral | W2: diseasesNeutral | X2: diseasesNeutral | Y2: diseasesNeutral | Z2: diseasesNeutral | AA2: diseasesNeutral | AB2: diseasesNeutral | AC2: diseasesNeutral | AD2: diseasesNeutral | AE2: diseasesNeutral | AF2: diseasesBad | AG2: diseasesNeutral | AH2: diseasesNeutral | AI2: diseasesNeutral | AJ2: diseasesNeutral | AK2: diseasesNeutral | AL2: diseasesNeutral | AM2: diseasesNeutral | AN2: diseasesNeutral | AO2: diseasesNeutral | AP2: diseasesNeutral | AQ2: diseasesNeutral
A3: riboflavine E101 | B3: medicineFamilyBad | C3: medicineFamilyBad | D3: medicineFamilyBad | E3: medicineFamilyBad | F3: medicineFamilyBad | G3: medicineFamilyNeutral | H3: medicineFamilyNeutral | I3: diseasesBad | J3: diseasesBad | K3: diseasesBad | L3: diseasesBad | M3: diseasesBad | N3: diseasesBad | O3: diseasesBad | P3: diseasesBad | Q3: diseasesBad | R3: diseasesBad | S3: diseasesBad | T3: diseasesBad | U3: diseasesBad | V3: diseasesBad | W3: diseasesBad | X3: diseasesBad | Y3: diseasesBad | Z3: diseasesBad | AA3: diseasesBad | AB3: diseasesBad | AC3: diseasesBad | AD3: diseasesBad | AE3: diseasesBad | AF3: diseasesBad | AG3: diseasesBad | AH3: diseasesBad | AI3: diseasesBad | AJ3: diseasesBad | AK3: diseasesBad | AL3: diseasesBad | AM3: diseasesBad | AN3: diseasesBad | AO3: diseasesBad | AP3: diseasesBad | AQ3: diseasesBad
A4: vitamine B2 | B4: medicineFamilyBad | C4: medicineFamilyBad | D4: medicineFamilyBad | E4: medicineFamilyBad | F4: medicineFamilyBad | G4: medicineFamilyNeutral | H4: medicineFamilyNeutral | I4: diseasesBad | J4: diseasesBad | K4: diseasesBad | L4: diseasesBad | M4: diseasesBad | N4: diseasesBad | O4: diseasesBad | P4: diseasesBad | Q4: diseasesBad | R4: diseasesBad | S4: diseasesBad | T4: diseasesBad | U4: diseasesBad | V4: diseasesBad | W4: diseasesBad | X4: diseasesBad | Y4: diseasesBad | Z4: diseasesBad | AA4: diseasesBad | AB4: diseasesBad | AC4: diseasesBad | AD4: diseasesBad | AE4: diseasesBad | AF4: diseasesBad | AG4: diseasesBad | AH4: diseasesBad | AI4: diseasesBad | AJ4: diseasesBad | AK4: diseasesBad | AL4: diseasesBad | AM4: diseasesBad | AN4: diseasesBad | AO4: diseasesBad | AP4: diseasesBad | AQ4: diseasesBad
A5: tartrazine E102 | B5: medicineFamilyBad | C5: medicineFamilyBad | D5: medicineFamilyBad | E5: medicineFamilyBad | F5: medicineFamilyBad | G5: medicineFamilyNeutral | H5: medicineFamilyNeutral | I5: diseasesBad | J5: diseasesBad | K5: diseasesBad | L5: diseasesBad | M5: diseasesBad | N5: diseasesBad | O5: diseasesBad | P5: diseasesBad | Q5: diseasesBad | R5: diseasesBad | S5: diseasesBad | T5: diseasesBad | U5: diseasesBad | V5: diseasesBad | W5: diseasesBad | X5: diseasesBad | Y5: diseasesBad | Z5: diseasesBad | AA5: diseasesBad | AB5: diseasesBad | AC5: diseasesBad | AD5: diseasesBad | AE5: diseasesBad | AF5: diseasesBad | AG5: diseasesBad | AH5: diseasesBad | AI5: diseasesBad | AJ5: diseasesBad | AK5: diseasesBad | AL5: diseasesBad | AM5: diseasesBad | AN5: diseasesBad | AO5: diseasesBad | AP5: diseasesBad | AQ5: diseasesBad
A6: jaune de quinoléine E104 | B6: medicineFamilyBad | C6: medicineFamilyBad | D6: medicineFamilyBad | E6: medicineFamilyBad | F6: medicineFamilyBad | G6: medicineFamilyNeutral | H6: medicineFamilyNeutral | I6: diseasesBad | J6: diseasesBad | K6: diseasesBad | L6: diseasesBad | M6: diseasesBad | N6: diseasesBad | O6: diseasesBad | P6: diseasesBad | Q6: diseasesBad | R6: diseasesBad | S6: diseasesBad | T6: diseasesBad | U6: diseasesBad | V6: diseasesBad | W6: diseasesBad | X6: diseasesBad | Y6: diseasesBad | Z6: diseasesBad | AA6: diseasesBad | AB6: diseasesBad | AC6: diseasesBad | AD6: diseasesBad | AE6: diseasesBad | AF6: diseasesBad | AG6: diseasesBad | AH6: diseasesBad | AI6: diseasesBad | AJ6: diseasesBad | AK6: diseasesBad | AL6: diseasesBad | AM6: diseasesBad | AN6: diseasesBad | AO6: diseasesBad | AP6: diseasesBad | AQ6: diseasesBad
A9: {=TRANSPOSE(A1:AQ6)} -> 0 | B9: Curcumine E100 | C9: riboflavine E101 | D9: vitamine B2 | E9: tartrazine E102 | F9: jaune de quinoléine E104 | H9: medicineFamilyBad | I9: medicineFamilyNeutral | J9: diseasesBad | K9: diseasesNeutral | L9: diseasesGood
A10: cmNwu56FJBGru53IwQt3 | B10: medicineFamilyNeutral | C10: medicineFamilyBad | D10: medicineFamilyBad | E10: medicineFamilyBad | F10: medicineFamilyBad
A11: XHDxGKyFkz0qHQeeWrwO | B11: medicineFamilyNeutral | C11: medicineFamilyBad | D11: medicineFamilyBad | E11: medicineFamilyBad | F11: medicineFamilyBad
A12: WAEF0qlMTs5KXkdIxL4H | B12: medicineFamilyNeutral | C12: medicineFamilyBad | D12: medicineFamilyBad | E12: medicineFamilyBad | F12: medicineFamilyBad
A13: ZAEGqhYR9fU0bjNtr0lS | B13: medicineFamilyNeutral | C13: medicineFamilyBad | D13: medicineFamilyBad | E13: medicineFamilyBad | F13: medicineFamilyBad
A14: G81kvAz0BZYZZJRwOyr1 | B14: medicineFamilyNeutral | C14: medicineFamilyBad | D14: medicineFamilyBad | E14: medicineFamilyBad | F14: medicineFamilyBad
A15: ZGQM7VbX51SAC9cyuz4o | B15: medicineFamilyNeutral | C15: medicineFamilyNeutral | D15: medicineFamilyNeutral | E15: medicineFamilyNeutral | F15: medicineFamilyNeutral
A16: 9VgYlpDG2RdB5hq4rGJZ | B16: medicineFamilyNeutral | C16: medicineFamilyNeutral | D16: medicineFamilyNeutral | E16: medicineFamilyNeutral | F16: medicineFamilyNeutral
A17: 6iFfeU1RGqCIlQiq1tfv | B17: diseasesNeutral | C17: diseasesBad | D17: diseasesBad | E17: diseasesBad | F17: diseasesBad
A18: 8ZnvUggiLGUWy12Bp51J | B18: diseasesNeutral | C18: diseasesBad | D18: diseasesBad | E18: diseasesBad | F18: diseasesBad
A19: diYv0wnG5gnnbmMBkVeu | B19: diseasesNeutral | C19: diseasesBad | D19: diseasesBad | E19: diseasesBad | F19: diseasesBad
A20: cY56ZXQmdc0xyubsQPGk | B20: diseasesBad | C20: diseasesBad | D20: diseasesBad | E20: diseasesBad | F20: diseasesBad
A21: Wqt9KlYKe4PI5RAuIfml | B21: diseasesNeutral | C21: diseasesBad | D21: diseasesBad | E21: diseasesBad | F21: diseasesBad
... A51: 1Vic4of2jVoy5pMdK6VA | B51: diseasesNeutral | C51: diseasesBad | D51: diseasesBad | E51: diseasesBad | F51: diseasesBad

Sheet Bon Format
B1: medicineFamilyBad | C1: medicineFamilyNeutral | D1: diseasesBad | E1: diseasesNeutral | F1: diseasesGood
A2: {=_xlfn.UNIQUE('Mauvais Format'!A2:A6)} -> Curcumine E100 | B2: {=_xlfn.TEXTJOIN(",",,_xlfn._xlws.FILTER('Mauvais Format'!$B$1:$AQ$1,_xlfn._xlws.FILTER('Mauvais Format'!$B$2:$AQ$6,'Mauvais Format'!$A$2:$A$6='Bon Format'!$A2,"")='Bon Format'!B$1,""))} | C2: {=_xlfn.TEXTJOIN(",",,_xlfn._xlws.FILTER('Mauvais Format'!$B$1:$AQ$1,_xlfn._xlws.FILTER('Mauvais Format'!$B$2:$AQ$6,'Mauvais Format'!$A$2:$A$6='Bon Format'!$A2,"")='Bon Format'!C$1,""))} -> cmNwu56FJBGru53IwQt3,XHDxGKyFkz0qHQeeWrwO,WAEF0qlMTs5KXkdIxL4H,ZAEGqhYR9fU0bjNtr0lS,G81kvAz0BZYZZJRwOyr1,ZGQM7VbX51SAC9cyuz4o,9VgYlpDG2RdB5hq4rGJZ | D2: {=_xlfn.TEXTJOIN(",",,_xlfn._xlws.FILTER('Mauvais Format'!$B$1:$AQ$1,_xlfn._xlws.FILTER('Mauvais Format'!$B$2:$AQ$6,'Mauvais Format'!$A$2:$A$6='Bon Format'!$A2,"")='Bon Format'!D$1,""))} -> cY56ZXQmdc0xyubsQPGk,iEwojOBhAg6Xft1LUZU1 | E2: {=_xlfn.TEXTJOIN(",",,_xlfn._xlws.FILTER('Mauvais Format'!$B$1:$AQ$1,_xlfn._xlws.FILTER('Mauvais Format'!$B$2:$AQ$6,'Mauvais Format'!$A$2:$A$6='Bon Format'!$A2,"")='Bon Format'!E$1,""))} -> 6iFfeU1RGqCIlQiq1tfv,8ZnvUggiLGUWy12Bp51J,diYv0wnG5gnnbmMBkVeu,Wqt9KlYKe4PI5RAuIfml,Sf88nPDaVTTb9jeDoc9r,1GibuNDD8RmEo2ugyIOT,98Ws0nUUFs9aUbVeVtDb,1yyOLGKdHb8gxsDitdWZ,eyLlgUNssl0Tmm81c0H2,nuken4G3QQVoMA4xrm60,UdXZM0nrkah3Wb5LamHY,SykRs2fZHNM4DLnq7F1m,6f9GzxOgYtsHWe3fO0Si,n26sf7Z1TuOttb7zbBGC,UP7VefpoxiAbzdCc5mZD,XESYFICZkfmuYVtULpWM,OsX4uVHki83U3zh4alo7,v4qJF4tzgPSppqDiB5D0,IhBlDfnABCzS5hriTaaO,Ly6WgBoUHmYzj629o5qC,6i8LlLSVGO76YPbz4Gpc,jy0tC6Z1d1sfweEmIzQz,bfnVwI75muvlXCXfcMpR,ZwAOYbB9XkGkL78MoaC9,cL24IcHZPLgHFm3ZLFst,9kHo9XM9VfjN13cp8iua,wWOXKPPEjnwsOx5NgbyZ,e6DyT4d41LdzbQz8ke4m,hDtXhfr7wqDq30YnR2rB,I1bUKiA9jXDR5Q2bU7XP,vhvBh49NDX41XnJ0Oi2P,cpuZNCo5vOCEyEOqkcIt,1Vic4of2jVoy5pMdK6VA | F2: {=_xlfn.TEXTJOIN(",",,_xlfn._xlws.FILTER('Mauvais Format'!$B$1:$AQ$1,_xlfn._xlws.FILTER('Mauvais Format'!$B$2:$AQ$6,'Mauvais Format'!$A$2:$A$6='Bon Format'!$A2,"")='Bon Format'!F$1,""))}
A3: riboflavine E101 | B3: {=_xlfn.TEXTJOIN(",",,_xlfn._xlws.FILTER('Mauvais Format'!$B$1:$AQ$1,_xlfn._xlws.FILTER('Mauvais Format'!$B$2:$AQ$6,'Mauvais Format'!$A$2:$A$6='Bon Format'!$A3,"")='Bon Format'!B$1,""))} -> cmNwu56FJBGru53IwQt3,XHDxGKyFkz0qHQeeWrwO,WAEF0qlMTs5KXkdIxL4H,ZAEGqhYR9fU0bjNtr0lS,G81kvAz0BZYZZJRwOyr1 | C3: {=_xlfn.TEXTJOIN(",",,_xlfn._xlws.FILTER('Mauvais Format'!$B$1:$AQ$1,_xlfn._xlws.FILTER('Mauvais Format'!$B$2:$AQ$6,'Mauvais Format'!$A$2:$A$6='Bon Format'!$A3,"")='Bon Format'!C$1,""))} -> ZGQM7VbX51SAC9cyuz4o,9VgYlpDG2RdB5hq4rGJZ | D3: {=_xlfn.TEXTJOIN(",",,_xlfn._xlws.FILTER('Mauvais Format'!$B$1:$AQ$1,_xlfn._xlws.FILTER('Mauvais Format'!$B$2:$AQ$6,'Mauvais Format'!$A$2:$A$6='Bon Format'!$A3,"")='Bon Format'!D$1,""))} -> 6iFfeU1RGqCIlQiq1tfv,8ZnvUggiLGUWy12Bp51J,diYv0wnG5gnnbmMBkVeu,cY56ZXQmdc0xyubsQPGk,Wqt9KlYKe4PI5RAuIfml,Sf88nPDaVTTb9jeDoc9r,1GibuNDD8RmEo2ugyIOT,98Ws0nUUFs9aUbVeVtDb,1yyOLGKdHb8gxsDitdWZ,eyLlgUNssl0Tmm81c0H2,nuken4G3QQVoMA4xrm60,UdXZM0nrkah3Wb5LamHY,SykRs2fZHNM4DLnq7F1m,6f9GzxOgYtsHWe3fO0Si,n26sf7Z1TuOttb7zbBGC,UP7VefpoxiAbzdCc5mZD,XESYFICZkfmuYVtULpWM,OsX4uVHki83U3zh4alo7,v4qJF4tzgPSppqDiB5D0,IhBlDfnABCzS5hriTaaO,Ly6WgBoUHmYzj629o5qC,6i8LlLSVGO76YPbz4Gpc,jy0tC6Z1d1sfweEmIzQz,iEwojOBhAg6Xft1LUZU1,bfnVwI75muvlXCXfcMpR,ZwAOYbB9XkGkL78MoaC9,cL24IcHZPLgHFm3ZLFst,9kHo9XM9VfjN13cp8iua,wWOXKPPEjnwsOx5NgbyZ,e6DyT4d41LdzbQz8ke4m,hDtXhfr7wqDq30YnR2rB,I1bUKiA9jXDR5Q2bU7XP,vhvBh49NDX41XnJ0Oi2P,cpuZNCo5vOCEyEOqkcIt,1Vic4of2jVoy5pMdK6VA | E3: {=_xlfn.TEXTJOIN(",",,_xlfn._xlws.FILTER('Mauvais Format'!$B$1:$AQ$1,_xlfn._xlws.FILTER('Mauvais Format'!$B$2:$AQ$6,'Mauvais Format'!$A$2:$A$6='Bon Format'!$A3,"")='Bon Format'!E$1,""))} | F3: {=_xlfn.TEXTJOIN(",",,_xlfn._xlws.FILTER('Mauvais Format'!$B$1:$AQ$1,_xlfn._xlws.FILTER('Mauvais Format'!$B$2:$AQ$6,'Mauvais Format'!$A$2:$A$6='Bon Format'!$A3,"")='Bon Format'!F$1,""))}
A4: vitamine B2 | B4: {=_xlfn.TEXTJOIN(",",,_xlfn._xlws.FILTER('Mauvais Format'!$B$1:$AQ$1,_xlfn._xlws.FILTER('Mauvais Format'!$B$2:$AQ$6,'Mauvais Format'!$A$2:$A$6='Bon Format'!$A4,"")='Bon Format'!B$1,""))} -> cmNwu56FJBGru53IwQt3,XHDxGKyFkz0qHQeeWrwO,WAEF0qlMTs5KXkdIxL4H,ZAEGqhYR9fU0bjNtr0lS,G81kvAz0BZYZZJRwOyr1 | C4: {=_xlfn.TEXTJOIN(",",,_xlfn._xlws.FILTER('Mauvais Format'!$B$1:$AQ$1,_xlfn._xlws.FILTER('Mauvais Format'!$B$2:$AQ$6,'Mauvais Format'!$A$2:$A$6='Bon Format'!$A4,"")='Bon Format'!C$1,""))} -> ZGQM7VbX51SAC9cyuz4o,9VgYlpDG2RdB5hq4rGJZ | D4: {=_xlfn.TEXTJOIN(",",,_xlfn._xlws.FILTER('Mauvais Format'!$B$1:$AQ$1,_xlfn._xlws.FILTER('Mauvais Format'!$B$2:$AQ$6,'Mauvais Format'!$A$2:$A$6='Bon Format'!$A4,"")='Bon Format'!D$1,""))} -> 6iFfeU1RGqCIlQiq1tfv,8ZnvUggiLGUWy12Bp51J,diYv0wnG5gnnbmMBkVeu,cY56ZXQmdc0xyubsQPGk,Wqt9KlYKe4PI5RAuIfml,Sf88nPDaVTTb9jeDoc9r,1GibuNDD8RmEo2ugyIOT,98Ws0nUUFs9aUbVeVtDb,1yyOLGKdHb8gxsDitdWZ,eyLlgUNssl0Tmm81c0H2,nuken4G3QQVoMA4xrm60,UdXZM0nrkah3Wb5LamHY,SykRs2fZHNM4DLnq7F1m,6f9GzxOgYtsHWe3fO0Si,n26sf7Z1TuOttb7zbBGC,UP7VefpoxiAbzdCc5mZD,XESYFICZkfmuYVtULpWM,OsX4uVHki83U3zh4alo7,v4qJF4tzgPSppqDiB5D0,IhBlDfnABCzS5hriTaaO,Ly6WgBoUHmYzj629o5qC,6i8LlLSVGO76YPbz4Gpc,jy0tC6Z1d1sfweEmIzQz,iEwojOBhAg6Xft1LUZU1,bfnVwI75muvlXCXfcMpR,ZwAOYbB9XkGkL78MoaC9,cL24IcHZPLgHFm3ZLFst,9kHo9XM9VfjN13cp8iua,wWOXKPPEjnwsOx5NgbyZ,e6DyT4d41LdzbQz8ke4m,hDtXhfr7wqDq30YnR2rB,I1bUKiA9jXDR5Q2bU7XP,vhvBh49NDX41XnJ0Oi2P,cpuZNCo5vOCEyEOqkcIt,1Vic4of2jVoy5pMdK6VA | E4: {=_xlfn.TEXTJOIN(",",,_xlfn._xlws.FILTER('Mauvais Format'!$B$1:$AQ$1,_xlfn._xlws.FILTER('Mauvais Format'!$B$2:$AQ$6,'Mauvais Format'!$A$2:$A$6='Bon Format'!$A4,"")='Bon Format'!E$1,""))} | F4: {=_xlfn.TEXTJOIN(",",,_xlfn._xlws.FILTER('Mauvais Format'!$B$1:$AQ$1,_xlfn._xlws.FILTER('Mauvais Format'!$B$2:$AQ$6,'Mauvais Format'!$A$2:$A$6='Bon Format'!$A4,"")='Bon Format'!F$1,""))}
A5: tartrazine E102 | B5: {=_xlfn.TEXTJOIN(",",,_xlfn._xlws.FILTER('Mauvais Format'!$B$1:$AQ$1,_xlfn._xlws.FILTER('Mauvais Format'!$B$2:$AQ$6,'Mauvais Format'!$A$2:$A$6='Bon Format'!$A5,"")='Bon Format'!B$1,""))} -> cmNwu56FJBGru53IwQt3,XHDxGKyFkz0qHQeeWrwO,WAEF0qlMTs5KXkdIxL4H,ZAEGqhYR9fU0bjNtr0lS,G81kvAz0BZYZZJRwOyr1 | C5: {=_xlfn.TEXTJOIN(",",,_xlfn._xlws.FILTER('Mauvais Format'!$B$1:$AQ$1,_xlfn._xlws.FILTER('Mauvais Format'!$B$2:$AQ$6,'Mauvais Format'!$A$2:$A$6='Bon Format'!$A5,"")='Bon Format'!C$1,""))} -> ZGQM7VbX51SAC9cyuz4o,9VgYlpDG2RdB5hq4rGJZ | D5: {=_xlfn.TEXTJOIN(",",,_xlfn._xlws.FILTER('Mauvais Format'!$B$1:$AQ$1,_xlfn._xlws.FILTER('Mauvais Format'!$B$2:$AQ$6,'Mauvais Format'!$A$2:$A$6='Bon Format'!$A5,"")='Bon Format'!D$1,""))} -> 6iFfeU1RGqCIlQiq1tfv,8ZnvUggiLGUWy12Bp51J,diYv0wnG5gnnbmMBkVeu,cY56ZXQmdc0xyubsQPGk,Wqt9KlYKe4PI5RAuIfml,Sf88nPDaVTTb9jeDoc9r,1GibuNDD8RmEo2ugyIOT,98Ws0nUUFs9aUbVeVtDb,1yyOLGKdHb8gxsDitdWZ,eyLlgUNssl0Tmm81c0H2,nuken4G3QQVoMA4xrm60,UdXZM0nrkah3Wb5LamHY,SykRs2fZHNM4DLnq7F1m,6f9GzxOgYtsHWe3fO0Si,n26sf7Z1TuOttb7zbBGC,UP7VefpoxiAbzdCc5mZD,XESYFICZkfmuYVtULpWM,OsX4uVHki83U3zh4alo7,v4qJF4tzgPSppqDiB5D0,IhBlDfnABCzS5hriTaaO,Ly6WgBoUHmYzj629o5qC,6i8LlLSVGO76YPbz4Gpc,jy0tC6Z1d1sfweEmIzQz,iEwojOBhAg6Xft1LUZU1,bfnVwI75muvlXCXfcMpR,ZwAOYbB9XkGkL78MoaC9,cL24IcHZPLgHFm3ZLFst,9kHo9XM9VfjN13cp8iua,wWOXKPPEjnwsOx5NgbyZ,e6DyT4d41LdzbQz8ke4m,hDtXhfr7wqDq30YnR2rB,I1bUKiA9jXDR5Q2bU7XP,vhvBh49NDX41XnJ0Oi2P,cpuZNCo5vOCEyEOqkcIt,1Vic4of2jVoy5pMdK6VA | E5: {=_xlfn.TEXTJOIN(",",,_xlfn._xlws.FILTER('Mauvais Format'!$B$1:$AQ$1,_xlfn._xlws.FILTER('Mauvais Format'!$B$2:$AQ$6,'Mauvais Format'!$A$2:$A$6='Bon Format'!$A5,"")='Bon Format'!E$1,""))} | F5: {=_xlfn.TEXTJOIN(",",,_xlfn._xlws.FILTER('Mauvais Format'!$B$1:$AQ$1,_xlfn._xlws.FILTER('Mauvais Format'!$B$2:$AQ$6,'Mauvais Format'!$A$2:$A$6='Bon Format'!$A5,"")='Bon Format'!F$1,""))}
A6: jaune de quinoléine E104 | B6: {=_xlfn.TEXTJOIN(",",,_xlfn._xlws.FILTER('Mauvais Format'!$B$1:$AQ$1,_xlfn._xlws.FILTER('Mauvais Format'!$B$2:$AQ$6,'Mauvais Format'!$A$2:$A$6='Bon Format'!$A6,"")='Bon Format'!B$1,""))} -> cmNwu56FJBGru53IwQt3,XHDxGKyFkz0qHQeeWrwO,WAEF0qlMTs5KXkdIxL4H,ZAEGqhYR9fU0bjNtr0lS,G81kvAz0BZYZZJRwOyr1 | C6: {=_xlfn.TEXTJOIN(",",,_xlfn._xlws.FILTER('Mauvais Format'!$B$1:$AQ$1,_xlfn._xlws.FILTER('Mauvais Format'!$B$2:$AQ$6,'Mauvais Format'!$A$2:$A$6='Bon Format'!$A6,"")='Bon Format'!C$1,""))} -> ZGQM7VbX51SAC9cyuz4o,9VgYlpDG2RdB5hq4rGJZ | D6: {=_xlfn.TEXTJOIN(",",,_xlfn._xlws.FILTER('Mauvais Format'!$B$1:$AQ$1,_xlfn._xlws.FILTER('Mauvais Format'!$B$2:$AQ$6,'Mauvais Format'!$A$2:$A$6='Bon Format'!$A6,"")='Bon Format'!D$1,""))} -> 6iFfeU1RGqCIlQiq1tfv,8ZnvUggiLGUWy12Bp51J,diYv0wnG5gnnbmMBkVeu,cY56ZXQmdc0xyubsQPGk,Wqt9KlYKe4PI5RAuIfml,Sf88nPDaVTTb9jeDoc9r,1GibuNDD8RmEo2ugyIOT,98Ws0nUUFs9aUbVeVtDb,1yyOLGKdHb8gxsDitdWZ,eyLlgUNssl0Tmm81c0H2,nuken4G3QQVoMA4xrm60,UdXZM0nrkah3Wb5LamHY,SykRs2fZHNM4DLnq7F1m,6f9GzxOgYtsHWe3fO0Si,n26sf7Z1TuOttb7zbBGC,UP7VefpoxiAbzdCc5mZD,XESYFICZkfmuYVtULpWM,OsX4uVHki83U3zh4alo7,v4qJF4tzgPSppqDiB5D0,IhBlDfnABCzS5hriTaaO,Ly6WgBoUHmYzj629o5qC,6i8LlLSVGO76YPbz4Gpc,jy0tC6Z1d1sfweEmIzQz,iEwojOBhAg6Xft1LUZU1,bfnVwI75muvlXCXfcMpR,ZwAOYbB9XkGkL78MoaC9,cL24IcHZPLgHFm3ZLFst,9kHo9XM9VfjN13cp8iua,wWOXKPPEjnwsOx5NgbyZ,e6DyT4d41LdzbQz8ke4m,hDtXhfr7wqDq30YnR2rB,I1bUKiA9jXDR5Q2bU7XP,vhvBh49NDX41XnJ0Oi2P,cpuZNCo5vOCEyEOqkcIt,1Vic4of2jVoy5pMdK6VA | E6: {=_xlfn.TEXTJOIN(",",,_xlfn._xlws.FILTER('Mauvais Format'!$B$1:$AQ$1,_xlfn._xlws.FILTER('Mauvais Format'!$B$2:$AQ$6,'Mauvais Format'!$A$2:$A$6='Bon Format'!$A6,"")='Bon Format'!E$1,""))} | F6: {=_xlfn.TEXTJOIN(",",,_xlfn._xlws.FILTER('Mauvais Format'!$B$1:$AQ$1,_xlfn._xlws.FILTER('Mauvais Format'!$B$2:$AQ$6,'Mauvais Format'!$A$2:$A$6='Bon Format'!$A6,"")='Bon Format'!F$1,""))}
