Workbook

Sheet panneau par toiture
A1: Nombre de toitures distinctes | B1: 0
A2: Puissance module | B2: 425
E5: Toiture 1
E6: Champ solaire | F6: orientation (°) | G6: nb module | H6: Puissance
E7: N°1 | F7: 15 | G7: 10 | H7: =IF(G7="","",G7*'panneau par toiture'!$B$2/1000) -> 4.25
E8: N°2 | F8: 10 | G8: 20 | H8: =IF(G8="","",G8*'panneau par toiture'!$B$2/1000) -> 8.5
E9: N°3 | F9: 5 | G9: 10 | H9: =IF(G9="","",G9*'panneau par toiture'!$B$2/1000) -> 4.25
E10: N°4 | F10: 15 | G10: 10 | H10: =IF(G10="","",G10*'panneau par toiture'!$B$2/1000) -> 4.25
E11: N°5 | H11: =IF(G11="","",G11*'panneau par toiture'!$B$2/1000)
E12: N°6 | H12: =IF(G12="","",G12*'panneau par toiture'!$B$2/1000)
E13: N°7 | H13: =IF(G13="","",G13*'panneau par toiture'!$B$2/1000)
E14: N°8 | H14: =IF(G14="","",G14*'panneau par toiture'!$B$2/1000)
E15: N°9 | H15: =IF(G15="","",G15*'panneau par toiture'!$B$2/1000)
E16: N°10 | H16: =IF(G16="","",G16*'panneau par toiture'!$B$2/1000)
E17: N°11 | H17: =IF(G17="","",G17*'panneau par toiture'!$B$2/1000)
E18: N°12 | H18: =IF(G18="","",G18*'panneau par toiture'!$B$2/1000)
E19: N°13 | H19: =IF(G19="","",G19*'panneau par toiture'!$B$2/1000)
E20: N°14 | H20: =IF(G20="","",G20*'panneau par toiture'!$B$2/1000)
E21: N°15 | H21: =IF(G21="","",G21*'panneau par toiture'!$B$2/1000)
E22: N°16 | H22: =IF(G22="","",G22*'panneau par toiture'!$B$2/1000)
... E26: N°20 | H26: =IF(G26="","",G26*'panneau par toiture'!$B$2/1000)
E27: Total | F27: - | G27: =SUM(G7:G26) -> 50 | H27: =SUM(H7:H26) -> 21.25
E33: Toiture 2
E34: Champ solaire | F34: orientation | G34: nb module | H34: Puissance
E35: N°1 | F35: 15 | G35: 50 | H35: =IF(G35="","",G35*'panneau par toiture'!$B$2/1000) -> 21.25
E36: N°2 | H36: =IF(G36="","",G36*'panneau par toiture'!$B$2/1000)
E37: N°3 | H37: =IF(G37="","",G37*'panneau par toiture'!$B$2/1000)
E38: N°4 | H38: =IF(G38="","",G38*'panneau par toiture'!$B$2/1000)
E39: N°5 | H39: =IF(G39="","",G39*'panneau par toiture'!$B$2/1000)
E40: N°6 | H40: =IF(G40="","",G40*'panneau par toiture'!$B$2/1000)
E41: N°7 | H41: =IF(G41="","",G41*'panneau par toiture'!$B$2/1000)
E42: N°8 | H42: =IF(G42="","",G42*'panneau par toiture'!$B$2/1000)
E43: N°9 | H43: =IF(G43="","",G43*'panneau par toiture'!$B$2/1000)
E44: N°10 | H44: =IF(G44="","",G44*'panneau par toiture'!$B$2/1000)
E45: N°11 | H45: =IF(G45="","",G45*'panneau par toiture'!$B$2/1000)
E46: N°12 | H46: =IF(G46="","",G46*'panneau par toiture'!$B$2/1000)
E47: N°13 | H47: =IF(G47="","",G47*'panneau par toiture'!$B$2/1000)
... E54: N°20 | H54: =IF(G54="","",G54*'panneau par toiture'!$B$2/1000)
E55: Total | F55: - | G55: =SUM(G35:G54) -> 50 | H55: =SUM(H35:H54) -> 21.25
E61: Toiture 3
...

Sheet résumé par toiture
A1: Toiture 1
A2: orientation | B2: nb module | C2: Puissance
A3: {=IFERROR(_xlfn.AGGREGATE(15,6,IF(ISNA(MATCH('panneau par toiture'!$F$7:$F$26,$A$2:A2,0))*('panneau par toiture'!$F$7:$F$26<>"")=1,'panneau par toiture'!$F$7:$F$26),1),"")} -> 5 | B3: =IF($A3<>0,VLOOKUP($A3,'panneau par toiture'!$F$7:$H$26,2,0),"") -> 10 | C3: =IF($A3<>0,VLOOKUP($A3,'panneau par toiture'!$F$7:$H$26,3,0),"") -> 4.25
A4: {=IFERROR(_xlfn.AGGREGATE(15,6,IF(ISNA(MATCH('panneau par toiture'!$F$7:$F$26,$A$2:A3,0))*('panneau par toiture'!$F$7:$F$26<>"")=1,'panneau par toiture'!$F$7:$F$26),1),"")} -> 10 | B4: =IF($A4<>0,VLOOKUP($A4,'panneau par toiture'!F8:H27,2,0),"") -> 20 | C4: =IF($A4<>0,VLOOKUP($A4,'panneau par toiture'!$F$7:$H$26,3,0),"") -> 8.5
A5: {=IFERROR(_xlfn.AGGREGATE(15,6,IF(ISNA(MATCH('panneau par toiture'!$F$7:$F$26,$A$2:A4,0))*('panneau par toiture'!$F$7:$F$26<>"")=1,'panneau par toiture'!$F$7:$F$26),1),"")} -> 15 | B5: =IF($A5<>0,VLOOKUP($A5,'panneau par toiture'!F9:H28,2,0),"") -> 10 | C5: =IF($A5<>0,VLOOKUP($A5,'panneau par toiture'!$F$7:$H$26,3,0),"") -> 4.25
A6: {=IFERROR(_xlfn.AGGREGATE(15,6,IF(ISNA(MATCH('panneau par toiture'!$F$7:$F$26,$A$2:A5,0))*('panneau par toiture'!$F$7:$F$26<>"")=1,'panneau par toiture'!$F$7:$F$26),1),"")} | B6: =IF($A6<>"",VLOOKUP($A6,'panneau par toiture'!F10:H29,2,0),"")
A7: {=IFERROR(_xlfn.AGGREGATE(15,6,IF(ISNA(MATCH('panneau par toiture'!$F$7:$F$26,$A$2:A6,0))*('panneau par toiture'!$F$7:$F$26<>"")=1,'panneau par toiture'!$F$7:$F$26),1),"")} | B7: =IF($A7<>"",VLOOKUP($A7,'panneau par toiture'!F11:H30,2,0),"") | C7: =IF(B7="","",B7*'panneau par toiture'!$B$2/1000)
A8: {=IFERROR(_xlfn.AGGREGATE(15,6,IF(ISNA(MATCH('panneau par toiture'!$F$7:$F$26,$A$2:A7,0))*('panneau par toiture'!$F$7:$F$26<>"")=1,'panneau par toiture'!$F$7:$F$26),1),"")} | B8: =IF($A8<>"",VLOOKUP($A8,'panneau par toiture'!F12:H31,2,0),"") | C8: =IF(B8="","",B8*'panneau par toiture'!$B$2/1000)
A9: {=IFERROR(_xlfn.AGGREGATE(15,6,IF(ISNA(MATCH('panneau par toiture'!$F$7:$F$26,$A$2:A8,0))*('panneau par toiture'!$F$7:$F$26<>"")=1,'panneau par toiture'!$F$7:$F$26),1),"")} | B9: =IF($A9<>"",VLOOKUP($A9,'panneau par toiture'!F13:H32,2,0),"") | C9: =IF(B9="","",B9*'panneau par toiture'!$B$2/1000)
A10: {=IFERROR(_xlfn.AGGREGATE(15,6,IF(ISNA(MATCH('panneau par toiture'!$F$7:$F$26,$A$2:A9,0))*('panneau par toiture'!$F$7:$F$26<>"")=1,'panneau par toiture'!$F$7:$F$26),1),"")} | B10: =IF($A10<>"",VLOOKUP($A10,'panneau par toiture'!F14:H33,2,0),"") | C10: =IF(B10="","",B10*'panneau par toiture'!$B$2/1000)
A11: {=IFERROR(_xlfn.AGGREGATE(15,6,IF(ISNA(MATCH('panneau par toiture'!$F$7:$F$26,$A$2:A10,0))*('panneau par toiture'!$F$7:$F$26<>"")=1,'panneau par toiture'!$F$7:$F$26),1),"")} | B11: =IF($A11<>"",VLOOKUP($A11,'panneau par toiture'!F15:H34,2,0),"") | C11: =IF(B11="","",B11*'panneau par toiture'!$B$2/1000)
A12: {=IFERROR(_xlfn.AGGREGATE(15,6,IF(ISNA(MATCH('panneau par toiture'!$F$7:$F$26,$A$2:A11,0))*('panneau par toiture'!$F$7:$F$26<>"")=1,'panneau par toiture'!$F$7:$F$26),1),"")} | B12: =IF($A12<>"",VLOOKUP($A12,'panneau par toiture'!F16:H35,2,0),"") | C12: =IF(B12="","",B12*'panneau par toiture'!$B$2/1000)
A13: {=IFERROR(_xlfn.AGGREGATE(15,6,IF(ISNA(MATCH('panneau par toiture'!$F$7:$F$26,$A$2:A12,0))*('panneau par toiture'!$F$7:$F$26<>"")=1,'panneau par toiture'!$F$7:$F$26),1),"")} | B13: =IF($A13<>"",VLOOKUP($A13,'panneau par toiture'!F17:H36,2,0),"") | C13: =IF(B13="","",B13*'panneau par toiture'!$B$2/1000)
A14: {=IFERROR(_xlfn.AGGREGATE(15,6,IF(ISNA(MATCH('panneau par toiture'!$F$7:$F$26,$A$2:A13,0))*('panneau par toiture'!$F$7:$F$26<>"")=1,'panneau par toiture'!$F$7:$F$26),1),"")} | B14: =IF($A14<>"",VLOOKUP($A14,'panneau par toiture'!F18:H37,2,0),"") | C14: =IF(B14="","",B14*'panneau par toiture'!$B$2/1000)
A15: {=IFERROR(_xlfn.AGGREGATE(15,6,IF(ISNA(MATCH('panneau par toiture'!$F$7:$F$26,$A$2:A14,0))*('panneau par toiture'!$F$7:$F$26<>"")=1,'panneau par toiture'!$F$7:$F$26),1),"")} | B15: =IF($A15<>"",VLOOKUP($A15,'panneau par toiture'!F19:H38,2,0),"") | C15: =IF(B15="","",B15*'panneau par toiture'!$B$2/1000)
A16: {=IFERROR(_xlfn.AGGREGATE(15,6,IF(ISNA(MATCH('panneau par toiture'!$F$7:$F$26,$A$2:A15,0))*('panneau par toiture'!$F$7:$F$26<>"")=1,'panneau par toiture'!$F$7:$F$26),1),"")} | B16: =IF($A16<>"",VLOOKUP($A16,'panneau par toiture'!F20:H39,2,0),"") | C16: =IF(B16="","",B16*'panneau par toiture'!$B$2/1000)
A17: {=IFERROR(_xlfn.AGGREGATE(15,6,IF(ISNA(MATCH('panneau par toiture'!$F$7:$F$26,$A$2:A16,0))*('panneau par toiture'!$F$7:$F$26<>"")=1,'panneau par toiture'!$F$7:$F$26),1),"")} | B17: =IF($A17<>"",VLOOKUP($A17,'panneau par toiture'!F21:H40,2,0),"") | C17: =IF(B17="","",B17*'panneau par toiture'!$B$2/1000)
A18: {=IFERROR(_xlfn.AGGREGATE(15,6,IF(ISNA(MATCH('panneau par toiture'!$F$7:$F$26,$A$2:A17,0))*('panneau par toiture'!$F$7:$F$26<>"")=1,'panneau par toiture'!$F$7:$F$26),1),"")} | B18: =IF($A18<>"",VLOOKUP($A18,'panneau par toiture'!F22:H41,2,0),"") | C18: =IF(B18="","",B18*'panneau par toiture'!$B$2/1000)
... A22: {=IFERROR(_xlfn.AGGREGATE(15,6,IF(ISNA(MATCH('panneau par toiture'!$F$7:$F$26,$A$2:A21,0))*('panneau par toiture'!$F$7:$F$26<>"")=1,'panneau par toiture'!$F$7:$F$26),1),"")} | B22: =IF($A22<>"",VLOOKUP($A22,'panneau par toiture'!F26:H45,2,0),"") | C22: =IF(B22="","",B22*'panneau par toiture'!$B$2/1000)
A23: Total | B23: =SUM(B3:B22) -> 40 | C23: =SUM(C3:C22) -> 17
A25: Toiture 2
A26: orientation | B26: nb module | C26: Puissance
A27: {=IFERROR(_xlfn.AGGREGATE(15,6,IF(ISNA(MATCH('panneau par toiture'!$F$35:$F$54,$A$26:A26,0))*('panneau par toiture'!$F$35:$F$54<>"")=1,'panneau par toiture'!$F$35:$F$54),1),"")} -> 15 | B27: =IF(A27="","",SUMIFS('panneau par toiture'!$G$35:$G$54,'panneau par toiture'!$F$35:$F$54,'résumé par toiture'!$A27)) -> 50 | C27: =IF(B27="","",B27*'panneau par toiture'!$B$2/1000) -> 21.25
A28: {=IFERROR(_xlfn.AGGREGATE(15,6,IF(ISNA(MATCH('panneau par toiture'!$F$35:$F$54,$A$26:A27,0))*('panneau par toiture'!$F$35:$F$54<>"")=1,'panneau par toiture'!$F$35:$F$54),1),"")} | B28: =IF(A28="","",SUMIFS('panneau par toiture'!$G$35:$G$54,'panneau par toiture'!$F$35:$F$54,'résumé par toiture'!$A28)) | C28: =IF(B28="","",B28*'panneau par toiture'!$B$2/1000)
A29: {=IFERROR(_xlfn.AGGREGATE(15,6,IF(ISNA(MATCH('panneau par toiture'!$F$35:$F$54,$A$26:A28,0))*('panneau par toiture'!$F$35:$F$54<>"")=1,'panneau par toiture'!$F$35:$F$54),1),"")} | B29: =IF(A29="","",SUMIFS('panneau par toiture'!$G$35:$G$54,'panneau par toiture'!$F$35:$F$54,'résumé par toiture'!$A29)) | C29: =IF(B29="","",B29*'panneau par toiture'!$B$2/1000)
A30: {=IFERROR(_xlfn.AGGREGATE(15,6,IF(ISNA(MATCH('panneau par toiture'!$F$35:$F$54,$A$26:A29,0))*('panneau par toiture'!$F$35:$F$54<>"")=1,'panneau par toiture'!$F$35:$F$54),1),"")} | B30: =IF(A30="","",SUMIFS('panneau par toiture'!$G$35:$G$54,'panneau par toiture'!$F$35:$F$54,'résumé par toiture'!$A30)) | C30: =IF(B30="","",B30*'panneau par toiture'!$B$2/1000)
A31: {=IFERROR(_xlfn.AGGREGATE(15,6,IF(ISNA(MATCH('panneau par toiture'!$F$35:$F$54,$A$26:A30,0))*('panneau par toiture'!$F$35:$F$54<>"")=1,'panneau par toiture'!$F$35:$F$54),1),"")} | B31: =IF(A31="","",SUMIFS('panneau par toiture'!$G$35:$G$54,'panneau par toiture'!$F$35:$F$54,'résumé par toiture'!$A31)) | C31: =IF(B31="","",B31*'panneau par toiture'!$B$2/1000)
A32: {=IFERROR(_xlfn.AGGREGATE(15,6,IF(ISNA(MATCH('panneau par toiture'!$F$35:$F$54,$A$26:A31,0))*('panneau par toiture'!$F$35:$F$54<>"")=1,'panneau par toiture'!$F$35:$F$54),1),"")} | B32: =IF(A32="","",SUMIFS('panneau par toiture'!$G$35:$G$54,'panneau par toiture'!$F$35:$F$54,'résumé par toiture'!$A32)) | C32: =IF(B32="","",B32*'panneau par toiture'!$B$2/1000)
A33: {=IFERROR(_xlfn.AGGREGATE(15,6,IF(ISNA(MATCH('panneau par toiture'!$F$35:$F$54,$A$26:A32,0))*('panneau par toiture'!$F$35:$F$54<>"")=1,'panneau par toiture'!$F$35:$F$54),1),"")} | B33: =IF(A33="","",SUMIFS('panneau par toiture'!$G$35:$G$54,'panneau par toiture'!$F$35:$F$54,'résumé par toiture'!$A33)) | C33: =IF(B33="","",B33*'panneau par toiture'!$B$2/1000)
A34: {=IFERROR(_xlfn.AGGREGATE(15,6,IF(ISNA(MATCH('panneau par toiture'!$F$35:$F$54,$A$26:A33,0))*('panneau par toiture'!$F$35:$F$54<>"")=1,'panneau par toiture'!$F$35:$F$54),1),"")} | B34: =IF(A34="","",SUMIFS('panneau par toiture'!$G$35:$G$54,'panneau par toiture'!$F$35:$F$54,'résumé par toiture'!$A34)) | C34: =IF(B34="","",B34*'panneau par toiture'!$B$2/1000)
A35: {=IFERROR(_xlfn.AGGREGATE(15,6,IF(ISNA(MATCH('panneau par toiture'!$F$35:$F$54,$A$26:A34,0))*('panneau par toiture'!$F$35:$F$54<>"")=1,'panneau par toiture'!$F$35:$F$54),1),"")} | B35: =IF(A35="","",SUMIFS('panneau par toiture'!$G$35:$G$54,'panneau par toiture'!$F$35:$F$54,'résumé par toiture'!$A35)) | C35: =IF(B35="","",B35*'panneau par toiture'!$B$2/1000)
A36: {=IFERROR(_xlfn.AGGREGATE(15,6,IF(ISNA(MATCH('panneau par toiture'!$F$35:$F$54,$A$26:A35,0))*('panneau par toiture'!$F$35:$F$54<>"")=1,'panneau par toiture'!$F$35:$F$54),1),"")} | B36: =IF(A36="","",SUMIFS('panneau par toiture'!$G$35:$G$54,'panneau par toiture'!$F$35:$F$54,'résumé par toiture'!$A36)) | C36: =IF(B36="","",B36*'panneau par toiture'!$B$2/1000)
A37: {=IFERROR(_xlfn.AGGREGATE(15,6,IF(ISNA(MATCH('panneau par toiture'!$F$35:$F$54,$A$26:A36,0))*('panneau par toiture'!$F$35:$F$54<>"")=1,'panneau par toiture'!$F$35:$F$54),1),"")} | B37: =IF(A37="","",SUMIFS('panneau par toiture'!$G$35:$G$54,'panneau par toiture'!$F$35:$F$54,'résumé par toiture'!$A37)) | C37: =IF(B37="","",B37*'panneau par toiture'!$B$2/1000)
A38: {=IFERROR(_xlfn.AGGREGATE(15,6,IF(ISNA(MATCH('panneau par toiture'!$F$35:$F$54,$A$26:A37,0))*('panneau par toiture'!$F$35:$F$54<>"")=1,'panneau par toiture'!$F$35:$F$54),1),"")} | B38: =IF(A38="","",SUMIFS('panneau par toiture'!$G$35:$G$54,'panneau par toiture'!$F$35:$F$54,'résumé par toiture'!$A38)) | C38: =IF(B38="","",B38*'panneau par toiture'!$B$2/1000)
... A46: {=IFERROR(_xlfn.AGGREGATE(15,6,IF(ISNA(MATCH('panneau par toiture'!$F$35:$F$54,$A$26:A45,0))*('panneau par toiture'!$F$35:$F$54<>"")=1,'panneau par toiture'!$F$35:$F$54),1),"")} | B46: =IF(A46="","",SUMIFS('panneau par toiture'!$G$35:$G$54,'panneau par toiture'!$F$35:$F$54,'résumé par toiture'!$A46)) | C46: =IF(B46="","",B46*'panneau par toiture'!$B$2/1000)
A47: Total | B47: =SUM(B27:B46) -> 50 | C47: =SUM(C27:C46) -> 21.25
A49: Toiture 3
A50: orientation | B50: nb module | C50: Puissance
A51: {=IFERROR(_xlfn.AGGREGATE(15,6,IF(ISNA(MATCH('panneau par toiture'!$F$63:$F$82,$A$50:A50,0))*('panneau par toiture'!$F$63:$F$82<>"")=1,'panneau par toiture'!$F$63:$F$82),1),"")} -> 10 | B51: =IF(A51="","",SUMIFS('panneau par toiture'!$G$63:$G$82,'panneau par toiture'!$F$63:$F$82,'résumé par toiture'!$A51)) -> 32 | C51: =IF(B51="","",B51*'panneau par toiture'!$B$2/1000) -> 13.6
A52: {=IFERROR(_xlfn.AGGREGATE(15,6,IF(ISNA(MATCH('panneau par toiture'!$F$63:$F$82,$A$50:A51,0))*('panneau par toiture'!$F$63:$F$82<>"")=1,'panneau par toiture'!$F$63:$F$82),1),"")} -> 50 | B52: =IF(A52="","",SUMIFS('panneau par toiture'!$G$63:$G$82,'panneau par toiture'!$F$63:$F$82,'résumé par toiture'!$A52)) -> 12 | C52: =IF(B52="","",B52*'panneau par toiture'!$B$2/1000) -> 5.1
...

Sheet résumé projet
B1: Total par orientation | G1: Total par toiture
B2: orientation | C2: nb module | D2: Puissance | G2: toiture | H2: nb module | I2: Puissance
B3: {=IFERROR(_xlfn.AGGREGATE(15,6,IF(ISNA(MATCH('panneau par toiture'!$F$7:$F$1000,'résumé projet'!$B$2:B2,0))*ISNUMBER('panneau par toiture'!$F$7:$F$1000)*('panneau par toiture'!$F$7:$F$1000<>"")=1,'panneau par toiture'!$F$7:$F$1000),1),"")} -> 5 | C3: =IF(B3="","",SUMIFS('résumé par toiture'!$B:$B,'résumé par toiture'!$A:$A,'résumé projet'!$B3)) -> 10 | D3: =IF(C3="","",C3*'panneau par toiture'!$B$2/1000) -> 4.25 | G3: {=IFERROR(INDEX('panneau par toiture'!E:E,_xlfn.AGGREGATE(15,6,IF(ISNA(MATCH('panneau par toiture'!$E$5:$E$1000,$G$2:G2,0))*IF(LEFT('panneau par toiture'!$E$5:$E$1000,7)="toiture",1,0)=1,ROW($E$5:$E$1000)),1)),"")} -> Toiture 1 | H3: ='résumé par toiture'!B23 -> 40 | I3: =IF(H3="","",H3*'panneau par toiture'!$B$2/1000) -> 17
B4: {=IFERROR(_xlfn.AGGREGATE(15,6,IF(ISNA(MATCH('panneau par toiture'!$F$7:$F$1000,'résumé projet'!$B$2:B3,0))*ISNUMBER('panneau par toiture'!$F$7:$F$1000)*('panneau par toiture'!$F$7:$F$1000<>"")=1,'panneau par toiture'!$F$7:$F$1000),1),"")} -> 10 | C4: =IF(B4="","",SUMIFS('résumé par toiture'!$B:$B,'résumé par toiture'!$A:$A,'résumé projet'!$B4)) -> 152 | D4: =IF(C4="","",C4*'panneau par toiture'!$B$2/1000) -> 64.6 | G4: {=IFERROR(INDEX('panneau par toiture'!E:E,_xlfn.AGGREGATE(15,6,IF(ISNA(MATCH('panneau par toiture'!$E$5:$E$1000,$G$2:G3,0))*IF(LEFT('panneau par toiture'!$E$5:$E$1000,7)="toiture",1,0)=1,ROW($E$5:$E$1000)),1)),"")} -> Toiture 2 | H4: ='résumé par toiture'!B47 -> 50 | I4: =IF(H4="","",H4*'panneau par toiture'!$B$2/1000) -> 21.25
B5: {=IFERROR(_xlfn.AGGREGATE(15,6,IF(ISNA(MATCH('panneau par toiture'!$F$7:$F$1000,'résumé projet'!$B$2:B4,0))*ISNUMBER('panneau par toiture'!$F$7:$F$1000)*('panneau par toiture'!$F$7:$F$1000<>"")=1,'panneau par toiture'!$F$7:$F$1000),1),"")} -> 15 | C5: =IF(B5="","",SUMIFS('résumé par toiture'!$B:$B,'résumé par toiture'!$A:$A,'résumé projet'!$B5)) -> 60 | D5: =IF(C5="","",C5*'panneau par toiture'!$B$2/1000) -> 25.5 | G5: {=IFERROR(INDEX('panneau par toiture'!E:E,_xlfn.AGGREGATE(15,6,IF(ISNA(MATCH('panneau par toiture'!$E$5:$E$1000,$G$2:G4,0))*IF(LEFT('panneau par toiture'!$E$5:$E$1000,7)="toiture",1,0)=1,ROW($E$5:$E$1000)),1)),"")} -> Toiture 3 | H5: ='résumé par toiture'!B71 -> 44 | I5: =IF(H5="","",H5*'panneau par toiture'!$B$2/1000) -> 18.7
B6: {=IFERROR(_xlfn.AGGREGATE(15,6,IF(ISNA(MATCH('panneau par toiture'!$F$7:$F$1000,'résumé projet'!$B$2:B5,0))*ISNUMBER('panneau par toiture'!$F$7:$F$1000)*('panneau par toiture'!$F$7:$F$1000<>"")=1,'panneau par toiture'!$F$7:$F$1000),1),"")} -> 20 | C6: =IF(B6="","",SUMIFS('résumé par toiture'!$B:$B,'résumé par toiture'!$A:$A,'résumé projet'!$B6)) -> 0 | D6: =IF(C6="","",C6*'panneau par toiture'!$B$2/1000) -> 0 | G6: {=IFERROR(INDEX('panneau par toiture'!E:E,_xlfn.AGGREGATE(15,6,IF(ISNA(MATCH('panneau par toiture'!$E$5:$E$1000,$G$2:G5,0))*IF(LEFT('panneau par toiture'!$E$5:$E$1000,7)="toiture",1,0)=1,ROW($E$5:$E$1000)),1)),"")} -> Toiture 4 | H6: ='résumé par toiture'!B95 -> 0 | I6: =IF(H6="","",H6*'panneau par toiture'!$B$2/1000) -> 0
B7: {=IFERROR(_xlfn.AGGREGATE(15,6,IF(ISNA(MATCH('panneau par toiture'!$F$7:$F$1000,'résumé projet'!$B$2:B6,0))*ISNUMBER('panneau par toiture'!$F$7:$F$1000)*('panneau par toiture'!$F$7:$F$1000<>"")=1,'panneau par toiture'!$F$7:$F$1000),1),"")} -> 50 | C7: =IF(B7="","",SUMIFS('résumé par toiture'!$B:$B,'résumé par toiture'!$A:$A,'résumé projet'!$B7)) -> 12 | D7: =IF(C7="","",C7*'panneau par toiture'!$B$2/1000) -> 5.1 | G7: {=IFERROR(INDEX('panneau par toiture'!E:E,_xlfn.AGGREGATE(15,6,IF(ISNA(MATCH('panneau par toiture'!$E$5:$E$1000,$G$2:G6,0))*IF(LEFT('panneau par toiture'!$E$5:$E$1000,7)="toiture",1,0)=1,ROW($E$5:$E$1000)),1)),"")} -> Toiture 5 | H7: ='résumé par toiture'!B119 -> 0 | I7: =IF(H7="","",H7*'panneau par toiture'!$B$2/1000) -> 0
B8: {=IFERROR(_xlfn.AGGREGATE(15,6,IF(ISNA(MATCH('panneau par toiture'!$F$7:$F$1000,'résumé projet'!$B$2:B7,0))*ISNUMBER('panneau par toiture'!$F$7:$F$1000)*('panneau par toiture'!$F$7:$F$1000<>"")=1,'panneau par toiture'!$F$7:$F$1000),1),"")} | C8: =IF(B8="","",SUMIFS('résumé par toiture'!$B:$B,'résumé par toiture'!$A:$A,'résumé projet'!$B8)) | D8: =IF(C8="","",C8*'panneau par toiture'!$B$2/1000) | G8: {=IFERROR(INDEX('panneau par toiture'!E:E,_xlfn.AGGREGATE(15,6,IF(ISNA(MATCH('panneau par toiture'!$E$5:$E$1000,$G$2:G7,0))*IF(LEFT('panneau par toiture'!$E$5:$E$1000,7)="toiture",1,0)=1,ROW($E$5:$E$1000)),1)),"")} -> Toiture 6 | H8: ='résumé par toiture'!B143 -> 0 | I8: =IF(H8="","",H8*'panneau par toiture'!$B$2/1000) -> 0
B9: {=IFERROR(_xlfn.AGGREGATE(15,6,IF(ISNA(MATCH('panneau par toiture'!$F$7:$F$1000,'résumé projet'!$B$2:B8,0))*ISNUMBER('panneau par toiture'!$F$7:$F$1000)*('panneau par toiture'!$F$7:$F$1000<>"")=1,'panneau par toiture'!$F$7:$F$1000),1),"")} | C9: =IF(B9="","",SUMIFS('résumé par toiture'!$B:$B,'résumé par toiture'!$A:$A,'résumé projet'!$B9)) | D9: =IF(C9="","",C9*'panneau par toiture'!$B$2/1000) | G9: {=IFERROR(INDEX('panneau par toiture'!E:E,_xlfn.AGGREGATE(15,6,IF(ISNA(MATCH('panneau par toiture'!$E$5:$E$1000,$G$2:G8,0))*IF(LEFT('panneau par toiture'!$E$5:$E$1000,7)="toiture",1,0)=1,ROW($E$5:$E$1000)),1)),"")} -> Toiture 7 | H9: ='résumé par toiture'!B167 -> 0 | I9: =IF(H9="","",H9*'panneau par toiture'!$B$2/1000) -> 0
B10: {=IFERROR(_xlfn.AGGREGATE(15,6,IF(ISNA(MATCH('panneau par toiture'!$F$7:$F$1000,'résumé projet'!$B$2:B9,0))*ISNUMBER('panneau par toiture'!$F$7:$F$1000)*('panneau par toiture'!$F$7:$F$1000<>"")=1,'panneau par toiture'!$F$7:$F$1000),1),"")} | C10: =IF(B10="","",SUMIFS('résumé par toiture'!$B:$B,'résumé par toiture'!$A:$A,'résumé projet'!$B10)) | D10: =IF(C10="","",C10*'panneau par toiture'!$B$2/1000) | G10: {=IFERROR(INDEX('panneau par toiture'!E:E,_xlfn.AGGREGATE(15,6,IF(ISNA(MATCH('panneau par toiture'!$E$5:$E$1000,$G$2:G9,0))*IF(LEFT('panneau par toiture'!$E$5:$E$1000,7)="toiture",1,0)=1,ROW($E$5:$E$1000)),1)),"")} -> Toiture 8 | H10: ='résumé par toiture'!B191 -> 0 | I10: =IF(H10="","",H10*'panneau par toiture'!$B$2/1000) -> 0
B11: {=IFERROR(_xlfn.AGGREGATE(15,6,IF(ISNA(MATCH('panneau par toiture'!$F$7:$F$1000,'résumé projet'!$B$2:B10,0))*ISNUMBER('panneau par toiture'!$F$7:$F$1000)*('panneau par toiture'!$F$7:$F$1000<>"")=1,'panneau par toiture'!$F$7:$F$1000),1),"")} | C11: =IF(B11="","",SUMIFS('résumé par toiture'!$B:$B,'résumé par toiture'!$A:$A,'résumé projet'!$B11)) | D11: =IF(C11="","",C11*'panneau par toiture'!$B$2/1000) | G11: {=IFERROR(INDEX('panneau par toiture'!E:E,_xlfn.AGGREGATE(15,6,IF(ISNA(MATCH('panneau par toiture'!$E$5:$E$1000,$G$2:G10,0))*IF(LEFT('panneau par toiture'!$E$5:$E$1000,7)="toiture",1,0)=1,ROW($E$5:$E$1000)),1)),"")} -> Toiture 9 | H11: ='résumé par toiture'!B215 -> 0 | I11: =IF(H11="","",H11*'panneau par toiture'!$B$2/1000) -> 0
B12: {=IFERROR(_xlfn.AGGREGATE(15,6,IF(ISNA(MATCH('panneau par toiture'!$F$7:$F$1000,'résumé projet'!$B$2:B11,0))*ISNUMBER('panneau par toiture'!$F$7:$F$1000)*('panneau par toiture'!$F$7:$F$1000<>"")=1,'panneau par toiture'!$F$7:$F$1000),1),"")} | C12: =IF(B12="","",SUMIFS('résumé par toiture'!$B:$B,'résumé par toiture'!$A:$A,'résumé projet'!$B12)) | D12: =IF(C12="","",C12*'panneau par toiture'!$B$2/1000) | G12: {=IFERROR(INDEX('panneau par toiture'!E:E,_xlfn.AGGREGATE(15,6,IF(ISNA(MATCH('panneau par toiture'!$E$5:$E$1000,$G$2:G11,0))*IF(LEFT('panneau par toiture'!$E$5:$E$1000,7)="toiture",1,0)=1,ROW($E$5:$E$1000)),1)),"")} -> Toiture 10 | H12: ='résumé par toiture'!B239 -> 100 | I12: =IF(H12="","",H12*'panneau par toiture'!$B$2/1000) -> 42.5
B13: {=IFERROR(_xlfn.AGGREGATE(15,6,IF(ISNA(MATCH('panneau par toiture'!$F$7:$F$1000,'résumé projet'!$B$2:B12,0))*ISNUMBER('panneau par toiture'!$F$7:$F$1000)*('panneau par toiture'!$F$7:$F$1000<>"")=1,'panneau par toiture'!$F$7:$F$1000),1),"")} | C13: =IF(B13="","",SUMIFS('résumé par toiture'!$B:$B,'résumé par toiture'!$A:$A,'résumé projet'!$B13)) | D13: =IF(C13="","",C13*'panneau par toiture'!$B$2/1000) | G13: {=IFERROR(INDEX('panneau par toiture'!E:E,_xlfn.AGGREGATE(15,6,IF(ISNA(MATCH('panneau par toiture'!$E$5:$E$1000,$G$2:G12,0))*IF(LEFT('panneau par toiture'!$E$5:$E$1000,7)="toiture",1,0)=1,ROW($E$5:$E$1000)),1)),"")}
B14: {=IFERROR(_xlfn.AGGREGATE(15,6,IF(ISNA(MATCH('panneau par toiture'!$F$7:$F$1000,'résumé projet'!$B$2:B13,0))*ISNUMBER('panneau par toiture'!$F$7:$F$1000)*('panneau par toiture'!$F$7:$F$1000<>"")=1,'panneau par toiture'!$F$7:$F$1000),1),"")} | C14: =IF(B14="","",SUMIFS('résumé par toiture'!$B:$B,'résumé par toiture'!$A:$A,'résumé projet'!$B14)) | D14: =IF(C14="","",C14*'panneau par toiture'!$B$2/1000) | G14: {=IFERROR(INDEX('panneau par toiture'!E:E,_xlfn.AGGREGATE(15,6,IF(ISNA(MATCH('panneau par toiture'!$E$5:$E$1000,$G$2:G13,0))*IF(LEFT('panneau par toiture'!$E$5:$E$1000,7)="toiture",1,0)=1,ROW($E$5:$E$1000)),1)),"")}
B15: {=IFERROR(_xlfn.AGGREGATE(15,6,IF(ISNA(MATCH('panneau par toiture'!$F$7:$F$1000,'résumé projet'!$B$2:B14,0))*ISNUMBER('panneau par toiture'!$F$7:$F$1000)*('panneau par toiture'!$F$7:$F$1000<>"")=1,'panneau par toiture'!$F$7:$F$1000),1),"")} | C15: =IF(B15="","",SUMIFS('résumé par toiture'!$B:$B,'résumé par toiture'!$A:$A,'résumé projet'!$B15)) | D15: =IF(C15="","",C15*'panneau par toiture'!$B$2/1000) | G15: {=IFERROR(INDEX('panneau par toiture'!E:E,_xlfn.AGGREGATE(15,6,IF(ISNA(MATCH('panneau par toiture'!$E$5:$E$1000,$G$2:G14,0))*IF(LEFT('panneau par toiture'!$E$5:$E$1000,7)="toiture",1,0)=1,ROW($E$5:$E$1000)),1)),"")}
B16: {=IFERROR(_xlfn.AGGREGATE(15,6,IF(ISNA(MATCH('panneau par toiture'!$F$7:$F$1000,'résumé projet'!$B$2:B15,0))*ISNUMBER('panneau par toiture'!$F$7:$F$1000)*('panneau par toiture'!$F$7:$F$1000<>"")=1,'panneau par toiture'!$F$7:$F$1000),1),"")} | C16: =IF(B16="","",SUMIFS('résumé par toiture'!$B:$B,'résumé par toiture'!$A:$A,'résumé projet'!$B16)) | D16: =IF(C16="","",C16*'panneau par toiture'!$B$2/1000) | G16: {=IFERROR(INDEX('panneau par toiture'!E:E,_xlfn.AGGREGATE(15,6,IF(ISNA(MATCH('panneau par toiture'!$E$5:$E$1000,$G$2:G15,0))*IF(LEFT('panneau par toiture'!$E$5:$E$1000,7)="toiture",1,0)=1,ROW($E$5:$E$1000)),1)),"")}
B17: {=IFERROR(_xlfn.AGGREGATE(15,6,IF(ISNA(MATCH('panneau par toiture'!$F$7:$F$1000,'résumé projet'!$B$2:B16,0))*ISNUMBER('panneau par toiture'!$F$7:$F$1000)*('panneau par toiture'!$F$7:$F$1000<>"")=1,'panneau par toiture'!$F$7:$F$1000),1),"")} | C17: =IF(B17="","",SUMIFS('résumé par toiture'!$B:$B,'résumé par toiture'!$A:$A,'résumé projet'!$B17)) | D17: =IF(C17="","",C17*'panneau par toiture'!$B$2/1000) | G17: {=IFERROR(INDEX('panneau par toiture'!E:E,_xlfn.AGGREGATE(15,6,IF(ISNA(MATCH('panneau par toiture'!$E$5:$E$1000,$G$2:G16,0))*IF(LEFT('panneau par toiture'!$E$5:$E$1000,7)="toiture",1,0)=1,ROW($E$5:$E$1000)),1)),"")}
B18: {=IFERROR(_xlfn.AGGREGATE(15,6,IF(ISNA(MATCH('panneau par toiture'!$F$7:$F$1000,'résumé projet'!$B$2:B17,0))*ISNUMBER('panneau par toiture'!$F$7:$F$1000)*('panneau par toiture'!$F$7:$F$1000<>"")=1,'panneau par toiture'!$F$7:$F$1000),1),"")} | C18: =IF(B18="","",SUMIFS('résumé par toiture'!$B:$B,'résumé par toiture'!$A:$A,'résumé projet'!$B18)) | D18: =IF(C18="","",C18*'panneau par toiture'!$B$2/1000) | G18: {=IFERROR(INDEX('panneau par toiture'!E:E,_xlfn.AGGREGATE(15,6,IF(ISNA(MATCH('panneau par toiture'!$E$5:$E$1000,$G$2:G17,0))*IF(LEFT('panneau par toiture'!$E$5:$E$1000,7)="toiture",1,0)=1,ROW($E$5:$E$1000)),1)),"")}
B19: {=IFERROR(_xlfn.AGGREGATE(15,6,IF(ISNA(MATCH('panneau par toiture'!$F$7:$F$1000,'résumé projet'!$B$2:B18,0))*ISNUMBER('panneau par toiture'!$F$7:$F$1000)*('panneau par toiture'!$F$7:$F$1000<>"")=1,'panneau par toiture'!$F$7:$F$1000),1),"")} | C19: =IF(B19="","",SUMIFS('résumé par toiture'!$B:$B,'résumé par toiture'!$A:$A,'résumé projet'!$B19)) | D19: =IF(C19="","",C19*'panneau par toiture'!$B$2/1000) | G19: {=IFERROR(INDEX('panneau par toiture'!E:E,_xlfn.AGGREGATE(15,6,IF(ISNA(MATCH('panneau par toiture'!$E$5:$E$1000,$G$2:G18,0))*IF(LEFT('panneau par toiture'!$E$5:$E$1000,7)="toiture",1,0)=1,ROW($E$5:$E$1000)),1)),"")}
B20: {=IFERROR(_xlfn.AGGREGATE(15,6,IF(ISNA(MATCH('panneau par toiture'!$F$7:$F$1000,'résumé projet'!$B$2:B19,0))*ISNUMBER('panneau par toiture'!$F$7:$F$1000)*('panneau par toiture'!$F$7:$F$1000<>"")=1,'panneau par toiture'!$F$7:$F$1000),1),"")} | C20: =IF(B20="","",SUMIFS('résumé par toiture'!$B:$B,'résumé par toiture'!$A:$A,'résumé projet'!$B20)) | D20: =IF(C20="","",C20*'panneau par toiture'!$B$2/1000) | G20: {=IFERROR(INDEX('panneau par toiture'!E:E,_xlfn.AGGREGATE(15,6,IF(ISNA(MATCH('panneau par toiture'!$E$5:$E$1000,$G$2:G19,0))*IF(LEFT('panneau par toiture'!$E$5:$E$1000,7)="toiture",1,0)=1,ROW($E$5:$E$1000)),1)),"")}
B21: {=IFERROR(_xlfn.AGGREGATE(15,6,IF(ISNA(MATCH('panneau par toiture'!$F$7:$F$1000,'résumé projet'!$B$2:B20,0))*ISNUMBER('panneau par toiture'!$F$7:$F$1000)*('panneau par toiture'!$F$7:$F$1000<>"")=1,'panneau par toiture'!$F$7:$F$1000),1),"")} | C21: =IF(B21="","",SUMIFS('résumé par toiture'!$B:$B,'résumé par toiture'!$A:$A,'résumé projet'!$B21)) | D21: =IF(C21="","",C21*'panneau par toiture'!$B$2/1000) | G21: {=IFERROR(INDEX('panneau par toiture'!E:E,_xlfn.AGGREGATE(15,6,IF(ISNA(MATCH('panneau par toiture'!$E$5:$E$1000,$G$2:G20,0))*IF(LEFT('panneau par toiture'!$E$5:$E$1000,7)="toiture",1,0)=1,ROW($E$5:$E$1000)),1)),"")}
B22: {=IFERROR(_xlfn.AGGREGATE(15,6,IF(ISNA(MATCH('panneau par toiture'!$F$7:$F$1000,'résumé projet'!$B$2:B21,0))*ISNUMBER('panneau par toiture'!$F$7:$F$1000)*('panneau par toiture'!$F$7:$F$1000<>"")=1,'panneau par toiture'!$F$7:$F$1000),1),"")} | C22: =IF(B22="","",SUMIFS('résumé par toiture'!$B:$B,'résumé par toiture'!$A:$A,'résumé projet'!$B22)) | D22: =IF(C22="","",C22*'panneau par toiture'!$B$2/1000) | G22: {=IFERROR(INDEX('panneau par toiture'!E:E,_xlfn.AGGREGATE(15,6,IF(ISNA(MATCH('panneau par toiture'!$E$5:$E$1000,$G$2:G21,0))*IF(LEFT('panneau par toiture'!$E$5:$E$1000,7)="toiture",1,0)=1,ROW($E$5:$E$1000)),1)),"")}
B23: Total | C23: =SUM(C3:C22) -> 234 | D23: =SUM(D3:D22) -> 99.45 | G23: Total | H23: =SUM(H3:H22) -> 234 | I23: =SUM(I3:I22) -> 99.45
