Workbook

Sheet EQUIPES
A1: EQUIPES SAISON 2023-2024
A2: STADE BRESTOIS
A3: CLERMONT FOOT 63
A4: LE HAVRE
A5: RC LENS
A6: LOSC LILLE
A7: FC LORIENT
A8: FC METZ
A9: AS MONACO
A10: MONTPELLIER HERAULT SC
A11: FC NANTES
A12: OGC NICE
... A19: TOULOUSE FC

Sheet RESULTATS
B1: MATCHS ALLER | J1: MATCHS RETOUR
A3: J-1 | B3: PARIS SG | D3: 0 | E3: 0 | G3: FC LORIENT | I3: J-18 | P3: EQUIPES | Q3: POINTS | R3: JOUES | S3: G | T3: N | U3: P | V3: BP | W3: BC | X3: DIFF
B4: RC STRASBOURG | D4: 2 | E4: 1 | G4: OLYMPIQUE LYONNAIS | O4: 1 | P4: {=_xlfn.SORTBY(Tableau!B2:J19,Tableau!C2:C19,-1)} -> OLYMPIQUE DE MARSEILLE | Q4: 6 | R4: 2 | S4: 2 | T4: 0 | U4: 0 | V4: 17 | W4: 1 | X4: 16
B5: STADE RENNAIS FC | D5: 5 | E5: 1 | G5: FC METZ | O5: 2 | P5: STADE BRESTOIS | Q5: 3 | R5: 2 | S5: 1 | T5: 0 | U5: 1 | V5: 3 | W5: 3 | X5: 0
B6: OLYMPIQUE DE MARSEILLE | D6: 2 | E6: 1 | G6: STADE DE REIMS | O6: 3 | P6: STADE RENNAIS FC | Q6: 3 | R6: 1 | S6: 1 | T6: 0 | U6: 0 | V6: 5 | W6: 1 | X6: 4
B7: OGC NICE | D7: 1 | E7: 1 | G7: LOSC LILLE | O7: 4 | P7: RC STRASBOURG | Q7: 3 | R7: 1 | S7: 1 | T7: 0 | U7: 0 | V7: 2 | W7: 1 | X7: 1
B8: CLERMONT FOOT | D8: 2 | E8: 4 | G8: AS MONACO | J8: STADE BRESTOIS | K8: 0 | L8: 1 | O8: 5 | P8: LE HAVRE | Q8: 1 | R8: 0 | S8: 0 | T8: 1 | U8: 0 | V8: 0 | W8: 0 | X8: 0
B9: FC NANTES | D9: 1 | E9: 2 | G9: TOULOUSE FC | O9: 6 | P9: RC LENS | Q9: 1 | R9: 0 | S9: 0 | T9: 1 | U9: 0 | V9: 0 | W9: 0 | X9: 0
B10: MONTPELLIER HERAULT SC | D10: 2 | E10: 2 | G10: LE HAVRE | O10: 7 | P10: LOSC LILLE | Q10: 1 | R10: 0 | S10: 0 | T10: 1 | U10: 0 | V10: 0 | W10: 0 | X10: 0
B11: STADE BRESTOIS | D11: 3 | E11: 2 | G11: RC LENS | O11: 8 | P11: FC LORIENT | Q11: 1 | R11: 0 | S11: 0 | T11: 1 | U11: 0 | V11: 0 | W11: 0 | X11: 0
O12: 9 | P12: FC METZ | Q12: 1 | R12: 0 | S12: 0 | T12: 1 | U12: 0 | V12: 0 | W12: 0 | X12: 0
A13: J-2 | B13: TOULOUSE FC | G13: PARIS SG | I13: J-19 | O13: 10 | P13: AS MONACO | Q13: 1 | R13: 0 | S13: 0 | T13: 1 | U13: 0 | V13: 0 | W13: 0 | X13: 0
B14: FC LORIENT | G14: OGC NICE | O14: 11 | P14: MONTPELLIER HERAULT SC | Q14: 1 | R14: 1 | S14: 0 | T14: 1 | U14: 0 | V14: 2 | W14: 2 | X14: 0
B15: AS MONACO | G15: RC STRASBOURG | O15: 12 | P15: OGC NICE | Q15: 1 | R15: 1 | S15: 0 | T15: 1 | U15: 0 | V15: 1 | W15: 1 | X15: 0
B16: LOSC LILLE | G16: FC NANTES | O16: 13 | P16: OLYMPIQUE LYONNAIS | Q16: 1 | R16: 0 | S16: 0 | T16: 1 | U16: 0 | V16: 0 | W16: 0 | X16: 0
B17: OLYMPIQUE LYONNAIS | G17: MONTPELLIER HERAULT SC | O17: 14 | P17: PARIS SG | Q17: 1 | R17: 1 | S17: 0 | T17: 1 | U17: 0 | V17: 0 | W17: 0 | X17: 0
B18: STADE DE REIMS | G18: CLERMONT FOOT 63 | O18: 15 | P18: STADE DE REIMS | Q18: 1 | R18: 0 | S18: 0 | T18: 1 | U18: 0 | V18: 0 | W18: 0 | X18: 0
B19: RC LENS | G19: STADE RENNAIS FC | O19: 16 | P19: TOULOUSE FC | Q19: 1 | R19: 0 | S19: 0 | T19: 1 | U19: 0 | V19: 0 | W19: 0 | X19: 0
B20: LE HAVRE | G20: STADE BRESTOIS | O20: 17 | P20: CLERMONT FOOT 63 | Q20: 0 | R20: 0 | S20: 0 | T20: 0 | U20: 0 | V20: 0 | W20: 0 | X20: 0
B21: FC METZ | G21: OLYMPIQUE DE MARSEILLE | O21: 18 | P21: FC NANTES | Q21: 0 | R21: 1 | S21: 0 | T21: 0 | U21: 1 | V21: 1 | W21: 2 | X21: -1
A23: J-3 | I23: J-20
B24: OLYMPIQUE DE MARSEILLE | D24: 15 | E24: 0
A33: J-4 | I33: J-21
A43: J-5 | I43: J-22
A53: J-6 | I53: J-23
A63: J-7 | I63: J-24
A73: J-8 | I73: J-25
A83: J-9 | I83: J-26
A93: J-10 | I93: J-27
A103: J-11 | I103: J-28
A113: J-12 | I113: J-29
A123: J-13 | I123: J-30
A133: J-14 | I133: J-31
A143: J-15 | I143: J-32
... A163: J-17 | I163: J-34

Sheet REGLES LIGUE 1
A1: Règlement Ligue 1
A5: Le classement est calculé avec le barème de points suivant :
B6: - victoire : 3 points
B7: - match nul : 1 point
B8: - défaite : 0 point
A10: À égalité de points, les critères de départage sont les suivants :
B11: 1. plus grande différence de buts générale,
B12: 2. plus grand nombre de points dans les confrontations directes (c'est-à-dire entre les clubs concernés par l'égalité),
B13: 3. plus grande différence de buts particulière,
B14: 4. plus grand nombre de buts dans les confrontations directes,
B15: 5. plus grand nombre de buts à l'extérieur dans les confrontations directes,
B16: 6. plus grand nombre de buts marqués,
B17: 7. plus grand nombre de buts marqués à l'extérieur,
B18: 8. meilleure place au Challenge du Fair-play (1 point par joueur averti, 3 points par joueur exclu).
A20: Les règles 2, 3, 4, 5 de départage des clubs lors des rencontres disputées entre eux ne peuvent s’appliquer que si les 2 matchs les ayant opposés ont été joués. Tant que ces 2 matchs ne se sont pas déroulés, les règles 6, 7, 8 s’appliquent en priorité dans l’ordre de leur énoncé.

Sheet Tableau
B1: EQUIPES | C1: POINTS | D1: JOUES | E1: G | F1: N | G1: P | H1: BP | I1: BC | J1: DIFF
A2: 1 | B2: STADE BRESTOIS | C2: =E2*3+F2 -> 3 | D2: =COUNTIFS(RESULTATS!$B$3:$B$171,B2,RESULTATS!$D$3:$D$171,"<>")+COUNTIFS(RESULTATS!$J$3:$J$171,B2,RESULTATS!$L$3:$L$171,"<>") -> 2 | E2: {=SUM((RESULTATS!$B$3:$B$171=B2)*(RESULTATS!$D$3:$D$171>RESULTATS!$E$3:$E$171))+SUM((RESULTATS!$J$3:$J$171=B2)*(RESULTATS!$K$3:$K$171>RESULTATS!$L$3:$L$171))} -> 1 | F2: {=SUM((RESULTATS!$B$3:$B$171=B2)*(RESULTATS!$D$3:$D$171=RESULTATS!$E$3:$E$171))+SUM((RESULTATS!$J$3:$J$171=B2)*(RESULTATS!$K$3:$K$171=RESULTATS!$L$3:$L$171))} -> 0 | G2: {=SUM((RESULTATS!$B$3:$B$171=B2)*(RESULTATS!$D$3:$D$171<RESULTATS!$E$3:$E$171))+SUM((RESULTATS!$J$3:$J$171=B2)*(RESULTATS!$K$3:$K$171<RESULTATS!$L$3:$L$171))} -> 1 | H2: {=SUM((RESULTATS!$B$3:$B$171=B2)*RESULTATS!$D$3:$D$171)+SUM((RESULTATS!$J$3:$J$171=B2)*RESULTATS!$K$3:$K$171)} -> 3 | I2: {=SUM((RESULTATS!$B$3:$B$171=B2)*RESULTATS!$E$3:$E$171)+SUM((RESULTATS!$J$3:$J$171=B2)*RESULTATS!$L$3:$L$171)} -> 3 | J2: =H2-I2 -> 0
A3: 2 | B3: CLERMONT FOOT 63 | C3: =E3*3+F3 -> 0 | D3: =COUNTIFS(RESULTATS!$B$3:$B$171,B3,RESULTATS!$D$3:$D$171,"<>")+COUNTIFS(RESULTATS!$J$3:$J$171,B3,RESULTATS!$L$3:$L$171,"<>") -> 0 | E3: {=SUM((RESULTATS!$B$3:$B$171=B3)*(RESULTATS!$D$3:$D$171>RESULTATS!$E$3:$E$171))+SUM((RESULTATS!$J$3:$J$171=B3)*(RESULTATS!$K$3:$K$171>RESULTATS!$L$3:$L$171))} -> 0 | F3: {=SUM((RESULTATS!$B$3:$B$171=B3)*(RESULTATS!$D$3:$D$171=RESULTATS!$E$3:$E$171))+SUM((RESULTATS!$J$3:$J$171=B3)*(RESULTATS!$K$3:$K$171=RESULTATS!$L$3:$L$171))} -> 0 | G3: {=SUM((RESULTATS!$B$3:$B$171=B3)*(RESULTATS!$D$3:$D$171<RESULTATS!$E$3:$E$171))+SUM((RESULTATS!$J$3:$J$171=B3)*(RESULTATS!$K$3:$K$171<RESULTATS!$L$3:$L$171))} -> 0 | H3: {=SUM((RESULTATS!$B$3:$B$171=B3)*RESULTATS!$D$3:$D$171)+SUM((RESULTATS!$J$3:$J$171=B3)*RESULTATS!$K$3:$K$171)} -> 0 | I3: {=SUM((RESULTATS!$B$3:$B$171=B3)*RESULTATS!$E$3:$E$171)+SUM((RESULTATS!$J$3:$J$171=B3)*RESULTATS!$L$3:$L$171)} -> 0 | J3: =H3-I3 -> 0
A4: 3 | B4: LE HAVRE | C4: =E4*3+F4 -> 1 | D4: =COUNTIFS(RESULTATS!$B$3:$B$171,B4,RESULTATS!$D$3:$D$171,"<>")+COUNTIFS(RESULTATS!$J$3:$J$171,B4,RESULTATS!$L$3:$L$171,"<>") -> 0 | E4: {=SUM((RESULTATS!$B$3:$B$171=B4)*(RESULTATS!$D$3:$D$171>RESULTATS!$E$3:$E$171))+SUM((RESULTATS!$J$3:$J$171=B4)*(RESULTATS!$K$3:$K$171>RESULTATS!$L$3:$L$171))} -> 0 | F4: {=SUM((RESULTATS!$B$3:$B$171=B4)*(RESULTATS!$D$3:$D$171=RESULTATS!$E$3:$E$171))+SUM((RESULTATS!$J$3:$J$171=B4)*(RESULTATS!$K$3:$K$171=RESULTATS!$L$3:$L$171))} -> 1 | G4: {=SUM((RESULTATS!$B$3:$B$171=B4)*(RESULTATS!$D$3:$D$171<RESULTATS!$E$3:$E$171))+SUM((RESULTATS!$J$3:$J$171=B4)*(RESULTATS!$K$3:$K$171<RESULTATS!$L$3:$L$171))} -> 0 | H4: {=SUM((RESULTATS!$B$3:$B$171=B4)*RESULTATS!$D$3:$D$171)+SUM((RESULTATS!$J$3:$J$171=B4)*RESULTATS!$K$3:$K$171)} -> 0 | I4: {=SUM((RESULTATS!$B$3:$B$171=B4)*RESULTATS!$E$3:$E$171)+SUM((RESULTATS!$J$3:$J$171=B4)*RESULTATS!$L$3:$L$171)} -> 0 | J4: =H4-I4 -> 0
A5: 4 | B5: RC LENS | C5: =E5*3+F5 -> 1 | D5: =COUNTIFS(RESULTATS!$B$3:$B$171,B5,RESULTATS!$D$3:$D$171,"<>")+COUNTIFS(RESULTATS!$J$3:$J$171,B5,RESULTATS!$L$3:$L$171,"<>") -> 0 | E5: {=SUM((RESULTATS!$B$3:$B$171=B5)*(RESULTATS!$D$3:$D$171>RESULTATS!$E$3:$E$171))+SUM((RESULTATS!$J$3:$J$171=B5)*(RESULTATS!$K$3:$K$171>RESULTATS!$L$3:$L$171))} -> 0 | F5: {=SUM((RESULTATS!$B$3:$B$171=B5)*(RESULTATS!$D$3:$D$171=RESULTATS!$E$3:$E$171))+SUM((RESULTATS!$J$3:$J$171=B5)*(RESULTATS!$K$3:$K$171=RESULTATS!$L$3:$L$171))} -> 1 | G5: {=SUM((RESULTATS!$B$3:$B$171=B5)*(RESULTATS!$D$3:$D$171<RESULTATS!$E$3:$E$171))+SUM((RESULTATS!$J$3:$J$171=B5)*(RESULTATS!$K$3:$K$171<RESULTATS!$L$3:$L$171))} -> 0 | H5: {=SUM((RESULTATS!$B$3:$B$171=B5)*RESULTATS!$D$3:$D$171)+SUM((RESULTATS!$J$3:$J$171=B5)*RESULTATS!$K$3:$K$171)} -> 0 | I5: {=SUM((RESULTATS!$B$3:$B$171=B5)*RESULTATS!$E$3:$E$171)+SUM((RESULTATS!$J$3:$J$171=B5)*RESULTATS!$L$3:$L$171)} -> 0 | J5: =H5-I5 -> 0
A6: 5 | B6: LOSC LILLE | C6: =E6*3+F6 -> 1 | D6: =COUNTIFS(RESULTATS!$B$3:$B$171,B6,RESULTATS!$D$3:$D$171,"<>")+COUNTIFS(RESULTATS!$J$3:$J$171,B6,RESULTATS!$L$3:$L$171,"<>") -> 0 | E6: {=SUM((RESULTATS!$B$3:$B$171=B6)*(RESULTATS!$D$3:$D$171>RESULTATS!$E$3:$E$171))+SUM((RESULTATS!$J$3:$J$171=B6)*(RESULTATS!$K$3:$K$171>RESULTATS!$L$3:$L$171))} -> 0 | F6: {=SUM((RESULTATS!$B$3:$B$171=B6)*(RESULTATS!$D$3:$D$171=RESULTATS!$E$3:$E$171))+SUM((RESULTATS!$J$3:$J$171=B6)*(RESULTATS!$K$3:$K$171=RESULTATS!$L$3:$L$171))} -> 1 | G6: {=SUM((RESULTATS!$B$3:$B$171=B6)*(RESULTATS!$D$3:$D$171<RESULTATS!$E$3:$E$171))+SUM((RESULTATS!$J$3:$J$171=B6)*(RESULTATS!$K$3:$K$171<RESULTATS!$L$3:$L$171))} -> 0 | H6: {=SUM((RESULTATS!$B$3:$B$171=B6)*RESULTATS!$D$3:$D$171)+SUM((RESULTATS!$J$3:$J$171=B6)*RESULTATS!$K$3:$K$171)} -> 0 | I6: {=SUM((RESULTATS!$B$3:$B$171=B6)*RESULTATS!$E$3:$E$171)+SUM((RESULTATS!$J$3:$J$171=B6)*RESULTATS!$L$3:$L$171)} -> 0 | J6: =H6-I6 -> 0
A7: 6 | B7: FC LORIENT | C7: =E7*3+F7 -> 1 | D7: =COUNTIFS(RESULTATS!$B$3:$B$171,B7,RESULTATS!$D$3:$D$171,"<>")+COUNTIFS(RESULTATS!$J$3:$J$171,B7,RESULTATS!$L$3:$L$171,"<>") -> 0 | E7: {=SUM((RESULTATS!$B$3:$B$171=B7)*(RESULTATS!$D$3:$D$171>RESULTATS!$E$3:$E$171))+SUM((RESULTATS!$J$3:$J$171=B7)*(RESULTATS!$K$3:$K$171>RESULTATS!$L$3:$L$171))} -> 0 | F7: {=SUM((RESULTATS!$B$3:$B$171=B7)*(RESULTATS!$D$3:$D$171=RESULTATS!$E$3:$E$171))+SUM((RESULTATS!$J$3:$J$171=B7)*(RESULTATS!$K$3:$K$171=RESULTATS!$L$3:$L$171))} -> 1 | G7: {=SUM((RESULTATS!$B$3:$B$171=B7)*(RESULTATS!$D$3:$D$171<RESULTATS!$E$3:$E$171))+SUM((RESULTATS!$J$3:$J$171=B7)*(RESULTATS!$K$3:$K$171<RESULTATS!$L$3:$L$171))} -> 0 | H7: {=SUM((RESULTATS!$B$3:$B$171=B7)*RESULTATS!$D$3:$D$171)+SUM((RESULTATS!$J$3:$J$171=B7)*RESULTATS!$K$3:$K$171)} -> 0 | I7: {=SUM((RESULTATS!$B$3:$B$171=B7)*RESULTATS!$E$3:$E$171)+SUM((RESULTATS!$J$3:$J$171=B7)*RESULTATS!$L$3:$L$171)} -> 0 | J7: =H7-I7 -> 0
A8: 7 | B8: FC METZ | C8: =E8*3+F8 -> 1 | D8: =COUNTIFS(RESULTATS!$B$3:$B$171,B8,RESULTATS!$D$3:$D$171,"<>")+COUNTIFS(RESULTATS!$J$3:$J$171,B8,RESULTATS!$L$3:$L$171,"<>") -> 0 | E8: {=SUM((RESULTATS!$B$3:$B$171=B8)*(RESULTATS!$D$3:$D$171>RESULTATS!$E$3:$E$171))+SUM((RESULTATS!$J$3:$J$171=B8)*(RESULTATS!$K$3:$K$171>RESULTATS!$L$3:$L$171))} -> 0 | F8: {=SUM((RESULTATS!$B$3:$B$171=B8)*(RESULTATS!$D$3:$D$171=RESULTATS!$E$3:$E$171))+SUM((RESULTATS!$J$3:$J$171=B8)*(RESULTATS!$K$3:$K$171=RESULTATS!$L$3:$L$171))} -> 1 | G8: {=SUM((RESULTATS!$B$3:$B$171=B8)*(RESULTATS!$D$3:$D$171<RESULTATS!$E$3:$E$171))+SUM((RESULTATS!$J$3:$J$171=B8)*(RESULTATS!$K$3:$K$171<RESULTATS!$L$3:$L$171))} -> 0 | H8: {=SUM((RESULTATS!$B$3:$B$171=B8)*RESULTATS!$D$3:$D$171)+SUM((RESULTATS!$J$3:$J$171=B8)*RESULTATS!$K$3:$K$171)} -> 0 | I8: {=SUM((RESULTATS!$B$3:$B$171=B8)*RESULTATS!$E$3:$E$171)+SUM((RESULTATS!$J$3:$J$171=B8)*RESULTATS!$L$3:$L$171)} -> 0 | J8: =H8-I8 -> 0
A9: 8 | B9: AS MONACO | C9: =E9*3+F9 -> 1 | D9: =COUNTIFS(RESULTATS!$B$3:$B$171,B9,RESULTATS!$D$3:$D$171,"<>")+COUNTIFS(RESULTATS!$J$3:$J$171,B9,RESULTATS!$L$3:$L$171,"<>") -> 0 | E9: {=SUM((RESULTATS!$B$3:$B$171=B9)*(RESULTATS!$D$3:$D$171>RESULTATS!$E$3:$E$171))+SUM((RESULTATS!$J$3:$J$171=B9)*(RESULTATS!$K$3:$K$171>RESULTATS!$L$3:$L$171))} -> 0 | F9: {=SUM((RESULTATS!$B$3:$B$171=B9)*(RESULTATS!$D$3:$D$171=RESULTATS!$E$3:$E$171))+SUM((RESULTATS!$J$3:$J$171=B9)*(RESULTATS!$K$3:$K$171=RESULTATS!$L$3:$L$171))} -> 1 | G9: {=SUM((RESULTATS!$B$3:$B$171=B9)*(RESULTATS!$D$3:$D$171<RESULTATS!$E$3:$E$171))+SUM((RESULTATS!$J$3:$J$171=B9)*(RESULTATS!$K$3:$K$171<RESULTATS!$L$3:$L$171))} -> 0 | H9: {=SUM((RESULTATS!$B$3:$B$171=B9)*RESULTATS!$D$3:$D$171)+SUM((RESULTATS!$J$3:$J$171=B9)*RESULTATS!$K$3:$K$171)} -> 0 | I9: {=SUM((RESULTATS!$B$3:$B$171=B9)*RESULTATS!$E$3:$E$171)+SUM((RESULTATS!$J$3:$J$171=B9)*RESULTATS!$L$3:$L$171)} -> 0 | J9: =H9-I9 -> 0
A10: 9 | B10: MONTPELLIER HERAULT SC | C10: =E10*3+F10 -> 1 | D10: =COUNTIFS(RESULTATS!$B$3:$B$171,B10,RESULTATS!$D$3:$D$171,"<>")+COUNTIFS(RESULTATS!$J$3:$J$171,B10,RESULTATS!$L$3:$L$171,"<>") -> 1 | E10: {=SUM((RESULTATS!$B$3:$B$171=B10)*(RESULTATS!$D$3:$D$171>RESULTATS!$E$3:$E$171))+SUM((RESULTATS!$J$3:$J$171=B10)*(RESULTATS!$K$3:$K$171>RESULTATS!$L$3:$L$171))} -> 0 | F10: {=SUM((RESULTATS!$B$3:$B$171=B10)*(RESULTATS!$D$3:$D$171=RESULTATS!$E$3:$E$171))+SUM((RESULTATS!$J$3:$J$171=B10)*(RESULTATS!$K$3:$K$171=RESULTATS!$L$3:$L$171))} -> 1 | G10: {=SUM((RESULTATS!$B$3:$B$171=B10)*(RESULTATS!$D$3:$D$171<RESULTATS!$E$3:$E$171))+SUM((RESULTATS!$J$3:$J$171=B10)*(RESULTATS!$K$3:$K$171<RESULTATS!$L$3:$L$171))} -> 0 | H10: {=SUM((RESULTATS!$B$3:$B$171=B10)*RESULTATS!$D$3:$D$171)+SUM((RESULTATS!$J$3:$J$171=B10)*RESULTATS!$K$3:$K$171)} -> 2 | I10: {=SUM((RESULTATS!$B$3:$B$171=B10)*RESULTATS!$E$3:$E$171)+SUM((RESULTATS!$J$3:$J$171=B10)*RESULTATS!$L$3:$L$171)} -> 2 | J10: =H10-I10 -> 0
A11: 10 | B11: FC NANTES | C11: =E11*3+F11 -> 0 | D11: =COUNTIFS(RESULTATS!$B$3:$B$171,B11,RESULTATS!$D$3:$D$171,"<>")+COUNTIFS(RESULTATS!$J$3:$J$171,B11,RESULTATS!$L$3:$L$171,"<>") -> 1 | E11: {=SUM((RESULTATS!$B$3:$B$171=B11)*(RESULTATS!$D$3:$D$171>RESULTATS!$E$3:$E$171))+SUM((RESULTATS!$J$3:$J$171=B11)*(RESULTATS!$K$3:$K$171>RESULTATS!$L$3:$L$171))} -> 0 | F11: {=SUM((RESULTATS!$B$3:$B$171=B11)*(RESULTATS!$D$3:$D$171=RESULTATS!$E$3:$E$171))+SUM((RESULTATS!$J$3:$J$171=B11)*(RESULTATS!$K$3:$K$171=RESULTATS!$L$3:$L$171))} -> 0 | G11: {=SUM((RESULTATS!$B$3:$B$171=B11)*(RESULTATS!$D$3:$D$171<RESULTATS!$E$3:$E$171))+SUM((RESULTATS!$J$3:$J$171=B11)*(RESULTATS!$K$3:$K$171<RESULTATS!$L$3:$L$171))} -> 1 | H11: {=SUM((RESULTATS!$B$3:$B$171=B11)*RESULTATS!$D$3:$D$171)+SUM((RESULTATS!$J$3:$J$171=B11)*RESULTATS!$K$3:$K$171)} -> 1 | I11: {=SUM((RESULTATS!$B$3:$B$171=B11)*RESULTATS!$E$3:$E$171)+SUM((RESULTATS!$J$3:$J$171=B11)*RESULTATS!$L$3:$L$171)} -> 2 | J11: =H11-I11 -> -1
A12: 11 | B12: OGC NICE | C12: =E12*3+F12 -> 1 | D12: =COUNTIFS(RESULTATS!$B$3:$B$171,B12,RESULTATS!$D$3:$D$171,"<>")+COUNTIFS(RESULTATS!$J$3:$J$171,B12,RESULTATS!$L$3:$L$171,"<>") -> 1 | E12: {=SUM((RESULTATS!$B$3:$B$171=B12)*(RESULTATS!$D$3:$D$171>RESULTATS!$E$3:$E$171))+SUM((RESULTATS!$J$3:$J$171=B12)*(RESULTATS!$K$3:$K$171>RESULTATS!$L$3:$L$171))} -> 0 | F12: {=SUM((RESULTATS!$B$3:$B$171=B12)*(RESULTATS!$D$3:$D$171=RESULTATS!$E$3:$E$171))+SUM((RESULTATS!$J$3:$J$171=B12)*(RESULTATS!$K$3:$K$171=RESULTATS!$L$3:$L$171))} -> 1 | G12: {=SUM((RESULTATS!$B$3:$B$171=B12)*(RESULTATS!$D$3:$D$171<RESULTATS!$E$3:$E$171))+SUM((RESULTATS!$J$3:$J$171=B12)*(RESULTATS!$K$3:$K$171<RESULTATS!$L$3:$L$171))} -> 0 | H12: {=SUM((RESULTATS!$B$3:$B$171=B12)*RESULTATS!$D$3:$D$171)+SUM((RESULTATS!$J$3:$J$171=B12)*RESULTATS!$K$3:$K$171)} -> 1 | I12: {=SUM((RESULTATS!$B$3:$B$171=B12)*RESULTATS!$E$3:$E$171)+SUM((RESULTATS!$J$3:$J$171=B12)*RESULTATS!$L$3:$L$171)} -> 1 | J12: =H12-I12 -> 0
A13: 12 | B13: OLYMPIQUE DE MARSEILLE | C13: =E13*3+F13 -> 6 | D13: =COUNTIFS(RESULTATS!$B$3:$B$171,B13,RESULTATS!$D$3:$D$171,"<>")+COUNTIFS(RESULTATS!$J$3:$J$171,B13,RESULTATS!$L$3:$L$171,"<>") -> 2 | E13: {=SUM((RESULTATS!$B$3:$B$171=B13)*(RESULTATS!$D$3:$D$171>RESULTATS!$E$3:$E$171))+SUM((RESULTATS!$J$3:$J$171=B13)*(RESULTATS!$K$3:$K$171>RESULTATS!$L$3:$L$171))} -> 2 | F13: {=SUM((RESULTATS!$B$3:$B$171=B13)*(RESULTATS!$D$3:$D$171=RESULTATS!$E$3:$E$171))+SUM((RESULTATS!$J$3:$J$171=B13)*(RESULTATS!$K$3:$K$171=RESULTATS!$L$3:$L$171))} -> 0 | G13: {=SUM((RESULTATS!$B$3:$B$171=B13)*(RESULTATS!$D$3:$D$171<RESULTATS!$E$3:$E$171))+SUM((RESULTATS!$J$3:$J$171=B13)*(RESULTATS!$K$3:$K$171<RESULTATS!$L$3:$L$171))} -> 0 | H13: {=SUM((RESULTATS!$B$3:$B$171=B13)*RESULTATS!$D$3:$D$171)+SUM((RESULTATS!$J$3:$J$171=B13)*RESULTATS!$K$3:$K$171)} -> 17 | I13: {=SUM((RESULTATS!$B$3:$B$171=B13)*RESULTATS!$E$3:$E$171)+SUM((RESULTATS!$J$3:$J$171=B13)*RESULTATS!$L$3:$L$171)} -> 1 | J13: =H13-I13 -> 16
... A19: 18 | B19: TOULOUSE FC | C19: =E19*3+F19 -> 1 | D19: =COUNTIFS(RESULTATS!$B$3:$B$171,B19,RESULTATS!$D$3:$D$171,"<>")+COUNTIFS(RESULTATS!$J$3:$J$171,B19,RESULTATS!$L$3:$L$171,"<>") -> 0 | E19: {=SUM((RESULTATS!$B$3:$B$171=B19)*(RESULTATS!$D$3:$D$171>RESULTATS!$E$3:$E$171))+SUM((RESULTATS!$J$3:$J$171=B19)*(RESULTATS!$K$3:$K$171>RESULTATS!$L$3:$L$171))} -> 0 | F19: {=SUM((RESULTATS!$B$3:$B$171=B19)*(RESULTATS!$D$3:$D$171=RESULTATS!$E$3:$E$171))+SUM((RESULTATS!$J$3:$J$171=B19)*(RESULTATS!$K$3:$K$171=RESULTATS!$L$3:$L$171))} -> 1 | G19: {=SUM((RESULTATS!$B$3:$B$171=B19)*(RESULTATS!$D$3:$D$171<RESULTATS!$E$3:$E$171))+SUM((RESULTATS!$J$3:$J$171=B19)*(RESULTATS!$K$3:$K$171<RESULTATS!$L$3:$L$171))} -> 0 | H19: {=SUM((RESULTATS!$B$3:$B$171=B19)*RESULTATS!$D$3:$D$171)+SUM((RESULTATS!$J$3:$J$171=B19)*RESULTATS!$K$3:$K$171)} -> 0 | I19: {=SUM((RESULTATS!$B$3:$B$171=B19)*RESULTATS!$E$3:$E$171)+SUM((RESULTATS!$J$3:$J$171=B19)*RESULTATS!$L$3:$L$171)} -> 0 | J19: =H19-I19 -> 0
