Workbook

Sheet base de données
A1: Reference | B1: FactureNo | C1: DateFacture | D1: Designation | E1: Nom_Fournisseur | F1: Montant | G1: QteReference_Mouvement
A2: 085340 | B2: 0000001 | C2: 44950 | D2: test 1 | E2: fournisseur 2 | F2: 150 | G2: 12
A3: 064751 | B3: 0000002 | C3: 44948 | D3: test 2 | E3: fournisseur 3 | F3: 5256.3 | G3: 50000
A4: 085617 | B4: 0000003 | C4: 44945 | D4: test 3 | E4: fournisseur 4 | F4: 129.66 | G4: 1
A5: 034978 | B5: 0000004 | C5: 44944 | D5: test 4 | E5: fournisseur 5 | F5: 25990 | G5: 250
A6: 085573 | B6: 0000005 | C6: 44943 | D6: test 5 | E6: fournisseur 6 | F6: 20.46 | G6: 100
A7: 084735 | B7: 0000006 | C7: 45063 | D7: test 6 | E7: fournisseur 6 | F7: 9.14 | G7: 200
A8: 085630 | B8: 0000007 | C8: 45063 | D8: test 7 | E8: fournisseur 7 | F8: 150 | G8: 12
A9: 014315 | B9: 0000008 | C9: 45063 | D9: test 8 | E9: fournisseur 15 | F9: 21126 | G9: 20120
A10: 042000 | B10: 0000009 | C10: 45062 | D10: test 9 | E10: fournisseur 8 | F10: 73.99 | G10: 1
A11: 085575 | B11: 0000010 | C11: 45062 | D11: test 10 | E11: fournisseur 6 | F11: 22.94 | G11: 100
A12: 085574 | B12: 0000011 | C12: 45062 | D12: test 11 | E12: fournisseur 6 | F12: 22.66 | G12: 100
A13: 049817 | B13: 0000012 | C13: 45000 | D13: test 12 | E13: fournisseur 9 | F13: 44.76 | G13: 2
... A54: 061007 | B54: 0000053 | C54: 44477 | D54: test 53 | E54: fournisseur 31 | F54: 541 | G54: 20
A55: 062837 | B55: 0000054 | C55: 44477 | D55: test 54 | E55: fournisseur 31 | F55: 249.48 | G55: 12 | L55: =COUNTA(_xlfn.UNIQUE(E:E)) -> 34
A56: 042000 | B56: 0000055 | C56: 44477 | D56: test 55 | E56: fournisseur 31 | F56: 2 | G56: 1
A57: 049828 | B57: 0000056 | C57: 44477 | D57: test 56 | E57: AXALIS | F57: 281.88 | G57: 10.8
A58: 029913 | B58: 0000057 | C58: 44477 | D58: test 57 | E58: fournisseur 21 | F58: 83 | G58: 20
A59: 049828 | B59: 0000058 | C59: 44477 | D59: test 58 | E59: fournisseur 24 | F59: 58.4 | G59: 2
A60: 014064 | B60: 0000059 | C60: 44477 | D60: test 59 | E60: fournisseur 21 | F60: 146.4 | G60: 4
A61: 014065 | B61: 0000060 | C61: 44477 | D61: test 60 | E61: fournisseur 21 | F61: 126.8 | G61: 4
A62: 014063 | B62: 0000061 | C62: 44477 | D62: test 61 | E62: fournisseur 21 | F62: 123.6 | G62: 8
A63: 048644 | B63: 0000062 | C63: 44477 | D63: test 62 | E63: fournisseur 21 | F63: 299.12 | G63: 8
A64: 029929 | B64: 0000063 | C64: 44476 | D64: test 63 | E64: fournisseur 14 | F64: 38.85 | G64: 3
A65: 083204 | B65: 0000064 | C65: 44476 | D65: test 64 | E65: fournisseur 1S | F65: 635 | G65: 1
A66: 029945 | B66: 0000065 | C66: 44476 | D66: test 65 | E66: fournisseur 14 | F66: 42.8 | G66: 10
A67: 014132 | B67: 0000066 | C67: 44476 | D67: test 66 | E67: fournisseur 24 | F67: 486.4 | G67: 38000
... A149: 031004 | B149: 0000148 | C149: 40927 | D149: test 148 | E149: fournisseur 30 | F149: 1714.61 | G149: 2000

Sheet Synthèse
A1: 2023
B2: Montant
A3: Nom fournisseurs | B3: 44927 | C3: 44958 | D3: 44986 | E3: 45017 | F3: 45047 | G3: 45078 | H3: 45108 | I3: 45139 | J3: 45170 | K3: 45200 | L3: 45231 | M3: 45261
A4: {=IF(INDEX('base de données'!$E:$E,_xlfn.AGGREGATE(15,6,ROW($E$2:$E$200)/(COUNTIF($A$3:A3,'base de données'!$E$2:$E$200)=0),1))=0,"",INDEX('base de données'!$E:$E,_xlfn.AGGREGATE(15,6,ROW($E$2:$E$200)/(COUNTIF($A$3:A3,'base de données'!$E$2:$E$200)=0),1)))} -> fournisseur 2 | B4: {=SUMPRODUCT(('base de données'!$E$2:$E$10000=Synthèse!$A4)*(MONTH('base de données'!$C$2:$C$10000)=MONTH(Synthèse!B$3))*(YEAR('base de données'!$C$2:$C$10000)=YEAR(Synthèse!B$3))*'base de données'!$F$2:$F$10000)} -> 150 | C4: {=SUMPRODUCT(('base de données'!$E$2:$E$10000=Synthèse!$A4)*(MONTH('base de données'!$C$2:$C$10000)=MONTH(Synthèse!C$3))*(YEAR('base de données'!$C$2:$C$10000)=YEAR(Synthèse!C$3))*'base de données'!$F$2:$F$10000)} -> 0 | D4: {=SUMPRODUCT(('base de données'!$E$2:$E$10000=Synthèse!$A4)*(MONTH('base de données'!$C$2:$C$10000)=MONTH(Synthèse!D$3))*(YEAR('base de données'!$C$2:$C$10000)=YEAR(Synthèse!D$3))*'base de données'!$F$2:$F$10000)} -> 0 | E4: {=SUMPRODUCT(('base de données'!$E$2:$E$10000=Synthèse!$A4)*(MONTH('base de données'!$C$2:$C$10000)=MONTH(Synthèse!E$3))*(YEAR('base de données'!$C$2:$C$10000)=YEAR(Synthèse!E$3))*'base de données'!$F$2:$F$10000)} -> 0 | F4: {=SUMPRODUCT(('base de données'!$E$2:$E$10000=Synthèse!$A4)*(MONTH('base de données'!$C$2:$C$10000)=MONTH(Synthèse!F$3))*(YEAR('base de données'!$C$2:$C$10000)=YEAR(Synthèse!F$3))*'base de données'!$F$2:$F$10000)} -> 0 | G4: {=SUMPRODUCT(('base de données'!$E$2:$E$10000=Synthèse!$A4)*(MONTH('base de données'!$C$2:$C$10000)=MONTH(Synthèse!G$3))*(YEAR('base de données'!$C$2:$C$10000)=YEAR(Synthèse!G$3))*'base de données'!$F$2:$F$10000)} -> 0 | H4: {=SUMPRODUCT(('base de données'!$E$2:$E$10000=Synthèse!$A4)*(MONTH('base de données'!$C$2:$C$10000)=MONTH(Synthèse!H$3))*(YEAR('base de données'!$C$2:$C$10000)=YEAR(Synthèse!H$3))*'base de données'!$F$2:$F$10000)} -> 0 | I4: {=SUMPRODUCT(('base de données'!$E$2:$E$10000=Synthèse!$A4)*(MONTH('base de données'!$C$2:$C$10000)=MONTH(Synthèse!I$3))*(YEAR('base de données'!$C$2:$C$10000)=YEAR(Synthèse!I$3))*'base de données'!$F$2:$F$10000)} -> 0 | ... M4: {=SUMPRODUCT(('base de données'!$E$2:$E$10000=Synthèse!$A4)*(MONTH('base de données'!$C$2:$C$10000)=MONTH(Synthèse!M$3))*(YEAR('base de données'!$C$2:$C$10000)=YEAR(Synthèse!M$3))*'base de données'!$F$2:$F$10000)} -> 0
A5: {=IF(INDEX('base de données'!$E:$E,_xlfn.AGGREGATE(15,6,ROW($E$2:$E$200)/(COUNTIF($A$3:A4,'base de données'!$E$2:$E$200)=0),1))=0,"",INDEX('base de données'!$E:$E,_xlfn.AGGREGATE(15,6,ROW($E$2:$E$200)/(COUNTIF($A$3:A4,'base de données'!$E$2:$E$200)=0),1)))} -> fournisseur 3 | B5: {=SUMPRODUCT(('base de données'!$E$2:$E$10000=Synthèse!$A5)*(MONTH('base de données'!$C$2:$C$10000)=MONTH(Synthèse!B$3))*(YEAR('base de données'!$C$2:$C$10000)=YEAR(Synthèse!B$3))*'base de données'!$F$2:$F$10000)} -> 5256.3 | C5: {=SUMPRODUCT(('base de données'!$E$2:$E$10000=Synthèse!$A5)*(MONTH('base de données'!$C$2:$C$10000)=MONTH(Synthèse!C$3))*(YEAR('base de données'!$C$2:$C$10000)=YEAR(Synthèse!C$3))*'base de données'!$F$2:$F$10000)} -> 0 | D5: {=SUMPRODUCT(('base de données'!$E$2:$E$10000=Synthèse!$A5)*(MONTH('base de données'!$C$2:$C$10000)=MONTH(Synthèse!D$3))*(YEAR('base de données'!$C$2:$C$10000)=YEAR(Synthèse!D$3))*'base de données'!$F$2:$F$10000)} -> 0 | E5: {=SUMPRODUCT(('base de données'!$E$2:$E$10000=Synthèse!$A5)*(MONTH('base de données'!$C$2:$C$10000)=MONTH(Synthèse!E$3))*(YEAR('base de données'!$C$2:$C$10000)=YEAR(Synthèse!E$3))*'base de données'!$F$2:$F$10000)} -> 0 | F5: {=SUMPRODUCT(('base de données'!$E$2:$E$10000=Synthèse!$A5)*(MONTH('base de données'!$C$2:$C$10000)=MONTH(Synthèse!F$3))*(YEAR('base de données'!$C$2:$C$10000)=YEAR(Synthèse!F$3))*'base de données'!$F$2:$F$10000)} -> 0 | G5: {=SUMPRODUCT(('base de données'!$E$2:$E$10000=Synthèse!$A5)*(MONTH('base de données'!$C$2:$C$10000)=MONTH(Synthèse!G$3))*(YEAR('base de données'!$C$2:$C$10000)=YEAR(Synthèse!G$3))*'base de données'!$F$2:$F$10000)} -> 0 | H5: {=SUMPRODUCT(('base de données'!$E$2:$E$10000=Synthèse!$A5)*(MONTH('base de données'!$C$2:$C$10000)=MONTH(Synthèse!H$3))*(YEAR('base de données'!$C$2:$C$10000)=YEAR(Synthèse!H$3))*'base de données'!$F$2:$F$10000)} -> 0 | I5: {=SUMPRODUCT(('base de données'!$E$2:$E$10000=Synthèse!$A5)*(MONTH('base de données'!$C$2:$C$10000)=MONTH(Synthèse!I$3))*(YEAR('base de données'!$C$2:$C$10000)=YEAR(Synthèse!I$3))*'base de données'!$F$2:$F$10000)} -> 0 | ... M5: {=SUMPRODUCT(('base de données'!$E$2:$E$10000=Synthèse!$A5)*(MONTH('base de données'!$C$2:$C$10000)=MONTH(Synthèse!M$3))*(YEAR('base de données'!$C$2:$C$10000)=YEAR(Synthèse!M$3))*'base de données'!$F$2:$F$10000)} -> 0
A6: {=IF(INDEX('base de données'!$E:$E,_xlfn.AGGREGATE(15,6,ROW($E$2:$E$200)/(COUNTIF($A$3:A5,'base de données'!$E$2:$E$200)=0),1))=0,"",INDEX('base de données'!$E:$E,_xlfn.AGGREGATE(15,6,ROW($E$2:$E$200)/(COUNTIF($A$3:A5,'base de données'!$E$2:$E$200)=0),1)))} -> fournisseur 4 | B6: {=SUMPRODUCT(('base de données'!$E$2:$E$10000=Synthèse!$A6)*(MONTH('base de données'!$C$2:$C$10000)=MONTH(Synthèse!B$3))*(YEAR('base de données'!$C$2:$C$10000)=YEAR(Synthèse!B$3))*'base de données'!$F$2:$F$10000)} -> 129.66 | C6: {=SUMPRODUCT(('base de données'!$E$2:$E$10000=Synthèse!$A6)*(MONTH('base de données'!$C$2:$C$10000)=MONTH(Synthèse!C$3))*(YEAR('base de données'!$C$2:$C$10000)=YEAR(Synthèse!C$3))*'base de données'!$F$2:$F$10000)} -> 0 | D6: {=SUMPRODUCT(('base de données'!$E$2:$E$10000=Synthèse!$A6)*(MONTH('base de données'!$C$2:$C$10000)=MONTH(Synthèse!D$3))*(YEAR('base de données'!$C$2:$C$10000)=YEAR(Synthèse!D$3))*'base de données'!$F$2:$F$10000)} -> 0 | E6: {=SUMPRODUCT(('base de données'!$E$2:$E$10000=Synthèse!$A6)*(MONTH('base de données'!$C$2:$C$10000)=MONTH(Synthèse!E$3))*(YEAR('base de données'!$C$2:$C$10000)=YEAR(Synthèse!E$3))*'base de données'!$F$2:$F$10000)} -> 0 | F6: {=SUMPRODUCT(('base de données'!$E$2:$E$10000=Synthèse!$A6)*(MONTH('base de données'!$C$2:$C$10000)=MONTH(Synthèse!F$3))*(YEAR('base de données'!$C$2:$C$10000)=YEAR(Synthèse!F$3))*'base de données'!$F$2:$F$10000)} -> 0 | G6: {=SUMPRODUCT(('base de données'!$E$2:$E$10000=Synthèse!$A6)*(MONTH('base de données'!$C$2:$C$10000)=MONTH(Synthèse!G$3))*(YEAR('base de données'!$C$2:$C$10000)=YEAR(Synthèse!G$3))*'base de données'!$F$2:$F$10000)} -> 0 | H6: {=SUMPRODUCT(('base de données'!$E$2:$E$10000=Synthèse!$A6)*(MONTH('base de données'!$C$2:$C$10000)=MONTH(Synthèse!H$3))*(YEAR('base de données'!$C$2:$C$10000)=YEAR(Synthèse!H$3))*'base de données'!$F$2:$F$10000)} -> 0 | I6: {=SUMPRODUCT(('base de données'!$E$2:$E$10000=Synthèse!$A6)*(MONTH('base de données'!$C$2:$C$10000)=MONTH(Synthèse!I$3))*(YEAR('base de données'!$C$2:$C$10000)=YEAR(Synthèse!I$3))*'base de données'!$F$2:$F$10000)} -> 0 | ... M6: {=SUMPRODUCT(('base de données'!$E$2:$E$10000=Synthèse!$A6)*(MONTH('base de données'!$C$2:$C$10000)=MONTH(Synthèse!M$3))*(YEAR('base de données'!$C$2:$C$10000)=YEAR(Synthèse!M$3))*'base de données'!$F$2:$F$10000)} -> 0
A7: {=IF(INDEX('base de données'!$E:$E,_xlfn.AGGREGATE(15,6,ROW($E$2:$E$200)/(COUNTIF($A$3:A6,'base de données'!$E$2:$E$200)=0),1))=0,"",INDEX('base de données'!$E:$E,_xlfn.AGGREGATE(15,6,ROW($E$2:$E$200)/(COUNTIF($A$3:A6,'base de données'!$E$2:$E$200)=0),1)))} -> fournisseur 5 | B7: {=SUMPRODUCT(('base de données'!$E$2:$E$10000=Synthèse!$A7)*(MONTH('base de données'!$C$2:$C$10000)=MONTH(Synthèse!B$3))*(YEAR('base de données'!$C$2:$C$10000)=YEAR(Synthèse!B$3))*'base de données'!$F$2:$F$10000)} -> 25990 | C7: {=SUMPRODUCT(('base de données'!$E$2:$E$10000=Synthèse!$A7)*(MONTH('base de données'!$C$2:$C$10000)=MONTH(Synthèse!C$3))*(YEAR('base de données'!$C$2:$C$10000)=YEAR(Synthèse!C$3))*'base de données'!$F$2:$F$10000)} -> 0 | D7: {=SUMPRODUCT(('base de données'!$E$2:$E$10000=Synthèse!$A7)*(MONTH('base de données'!$C$2:$C$10000)=MONTH(Synthèse!D$3))*(YEAR('base de données'!$C$2:$C$10000)=YEAR(Synthèse!D$3))*'base de données'!$F$2:$F$10000)} -> 0 | E7: {=SUMPRODUCT(('base de données'!$E$2:$E$10000=Synthèse!$A7)*(MONTH('base de données'!$C$2:$C$10000)=MONTH(Synthèse!E$3))*(YEAR('base de données'!$C$2:$C$10000)=YEAR(Synthèse!E$3))*'base de données'!$F$2:$F$10000)} -> 0 | F7: {=SUMPRODUCT(('base de données'!$E$2:$E$10000=Synthèse!$A7)*(MONTH('base de données'!$C$2:$C$10000)=MONTH(Synthèse!F$3))*(YEAR('base de données'!$C$2:$C$10000)=YEAR(Synthèse!F$3))*'base de données'!$F$2:$F$10000)} -> 0 | G7: {=SUMPRODUCT(('base de données'!$E$2:$E$10000=Synthèse!$A7)*(MONTH('base de données'!$C$2:$C$10000)=MONTH(Synthèse!G$3))*(YEAR('base de données'!$C$2:$C$10000)=YEAR(Synthèse!G$3))*'base de données'!$F$2:$F$10000)} -> 0 | H7: {=SUMPRODUCT(('base de données'!$E$2:$E$10000=Synthèse!$A7)*(MONTH('base de données'!$C$2:$C$10000)=MONTH(Synthèse!H$3))*(YEAR('base de données'!$C$2:$C$10000)=YEAR(Synthèse!H$3))*'base de données'!$F$2:$F$10000)} -> 0 | I7: {=SUMPRODUCT(('base de données'!$E$2:$E$10000=Synthèse!$A7)*(MONTH('base de données'!$C$2:$C$10000)=MONTH(Synthèse!I$3))*(YEAR('base de données'!$C$2:$C$10000)=YEAR(Synthèse!I$3))*'base de données'!$F$2:$F$10000)} -> 0 | ... M7: {=SUMPRODUCT(('base de données'!$E$2:$E$10000=Synthèse!$A7)*(MONTH('base de données'!$C$2:$C$10000)=MONTH(Synthèse!M$3))*(YEAR('base de données'!$C$2:$C$10000)=YEAR(Synthèse!M$3))*'base de données'!$F$2:$F$10000)} -> 0
A8: {=IF(INDEX('base de données'!$E:$E,_xlfn.AGGREGATE(15,6,ROW($E$2:$E$200)/(COUNTIF($A$3:A7,'base de données'!$E$2:$E$200)=0),1))=0,"",INDEX('base de données'!$E:$E,_xlfn.AGGREGATE(15,6,ROW($E$2:$E$200)/(COUNTIF($A$3:A7,'base de données'!$E$2:$E$200)=0),1)))} -> fournisseur 6 | B8: {=SUMPRODUCT(('base de données'!$E$2:$E$10000=Synthèse!$A8)*(MONTH('base de données'!$C$2:$C$10000)=MONTH(Synthèse!B$3))*(YEAR('base de données'!$C$2:$C$10000)=YEAR(Synthèse!B$3))*'base de données'!$F$2:$F$10000)} -> 20.46 | C8: {=SUMPRODUCT(('base de données'!$E$2:$E$10000=Synthèse!$A8)*(MONTH('base de données'!$C$2:$C$10000)=MONTH(Synthèse!C$3))*(YEAR('base de données'!$C$2:$C$10000)=YEAR(Synthèse!C$3))*'base de données'!$F$2:$F$10000)} -> 0 | D8: {=SUMPRODUCT(('base de données'!$E$2:$E$10000=Synthèse!$A8)*(MONTH('base de données'!$C$2:$C$10000)=MONTH(Synthèse!D$3))*(YEAR('base de données'!$C$2:$C$10000)=YEAR(Synthèse!D$3))*'base de données'!$F$2:$F$10000)} -> 0 | E8: {=SUMPRODUCT(('base de données'!$E$2:$E$10000=Synthèse!$A8)*(MONTH('base de données'!$C$2:$C$10000)=MONTH(Synthèse!E$3))*(YEAR('base de données'!$C$2:$C$10000)=YEAR(Synthèse!E$3))*'base de données'!$F$2:$F$10000)} -> 0 | F8: {=SUMPRODUCT(('base de données'!$E$2:$E$10000=Synthèse!$A8)*(MONTH('base de données'!$C$2:$C$10000)=MONTH(Synthèse!F$3))*(YEAR('base de données'!$C$2:$C$10000)=YEAR(Synthèse!F$3))*'base de données'!$F$2:$F$10000)} -> 54.74 | G8: {=SUMPRODUCT(('base de données'!$E$2:$E$10000=Synthèse!$A8)*(MONTH('base de données'!$C$2:$C$10000)=MONTH(Synthèse!G$3))*(YEAR('base de données'!$C$2:$C$10000)=YEAR(Synthèse!G$3))*'base de données'!$F$2:$F$10000)} -> 0 | H8: {=SUMPRODUCT(('base de données'!$E$2:$E$10000=Synthèse!$A8)*(MONTH('base de données'!$C$2:$C$10000)=MONTH(Synthèse!H$3))*(YEAR('base de données'!$C$2:$C$10000)=YEAR(Synthèse!H$3))*'base de données'!$F$2:$F$10000)} -> 0 | I8: {=SUMPRODUCT(('base de données'!$E$2:$E$10000=Synthèse!$A8)*(MONTH('base de données'!$C$2:$C$10000)=MONTH(Synthèse!I$3))*(YEAR('base de données'!$C$2:$C$10000)=YEAR(Synthèse!I$3))*'base de données'!$F$2:$F$10000)} -> 0 | ... M8: {=SUMPRODUCT(('base de données'!$E$2:$E$10000=Synthèse!$A8)*(MONTH('base de données'!$C$2:$C$10000)=MONTH(Synthèse!M$3))*(YEAR('base de données'!$C$2:$C$10000)=YEAR(Synthèse!M$3))*'base de données'!$F$2:$F$10000)} -> 0
A9: {=IF(INDEX('base de données'!$E:$E,_xlfn.AGGREGATE(15,6,ROW($E$2:$E$200)/(COUNTIF($A$3:A8,'base de données'!$E$2:$E$200)=0),1))=0,"",INDEX('base de données'!$E:$E,_xlfn.AGGREGATE(15,6,ROW($E$2:$E$200)/(COUNTIF($A$3:A8,'base de données'!$E$2:$E$200)=0),1)))} -> fournisseur 7 | B9: {=SUMPRODUCT(('base de données'!$E$2:$E$10000=Synthèse!$A9)*(MONTH('base de données'!$C$2:$C$10000)=MONTH(Synthèse!B$3))*(YEAR('base de données'!$C$2:$C$10000)=YEAR(Synthèse!B$3))*'base de données'!$F$2:$F$10000)} -> 0 | C9: {=SUMPRODUCT(('base de données'!$E$2:$E$10000=Synthèse!$A9)*(MONTH('base de données'!$C$2:$C$10000)=MONTH(Synthèse!C$3))*(YEAR('base de données'!$C$2:$C$10000)=YEAR(Synthèse!C$3))*'base de données'!$F$2:$F$10000)} -> 0 | D9: {=SUMPRODUCT(('base de données'!$E$2:$E$10000=Synthèse!$A9)*(MONTH('base de données'!$C$2:$C$10000)=MONTH(Synthèse!D$3))*(YEAR('base de données'!$C$2:$C$10000)=YEAR(Synthèse!D$3))*'base de données'!$F$2:$F$10000)} -> 0 | E9: {=SUMPRODUCT(('base de données'!$E$2:$E$10000=Synthèse!$A9)*(MONTH('base de données'!$C$2:$C$10000)=MONTH(Synthèse!E$3))*(YEAR('base de données'!$C$2:$C$10000)=YEAR(Synthèse!E$3))*'base de données'!$F$2:$F$10000)} -> 0 | F9: {=SUMPRODUCT(('base de données'!$E$2:$E$10000=Synthèse!$A9)*(MONTH('base de données'!$C$2:$C$10000)=MONTH(Synthèse!F$3))*(YEAR('base de données'!$C$2:$C$10000)=YEAR(Synthèse!F$3))*'base de données'!$F$2:$F$10000)} -> 150 | G9: {=SUMPRODUCT(('base de données'!$E$2:$E$10000=Synthèse!$A9)*(MONTH('base de données'!$C$2:$C$10000)=MONTH(Synthèse!G$3))*(YEAR('base de données'!$C$2:$C$10000)=YEAR(Synthèse!G$3))*'base de données'!$F$2:$F$10000)} -> 0 | H9: {=SUMPRODUCT(('base de données'!$E$2:$E$10000=Synthèse!$A9)*(MONTH('base de données'!$C$2:$C$10000)=MONTH(Synthèse!H$3))*(YEAR('base de données'!$C$2:$C$10000)=YEAR(Synthèse!H$3))*'base de données'!$F$2:$F$10000)} -> 0 | I9: {=SUMPRODUCT(('base de données'!$E$2:$E$10000=Synthèse!$A9)*(MONTH('base de données'!$C$2:$C$10000)=MONTH(Synthèse!I$3))*(YEAR('base de données'!$C$2:$C$10000)=YEAR(Synthèse!I$3))*'base de données'!$F$2:$F$10000)} -> 0 | ... M9: {=SUMPRODUCT(('base de données'!$E$2:$E$10000=Synthèse!$A9)*(MONTH('base de données'!$C$2:$C$10000)=MONTH(Synthèse!M$3))*(YEAR('base de données'!$C$2:$C$10000)=YEAR(Synthèse!M$3))*'base de données'!$F$2:$F$10000)} -> 0
A10: {=IF(INDEX('base de données'!$E:$E,_xlfn.AGGREGATE(15,6,ROW($E$2:$E$200)/(COUNTIF($A$3:A9,'base de données'!$E$2:$E$200)=0),1))=0,"",INDEX('base de données'!$E:$E,_xlfn.AGGREGATE(15,6,ROW($E$2:$E$200)/(COUNTIF($A$3:A9,'base de données'!$E$2:$E$200)=0),1)))} -> fournisseur 15 | B10: {=SUMPRODUCT(('base de données'!$E$2:$E$10000=Synthèse!$A10)*(MONTH('base de données'!$C$2:$C$10000)=MONTH(Synthèse!B$3))*(YEAR('base de données'!$C$2:$C$10000)=YEAR(Synthèse!B$3))*'base de données'!$F$2:$F$10000)} -> 0 | C10: {=SUMPRODUCT(('base de données'!$E$2:$E$10000=Synthèse!$A10)*(MONTH('base de données'!$C$2:$C$10000)=MONTH(Synthèse!C$3))*(YEAR('base de données'!$C$2:$C$10000)=YEAR(Synthèse!C$3))*'base de données'!$F$2:$F$10000)} -> 0 | D10: {=SUMPRODUCT(('base de données'!$E$2:$E$10000=Synthèse!$A10)*(MONTH('base de données'!$C$2:$C$10000)=MONTH(Synthèse!D$3))*(YEAR('base de données'!$C$2:$C$10000)=YEAR(Synthèse!D$3))*'base de données'!$F$2:$F$10000)} -> 0 | E10: {=SUMPRODUCT(('base de données'!$E$2:$E$10000=Synthèse!$A10)*(MONTH('base de données'!$C$2:$C$10000)=MONTH(Synthèse!E$3))*(YEAR('base de données'!$C$2:$C$10000)=YEAR(Synthèse!E$3))*'base de données'!$F$2:$F$10000)} -> 0 | F10: {=SUMPRODUCT(('base de données'!$E$2:$E$10000=Synthèse!$A10)*(MONTH('base de données'!$C$2:$C$10000)=MONTH(Synthèse!F$3))*(YEAR('base de données'!$C$2:$C$10000)=YEAR(Synthèse!F$3))*'base de données'!$F$2:$F$10000)} -> 21126 | G10: {=SUMPRODUCT(('base de données'!$E$2:$E$10000=Synthèse!$A10)*(MONTH('base de données'!$C$2:$C$10000)=MONTH(Synthèse!G$3))*(YEAR('base de données'!$C$2:$C$10000)=YEAR(Synthèse!G$3))*'base de données'!$F$2:$F$10000)} -> 0 | H10: {=SUMPRODUCT(('base de données'!$E$2:$E$10000=Synthèse!$A10)*(MONTH('base de données'!$C$2:$C$10000)=MONTH(Synthèse!H$3))*(YEAR('base de données'!$C$2:$C$10000)=YEAR(Synthèse!H$3))*'base de données'!$F$2:$F$10000)} -> 0 | I10: {=SUMPRODUCT(('base de données'!$E$2:$E$10000=Synthèse!$A10)*(MONTH('base de données'!$C$2:$C$10000)=MONTH(Synthèse!I$3))*(YEAR('base de données'!$C$2:$C$10000)=YEAR(Synthèse!I$3))*'base de données'!$F$2:$F$10000)} -> 0 | ... M10: {=SUMPRODUCT(('base de données'!$E$2:$E$10000=Synthèse!$A10)*(MONTH('base de données'!$C$2:$C$10000)=MONTH(Synthèse!M$3))*(YEAR('base de données'!$C$2:$C$10000)=YEAR(Synthèse!M$3))*'base de données'!$F$2:$F$10000)} -> 0
A11: {=IF(INDEX('base de données'!$E:$E,_xlfn.AGGREGATE(15,6,ROW($E$2:$E$200)/(COUNTIF($A$3:A10,'base de données'!$E$2:$E$200)=0),1))=0,"",INDEX('base de données'!$E:$E,_xlfn.AGGREGATE(15,6,ROW($E$2:$E$200)/(COUNTIF($A$3:A10,'base de données'!$E$2:$E$200)=0),1)))} -> fournisseur 8 | B11: {=SUMPRODUCT(('base de données'!$E$2:$E$10000=Synthèse!$A11)*(MONTH('base de données'!$C$2:$C$10000)=MONTH(Synthèse!B$3))*(YEAR('base de données'!$C$2:$C$10000)=YEAR(Synthèse!B$3))*'base de données'!$F$2:$F$10000)} -> 0 | C11: {=SUMPRODUCT(('base de données'!$E$2:$E$10000=Synthèse!$A11)*(MONTH('base de données'!$C$2:$C$10000)=MONTH(Synthèse!C$3))*(YEAR('base de données'!$C$2:$C$10000)=YEAR(Synthèse!C$3))*'base de données'!$F$2:$F$10000)} -> 0 | D11: {=SUMPRODUCT(('base de données'!$E$2:$E$10000=Synthèse!$A11)*(MONTH('base de données'!$C$2:$C$10000)=MONTH(Synthèse!D$3))*(YEAR('base de données'!$C$2:$C$10000)=YEAR(Synthèse!D$3))*'base de données'!$F$2:$F$10000)} -> 0 | E11: {=SUMPRODUCT(('base de données'!$E$2:$E$10000=Synthèse!$A11)*(MONTH('base de données'!$C$2:$C$10000)=MONTH(Synthèse!E$3))*(YEAR('base de données'!$C$2:$C$10000)=YEAR(Synthèse!E$3))*'base de données'!$F$2:$F$10000)} -> 0 | F11: {=SUMPRODUCT(('base de données'!$E$2:$E$10000=Synthèse!$A11)*(MONTH('base de données'!$C$2:$C$10000)=MONTH(Synthèse!F$3))*(YEAR('base de données'!$C$2:$C$10000)=YEAR(Synthèse!F$3))*'base de données'!$F$2:$F$10000)} -> 73.99 | G11: {=SUMPRODUCT(('base de données'!$E$2:$E$10000=Synthèse!$A11)*(MONTH('base de données'!$C$2:$C$10000)=MONTH(Synthèse!G$3))*(YEAR('base de données'!$C$2:$C$10000)=YEAR(Synthèse!G$3))*'base de données'!$F$2:$F$10000)} -> 0 | H11: {=SUMPRODUCT(('base de données'!$E$2:$E$10000=Synthèse!$A11)*(MONTH('base de données'!$C$2:$C$10000)=MONTH(Synthèse!H$3))*(YEAR('base de données'!$C$2:$C$10000)=YEAR(Synthèse!H$3))*'base de données'!$F$2:$F$10000)} -> 0 | I11: {=SUMPRODUCT(('base de données'!$E$2:$E$10000=Synthèse!$A11)*(MONTH('base de données'!$C$2:$C$10000)=MONTH(Synthèse!I$3))*(YEAR('base de données'!$C$2:$C$10000)=YEAR(Synthèse!I$3))*'base de données'!$F$2:$F$10000)} -> 0 | ... M11: {=SUMPRODUCT(('base de données'!$E$2:$E$10000=Synthèse!$A11)*(MONTH('base de données'!$C$2:$C$10000)=MONTH(Synthèse!M$3))*(YEAR('base de données'!$C$2:$C$10000)=YEAR(Synthèse!M$3))*'base de données'!$F$2:$F$10000)} -> 0
A12: {=IF(INDEX('base de données'!$E:$E,_xlfn.AGGREGATE(15,6,ROW($E$2:$E$200)/(COUNTIF($A$3:A11,'base de données'!$E$2:$E$200)=0),1))=0,"",INDEX('base de données'!$E:$E,_xlfn.AGGREGATE(15,6,ROW($E$2:$E$200)/(COUNTIF($A$3:A11,'base de données'!$E$2:$E$200)=0),1)))} -> fournisseur 9 | B12: {=SUMPRODUCT(('base de données'!$E$2:$E$10000=Synthèse!$A12)*(MONTH('base de données'!$C$2:$C$10000)=MONTH(Synthèse!B$3))*(YEAR('base de données'!$C$2:$C$10000)=YEAR(Synthèse!B$3))*'base de données'!$F$2:$F$10000)} -> 0 | C12: {=SUMPRODUCT(('base de données'!$E$2:$E$10000=Synthèse!$A12)*(MONTH('base de données'!$C$2:$C$10000)=MONTH(Synthèse!C$3))*(YEAR('base de données'!$C$2:$C$10000)=YEAR(Synthèse!C$3))*'base de données'!$F$2:$F$10000)} -> 0 | D12: {=SUMPRODUCT(('base de données'!$E$2:$E$10000=Synthèse!$A12)*(MONTH('base de données'!$C$2:$C$10000)=MONTH(Synthèse!D$3))*(YEAR('base de données'!$C$2:$C$10000)=YEAR(Synthèse!D$3))*'base de données'!$F$2:$F$10000)} -> 44.76 | E12: {=SUMPRODUCT(('base de données'!$E$2:$E$10000=Synthèse!$A12)*(MONTH('base de données'!$C$2:$C$10000)=MONTH(Synthèse!E$3))*(YEAR('base de données'!$C$2:$C$10000)=YEAR(Synthèse!E$3))*'base de données'!$F$2:$F$10000)} -> 0 | F12: {=SUMPRODUCT(('base de données'!$E$2:$E$10000=Synthèse!$A12)*(MONTH('base de données'!$C$2:$C$10000)=MONTH(Synthèse!F$3))*(YEAR('base de données'!$C$2:$C$10000)=YEAR(Synthèse!F$3))*'base de données'!$F$2:$F$10000)} -> 171.6 | G12: {=SUMPRODUCT(('base de données'!$E$2:$E$10000=Synthèse!$A12)*(MONTH('base de données'!$C$2:$C$10000)=MONTH(Synthèse!G$3))*(YEAR('base de données'!$C$2:$C$10000)=YEAR(Synthèse!G$3))*'base de données'!$F$2:$F$10000)} -> 0 | H12: {=SUMPRODUCT(('base de données'!$E$2:$E$10000=Synthèse!$A12)*(MONTH('base de données'!$C$2:$C$10000)=MONTH(Synthèse!H$3))*(YEAR('base de données'!$C$2:$C$10000)=YEAR(Synthèse!H$3))*'base de données'!$F$2:$F$10000)} -> 0 | I12: {=SUMPRODUCT(('base de données'!$E$2:$E$10000=Synthèse!$A12)*(MONTH('base de données'!$C$2:$C$10000)=MONTH(Synthèse!I$3))*(YEAR('base de données'!$C$2:$C$10000)=YEAR(Synthèse!I$3))*'base de données'!$F$2:$F$10000)} -> 0 | ... M12: {=SUMPRODUCT(('base de données'!$E$2:$E$10000=Synthèse!$A12)*(MONTH('base de données'!$C$2:$C$10000)=MONTH(Synthèse!M$3))*(YEAR('base de données'!$C$2:$C$10000)=YEAR(Synthèse!M$3))*'base de données'!$F$2:$F$10000)} -> 0
A13: {=IF(INDEX('base de données'!$E:$E,_xlfn.AGGREGATE(15,6,ROW($E$2:$E$200)/(COUNTIF($A$3:A12,'base de données'!$E$2:$E$200)=0),1))=0,"",INDEX('base de données'!$E:$E,_xlfn.AGGREGATE(15,6,ROW($E$2:$E$200)/(COUNTIF($A$3:A12,'base de données'!$E$2:$E$200)=0),1)))} -> fournisseur 10 | B13: {=SUMPRODUCT(('base de données'!$E$2:$E$10000=Synthèse!$A13)*(MONTH('base de données'!$C$2:$C$10000)=MONTH(Synthèse!B$3))*(YEAR('base de données'!$C$2:$C$10000)=YEAR(Synthèse!B$3))*'base de données'!$F$2:$F$10000)} -> 0 | C13: {=SUMPRODUCT(('base de données'!$E$2:$E$10000=Synthèse!$A13)*(MONTH('base de données'!$C$2:$C$10000)=MONTH(Synthèse!C$3))*(YEAR('base de données'!$C$2:$C$10000)=YEAR(Synthèse!C$3))*'base de données'!$F$2:$F$10000)} -> 0 | D13: {=SUMPRODUCT(('base de données'!$E$2:$E$10000=Synthèse!$A13)*(MONTH('base de données'!$C$2:$C$10000)=MONTH(Synthèse!D$3))*(YEAR('base de données'!$C$2:$C$10000)=YEAR(Synthèse!D$3))*'base de données'!$F$2:$F$10000)} -> 0 | E13: {=SUMPRODUCT(('base de données'!$E$2:$E$10000=Synthèse!$A13)*(MONTH('base de données'!$C$2:$C$10000)=MONTH(Synthèse!E$3))*(YEAR('base de données'!$C$2:$C$10000)=YEAR(Synthèse!E$3))*'base de données'!$F$2:$F$10000)} -> 0 | F13: {=SUMPRODUCT(('base de données'!$E$2:$E$10000=Synthèse!$A13)*(MONTH('base de données'!$C$2:$C$10000)=MONTH(Synthèse!F$3))*(YEAR('base de données'!$C$2:$C$10000)=YEAR(Synthèse!F$3))*'base de données'!$F$2:$F$10000)} -> 79.61 | G13: {=SUMPRODUCT(('base de données'!$E$2:$E$10000=Synthèse!$A13)*(MONTH('base de données'!$C$2:$C$10000)=MONTH(Synthèse!G$3))*(YEAR('base de données'!$C$2:$C$10000)=YEAR(Synthèse!G$3))*'base de données'!$F$2:$F$10000)} -> 0 | H13: {=SUMPRODUCT(('base de données'!$E$2:$E$10000=Synthèse!$A13)*(MONTH('base de données'!$C$2:$C$10000)=MONTH(Synthèse!H$3))*(YEAR('base de données'!$C$2:$C$10000)=YEAR(Synthèse!H$3))*'base de données'!$F$2:$F$10000)} -> 0 | I13: {=SUMPRODUCT(('base de données'!$E$2:$E$10000=Synthèse!$A13)*(MONTH('base de données'!$C$2:$C$10000)=MONTH(Synthèse!I$3))*(YEAR('base de données'!$C$2:$C$10000)=YEAR(Synthèse!I$3))*'base de données'!$F$2:$F$10000)} -> 0 | ... M13: {=SUMPRODUCT(('base de données'!$E$2:$E$10000=Synthèse!$A13)*(MONTH('base de données'!$C$2:$C$10000)=MONTH(Synthèse!M$3))*(YEAR('base de données'!$C$2:$C$10000)=YEAR(Synthèse!M$3))*'base de données'!$F$2:$F$10000)} -> 0
A14: {=IF(INDEX('base de données'!$E:$E,_xlfn.AGGREGATE(15,6,ROW($E$2:$E$200)/(COUNTIF($A$3:A13,'base de données'!$E$2:$E$200)=0),1))=0,"",INDEX('base de données'!$E:$E,_xlfn.AGGREGATE(15,6,ROW($E$2:$E$200)/(COUNTIF($A$3:A13,'base de données'!$E$2:$E$200)=0),1)))} -> fournisseur 11 | B14: {=SUMPRODUCT(('base de données'!$E$2:$E$10000=Synthèse!$A14)*(MONTH('base de données'!$C$2:$C$10000)=MONTH(Synthèse!B$3))*(YEAR('base de données'!$C$2:$C$10000)=YEAR(Synthèse!B$3))*'base de données'!$F$2:$F$10000)} -> 0 | C14: {=SUMPRODUCT(('base de données'!$E$2:$E$10000=Synthèse!$A14)*(MONTH('base de données'!$C$2:$C$10000)=MONTH(Synthèse!C$3))*(YEAR('base de données'!$C$2:$C$10000)=YEAR(Synthèse!C$3))*'base de données'!$F$2:$F$10000)} -> 0 | D14: {=SUMPRODUCT(('base de données'!$E$2:$E$10000=Synthèse!$A14)*(MONTH('base de données'!$C$2:$C$10000)=MONTH(Synthèse!D$3))*(YEAR('base de données'!$C$2:$C$10000)=YEAR(Synthèse!D$3))*'base de données'!$F$2:$F$10000)} -> 0 | E14: {=SUMPRODUCT(('base de données'!$E$2:$E$10000=Synthèse!$A14)*(MONTH('base de données'!$C$2:$C$10000)=MONTH(Synthèse!E$3))*(YEAR('base de données'!$C$2:$C$10000)=YEAR(Synthèse!E$3))*'base de données'!$F$2:$F$10000)} -> 0 | F14: {=SUMPRODUCT(('base de données'!$E$2:$E$10000=Synthèse!$A14)*(MONTH('base de données'!$C$2:$C$10000)=MONTH(Synthèse!F$3))*(YEAR('base de données'!$C$2:$C$10000)=YEAR(Synthèse!F$3))*'base de données'!$F$2:$F$10000)} -> 1278.45 | G14: {=SUMPRODUCT(('base de données'!$E$2:$E$10000=Synthèse!$A14)*(MONTH('base de données'!$C$2:$C$10000)=MONTH(Synthèse!G$3))*(YEAR('base de données'!$C$2:$C$10000)=YEAR(Synthèse!G$3))*'base de données'!$F$2:$F$10000)} -> 0 | H14: {=SUMPRODUCT(('base de données'!$E$2:$E$10000=Synthèse!$A14)*(MONTH('base de données'!$C$2:$C$10000)=MONTH(Synthèse!H$3))*(YEAR('base de données'!$C$2:$C$10000)=YEAR(Synthèse!H$3))*'base de données'!$F$2:$F$10000)} -> 0 | I14: {=SUMPRODUCT(('base de données'!$E$2:$E$10000=Synthèse!$A14)*(MONTH('base de données'!$C$2:$C$10000)=MONTH(Synthèse!I$3))*(YEAR('base de données'!$C$2:$C$10000)=YEAR(Synthèse!I$3))*'base de données'!$F$2:$F$10000)} -> 0 | ... M14: {=SUMPRODUCT(('base de données'!$E$2:$E$10000=Synthèse!$A14)*(MONTH('base de données'!$C$2:$C$10000)=MONTH(Synthèse!M$3))*(YEAR('base de données'!$C$2:$C$10000)=YEAR(Synthèse!M$3))*'base de données'!$F$2:$F$10000)} -> 0
A15: {=IF(INDEX('base de données'!$E:$E,_xlfn.AGGREGATE(15,6,ROW($E$2:$E$200)/(COUNTIF($A$3:A14,'base de données'!$E$2:$E$200)=0),1))=0,"",INDEX('base de données'!$E:$E,_xlfn.AGGREGATE(15,6,ROW($E$2:$E$200)/(COUNTIF($A$3:A14,'base de données'!$E$2:$E$200)=0),1)))} -> fournisseur 12 | B15: {=SUMPRODUCT(('base de données'!$E$2:$E$10000=Synthèse!$A15)*(MONTH('base de données'!$C$2:$C$10000)=MONTH(Synthèse!B$3))*(YEAR('base de données'!$C$2:$C$10000)=YEAR(Synthèse!B$3))*'base de données'!$F$2:$F$10000)} -> 0 | C15: {=SUMPRODUCT(('base de données'!$E$2:$E$10000=Synthèse!$A15)*(MONTH('base de données'!$C$2:$C$10000)=MONTH(Synthèse!C$3))*(YEAR('base de données'!$C$2:$C$10000)=YEAR(Synthèse!C$3))*'base de données'!$F$2:$F$10000)} -> 0 | D15: {=SUMPRODUCT(('base de données'!$E$2:$E$10000=Synthèse!$A15)*(MONTH('base de données'!$C$2:$C$10000)=MONTH(Synthèse!D$3))*(YEAR('base de données'!$C$2:$C$10000)=YEAR(Synthèse!D$3))*'base de données'!$F$2:$F$10000)} -> 0 | E15: {=SUMPRODUCT(('base de données'!$E$2:$E$10000=Synthèse!$A15)*(MONTH('base de données'!$C$2:$C$10000)=MONTH(Synthèse!E$3))*(YEAR('base de données'!$C$2:$C$10000)=YEAR(Synthèse!E$3))*'base de données'!$F$2:$F$10000)} -> 0 | F15: {=SUMPRODUCT(('base de données'!$E$2:$E$10000=Synthèse!$A15)*(MONTH('base de données'!$C$2:$C$10000)=MONTH(Synthèse!F$3))*(YEAR('base de données'!$C$2:$C$10000)=YEAR(Synthèse!F$3))*'base de données'!$F$2:$F$10000)} -> 980 | G15: {=SUMPRODUCT(('base de données'!$E$2:$E$10000=Synthèse!$A15)*(MONTH('base de données'!$C$2:$C$10000)=MONTH(Synthèse!G$3))*(YEAR('base de données'!$C$2:$C$10000)=YEAR(Synthèse!G$3))*'base de données'!$F$2:$F$10000)} -> 0 | H15: {=SUMPRODUCT(('base de données'!$E$2:$E$10000=Synthèse!$A15)*(MONTH('base de données'!$C$2:$C$10000)=MONTH(Synthèse!H$3))*(YEAR('base de données'!$C$2:$C$10000)=YEAR(Synthèse!H$3))*'base de données'!$F$2:$F$10000)} -> 0 | I15: {=SUMPRODUCT(('base de données'!$E$2:$E$10000=Synthèse!$A15)*(MONTH('base de données'!$C$2:$C$10000)=MONTH(Synthèse!I$3))*(YEAR('base de données'!$C$2:$C$10000)=YEAR(Synthèse!I$3))*'base de données'!$F$2:$F$10000)} -> 0 | ... M15: {=SUMPRODUCT(('base de données'!$E$2:$E$10000=Synthèse!$A15)*(MONTH('base de données'!$C$2:$C$10000)=MONTH(Synthèse!M$3))*(YEAR('base de données'!$C$2:$C$10000)=YEAR(Synthèse!M$3))*'base de données'!$F$2:$F$10000)} -> 0
... A40: {=IF(INDEX('base de données'!$E:$E,_xlfn.AGGREGATE(15,6,ROW($E$2:$E$200)/(COUNTIF($A$3:A39,'base de données'!$E$2:$E$200)=0),1))=0,"",INDEX('base de données'!$E:$E,_xlfn.AGGREGATE(15,6,ROW($E$2:$E$200)/(COUNTIF($A$3:A39,'base de données'!$E$2:$E$200)=0),1)))} | B40: {=SUMPRODUCT(('base de données'!$E$2:$E$10000=Synthèse!$A40)*(MONTH('base de données'!$C$2:$C$10000)=MONTH(Synthèse!B$3))*(YEAR('base de données'!$C$2:$C$10000)=YEAR(Synthèse!B$3))*'base de données'!$F$2:$F$10000)} -> 0 | C40: {=SUMPRODUCT(('base de données'!$E$2:$E$10000=Synthèse!$A40)*(MONTH('base de données'!$C$2:$C$10000)=MONTH(Synthèse!C$3))*(YEAR('base de données'!$C$2:$C$10000)=YEAR(Synthèse!C$3))*'base de données'!$F$2:$F$10000)} -> 0 | D40: {=SUMPRODUCT(('base de données'!$E$2:$E$10000=Synthèse!$A40)*(MONTH('base de données'!$C$2:$C$10000)=MONTH(Synthèse!D$3))*(YEAR('base de données'!$C$2:$C$10000)=YEAR(Synthèse!D$3))*'base de données'!$F$2:$F$10000)} -> 0 | E40: {=SUMPRODUCT(('base de données'!$E$2:$E$10000=Synthèse!$A40)*(MONTH('base de données'!$C$2:$C$10000)=MONTH(Synthèse!E$3))*(YEAR('base de données'!$C$2:$C$10000)=YEAR(Synthèse!E$3))*'base de données'!$F$2:$F$10000)} -> 0 | F40: {=SUMPRODUCT(('base de données'!$E$2:$E$10000=Synthèse!$A40)*(MONTH('base de données'!$C$2:$C$10000)=MONTH(Synthèse!F$3))*(YEAR('base de données'!$C$2:$C$10000)=YEAR(Synthèse!F$3))*'base de données'!$F$2:$F$10000)} -> 0 | G40: {=SUMPRODUCT(('base de données'!$E$2:$E$10000=Synthèse!$A40)*(MONTH('base de données'!$C$2:$C$10000)=MONTH(Synthèse!G$3))*(YEAR('base de données'!$C$2:$C$10000)=YEAR(Synthèse!G$3))*'base de données'!$F$2:$F$10000)} -> 0 | H40: {=SUMPRODUCT(('base de données'!$E$2:$E$10000=Synthèse!$A40)*(MONTH('base de données'!$C$2:$C$10000)=MONTH(Synthèse!H$3))*(YEAR('base de données'!$C$2:$C$10000)=YEAR(Synthèse!H$3))*'base de données'!$F$2:$F$10000)} -> 0 | I40: {=SUMPRODUCT(('base de données'!$E$2:$E$10000=Synthèse!$A40)*(MONTH('base de données'!$C$2:$C$10000)=MONTH(Synthèse!I$3))*(YEAR('base de données'!$C$2:$C$10000)=YEAR(Synthèse!I$3))*'base de données'!$F$2:$F$10000)} -> 0 | ... M40: {=SUMPRODUCT(('base de données'!$E$2:$E$10000=Synthèse!$A40)*(MONTH('base de données'!$C$2:$C$10000)=MONTH(Synthèse!M$3))*(YEAR('base de données'!$C$2:$C$10000)=YEAR(Synthèse!M$3))*'base de données'!$F$2:$F$10000)} -> 0
