Workbook

Sheet planning
B2: HORAIRES | C2: 09h45-10h00 | E2: 10h00-10h15 | G2: 10h15-10h30 | I2: 10h30-10h45
B3: ATELIER | C3: N1 | E3: N2 | G3: N3 | I3: N4
B4: Défi Ingénierie | C4: =participants!A1 -> A | D4: =participants!A26 -> AA | E4: =participants!A27 -> BB | F4: =participants!A10 -> K | G4: =participants!A11 -> L | H4: =participants!A36 -> KK | I4: =participants!A37 -> LL | J4: =participants!A20 -> U
B5: L'île tournante | C5: =participants!A2 -> B | D5: =participants!A25 -> Z | E5: =participants!A28 -> CC | F5: =participants!A9 -> J | G5: =participants!A12 -> M | H5: =participants!A35 -> JJ | I5: =participants!A38 -> MM | J5: =participants!A19 -> T
B6: Le Nœud humain | C6: =participants!A3 -> C | D6: =participants!A24 -> Y | E6: =participants!A29 -> DD | F6: =participants!A8 -> I | G6: =participants!A13 -> N | H6: =participants!A34 -> II | I6: =participants!A39 -> NN | J6: =participants!A18 -> S
B7: Les petites balles | C7: =participants!A4 -> D | D7: =participants!A23 -> X | E7: =participants!A30 -> EE | F7: =participants!A7 -> H | G7: =participants!A14 -> O | H7: =participants!A33 -> HH | I7: =participants!A40 -> OO | J7: =participants!A17 -> R
B8: Le memory | C8: =participants!A5 -> F | D8: =participants!A22 -> W | E8: =participants!A31 -> FF | F8: =participants!A6 -> G | G8: =participants!A15 -> P | H8: =participants!A32 -> GG | I8: =participants!A41 -> PP | J8: =participants!A16 -> Q
B9: Le serpent trempé | C9: =participants!A6 -> G | D9: =participants!A21 -> V | E9: =participants!A32 -> GG | F9: =participants!A5 -> F | G9: =participants!A16 -> Q | H9: =participants!A31 -> FF | I9: =participants!A42 -> QQ | J9: =participants!A15 -> P
B10: Le tir laser | C10: =participants!A7 -> H | D10: =participants!A20 -> U | E10: =participants!A33 -> HH | F10: =participants!A4 -> D | G10: =participants!A17 -> R | H10: =participants!A30 -> EE | I10: =participants!A1 -> A | J10: =participants!A14 -> O
B11: Le tir à la corde | C11: =participants!A8 -> I | D11: =participants!A19 -> T | E11: =participants!A34 -> II | F11: =participants!A3 -> C | G11: =participants!A18 -> S | H11: =participants!A29 -> DD | I11: =participants!A2 -> B | J11: =participants!A13 -> N
B12: Le tir à l'arc | C12: =participants!A9 -> J | D12: =participants!A18 -> S | E12: =participants!A35 -> JJ | F12: =participants!A2 -> B | G12: =participants!A19 -> T | H12: =participants!A28 -> CC | I12: =participants!A3 -> C | J12: =participants!A12 -> M
B13: La course de brouettes | C13: =participants!A10 -> K | D13: =participants!A17 -> R | E13: =participants!A36 -> KK | F13: =participants!A1 -> A | G13: =participants!A20 -> U | H13: =participants!A27 -> BB | I13: =participants!A4 -> D | J13: =participants!A11 -> L
B14: Dis moi ce que tu vois | C14: =participants!A11 -> L | D14: =participants!A16 -> Q | E14: =participants!A37 -> LL | F14: =participants!A42 -> QQ | G14: =participants!A21 -> V | H14: =participants!A26 -> AA | I14: =participants!A5 -> F | J14: =participants!A10 -> K
B15: Avions en papier | C15: =participants!A12 -> M | D15: =participants!A15 -> P | E15: =participants!A38 -> MM | F15: =participants!A41 -> PP | G15: =participants!A22 -> W | H15: =participants!A25 -> Z | I15: =participants!A6 -> G | J15: =participants!A9 -> J
B16: One-One | C16: =participants!A13 -> N | D16: =participants!A14 -> O | E16: =participants!A39 -> NN | F16: =participants!A40 -> OO | G16: =participants!A23 -> X | H16: =participants!A24 -> Y | I16: =participants!A7 -> H | J16: =participants!A8 -> I

Sheet roadbook
B2: A | C2: B | D2: C | E2: D | F2: F | G2: G | H2: H | I2: I | J2: J | K2: K | L2: L | M2: M | N2: N | O2: O | P2: P | Q2: Q | R2: R | S2: S | T2: T | U2: U | V2: V | W2: W | X2: X | Y2: Y | Z2: Z | AA2: AA | AB2: BB | AC2: CC | AD2: DD | AE2: EE | AF2: FF | AG2: GG | AH2: HH | AI2: II | AJ2: JJ | AK2: KK | AL2: LL | AM2: MM | AN2: NN | AO2: OO | AP2: PP | AQ2: QQ
A3: Défi Ingénierie | B3: {=IFERROR(INDEX(planning!$2:$2,IF(ISEVEN(MATCH(B$2,OFFSET(planning!$A$3:$J$3,MATCH($A3,planning!$B$4:$B$16,0),),0)),MATCH(B$2,OFFSET(planning!$A$3:$J$3,MATCH($A3,planning!$B$4:$B$16,0),),0)-1,MATCH(B$2,OFFSET(planning!$A$3:$J$3,MATCH($A3,planning!$B$4:$B$16,0),),0))),"")} -> 09h45-10h00 | C3: {=IFERROR(INDEX(planning!$2:$2,IF(ISEVEN(MATCH(C$2,OFFSET(planning!$A$3:$J$3,MATCH($A3,planning!$B$4:$B$16,0),),0)),MATCH(C$2,OFFSET(planning!$A$3:$J$3,MATCH($A3,planning!$B$4:$B$16,0),),0)-1,MATCH(C$2,OFFSET(planning!$A$3:$J$3,MATCH($A3,planning!$B$4:$B$16,0),),0))),"")} | D3: {=IFERROR(INDEX(planning!$2:$2,IF(ISEVEN(MATCH(D$2,OFFSET(planning!$A$3:$J$3,MATCH($A3,planning!$B$4:$B$16,0),),0)),MATCH(D$2,OFFSET(planning!$A$3:$J$3,MATCH($A3,planning!$B$4:$B$16,0),),0)-1,MATCH(D$2,OFFSET(planning!$A$3:$J$3,MATCH($A3,planning!$B$4:$B$16,0),),0))),"")} | E3: {=IFERROR(INDEX(planning!$2:$2,IF(ISEVEN(MATCH(E$2,OFFSET(planning!$A$3:$J$3,MATCH($A3,planning!$B$4:$B$16,0),),0)),MATCH(E$2,OFFSET(planning!$A$3:$J$3,MATCH($A3,planning!$B$4:$B$16,0),),0)-1,MATCH(E$2,OFFSET(planning!$A$3:$J$3,MATCH($A3,planning!$B$4:$B$16,0),),0))),"")} | F3: {=IFERROR(INDEX(planning!$2:$2,IF(ISEVEN(MATCH(F$2,OFFSET(planning!$A$3:$J$3,MATCH($A3,planning!$B$4:$B$16,0),),0)),MATCH(F$2,OFFSET(planning!$A$3:$J$3,MATCH($A3,planning!$B$4:$B$16,0),),0)-1,MATCH(F$2,OFFSET(planning!$A$3:$J$3,MATCH($A3,planning!$B$4:$B$16,0),),0))),"")} | G3: {=IFERROR(INDEX(planning!$2:$2,IF(ISEVEN(MATCH(G$2,OFFSET(planning!$A$3:$J$3,MATCH($A3,planning!$B$4:$B$16,0),),0)),MATCH(G$2,OFFSET(planning!$A$3:$J$3,MATCH($A3,planning!$B$4:$B$16,0),),0)-1,MATCH(G$2,OFFSET(planning!$A$3:$J$3,MATCH($A3,planning!$B$4:$B$16,0),),0))),"")} | H3: {=IFERROR(INDEX(planning!$2:$2,IF(ISEVEN(MATCH(H$2,OFFSET(planning!$A$3:$J$3,MATCH($A3,planning!$B$4:$B$16,0),),0)),MATCH(H$2,OFFSET(planning!$A$3:$J$3,MATCH($A3,planning!$B$4:$B$16,0),),0)-1,MATCH(H$2,OFFSET(planning!$A$3:$J$3,MATCH($A3,planning!$B$4:$B$16,0),),0))),"")} | I3: {=IFERROR(INDEX(planning!$2:$2,IF(ISEVEN(MATCH(I$2,OFFSET(planning!$A$3:$J$3,MATCH($A3,planning!$B$4:$B$16,0),),0)),MATCH(I$2,OFFSET(planning!$A$3:$J$3,MATCH($A3,planning!$B$4:$B$16,0),),0)-1,MATCH(I$2,OFFSET(planning!$A$3:$J$3,MATCH($A3,planning!$B$4:$B$16,0),),0))),"")} | ... AQ3: {=IFERROR(INDEX(planning!$2:$2,IF(ISEVEN(MATCH(AQ$2,OFFSET(planning!$A$3:$J$3,MATCH($A3,planning!$B$4:$B$16,0),),0)),MATCH(AQ$2,OFFSET(planning!$A$3:$J$3,MATCH($A3,planning!$B$4:$B$16,0),),0)-1,MATCH(AQ$2,OFFSET(planning!$A$3:$J$3,MATCH($A3,planning!$B$4:$B$16,0),),0))),"")} | AR3: {=IFERROR(INDEX(planning!$2:$2,IF(ISEVEN(MATCH(AQ$2,OFFSET(planning!$A$3:$J$3,MATCH($A3,planning!$B$4:$B$16,0),),0)),MATCH(AQ$2,OFFSET(planning!$A$3:$J$3,MATCH($A3,planning!$B$4:$B$16,0),),0)-1,MATCH(AQ$2,OFFSET(planning!$A$3:$J$3,MATCH($A3,planning!$B$4:$B$16,0),),0))),"")}
A4: L'île tournante | B4: {=IFERROR(INDEX(planning!$2:$2,IF(ISEVEN(MATCH(B$2,OFFSET(planning!$A$3:$J$3,MATCH($A4,planning!$B$4:$B$16,0),),0)),MATCH(B$2,OFFSET(planning!$A$3:$J$3,MATCH($A4,planning!$B$4:$B$16,0),),0)-1,MATCH(B$2,OFFSET(planning!$A$3:$J$3,MATCH($A4,planning!$B$4:$B$16,0),),0))),"")} | C4: {=IFERROR(INDEX(planning!$2:$2,IF(ISEVEN(MATCH(C$2,OFFSET(planning!$A$3:$J$3,MATCH($A4,planning!$B$4:$B$16,0),),0)),MATCH(C$2,OFFSET(planning!$A$3:$J$3,MATCH($A4,planning!$B$4:$B$16,0),),0)-1,MATCH(C$2,OFFSET(planning!$A$3:$J$3,MATCH($A4,planning!$B$4:$B$16,0),),0))),"")} -> 09h45-10h00 | D4: {=IFERROR(INDEX(planning!$2:$2,IF(ISEVEN(MATCH(D$2,OFFSET(planning!$A$3:$J$3,MATCH($A4,planning!$B$4:$B$16,0),),0)),MATCH(D$2,OFFSET(planning!$A$3:$J$3,MATCH($A4,planning!$B$4:$B$16,0),),0)-1,MATCH(D$2,OFFSET(planning!$A$3:$J$3,MATCH($A4,planning!$B$4:$B$16,0),),0))),"")} | E4: {=IFERROR(INDEX(planning!$2:$2,IF(ISEVEN(MATCH(E$2,OFFSET(planning!$A$3:$J$3,MATCH($A4,planning!$B$4:$B$16,0),),0)),MATCH(E$2,OFFSET(planning!$A$3:$J$3,MATCH($A4,planning!$B$4:$B$16,0),),0)-1,MATCH(E$2,OFFSET(planning!$A$3:$J$3,MATCH($A4,planning!$B$4:$B$16,0),),0))),"")} | F4: {=IFERROR(INDEX(planning!$2:$2,IF(ISEVEN(MATCH(F$2,OFFSET(planning!$A$3:$J$3,MATCH($A4,planning!$B$4:$B$16,0),),0)),MATCH(F$2,OFFSET(planning!$A$3:$J$3,MATCH($A4,planning!$B$4:$B$16,0),),0)-1,MATCH(F$2,OFFSET(planning!$A$3:$J$3,MATCH($A4,planning!$B$4:$B$16,0),),0))),"")} | G4: {=IFERROR(INDEX(planning!$2:$2,IF(ISEVEN(MATCH(G$2,OFFSET(planning!$A$3:$J$3,MATCH($A4,planning!$B$4:$B$16,0),),0)),MATCH(G$2,OFFSET(planning!$A$3:$J$3,MATCH($A4,planning!$B$4:$B$16,0),),0)-1,MATCH(G$2,OFFSET(planning!$A$3:$J$3,MATCH($A4,planning!$B$4:$B$16,0),),0))),"")} | H4: {=IFERROR(INDEX(planning!$2:$2,IF(ISEVEN(MATCH(H$2,OFFSET(planning!$A$3:$J$3,MATCH($A4,planning!$B$4:$B$16,0),),0)),MATCH(H$2,OFFSET(planning!$A$3:$J$3,MATCH($A4,planning!$B$4:$B$16,0),),0)-1,MATCH(H$2,OFFSET(planning!$A$3:$J$3,MATCH($A4,planning!$B$4:$B$16,0),),0))),"")} | I4: {=IFERROR(INDEX(planning!$2:$2,IF(ISEVEN(MATCH(I$2,OFFSET(planning!$A$3:$J$3,MATCH($A4,planning!$B$4:$B$16,0),),0)),MATCH(I$2,OFFSET(planning!$A$3:$J$3,MATCH($A4,planning!$B$4:$B$16,0),),0)-1,MATCH(I$2,OFFSET(planning!$A$3:$J$3,MATCH($A4,planning!$B$4:$B$16,0),),0))),"")} | ... AQ4: {=IFERROR(INDEX(planning!$2:$2,IF(ISEVEN(MATCH(AQ$2,OFFSET(planning!$A$3:$J$3,MATCH($A4,planning!$B$4:$B$16,0),),0)),MATCH(AQ$2,OFFSET(planning!$A$3:$J$3,MATCH($A4,planning!$B$4:$B$16,0),),0)-1,MATCH(AQ$2,OFFSET(planning!$A$3:$J$3,MATCH($A4,planning!$B$4:$B$16,0),),0))),"")}
A5: Le Nœud humain | B5: {=IFERROR(INDEX(planning!$2:$2,IF(ISEVEN(MATCH(B$2,OFFSET(planning!$A$3:$J$3,MATCH($A5,planning!$B$4:$B$16,0),),0)),MATCH(B$2,OFFSET(planning!$A$3:$J$3,MATCH($A5,planning!$B$4:$B$16,0),),0)-1,MATCH(B$2,OFFSET(planning!$A$3:$J$3,MATCH($A5,planning!$B$4:$B$16,0),),0))),"")} | C5: {=IFERROR(INDEX(planning!$2:$2,IF(ISEVEN(MATCH(C$2,OFFSET(planning!$A$3:$J$3,MATCH($A5,planning!$B$4:$B$16,0),),0)),MATCH(C$2,OFFSET(planning!$A$3:$J$3,MATCH($A5,planning!$B$4:$B$16,0),),0)-1,MATCH(C$2,OFFSET(planning!$A$3:$J$3,MATCH($A5,planning!$B$4:$B$16,0),),0))),"")} | D5: {=IFERROR(INDEX(planning!$2:$2,IF(ISEVEN(MATCH(D$2,OFFSET(planning!$A$3:$J$3,MATCH($A5,planning!$B$4:$B$16,0),),0)),MATCH(D$2,OFFSET(planning!$A$3:$J$3,MATCH($A5,planning!$B$4:$B$16,0),),0)-1,MATCH(D$2,OFFSET(planning!$A$3:$J$3,MATCH($A5,planning!$B$4:$B$16,0),),0))),"")} -> 09h45-10h00 | E5: {=IFERROR(INDEX(planning!$2:$2,IF(ISEVEN(MATCH(E$2,OFFSET(planning!$A$3:$J$3,MATCH($A5,planning!$B$4:$B$16,0),),0)),MATCH(E$2,OFFSET(planning!$A$3:$J$3,MATCH($A5,planning!$B$4:$B$16,0),),0)-1,MATCH(E$2,OFFSET(planning!$A$3:$J$3,MATCH($A5,planning!$B$4:$B$16,0),),0))),"")} | F5: {=IFERROR(INDEX(planning!$2:$2,IF(ISEVEN(MATCH(F$2,OFFSET(planning!$A$3:$J$3,MATCH($A5,planning!$B$4:$B$16,0),),0)),MATCH(F$2,OFFSET(planning!$A$3:$J$3,MATCH($A5,planning!$B$4:$B$16,0),),0)-1,MATCH(F$2,OFFSET(planning!$A$3:$J$3,MATCH($A5,planning!$B$4:$B$16,0),),0))),"")} | G5: {=IFERROR(INDEX(planning!$2:$2,IF(ISEVEN(MATCH(G$2,OFFSET(planning!$A$3:$J$3,MATCH($A5,planning!$B$4:$B$16,0),),0)),MATCH(G$2,OFFSET(planning!$A$3:$J$3,MATCH($A5,planning!$B$4:$B$16,0),),0)-1,MATCH(G$2,OFFSET(planning!$A$3:$J$3,MATCH($A5,planning!$B$4:$B$16,0),),0))),"")} | H5: {=IFERROR(INDEX(planning!$2:$2,IF(ISEVEN(MATCH(H$2,OFFSET(planning!$A$3:$J$3,MATCH($A5,planning!$B$4:$B$16,0),),0)),MATCH(H$2,OFFSET(planning!$A$3:$J$3,MATCH($A5,planning!$B$4:$B$16,0),),0)-1,MATCH(H$2,OFFSET(planning!$A$3:$J$3,MATCH($A5,planning!$B$4:$B$16,0),),0))),"")} | I5: {=IFERROR(INDEX(planning!$2:$2,IF(ISEVEN(MATCH(I$2,OFFSET(planning!$A$3:$J$3,MATCH($A5,planning!$B$4:$B$16,0),),0)),MATCH(I$2,OFFSET(planning!$A$3:$J$3,MATCH($A5,planning!$B$4:$B$16,0),),0)-1,MATCH(I$2,OFFSET(planning!$A$3:$J$3,MATCH($A5,planning!$B$4:$B$16,0),),0))),"")} -> 10h00-10h15 | ... AQ5: {=IFERROR(INDEX(planning!$2:$2,IF(ISEVEN(MATCH(AQ$2,OFFSET(planning!$A$3:$J$3,MATCH($A5,planning!$B$4:$B$16,0),),0)),MATCH(AQ$2,OFFSET(planning!$A$3:$J$3,MATCH($A5,planning!$B$4:$B$16,0),),0)-1,MATCH(AQ$2,OFFSET(planning!$A$3:$J$3,MATCH($A5,planning!$B$4:$B$16,0),),0))),"")}
A6: Les petites balles | B6: {=IFERROR(INDEX(planning!$2:$2,IF(ISEVEN(MATCH(B$2,OFFSET(planning!$A$3:$J$3,MATCH($A6,planning!$B$4:$B$16,0),),0)),MATCH(B$2,OFFSET(planning!$A$3:$J$3,MATCH($A6,planning!$B$4:$B$16,0),),0)-1,MATCH(B$2,OFFSET(planning!$A$3:$J$3,MATCH($A6,planning!$B$4:$B$16,0),),0))),"")} | C6: {=IFERROR(INDEX(planning!$2:$2,IF(ISEVEN(MATCH(C$2,OFFSET(planning!$A$3:$J$3,MATCH($A6,planning!$B$4:$B$16,0),),0)),MATCH(C$2,OFFSET(planning!$A$3:$J$3,MATCH($A6,planning!$B$4:$B$16,0),),0)-1,MATCH(C$2,OFFSET(planning!$A$3:$J$3,MATCH($A6,planning!$B$4:$B$16,0),),0))),"")} | D6: {=IFERROR(INDEX(planning!$2:$2,IF(ISEVEN(MATCH(D$2,OFFSET(planning!$A$3:$J$3,MATCH($A6,planning!$B$4:$B$16,0),),0)),MATCH(D$2,OFFSET(planning!$A$3:$J$3,MATCH($A6,planning!$B$4:$B$16,0),),0)-1,MATCH(D$2,OFFSET(planning!$A$3:$J$3,MATCH($A6,planning!$B$4:$B$16,0),),0))),"")} | E6: {=IFERROR(INDEX(planning!$2:$2,IF(ISEVEN(MATCH(E$2,OFFSET(planning!$A$3:$J$3,MATCH($A6,planning!$B$4:$B$16,0),),0)),MATCH(E$2,OFFSET(planning!$A$3:$J$3,MATCH($A6,planning!$B$4:$B$16,0),),0)-1,MATCH(E$2,OFFSET(planning!$A$3:$J$3,MATCH($A6,planning!$B$4:$B$16,0),),0))),"")} -> 09h45-10h00 | F6: {=IFERROR(INDEX(planning!$2:$2,IF(ISEVEN(MATCH(F$2,OFFSET(planning!$A$3:$J$3,MATCH($A6,planning!$B$4:$B$16,0),),0)),MATCH(F$2,OFFSET(planning!$A$3:$J$3,MATCH($A6,planning!$B$4:$B$16,0),),0)-1,MATCH(F$2,OFFSET(planning!$A$3:$J$3,MATCH($A6,planning!$B$4:$B$16,0),),0))),"")} | G6: {=IFERROR(INDEX(planning!$2:$2,IF(ISEVEN(MATCH(G$2,OFFSET(planning!$A$3:$J$3,MATCH($A6,planning!$B$4:$B$16,0),),0)),MATCH(G$2,OFFSET(planning!$A$3:$J$3,MATCH($A6,planning!$B$4:$B$16,0),),0)-1,MATCH(G$2,OFFSET(planning!$A$3:$J$3,MATCH($A6,planning!$B$4:$B$16,0),),0))),"")} | H6: {=IFERROR(INDEX(planning!$2:$2,IF(ISEVEN(MATCH(H$2,OFFSET(planning!$A$3:$J$3,MATCH($A6,planning!$B$4:$B$16,0),),0)),MATCH(H$2,OFFSET(planning!$A$3:$J$3,MATCH($A6,planning!$B$4:$B$16,0),),0)-1,MATCH(H$2,OFFSET(planning!$A$3:$J$3,MATCH($A6,planning!$B$4:$B$16,0),),0))),"")} -> 10h00-10h15 | I6: {=IFERROR(INDEX(planning!$2:$2,IF(ISEVEN(MATCH(I$2,OFFSET(planning!$A$3:$J$3,MATCH($A6,planning!$B$4:$B$16,0),),0)),MATCH(I$2,OFFSET(planning!$A$3:$J$3,MATCH($A6,planning!$B$4:$B$16,0),),0)-1,MATCH(I$2,OFFSET(planning!$A$3:$J$3,MATCH($A6,planning!$B$4:$B$16,0),),0))),"")} | ... AQ6: {=IFERROR(INDEX(planning!$2:$2,IF(ISEVEN(MATCH(AQ$2,OFFSET(planning!$A$3:$J$3,MATCH($A6,planning!$B$4:$B$16,0),),0)),MATCH(AQ$2,OFFSET(planning!$A$3:$J$3,MATCH($A6,planning!$B$4:$B$16,0),),0)-1,MATCH(AQ$2,OFFSET(planning!$A$3:$J$3,MATCH($A6,planning!$B$4:$B$16,0),),0))),"")}
A7: Le memory | B7: {=IFERROR(INDEX(planning!$2:$2,IF(ISEVEN(MATCH(B$2,OFFSET(planning!$A$3:$J$3,MATCH($A7,planning!$B$4:$B$16,0),),0)),MATCH(B$2,OFFSET(planning!$A$3:$J$3,MATCH($A7,planning!$B$4:$B$16,0),),0)-1,MATCH(B$2,OFFSET(planning!$A$3:$J$3,MATCH($A7,planning!$B$4:$B$16,0),),0))),"")} | C7: {=IFERROR(INDEX(planning!$2:$2,IF(ISEVEN(MATCH(C$2,OFFSET(planning!$A$3:$J$3,MATCH($A7,planning!$B$4:$B$16,0),),0)),MATCH(C$2,OFFSET(planning!$A$3:$J$3,MATCH($A7,planning!$B$4:$B$16,0),),0)-1,MATCH(C$2,OFFSET(planning!$A$3:$J$3,MATCH($A7,planning!$B$4:$B$16,0),),0))),"")} | D7: {=IFERROR(INDEX(planning!$2:$2,IF(ISEVEN(MATCH(D$2,OFFSET(planning!$A$3:$J$3,MATCH($A7,planning!$B$4:$B$16,0),),0)),MATCH(D$2,OFFSET(planning!$A$3:$J$3,MATCH($A7,planning!$B$4:$B$16,0),),0)-1,MATCH(D$2,OFFSET(planning!$A$3:$J$3,MATCH($A7,planning!$B$4:$B$16,0),),0))),"")} | E7: {=IFERROR(INDEX(planning!$2:$2,IF(ISEVEN(MATCH(E$2,OFFSET(planning!$A$3:$J$3,MATCH($A7,planning!$B$4:$B$16,0),),0)),MATCH(E$2,OFFSET(planning!$A$3:$J$3,MATCH($A7,planning!$B$4:$B$16,0),),0)-1,MATCH(E$2,OFFSET(planning!$A$3:$J$3,MATCH($A7,planning!$B$4:$B$16,0),),0))),"")} | F7: {=IFERROR(INDEX(planning!$2:$2,IF(ISEVEN(MATCH(F$2,OFFSET(planning!$A$3:$J$3,MATCH($A7,planning!$B$4:$B$16,0),),0)),MATCH(F$2,OFFSET(planning!$A$3:$J$3,MATCH($A7,planning!$B$4:$B$16,0),),0)-1,MATCH(F$2,OFFSET(planning!$A$3:$J$3,MATCH($A7,planning!$B$4:$B$16,0),),0))),"")} -> 09h45-10h00 | G7: {=IFERROR(INDEX(planning!$2:$2,IF(ISEVEN(MATCH(G$2,OFFSET(planning!$A$3:$J$3,MATCH($A7,planning!$B$4:$B$16,0),),0)),MATCH(G$2,OFFSET(planning!$A$3:$J$3,MATCH($A7,planning!$B$4:$B$16,0),),0)-1,MATCH(G$2,OFFSET(planning!$A$3:$J$3,MATCH($A7,planning!$B$4:$B$16,0),),0))),"")} -> 10h00-10h15 | H7: {=IFERROR(INDEX(planning!$2:$2,IF(ISEVEN(MATCH(H$2,OFFSET(planning!$A$3:$J$3,MATCH($A7,planning!$B$4:$B$16,0),),0)),MATCH(H$2,OFFSET(planning!$A$3:$J$3,MATCH($A7,planning!$B$4:$B$16,0),),0)-1,MATCH(H$2,OFFSET(planning!$A$3:$J$3,MATCH($A7,planning!$B$4:$B$16,0),),0))),"")} | I7: {=IFERROR(INDEX(planning!$2:$2,IF(ISEVEN(MATCH(I$2,OFFSET(planning!$A$3:$J$3,MATCH($A7,planning!$B$4:$B$16,0),),0)),MATCH(I$2,OFFSET(planning!$A$3:$J$3,MATCH($A7,planning!$B$4:$B$16,0),),0)-1,MATCH(I$2,OFFSET(planning!$A$3:$J$3,MATCH($A7,planning!$B$4:$B$16,0),),0))),"")} | ... AQ7: {=IFERROR(INDEX(planning!$2:$2,IF(ISEVEN(MATCH(AQ$2,OFFSET(planning!$A$3:$J$3,MATCH($A7,planning!$B$4:$B$16,0),),0)),MATCH(AQ$2,OFFSET(planning!$A$3:$J$3,MATCH($A7,planning!$B$4:$B$16,0),),0)-1,MATCH(AQ$2,OFFSET(planning!$A$3:$J$3,MATCH($A7,planning!$B$4:$B$16,0),),0))),"")}
A8: Le serpent trempé | B8: {=IFERROR(INDEX(planning!$2:$2,IF(ISEVEN(MATCH(B$2,OFFSET(planning!$A$3:$J$3,MATCH($A8,planning!$B$4:$B$16,0),),0)),MATCH(B$2,OFFSET(planning!$A$3:$J$3,MATCH($A8,planning!$B$4:$B$16,0),),0)-1,MATCH(B$2,OFFSET(planning!$A$3:$J$3,MATCH($A8,planning!$B$4:$B$16,0),),0))),"")} | C8: {=IFERROR(INDEX(planning!$2:$2,IF(ISEVEN(MATCH(C$2,OFFSET(planning!$A$3:$J$3,MATCH($A8,planning!$B$4:$B$16,0),),0)),MATCH(C$2,OFFSET(planning!$A$3:$J$3,MATCH($A8,planning!$B$4:$B$16,0),),0)-1,MATCH(C$2,OFFSET(planning!$A$3:$J$3,MATCH($A8,planning!$B$4:$B$16,0),),0))),"")} | D8: {=IFERROR(INDEX(planning!$2:$2,IF(ISEVEN(MATCH(D$2,OFFSET(planning!$A$3:$J$3,MATCH($A8,planning!$B$4:$B$16,0),),0)),MATCH(D$2,OFFSET(planning!$A$3:$J$3,MATCH($A8,planning!$B$4:$B$16,0),),0)-1,MATCH(D$2,OFFSET(planning!$A$3:$J$3,MATCH($A8,planning!$B$4:$B$16,0),),0))),"")} | E8: {=IFERROR(INDEX(planning!$2:$2,IF(ISEVEN(MATCH(E$2,OFFSET(planning!$A$3:$J$3,MATCH($A8,planning!$B$4:$B$16,0),),0)),MATCH(E$2,OFFSET(planning!$A$3:$J$3,MATCH($A8,planning!$B$4:$B$16,0),),0)-1,MATCH(E$2,OFFSET(planning!$A$3:$J$3,MATCH($A8,planning!$B$4:$B$16,0),),0))),"")} | F8: {=IFERROR(INDEX(planning!$2:$2,IF(ISEVEN(MATCH(F$2,OFFSET(planning!$A$3:$J$3,MATCH($A8,planning!$B$4:$B$16,0),),0)),MATCH(F$2,OFFSET(planning!$A$3:$J$3,MATCH($A8,planning!$B$4:$B$16,0),),0)-1,MATCH(F$2,OFFSET(planning!$A$3:$J$3,MATCH($A8,planning!$B$4:$B$16,0),),0))),"")} -> 10h00-10h15 | G8: {=IFERROR(INDEX(planning!$2:$2,IF(ISEVEN(MATCH(G$2,OFFSET(planning!$A$3:$J$3,MATCH($A8,planning!$B$4:$B$16,0),),0)),MATCH(G$2,OFFSET(planning!$A$3:$J$3,MATCH($A8,planning!$B$4:$B$16,0),),0)-1,MATCH(G$2,OFFSET(planning!$A$3:$J$3,MATCH($A8,planning!$B$4:$B$16,0),),0))),"")} -> 09h45-10h00 | H8: {=IFERROR(INDEX(planning!$2:$2,IF(ISEVEN(MATCH(H$2,OFFSET(planning!$A$3:$J$3,MATCH($A8,planning!$B$4:$B$16,0),),0)),MATCH(H$2,OFFSET(planning!$A$3:$J$3,MATCH($A8,planning!$B$4:$B$16,0),),0)-1,MATCH(H$2,OFFSET(planning!$A$3:$J$3,MATCH($A8,planning!$B$4:$B$16,0),),0))),"")} | I8: {=IFERROR(INDEX(planning!$2:$2,IF(ISEVEN(MATCH(I$2,OFFSET(planning!$A$3:$J$3,MATCH($A8,planning!$B$4:$B$16,0),),0)),MATCH(I$2,OFFSET(planning!$A$3:$J$3,MATCH($A8,planning!$B$4:$B$16,0),),0)-1,MATCH(I$2,OFFSET(planning!$A$3:$J$3,MATCH($A8,planning!$B$4:$B$16,0),),0))),"")} | ... AQ8: {=IFERROR(INDEX(planning!$2:$2,IF(ISEVEN(MATCH(AQ$2,OFFSET(planning!$A$3:$J$3,MATCH($A8,planning!$B$4:$B$16,0),),0)),MATCH(AQ$2,OFFSET(planning!$A$3:$J$3,MATCH($A8,planning!$B$4:$B$16,0),),0)-1,MATCH(AQ$2,OFFSET(planning!$A$3:$J$3,MATCH($A8,planning!$B$4:$B$16,0),),0))),"")} -> 10h30-10h45
A9: Le tir laser | B9: {=IFERROR(INDEX(planning!$2:$2,IF(ISEVEN(MATCH(B$2,OFFSET(planning!$A$3:$J$3,MATCH($A9,planning!$B$4:$B$16,0),),0)),MATCH(B$2,OFFSET(planning!$A$3:$J$3,MATCH($A9,planning!$B$4:$B$16,0),),0)-1,MATCH(B$2,OFFSET(planning!$A$3:$J$3,MATCH($A9,planning!$B$4:$B$16,0),),0))),"")} -> 10h30-10h45 | C9: {=IFERROR(INDEX(planning!$2:$2,IF(ISEVEN(MATCH(C$2,OFFSET(planning!$A$3:$J$3,MATCH($A9,planning!$B$4:$B$16,0),),0)),MATCH(C$2,OFFSET(planning!$A$3:$J$3,MATCH($A9,planning!$B$4:$B$16,0),),0)-1,MATCH(C$2,OFFSET(planning!$A$3:$J$3,MATCH($A9,planning!$B$4:$B$16,0),),0))),"")} | D9: {=IFERROR(INDEX(planning!$2:$2,IF(ISEVEN(MATCH(D$2,OFFSET(planning!$A$3:$J$3,MATCH($A9,planning!$B$4:$B$16,0),),0)),MATCH(D$2,OFFSET(planning!$A$3:$J$3,MATCH($A9,planning!$B$4:$B$16,0),),0)-1,MATCH(D$2,OFFSET(planning!$A$3:$J$3,MATCH($A9,planning!$B$4:$B$16,0),),0))),"")} | E9: {=IFERROR(INDEX(planning!$2:$2,IF(ISEVEN(MATCH(E$2,OFFSET(planning!$A$3:$J$3,MATCH($A9,planning!$B$4:$B$16,0),),0)),MATCH(E$2,OFFSET(planning!$A$3:$J$3,MATCH($A9,planning!$B$4:$B$16,0),),0)-1,MATCH(E$2,OFFSET(planning!$A$3:$J$3,MATCH($A9,planning!$B$4:$B$16,0),),0))),"")} -> 10h00-10h15 | F9: {=IFERROR(INDEX(planning!$2:$2,IF(ISEVEN(MATCH(F$2,OFFSET(planning!$A$3:$J$3,MATCH($A9,planning!$B$4:$B$16,0),),0)),MATCH(F$2,OFFSET(planning!$A$3:$J$3,MATCH($A9,planning!$B$4:$B$16,0),),0)-1,MATCH(F$2,OFFSET(planning!$A$3:$J$3,MATCH($A9,planning!$B$4:$B$16,0),),0))),"")} | G9: {=IFERROR(INDEX(planning!$2:$2,IF(ISEVEN(MATCH(G$2,OFFSET(planning!$A$3:$J$3,MATCH($A9,planning!$B$4:$B$16,0),),0)),MATCH(G$2,OFFSET(planning!$A$3:$J$3,MATCH($A9,planning!$B$4:$B$16,0),),0)-1,MATCH(G$2,OFFSET(planning!$A$3:$J$3,MATCH($A9,planning!$B$4:$B$16,0),),0))),"")} | H9: {=IFERROR(INDEX(planning!$2:$2,IF(ISEVEN(MATCH(H$2,OFFSET(planning!$A$3:$J$3,MATCH($A9,planning!$B$4:$B$16,0),),0)),MATCH(H$2,OFFSET(planning!$A$3:$J$3,MATCH($A9,planning!$B$4:$B$16,0),),0)-1,MATCH(H$2,OFFSET(planning!$A$3:$J$3,MATCH($A9,planning!$B$4:$B$16,0),),0))),"")} -> 09h45-10h00 | I9: {=IFERROR(INDEX(planning!$2:$2,IF(ISEVEN(MATCH(I$2,OFFSET(planning!$A$3:$J$3,MATCH($A9,planning!$B$4:$B$16,0),),0)),MATCH(I$2,OFFSET(planning!$A$3:$J$3,MATCH($A9,planning!$B$4:$B$16,0),),0)-1,MATCH(I$2,OFFSET(planning!$A$3:$J$3,MATCH($A9,planning!$B$4:$B$16,0),),0))),"")} | ... AQ9: {=IFERROR(INDEX(planning!$2:$2,IF(ISEVEN(MATCH(AQ$2,OFFSET(planning!$A$3:$J$3,MATCH($A9,planning!$B$4:$B$16,0),),0)),MATCH(AQ$2,OFFSET(planning!$A$3:$J$3,MATCH($A9,planning!$B$4:$B$16,0),),0)-1,MATCH(AQ$2,OFFSET(planning!$A$3:$J$3,MATCH($A9,planning!$B$4:$B$16,0),),0))),"")}
A10: Le tir à la corde | B10: {=IFERROR(INDEX(planning!$2:$2,IF(ISEVEN(MATCH(B$2,OFFSET(planning!$A$3:$J$3,MATCH($A10,planning!$B$4:$B$16,0),),0)),MATCH(B$2,OFFSET(planning!$A$3:$J$3,MATCH($A10,planning!$B$4:$B$16,0),),0)-1,MATCH(B$2,OFFSET(planning!$A$3:$J$3,MATCH($A10,planning!$B$4:$B$16,0),),0))),"")} | C10: {=IFERROR(INDEX(planning!$2:$2,IF(ISEVEN(MATCH(C$2,OFFSET(planning!$A$3:$J$3,MATCH($A10,planning!$B$4:$B$16,0),),0)),MATCH(C$2,OFFSET(planning!$A$3:$J$3,MATCH($A10,planning!$B$4:$B$16,0),),0)-1,MATCH(C$2,OFFSET(planning!$A$3:$J$3,MATCH($A10,planning!$B$4:$B$16,0),),0))),"")} -> 10h30-10h45 | D10: {=IFERROR(INDEX(planning!$2:$2,IF(ISEVEN(MATCH(D$2,OFFSET(planning!$A$3:$J$3,MATCH($A10,planning!$B$4:$B$16,0),),0)),MATCH(D$2,OFFSET(planning!$A$3:$J$3,MATCH($A10,planning!$B$4:$B$16,0),),0)-1,MATCH(D$2,OFFSET(planning!$A$3:$J$3,MATCH($A10,planning!$B$4:$B$16,0),),0))),"")} -> 10h00-10h15 | E10: {=IFERROR(INDEX(planning!$2:$2,IF(ISEVEN(MATCH(E$2,OFFSET(planning!$A$3:$J$3,MATCH($A10,planning!$B$4:$B$16,0),),0)),MATCH(E$2,OFFSET(planning!$A$3:$J$3,MATCH($A10,planning!$B$4:$B$16,0),),0)-1,MATCH(E$2,OFFSET(planning!$A$3:$J$3,MATCH($A10,planning!$B$4:$B$16,0),),0))),"")} | F10: {=IFERROR(INDEX(planning!$2:$2,IF(ISEVEN(MATCH(F$2,OFFSET(planning!$A$3:$J$3,MATCH($A10,planning!$B$4:$B$16,0),),0)),MATCH(F$2,OFFSET(planning!$A$3:$J$3,MATCH($A10,planning!$B$4:$B$16,0),),0)-1,MATCH(F$2,OFFSET(planning!$A$3:$J$3,MATCH($A10,planning!$B$4:$B$16,0),),0))),"")} | G10: {=IFERROR(INDEX(planning!$2:$2,IF(ISEVEN(MATCH(G$2,OFFSET(planning!$A$3:$J$3,MATCH($A10,planning!$B$4:$B$16,0),),0)),MATCH(G$2,OFFSET(planning!$A$3:$J$3,MATCH($A10,planning!$B$4:$B$16,0),),0)-1,MATCH(G$2,OFFSET(planning!$A$3:$J$3,MATCH($A10,planning!$B$4:$B$16,0),),0))),"")} | H10: {=IFERROR(INDEX(planning!$2:$2,IF(ISEVEN(MATCH(H$2,OFFSET(planning!$A$3:$J$3,MATCH($A10,planning!$B$4:$B$16,0),),0)),MATCH(H$2,OFFSET(planning!$A$3:$J$3,MATCH($A10,planning!$B$4:$B$16,0),),0)-1,MATCH(H$2,OFFSET(planning!$A$3:$J$3,MATCH($A10,planning!$B$4:$B$16,0),),0))),"")} | I10: {=IFERROR(INDEX(planning!$2:$2,IF(ISEVEN(MATCH(I$2,OFFSET(planning!$A$3:$J$3,MATCH($A10,planning!$B$4:$B$16,0),),0)),MATCH(I$2,OFFSET(planning!$A$3:$J$3,MATCH($A10,planning!$B$4:$B$16,0),),0)-1,MATCH(I$2,OFFSET(planning!$A$3:$J$3,MATCH($A10,planning!$B$4:$B$16,0),),0))),"")} -> 09h45-10h00 | ... AQ10: {=IFERROR(INDEX(planning!$2:$2,IF(ISEVEN(MATCH(AQ$2,OFFSET(planning!$A$3:$J$3,MATCH($A10,planning!$B$4:$B$16,0),),0)),MATCH(AQ$2,OFFSET(planning!$A$3:$J$3,MATCH($A10,planning!$B$4:$B$16,0),),0)-1,MATCH(AQ$2,OFFSET(planning!$A$3:$J$3,MATCH($A10,planning!$B$4:$B$16,0),),0))),"")}
A11: Le tir à l'arc | B11: {=IFERROR(INDEX(planning!$2:$2,IF(ISEVEN(MATCH(B$2,OFFSET(planning!$A$3:$J$3,MATCH($A11,planning!$B$4:$B$16,0),),0)),MATCH(B$2,OFFSET(planning!$A$3:$J$3,MATCH($A11,planning!$B$4:$B$16,0),),0)-1,MATCH(B$2,OFFSET(planning!$A$3:$J$3,MATCH($A11,planning!$B$4:$B$16,0),),0))),"")} | C11: {=IFERROR(INDEX(planning!$2:$2,IF(ISEVEN(MATCH(C$2,OFFSET(planning!$A$3:$J$3,MATCH($A11,planning!$B$4:$B$16,0),),0)),MATCH(C$2,OFFSET(planning!$A$3:$J$3,MATCH($A11,planning!$B$4:$B$16,0),),0)-1,MATCH(C$2,OFFSET(planning!$A$3:$J$3,MATCH($A11,planning!$B$4:$B$16,0),),0))),"")} -> 10h00-10h15 | D11: {=IFERROR(INDEX(planning!$2:$2,IF(ISEVEN(MATCH(D$2,OFFSET(planning!$A$3:$J$3,MATCH($A11,planning!$B$4:$B$16,0),),0)),MATCH(D$2,OFFSET(planning!$A$3:$J$3,MATCH($A11,planning!$B$4:$B$16,0),),0)-1,MATCH(D$2,OFFSET(planning!$A$3:$J$3,MATCH($A11,planning!$B$4:$B$16,0),),0))),"")} -> 10h30-10h45 | E11: {=IFERROR(INDEX(planning!$2:$2,IF(ISEVEN(MATCH(E$2,OFFSET(planning!$A$3:$J$3,MATCH($A11,planning!$B$4:$B$16,0),),0)),MATCH(E$2,OFFSET(planning!$A$3:$J$3,MATCH($A11,planning!$B$4:$B$16,0),),0)-1,MATCH(E$2,OFFSET(planning!$A$3:$J$3,MATCH($A11,planning!$B$4:$B$16,0),),0))),"")} | F11: {=IFERROR(INDEX(planning!$2:$2,IF(ISEVEN(MATCH(F$2,OFFSET(planning!$A$3:$J$3,MATCH($A11,planning!$B$4:$B$16,0),),0)),MATCH(F$2,OFFSET(planning!$A$3:$J$3,MATCH($A11,planning!$B$4:$B$16,0),),0)-1,MATCH(F$2,OFFSET(planning!$A$3:$J$3,MATCH($A11,planning!$B$4:$B$16,0),),0))),"")} | G11: {=IFERROR(INDEX(planning!$2:$2,IF(ISEVEN(MATCH(G$2,OFFSET(planning!$A$3:$J$3,MATCH($A11,planning!$B$4:$B$16,0),),0)),MATCH(G$2,OFFSET(planning!$A$3:$J$3,MATCH($A11,planning!$B$4:$B$16,0),),0)-1,MATCH(G$2,OFFSET(planning!$A$3:$J$3,MATCH($A11,planning!$B$4:$B$16,0),),0))),"")} | H11: {=IFERROR(INDEX(planning!$2:$2,IF(ISEVEN(MATCH(H$2,OFFSET(planning!$A$3:$J$3,MATCH($A11,planning!$B$4:$B$16,0),),0)),MATCH(H$2,OFFSET(planning!$A$3:$J$3,MATCH($A11,planning!$B$4:$B$16,0),),0)-1,MATCH(H$2,OFFSET(planning!$A$3:$J$3,MATCH($A11,planning!$B$4:$B$16,0),),0))),"")} | I11: {=IFERROR(INDEX(planning!$2:$2,IF(ISEVEN(MATCH(I$2,OFFSET(planning!$A$3:$J$3,MATCH($A11,planning!$B$4:$B$16,0),),0)),MATCH(I$2,OFFSET(planning!$A$3:$J$3,MATCH($A11,planning!$B$4:$B$16,0),),0)-1,MATCH(I$2,OFFSET(planning!$A$3:$J$3,MATCH($A11,planning!$B$4:$B$16,0),),0))),"")} | ... AQ11: {=IFERROR(INDEX(planning!$2:$2,IF(ISEVEN(MATCH(AQ$2,OFFSET(planning!$A$3:$J$3,MATCH($A11,planning!$B$4:$B$16,0),),0)),MATCH(AQ$2,OFFSET(planning!$A$3:$J$3,MATCH($A11,planning!$B$4:$B$16,0),),0)-1,MATCH(AQ$2,OFFSET(planning!$A$3:$J$3,MATCH($A11,planning!$B$4:$B$16,0),),0))),"")}
A12: La course de brouettes | B12: {=IFERROR(INDEX(planning!$2:$2,IF(ISEVEN(MATCH(B$2,OFFSET(planning!$A$3:$J$3,MATCH($A12,planning!$B$4:$B$16,0),),0)),MATCH(B$2,OFFSET(planning!$A$3:$J$3,MATCH($A12,planning!$B$4:$B$16,0),),0)-1,MATCH(B$2,OFFSET(planning!$A$3:$J$3,MATCH($A12,planning!$B$4:$B$16,0),),0))),"")} -> 10h00-10h15 | C12: {=IFERROR(INDEX(planning!$2:$2,IF(ISEVEN(MATCH(C$2,OFFSET(planning!$A$3:$J$3,MATCH($A12,planning!$B$4:$B$16,0),),0)),MATCH(C$2,OFFSET(planning!$A$3:$J$3,MATCH($A12,planning!$B$4:$B$16,0),),0)-1,MATCH(C$2,OFFSET(planning!$A$3:$J$3,MATCH($A12,planning!$B$4:$B$16,0),),0))),"")} | D12: {=IFERROR(INDEX(planning!$2:$2,IF(ISEVEN(MATCH(D$2,OFFSET(planning!$A$3:$J$3,MATCH($A12,planning!$B$4:$B$16,0),),0)),MATCH(D$2,OFFSET(planning!$A$3:$J$3,MATCH($A12,planning!$B$4:$B$16,0),),0)-1,MATCH(D$2,OFFSET(planning!$A$3:$J$3,MATCH($A12,planning!$B$4:$B$16,0),),0))),"")} | E12: {=IFERROR(INDEX(planning!$2:$2,IF(ISEVEN(MATCH(E$2,OFFSET(planning!$A$3:$J$3,MATCH($A12,planning!$B$4:$B$16,0),),0)),MATCH(E$2,OFFSET(planning!$A$3:$J$3,MATCH($A12,planning!$B$4:$B$16,0),),0)-1,MATCH(E$2,OFFSET(planning!$A$3:$J$3,MATCH($A12,planning!$B$4:$B$16,0),),0))),"")} -> 10h30-10h45 | F12: {=IFERROR(INDEX(planning!$2:$2,IF(ISEVEN(MATCH(F$2,OFFSET(planning!$A$3:$J$3,MATCH($A12,planning!$B$4:$B$16,0),),0)),MATCH(F$2,OFFSET(planning!$A$3:$J$3,MATCH($A12,planning!$B$4:$B$16,0),),0)-1,MATCH(F$2,OFFSET(planning!$A$3:$J$3,MATCH($A12,planning!$B$4:$B$16,0),),0))),"")} | G12: {=IFERROR(INDEX(planning!$2:$2,IF(ISEVEN(MATCH(G$2,OFFSET(planning!$A$3:$J$3,MATCH($A12,planning!$B$4:$B$16,0),),0)),MATCH(G$2,OFFSET(planning!$A$3:$J$3,MATCH($A12,planning!$B$4:$B$16,0),),0)-1,MATCH(G$2,OFFSET(planning!$A$3:$J$3,MATCH($A12,planning!$B$4:$B$16,0),),0))),"")} | H12: {=IFERROR(INDEX(planning!$2:$2,IF(ISEVEN(MATCH(H$2,OFFSET(planning!$A$3:$J$3,MATCH($A12,planning!$B$4:$B$16,0),),0)),MATCH(H$2,OFFSET(planning!$A$3:$J$3,MATCH($A12,planning!$B$4:$B$16,0),),0)-1,MATCH(H$2,OFFSET(planning!$A$3:$J$3,MATCH($A12,planning!$B$4:$B$16,0),),0))),"")} | I12: {=IFERROR(INDEX(planning!$2:$2,IF(ISEVEN(MATCH(I$2,OFFSET(planning!$A$3:$J$3,MATCH($A12,planning!$B$4:$B$16,0),),0)),MATCH(I$2,OFFSET(planning!$A$3:$J$3,MATCH($A12,planning!$B$4:$B$16,0),),0)-1,MATCH(I$2,OFFSET(planning!$A$3:$J$3,MATCH($A12,planning!$B$4:$B$16,0),),0))),"")} | ... AQ12: {=IFERROR(INDEX(planning!$2:$2,IF(ISEVEN(MATCH(AQ$2,OFFSET(planning!$A$3:$J$3,MATCH($A12,planning!$B$4:$B$16,0),),0)),MATCH(AQ$2,OFFSET(planning!$A$3:$J$3,MATCH($A12,planning!$B$4:$B$16,0),),0)-1,MATCH(AQ$2,OFFSET(planning!$A$3:$J$3,MATCH($A12,planning!$B$4:$B$16,0),),0))),"")}
A13: Dis moi ce que tu vois | B13: {=IFERROR(INDEX(planning!$2:$2,IF(ISEVEN(MATCH(B$2,OFFSET(planning!$A$3:$J$3,MATCH($A13,planning!$B$4:$B$16,0),),0)),MATCH(B$2,OFFSET(planning!$A$3:$J$3,MATCH($A13,planning!$B$4:$B$16,0),),0)-1,MATCH(B$2,OFFSET(planning!$A$3:$J$3,MATCH($A13,planning!$B$4:$B$16,0),),0))),"")} | C13: {=IFERROR(INDEX(planning!$2:$2,IF(ISEVEN(MATCH(C$2,OFFSET(planning!$A$3:$J$3,MATCH($A13,planning!$B$4:$B$16,0),),0)),MATCH(C$2,OFFSET(planning!$A$3:$J$3,MATCH($A13,planning!$B$4:$B$16,0),),0)-1,MATCH(C$2,OFFSET(planning!$A$3:$J$3,MATCH($A13,planning!$B$4:$B$16,0),),0))),"")} | D13: {=IFERROR(INDEX(planning!$2:$2,IF(ISEVEN(MATCH(D$2,OFFSET(planning!$A$3:$J$3,MATCH($A13,planning!$B$4:$B$16,0),),0)),MATCH(D$2,OFFSET(planning!$A$3:$J$3,MATCH($A13,planning!$B$4:$B$16,0),),0)-1,MATCH(D$2,OFFSET(planning!$A$3:$J$3,MATCH($A13,planning!$B$4:$B$16,0),),0))),"")} | E13: {=IFERROR(INDEX(planning!$2:$2,IF(ISEVEN(MATCH(E$2,OFFSET(planning!$A$3:$J$3,MATCH($A13,planning!$B$4:$B$16,0),),0)),MATCH(E$2,OFFSET(planning!$A$3:$J$3,MATCH($A13,planning!$B$4:$B$16,0),),0)-1,MATCH(E$2,OFFSET(planning!$A$3:$J$3,MATCH($A13,planning!$B$4:$B$16,0),),0))),"")} | F13: {=IFERROR(INDEX(planning!$2:$2,IF(ISEVEN(MATCH(F$2,OFFSET(planning!$A$3:$J$3,MATCH($A13,planning!$B$4:$B$16,0),),0)),MATCH(F$2,OFFSET(planning!$A$3:$J$3,MATCH($A13,planning!$B$4:$B$16,0),),0)-1,MATCH(F$2,OFFSET(planning!$A$3:$J$3,MATCH($A13,planning!$B$4:$B$16,0),),0))),"")} -> 10h30-10h45 | G13: {=IFERROR(INDEX(planning!$2:$2,IF(ISEVEN(MATCH(G$2,OFFSET(planning!$A$3:$J$3,MATCH($A13,planning!$B$4:$B$16,0),),0)),MATCH(G$2,OFFSET(planning!$A$3:$J$3,MATCH($A13,planning!$B$4:$B$16,0),),0)-1,MATCH(G$2,OFFSET(planning!$A$3:$J$3,MATCH($A13,planning!$B$4:$B$16,0),),0))),"")} | H13: {=IFERROR(INDEX(planning!$2:$2,IF(ISEVEN(MATCH(H$2,OFFSET(planning!$A$3:$J$3,MATCH($A13,planning!$B$4:$B$16,0),),0)),MATCH(H$2,OFFSET(planning!$A$3:$J$3,MATCH($A13,planning!$B$4:$B$16,0),),0)-1,MATCH(H$2,OFFSET(planning!$A$3:$J$3,MATCH($A13,planning!$B$4:$B$16,0),),0))),"")} | I13: {=IFERROR(INDEX(planning!$2:$2,IF(ISEVEN(MATCH(I$2,OFFSET(planning!$A$3:$J$3,MATCH($A13,planning!$B$4:$B$16,0),),0)),MATCH(I$2,OFFSET(planning!$A$3:$J$3,MATCH($A13,planning!$B$4:$B$16,0),),0)-1,MATCH(I$2,OFFSET(planning!$A$3:$J$3,MATCH($A13,planning!$B$4:$B$16,0),),0))),"")} | ... AQ13: {=IFERROR(INDEX(planning!$2:$2,IF(ISEVEN(MATCH(AQ$2,OFFSET(planning!$A$3:$J$3,MATCH($A13,planning!$B$4:$B$16,0),),0)),MATCH(AQ$2,OFFSET(planning!$A$3:$J$3,MATCH($A13,planning!$B$4:$B$16,0),),0)-1,MATCH(AQ$2,OFFSET(planning!$A$3:$J$3,MATCH($A13,planning!$B$4:$B$16,0),),0))),"")} -> 10h00-10h15
A14: Avions en papier | B14: {=IFERROR(INDEX(planning!$2:$2,IF(ISEVEN(MATCH(B$2,OFFSET(planning!$A$3:$J$3,MATCH($A14,planning!$B$4:$B$16,0),),0)),MATCH(B$2,OFFSET(planning!$A$3:$J$3,MATCH($A14,planning!$B$4:$B$16,0),),0)-1,MATCH(B$2,OFFSET(planning!$A$3:$J$3,MATCH($A14,planning!$B$4:$B$16,0),),0))),"")} | C14: {=IFERROR(INDEX(planning!$2:$2,IF(ISEVEN(MATCH(C$2,OFFSET(planning!$A$3:$J$3,MATCH($A14,planning!$B$4:$B$16,0),),0)),MATCH(C$2,OFFSET(planning!$A$3:$J$3,MATCH($A14,planning!$B$4:$B$16,0),),0)-1,MATCH(C$2,OFFSET(planning!$A$3:$J$3,MATCH($A14,planning!$B$4:$B$16,0),),0))),"")} | D14: {=IFERROR(INDEX(planning!$2:$2,IF(ISEVEN(MATCH(D$2,OFFSET(planning!$A$3:$J$3,MATCH($A14,planning!$B$4:$B$16,0),),0)),MATCH(D$2,OFFSET(planning!$A$3:$J$3,MATCH($A14,planning!$B$4:$B$16,0),),0)-1,MATCH(D$2,OFFSET(planning!$A$3:$J$3,MATCH($A14,planning!$B$4:$B$16,0),),0))),"")} | E14: {=IFERROR(INDEX(planning!$2:$2,IF(ISEVEN(MATCH(E$2,OFFSET(planning!$A$3:$J$3,MATCH($A14,planning!$B$4:$B$16,0),),0)),MATCH(E$2,OFFSET(planning!$A$3:$J$3,MATCH($A14,planning!$B$4:$B$16,0),),0)-1,MATCH(E$2,OFFSET(planning!$A$3:$J$3,MATCH($A14,planning!$B$4:$B$16,0),),0))),"")} | F14: {=IFERROR(INDEX(planning!$2:$2,IF(ISEVEN(MATCH(F$2,OFFSET(planning!$A$3:$J$3,MATCH($A14,planning!$B$4:$B$16,0),),0)),MATCH(F$2,OFFSET(planning!$A$3:$J$3,MATCH($A14,planning!$B$4:$B$16,0),),0)-1,MATCH(F$2,OFFSET(planning!$A$3:$J$3,MATCH($A14,planning!$B$4:$B$16,0),),0))),"")} | G14: {=IFERROR(INDEX(planning!$2:$2,IF(ISEVEN(MATCH(G$2,OFFSET(planning!$A$3:$J$3,MATCH($A14,planning!$B$4:$B$16,0),),0)),MATCH(G$2,OFFSET(planning!$A$3:$J$3,MATCH($A14,planning!$B$4:$B$16,0),),0)-1,MATCH(G$2,OFFSET(planning!$A$3:$J$3,MATCH($A14,planning!$B$4:$B$16,0),),0))),"")} -> 10h30-10h45 | H14: {=IFERROR(INDEX(planning!$2:$2,IF(ISEVEN(MATCH(H$2,OFFSET(planning!$A$3:$J$3,MATCH($A14,planning!$B$4:$B$16,0),),0)),MATCH(H$2,OFFSET(planning!$A$3:$J$3,MATCH($A14,planning!$B$4:$B$16,0),),0)-1,MATCH(H$2,OFFSET(planning!$A$3:$J$3,MATCH($A14,planning!$B$4:$B$16,0),),0))),"")} | I14: {=IFERROR(INDEX(planning!$2:$2,IF(ISEVEN(MATCH(I$2,OFFSET(planning!$A$3:$J$3,MATCH($A14,planning!$B$4:$B$16,0),),0)),MATCH(I$2,OFFSET(planning!$A$3:$J$3,MATCH($A14,planning!$B$4:$B$16,0),),0)-1,MATCH(I$2,OFFSET(planning!$A$3:$J$3,MATCH($A14,planning!$B$4:$B$16,0),),0))),"")} | ... AQ14: {=IFERROR(INDEX(planning!$2:$2,IF(ISEVEN(MATCH(AQ$2,OFFSET(planning!$A$3:$J$3,MATCH($A14,planning!$B$4:$B$16,0),),0)),MATCH(AQ$2,OFFSET(planning!$A$3:$J$3,MATCH($A14,planning!$B$4:$B$16,0),),0)-1,MATCH(AQ$2,OFFSET(planning!$A$3:$J$3,MATCH($A14,planning!$B$4:$B$16,0),),0))),"")}
A15: One-One | B15: {=IFERROR(INDEX(planning!$2:$2,IF(ISEVEN(MATCH(B$2,OFFSET(planning!$A$3:$J$3,MATCH($A15,planning!$B$4:$B$16,0),),0)),MATCH(B$2,OFFSET(planning!$A$3:$J$3,MATCH($A15,planning!$B$4:$B$16,0),),0)-1,MATCH(B$2,OFFSET(planning!$A$3:$J$3,MATCH($A15,planning!$B$4:$B$16,0),),0))),"")} | C15: {=IFERROR(INDEX(planning!$2:$2,IF(ISEVEN(MATCH(C$2,OFFSET(planning!$A$3:$J$3,MATCH($A15,planning!$B$4:$B$16,0),),0)),MATCH(C$2,OFFSET(planning!$A$3:$J$3,MATCH($A15,planning!$B$4:$B$16,0),),0)-1,MATCH(C$2,OFFSET(planning!$A$3:$J$3,MATCH($A15,planning!$B$4:$B$16,0),),0))),"")} | D15: {=IFERROR(INDEX(planning!$2:$2,IF(ISEVEN(MATCH(D$2,OFFSET(planning!$A$3:$J$3,MATCH($A15,planning!$B$4:$B$16,0),),0)),MATCH(D$2,OFFSET(planning!$A$3:$J$3,MATCH($A15,planning!$B$4:$B$16,0),),0)-1,MATCH(D$2,OFFSET(planning!$A$3:$J$3,MATCH($A15,planning!$B$4:$B$16,0),),0))),"")} | E15: {=IFERROR(INDEX(planning!$2:$2,IF(ISEVEN(MATCH(E$2,OFFSET(planning!$A$3:$J$3,MATCH($A15,planning!$B$4:$B$16,0),),0)),MATCH(E$2,OFFSET(planning!$A$3:$J$3,MATCH($A15,planning!$B$4:$B$16,0),),0)-1,MATCH(E$2,OFFSET(planning!$A$3:$J$3,MATCH($A15,planning!$B$4:$B$16,0),),0))),"")} | F15: {=IFERROR(INDEX(planning!$2:$2,IF(ISEVEN(MATCH(F$2,OFFSET(planning!$A$3:$J$3,MATCH($A15,planning!$B$4:$B$16,0),),0)),MATCH(F$2,OFFSET(planning!$A$3:$J$3,MATCH($A15,planning!$B$4:$B$16,0),),0)-1,MATCH(F$2,OFFSET(planning!$A$3:$J$3,MATCH($A15,planning!$B$4:$B$16,0),),0))),"")} | G15: {=IFERROR(INDEX(planning!$2:$2,IF(ISEVEN(MATCH(G$2,OFFSET(planning!$A$3:$J$3,MATCH($A15,planning!$B$4:$B$16,0),),0)),MATCH(G$2,OFFSET(planning!$A$3:$J$3,MATCH($A15,planning!$B$4:$B$16,0),),0)-1,MATCH(G$2,OFFSET(planning!$A$3:$J$3,MATCH($A15,planning!$B$4:$B$16,0),),0))),"")} | H15: {=IFERROR(INDEX(planning!$2:$2,IF(ISEVEN(MATCH(H$2,OFFSET(planning!$A$3:$J$3,MATCH($A15,planning!$B$4:$B$16,0),),0)),MATCH(H$2,OFFSET(planning!$A$3:$J$3,MATCH($A15,planning!$B$4:$B$16,0),),0)-1,MATCH(H$2,OFFSET(planning!$A$3:$J$3,MATCH($A15,planning!$B$4:$B$16,0),),0))),"")} -> 10h30-10h45 | I15: {=IFERROR(INDEX(planning!$2:$2,IF(ISEVEN(MATCH(I$2,OFFSET(planning!$A$3:$J$3,MATCH($A15,planning!$B$4:$B$16,0),),0)),MATCH(I$2,OFFSET(planning!$A$3:$J$3,MATCH($A15,planning!$B$4:$B$16,0),),0)-1,MATCH(I$2,OFFSET(planning!$A$3:$J$3,MATCH($A15,planning!$B$4:$B$16,0),),0))),"")} -> 10h30-10h45 | ... AQ15: {=IFERROR(INDEX(planning!$2:$2,IF(ISEVEN(MATCH(AQ$2,OFFSET(planning!$A$3:$J$3,MATCH($A15,planning!$B$4:$B$16,0),),0)),MATCH(AQ$2,OFFSET(planning!$A$3:$J$3,MATCH($A15,planning!$B$4:$B$16,0),),0)-1,MATCH(AQ$2,OFFSET(planning!$A$3:$J$3,MATCH($A15,planning!$B$4:$B$16,0),),0))),"")}

Sheet participants
A1: A | B1: =COUNTIF(planning!$C$4:$J$16,participants!A1) -> 3
A2: B | B2: =COUNTIF(planning!$C$4:$J$16,participants!A2) -> 3
A3: C | B3: =COUNTIF(planning!$C$4:$J$16,participants!A3) -> 3
A4: D | B4: =COUNTIF(planning!$C$4:$J$16,participants!A4) -> 3
A5: F | B5: =COUNTIF(planning!$C$4:$J$16,participants!A5) -> 3
A6: G | B6: =COUNTIF(planning!$C$4:$J$16,participants!A6) -> 3
A7: H | B7: =COUNTIF(planning!$C$4:$J$16,participants!A7) -> 3
A8: I | B8: =COUNTIF(planning!$C$4:$J$16,participants!A8) -> 3
A9: J | B9: =COUNTIF(planning!$C$4:$J$16,participants!A9) -> 3
A10: K | B10: =COUNTIF(planning!$C$4:$J$16,participants!A10) -> 3
A11: L | B11: =COUNTIF(planning!$C$4:$J$16,participants!A11) -> 3
A12: M | B12: =COUNTIF(planning!$C$4:$J$16,participants!A12) -> 3
... A42: QQ | B42: =COUNTIF(planning!$C$4:$J$16,participants!A42) -> 2
