Workbook
Name G1_SérieX: OFFSET(G1_SérieY,,-2)
Name G1_SérieY: OFFSET(BDD_Carte_SPC!$D$11,,,COUNTA(BDD_Carte_SPC!$D$11:$D$10000))

Sheet BDD_Carte_SPC
C3: Actions | D3: Carte SPC
A5: Conducteur | B5: date | C5: poste | D5: Rotation tête | E5: Fente de coupe intérieur | F5: Fente de coupe extérieur | G5: Diamètre 6 | H5: Hauteur 55 | I5: Largeur 55 | J5: max rotation | K5: min rotation | L5: consigne moyenne rotation | M5: max fente int | N5: min fente int | O5: consigne moyenne fente int | P5: max fente ext | Q5: min fente ext | R5: consigne moyenne fente ext | S5: max diamètre 6 | T5: min diamètre 6 | U5: consigne moyenne diamètre 6 | V5: max hauteur 55 | W5: min hauteur 55 | X5: consigne hauteur 55 | Y5: max largeur 55 | Z5: min largeur 55 | AA5: consigne largeur 55
J6: 90.2 | K6: 89.8 | L6: 90 | M6: 50.2 | N6: 49.8 | O6: 50 | P6: 50.2 | Q6: 49.8 | R6: 50 | S6: 6.2 | T6: 5.8 | U6: 6 | V6: 55.2 | W6: 54.8 | X6: 55 | Y6: 55.2 | Z6: 54.8 | AA6: =AVERAGE(I22:I51) -> 55
J7: 90.2 | K7: 89.8 | L7: =L6 -> 90 | M7: 50.2 | N7: 49.8 | O7: =O6 -> 50 | P7: 50.2 | Q7: 49.8 | R7: =R6 -> 50 | S7: 6.2 | T7: 5.8 | U7: =U6 -> 6 | V7: 55.2 | W7: 54.8 | X7: =X6 -> 55 | Y7: 55.2 | Z7: 54.8 | AA7: =AA6 -> 55
J8: 90.2 | K8: 89.8 | L8: =L7 -> 90 | M8: 50.2 | N8: 49.8 | O8: =O7 -> 50 | P8: 50.2 | Q8: 49.8 | R8: =R7 -> 50 | S8: 6.2 | T8: 5.8 | U8: =U7 -> 6 | V8: 55.2 | W8: 54.8 | X8: =X7 -> 55 | Y8: 55.2 | Z8: 54.8 | AA8: =AA7 -> 55
A9: EXEMPLE | B9: 44883 | C9: Après-midi | D9: 90.05 | E9: 50.09 | F9: 50.1 | G9: 6 | H9: 55 | I9: 55 | J9: 90.2 | K9: 89.8 | L9: =L8 -> 90 | M9: 50.2 | N9: 49.8 | O9: =O8 -> 50 | P9: 50.2 | Q9: 49.8 | R9: =R8 -> 50 | S9: 6.2 | T9: 5.8 | U9: =U8 -> 6 | V9: 55.2 | W9: 54.8 | X9: =X8 -> 55 | Y9: 55.2 | Z9: 54.8 | AA9: =AA8 -> 55
A10: EXEMPLE | B10: 44883 | C10: Après-midi | D10: 90.13 | E10: 50.559 | F10: 50 | G10: 6 | H10: 55 | I10: 55 | J10: 90.2 | K10: 89.8 | L10: =L9 -> 90 | M10: 50.2 | N10: 49.8 | O10: =O9 -> 50 | P10: 50.2 | Q10: 49.8 | R10: =R9 -> 50 | S10: 6.2 | T10: 5.8 | U10: =U9 -> 6 | V10: 55.2 | W10: 54.8 | X10: =X9 -> 55 | Y10: 55.2 | Z10: 54.8 | AA10: =AA9 -> 55
A11: EXEMPLE | B11: 44883 | C11: Après-midi | D11: 90.05 | E11: 50.09 | F11: 50.1 | G11: 6 | H11: 55 | I11: 55 | J11: 90.2 | K11: 89.8 | L11: =L10 -> 90 | M11: 50.2 | N11: 49.8 | O11: =O10 -> 50 | P11: 50.2 | Q11: 49.8 | R11: =R10 -> 50 | S11: 6.2 | T11: 5.8 | U11: =U10 -> 6 | V11: 55.2 | W11: 54.8 | X11: =X10 -> 55 | Y11: 55.2 | Z11: 54.8 | AA11: =AA10 -> 55
A12: EXEMPLE | B12: 44883 | C12: Après-midi | D12: 90.12 | E12: 50.559 | F12: 50 | G12: 6 | H12: 55 | I12: 55 | J12: 90.2 | K12: 89.8 | L12: =L11 -> 90 | M12: 50.2 | N12: 49.8 | O12: =O11 -> 50 | P12: 50.2 | Q12: 49.8 | R12: =R11 -> 50 | S12: 6.2 | T12: 5.8 | U12: =U11 -> 6 | V12: 55.2 | W12: 54.8 | X12: =X11 -> 55 | Y12: 55.2 | Z12: 54.8 | AA12: =AA11 -> 55
A13: EXEMPLE | B13: 44883 | C13: Après-midi | D13: 90.12 | E13: 50.559 | F13: 50 | G13: 6 | H13: 55 | I13: 55 | J13: 90.2 | K13: 89.8 | L13: =L12 -> 90 | M13: 50.2 | N13: 49.8 | O13: =O12 -> 50 | P13: 50.2 | Q13: 49.8 | R13: =R12 -> 50 | S13: 6.2 | T13: 5.8 | U13: =U12 -> 6 | V13: 55.2 | W13: 54.8 | X13: =X12 -> 55 | Y13: 55.2 | Z13: 54.8 | AA13: =AA12 -> 55
A14: EXEMPLE | B14: 44883 | C14: Après-midi | D14: 90 | E14: 50.559 | F14: 50 | G14: 6 | H14: 55 | I14: 55 | J14: 90.2 | K14: 89.8 | L14: =L13 -> 90 | M14: 50.2 | N14: 49.8 | O14: =O13 -> 50 | P14: 50.2 | Q14: 49.8 | R14: =R13 -> 50 | S14: 6.2 | T14: 5.8 | U14: =U13 -> 6 | V14: 55.2 | W14: 54.8 | X14: =X13 -> 55 | Y14: 55.2 | Z14: 54.8 | AA14: =AA13 -> 55
D15: 90 | E15: 50.559 | F15: 50 | G15: 6 | H15: 55 | I15: 55 | J15: 90.2 | K15: 89.8 | L15: =L14 -> 90 | M15: 50.2 | N15: 49.8 | O15: =O14 -> 50 | P15: 50.2 | Q15: 49.8 | R15: =R14 -> 50 | S15: 6.2 | T15: 5.8 | U15: =U14 -> 6 | V15: 55.2 | W15: 54.8 | X15: =X14 -> 55 | Y15: 55.2 | Z15: 54.8 | AA15: =AA14 -> 55
A16: EXEMPLE | B16: 44883 | C16: Après-midi | D16: 90 | E16: x | F16: x | G16: x | H16: x | I16: x | J16: 90.2 | K16: 89.8 | L16: =L15 -> 90 | M16: 50.2 | N16: 49.8 | O16: =O15 -> 50 | P16: 50.2 | Q16: 49.8 | R16: =R15 -> 50 | S16: 6.2 | T16: 5.8 | U16: =U15 -> 6 | V16: 55.2 | W16: 54.8 | X16: =X15 -> 55 | Y16: 55.2 | Z16: 54.8 | AA16: =AA15 -> 55
A17: EXEMPLE | B17: 44883 | C17: Après-midi | D17: 90.1 | E17: 50.559 | F17: 50 | G17: 6 | H17: 55 | I17: 55 | J17: 90.2 | K17: 89.8 | L17: =L16 -> 90 | M17: 50.2 | N17: 49.8 | O17: =O16 -> 50 | P17: 50.2 | Q17: 49.8 | R17: =R16 -> 50 | S17: 6.2 | T17: 5.8 | U17: =U16 -> 6 | V17: 55.2 | W17: 54.8 | X17: =X16 -> 55 | Y17: 55.2 | Z17: 54.8 | AA17: =AA16 -> 55
A18: EXEMPLE | B18: 44883 | C18: Après-midi | D18: 90 | E18: 50.559 | F18: 50 | G18: 6 | H18: 55 | I18: 55 | J18: 90.2 | K18: 89.8 | L18: =L17 -> 90 | M18: 50.2 | N18: 49.8 | O18: =O17 -> 50 | P18: 50.2 | Q18: 49.8 | R18: =R17 -> 50 | S18: 6.2 | T18: 5.8 | U18: =U17 -> 6 | V18: 55.2 | W18: 54.8 | X18: =X17 -> 55 | Y18: 55.2 | Z18: 54.8 | AA18: =AA17 -> 55
A19: EXEMPLE | B19: 44883 | C19: Après-midi | D19: 90.2 | E19: 50.559 | F19: 50 | G19: 6 | H19: 55 | I19: 55 | J19: 90.2 | K19: 89.8 | L19: =L18 -> 90 | M19: 50.2 | N19: 49.8 | O19: =O18 -> 50 | P19: 50.2 | Q19: 49.8 | R19: =R18 -> 50 | S19: 6.2 | T19: 5.8 | U19: =U18 -> 6 | V19: 55.2 | W19: 54.8 | X19: =X18 -> 55 | Y19: 55.2 | Z19: 54.8 | AA19: =AA18 -> 55
A20: EXEMPLE | B20: 44883 | C20: Après-midi | D20: 90 | E20: x | F20: x | G20: x | H20: x | I20: x | J20: 90.2 | K20: 89.8 | L20: =L19 -> 90 | M20: 50.2 | N20: 49.8 | O20: =O19 -> 50 | P20: 50.2 | Q20: 49.8 | R20: =R19 -> 50 | S20: 6.2 | T20: 5.8 | U20: =U19 -> 6 | V20: 55.2 | W20: 54.8 | X20: =X19 -> 55 | Y20: 55.2 | Z20: 54.8 | AA20: =AA19 -> 55
A21: EXEMPLE | B21: 44883 | C21: Après-midi | D21: 90.2 | E21: 50.559 | F21: 50 | G21: 6 | H21: 55 | I21: 55 | J21: 90.2 | K21: 89.8 | L21: =L20 -> 90 | M21: 50.2 | N21: 49.8 | O21: =O20 -> 50 | P21: 50.2 | Q21: 49.8 | R21: =R20 -> 50 | S21: 6.2 | T21: 5.8 | U21: =U20 -> 6 | V21: 55.2 | W21: 54.8 | X21: =X20 -> 55 | Y21: 55.2 | Z21: 54.8 | AA21: =AA20 -> 55
A22: exemple | B22: 44885 | C22: Matin | D22: 90.15 | E22: 50 | F22: 49.8 | G22: 6 | H22: 54.8 | I22: 55 | J22: 90.2 | K22: 89.8 | L22: =L21 -> 90 | M22: 50.2 | N22: 49.8 | O22: =O21 -> 50 | P22: 50.2 | Q22: 49.8 | R22: =R21 -> 50 | S22: 6.2 | T22: 5.8 | U22: =U21 -> 6 | V22: 55.2 | W22: 54.8 | X22: =X21 -> 55 | Y22: 55.2 | Z22: 54.8 | AA22: =AA21 -> 55
A23: EXEMPLE | B23: 44884 | C23: Après-midi | D23: 90 | E23: 50 | F23: 50 | G23: 6 | H23: 55 | I23: 55 | J23: 90.2 | K23: 89.8 | L23: =L22 -> 90 | M23: 50.2 | N23: 49.8 | O23: =O22 -> 50 | P23: 50.2 | Q23: 49.8 | R23: =R22 -> 50 | S23: 6.2 | T23: 5.8 | U23: =U22 -> 6 | V23: 55.2 | W23: 54.8 | X23: =X22 -> 55 | Y23: 55.2 | Z23: 54.8 | AA23: =AA22 -> 55
A24: EXEMPLE | B24: 44883 | C24: Après-midi | D24: 90.1 | E24: 50.1 | F24: 50 | G24: 6 | H24: 55 | I24: 55 | J24: 90.2 | K24: 89.8 | L24: =L23 -> 90 | M24: 50.2 | N24: 49.8 | O24: =O23 -> 50 | P24: 50.2 | Q24: 49.8 | R24: =R23 -> 50 | S24: 6.2 | T24: 5.8 | U24: =U23 -> 6 | V24: 55.2 | W24: 54.8 | X24: =X23 -> 55 | Y24: 55.2 | Z24: 54.8 | AA24: =AA23 -> 55
A25: EXEMPLE | B25: 44882 | C25: Après-midi | D25: 90.13 | E25: 50 | F25: 50 | G25: 6 | H25: 55 | I25: 55 | J25: 90.2 | K25: 89.8 | L25: =L24 -> 90 | M25: 50.2 | N25: 49.8 | O25: =O24 -> 50 | P25: 50.2 | Q25: 49.8 | R25: =R24 -> 50 | S25: 6.2 | T25: 5.8 | U25: =U24 -> 6 | V25: 55.2 | W25: 54.8 | X25: =X24 -> 55 | Y25: 55.2 | Z25: 54.8 | AA25: =AA24 -> 55
A26: EXEMPLE | B26: 44881 | C26: Après-midi | D26: 89.9 | E26: 50 | F26: 50 | G26: 6 | H26: 55 | I26: 55 | J26: 90.2 | K26: 89.8 | L26: =L25 -> 90 | M26: 50.2 | N26: 49.8 | O26: =O25 -> 50 | P26: 50.2 | Q26: 49.8 | R26: =R25 -> 50 | S26: 6.2 | T26: 5.8 | U26: =U25 -> 6 | V26: 55.2 | W26: 54.8 | X26: =X25 -> 55 | Y26: 55.2 | Z26: 54.8 | AA26: =AA25 -> 55
D27: 90 | E27: 49.9 | F27: 50 | G27: 6 | H27: 55 | I27: 55 | J27: 90.2 | K27: 89.8 | L27: =L26 -> 90 | M27: 50.2 | N27: 49.8 | O27: =O26 -> 50 | P27: 50.2 | Q27: 49.8 | R27: =R26 -> 50 | S27: 6.2 | T27: 5.8 | U27: =U26 -> 6 | V27: 55.2 | W27: 54.8 | X27: =X26 -> 55 | Y27: 55.2 | Z27: 54.8 | AA27: =AA26 -> 55
D28: 90 | E28: 49.98 | F28: 50 | G28: 6 | H28: 55 | I28: 55 | J28: 90.2 | K28: 89.8 | L28: =L27 -> 90 | M28: 50.2 | N28: 49.8 | O28: =O27 -> 50 | P28: 50.2 | Q28: 49.8 | R28: =R27 -> 50 | S28: 6.2 | T28: 5.8 | U28: =U27 -> 6 | V28: 55.2 | W28: 54.8 | X28: =X27 -> 55 | Y28: 55.2 | Z28: 54.8 | AA28: =AA27 -> 55
D29: 90 | E29: 49.8 | F29: 50 | G29: 6 | H29: 55 | I29: 55 | J29: 90.2 | K29: 89.8 | L29: =L28 -> 90 | M29: 50.2 | N29: 49.8 | O29: =O28 -> 50 | P29: 50.2 | Q29: 49.8 | R29: =R28 -> 50 | S29: 6.2 | T29: 5.8 | U29: =U28 -> 6 | V29: 55.2 | W29: 54.8 | X29: =X28 -> 55 | Y29: 55.2 | Z29: 54.8 | AA29: =AA28 -> 55
D30: 89.9 | E30: 50 | F30: 50 | G30: 6 | H30: 55 | I30: 55 | J30: 90.2 | K30: 89.8 | L30: =L29 -> 90 | M30: 50.2 | N30: 49.8 | O30: =O29 -> 50 | P30: 50.2 | Q30: 49.8 | R30: =R29 -> 50 | S30: 6.2 | T30: 5.8 | U30: =U29 -> 6 | V30: 55.2 | W30: 54.8 | X30: =X29 -> 55 | Y30: 55.2 | Z30: 54.8 | AA30: =AA29 -> 55
D31: 90 | E31: 50 | F31: 50 | G31: 5.8 | H31: 55.1 | I31: 55.1 | J31: 90.2 | K31: 89.8 | L31: =L30 -> 90 | M31: 50.2 | N31: 49.8 | O31: =O30 -> 50 | P31: 50.2 | Q31: 49.8 | R31: =R30 -> 50 | S31: 6.2 | T31: 5.8 | U31: =U30 -> 6 | V31: 55.2 | W31: 54.8 | X31: =X30 -> 55 | Y31: 55.2 | Z31: 54.8 | AA31: =AA30 -> 55
D32: 90 | E32: 50 | F32: 50 | G32: 6 | I32: 54.9 | J32: 90.2 | K32: 89.8 | L32: =L31 -> 90 | M32: 50.2 | N32: 49.8 | O32: =O31 -> 50 | P32: 50.2 | Q32: 49.8 | R32: =R31 -> 50 | S32: 6.2 | T32: 5.8 | U32: =U31 -> 6 | V32: 55.2 | W32: 54.8 | X32: =X31 -> 55 | Y32: 55.2 | Z32: 54.8 | AA32: =AA31 -> 55
D33: 89.8 | E33: 50.02 | F33: 50.1 | G33: 5.9 | J33: 90.2 | K33: 89.8 | L33: =L32 -> 90 | M33: 50.2 | N33: 49.8 | O33: =O32 -> 50 | P33: 50.2 | Q33: 49.8 | R33: =R32 -> 50 | S33: 6.2 | T33: 5.8 | U33: =U32 -> 6 | V33: 55.2 | W33: 54.8 | X33: =X32 -> 55 | Y33: 55.2 | Z33: 54.8 | AA33: =AA32 -> 55
D34: 90 | E34: 50.01 | F34: 50 | G34: 6.1 | J34: 90.2 | K34: 89.8 | L34: =L33 -> 90 | M34: 50.2 | N34: 49.8 | O34: =O33 -> 50 | P34: 50.2 | Q34: 49.8 | R34: =R33 -> 50 | S34: 6.2 | T34: 5.8 | U34: =U33 -> 6 | V34: 55.2 | W34: 54.8 | X34: =X33 -> 55 | Y34: 55.2 | Z34: 54.8 | AA34: =AA33 -> 55
D35: 90 | E35: 50.15 | F35: 50 | J35: 90.2 | K35: 89.8 | L35: =L34 -> 90 | M35: 50.2 | N35: 49.8 | O35: =O34 -> 50 | P35: 50.2 | Q35: 49.8 | R35: =R34 -> 50 | S35: 6.2 | T35: 5.8 | U35: =U34 -> 6 | V35: 55.2 | W35: 54.8 | X35: =X34 -> 55 | Y35: 55.2 | Z35: 54.8 | AA35: =AA34 -> 55
D36: 90 | E36: 49.93 | F36: 49.9 | J36: 90.2 | K36: 89.8 | L36: =L35 -> 90 | M36: 50.2 | N36: 49.8 | O36: =O35 -> 50 | P36: 50.2 | Q36: 49.8 | R36: =R35 -> 50 | S36: 6.2 | T36: 5.8 | U36: =U35 -> 6 | V36: 55.2 | W36: 54.8 | X36: =X35 -> 55 | Y36: 55.2 | Z36: 54.8 | AA36: =AA35 -> 55
D37: 90.12 | E37: 49.99 | F37: 49.98 | J37: 90.2 | K37: 89.8 | L37: =L36 -> 90 | M37: 50.2 | N37: 49.8 | O37: =O36 -> 50 | P37: 50.2 | Q37: 49.8 | R37: =R36 -> 50 | S37: 6.2 | T37: 5.8 | U37: =U36 -> 6 | V37: 55.2 | W37: 54.8 | X37: =X36 -> 55 | Y37: 55.2 | Z37: 54.8 | AA37: =AA36 -> 55
D38: 90.13 | E38: 50.09 | F38: 49.8
D39: 89.9 | F39: 50
D40: 89.99 | F40: 50
D41: 89.95 | F41: 50 | R41: {=OFFSET(BDD_Carte_SPC!$D$11,,,COUNTA(BDD_Carte_SPC!$D$11:$D$10000))} -> 90.05
F42: 50.02 | R42: 90.12
F43: 50.01 | R43: 90.12
F44: 50.15 | R44: 90
F45: 49.93 | R45: 90
F46: 49.99 | R46: 90
F47: 50.09 | R47: 90.1
R48: 90
R49: 90.2
R50: 90
R51: 90.2
R52: 90.15
R53: 90
R54: 90.1
R55: 90.13
R56: 89.9
R57: 90
R58: 90
R59: 90
... R71: 89.95

Sheet Feuil1
A1: date
A2: 44907 | B2: =VLOOKUP(A2,BDD_Carte_SPC!$B$6:$I$37,4,0) -> #N/A
A3: =A2-1 -> 44906 | B3: =VLOOKUP(A3,BDD_Carte_SPC!$B$6:$I$37,4,0) -> #N/A
A4: =A3-1 -> 44905 | B4: =VLOOKUP(A4,BDD_Carte_SPC!$B$6:$I$37,4,0) -> #N/A
A5: =A4-1 -> 44904 | B5: =VLOOKUP(A5,BDD_Carte_SPC!$B$6:$I$37,4,0) -> #N/A
A6: =A5-1 -> 44903 | B6: =VLOOKUP(A6,BDD_Carte_SPC!$B$6:$I$37,4,0) -> #N/A
A7: =A6-1 -> 44902 | B7: =VLOOKUP(A7,BDD_Carte_SPC!$B$6:$I$37,4,0) -> #N/A
A8: =A7-1 -> 44901 | B8: =VLOOKUP(A8,BDD_Carte_SPC!$B$6:$I$37,4,0) -> #N/A
A9: =A8-1 -> 44900 | B9: =VLOOKUP(A9,BDD_Carte_SPC!$B$6:$I$37,4,0) -> #N/A
A10: =A9-1 -> 44899 | B10: =VLOOKUP(A10,BDD_Carte_SPC!$B$6:$I$37,4,0) -> #N/A
A11: =A10-1 -> 44898 | B11: =VLOOKUP(A11,BDD_Carte_SPC!$B$6:$I$37,4,0) -> #N/A
A12: =A11-1 -> 44897 | B12: =VLOOKUP(A12,BDD_Carte_SPC!$B$6:$I$37,4,0) -> #N/A
A13: =A12-1 -> 44896 | B13: =VLOOKUP(A13,BDD_Carte_SPC!$B$6:$I$37,4,0) -> #N/A
A14: =A13-1 -> 44895 | B14: =VLOOKUP(A14,BDD_Carte_SPC!$B$6:$I$37,4,0) -> #N/A
... A31: =A30-1 -> 44878 | B31: =VLOOKUP(A31,BDD_Carte_SPC!$B$6:$I$37,4,0) -> #N/A

Sheet Courbe 
