Workbook

Sheet DONNEES VENTE
A1: date | B1: Name | C1: Email | D1: HT compte 707 | E1: frais de port compte 708 | F1: TVA | G1: TTC | H1: Colonne1 | I1: pays | J1: taux tva
A2: 44835 | B2: #17107 | C2: 1 | D2: 29.75 | E2: 0 | F2: 5.95 | G2: 35.7 | I2: FR | J2: 20
A3: 44835 | B3: #17106 | C3: 1 | D3: 45 | E3: 0 | F3: 9 | G3: 54 | I3: FR | J3: 20
A4: 44835 | B4: #17104 | C4: 1 | D4: 43.33 | E4: 0 | F4: 8.67 | G4: 52 | I4: FR | J4: 20
A5: 44835 | B5: #17105 | C5: 1 | D5: 29.75 | E5: 0 | F5: 5.95 | G5: 35.7 | I5: FR | J5: 20
A6: 44835 | B6: #17107 | C6: 1 | D6: 45 | E6: 0 | F6: 9 | G6: 54 | I6: FR | J6: 20
A7: 44835 | B7: #17108 | C7: 1 | D7: 35 | E7: 0 | F7: 7 | G7: 42 | I7: FR | J7: 20
A8: 44835 | B8: #17108 | C8: 1 | D8: 50 | E8: 0 | F8: 10 | G8: 60 | I8: FR | J8: 20
A9: 44835 | B9: #17108 | C9: 1 | D9: 45 | E9: 0 | F9: 9 | G9: 54 | I9: FR | J9: 20
A10: 44835 | B10: #17107 | C10: 1 | D10: 55.25 | E10: 0 | F10: 11.05 | G10: 66.3 | I10: FR | J10: 20
A11: 44835 | B11: #17106 | C11: 1 | D11: 21.67 | E11: 0 | F11: 4.33 | G11: 26 | I11: FR | J11: 20
A12: 44835 | B12: #17105 | C12: 1 | D12: 55.25 | E12: 0 | F12: 11.05 | G12: 66.3 | I12: FR | J12: 20
A13: 44835 | B13: #17104 | C13: 1 | D13: 0 | E13: 5.83 | F13: 1.17 | G13: 7 | I13: FR | J13: 20
... A38: 44836 | B38: #17112 | C38: 1 | D38: 32.5 | E38: 0 | F38: 6.5 | G38: 39 | I38: FR | J38: 20
A39: 44836 | B39: #17112 | D39: 45 | E39: 0 | F39: 9 | G39: 54 | I39: FR | J39: 20
A40: 44836 | B40: #17110 | C40: 1 | D40: 0 | E40: 0 | F40: 0 | G40: 0 | I40: FR | J40: 20
A41: 44836 | B41: #17116 | C41: 1 | D41: 0 | E41: 3.33 | F41: 0.67 | G41: 4 | I41: FR | J41: 20
A42: 44836 | B42: #17115 | C42: 1 | D42: 0 | E42: 0 | F42: 0 | G42: 0 | I42: FR | J42: 20
A43: 44836 | B43: #17113 | C43: 1 | D43: 0 | E43: 3.33 | F43: 0.67 | G43: 4 | I43: FR | J43: 20
A44: 44836 | B44: #17118 | C44: 1 | D44: 0 | E44: 3.33 | F44: 0.67 | G44: 4 | I44: FR | J44: 20
A45: 44836 | B45: #17109 | C45: 1 | D45: 0 | E45: 0 | F45: 0 | G45: 0 | I45: FR | J45: 20
A46: 44836 | B46: #17114 | C46: 1 | D46: 0 | E46: 3.33 | F46: 0.67 | G46: 4 | I46: FR | J46: 20
A47: 44836 | B47: #17111 | C47: 1 | D47: 0 | E47: 0 | F47: 0 | G47: 0 | I47: FR | J47: 20
A48: 44836 | B48: #17117 | C48: 1 | D48: 0 | E48: 0 | F48: 0 | G48: 0 | I48: FR | J48: 20
A49: 44836 | B49: #17112 | C49: 1 | D49: 0 | E49: 0 | F49: 0 | G49: 0 | I49: FR | J49: 20
A50: 44837 | B50: #17126 | C50: 1 | D50: 29.75 | E50: 0 | F50: 5.95 | G50: 35.7 | I50: FR | J50: 20
A51: 44837 | B51: #17119 | C51: 1 | D51: 35 | E51: 0 | F51: 7 | G51: 42 | I51: FR | J51: 20
... A56: 44837 | B56: #17126 | C56: 1 | D56: 45 | E56: 0 | F56: 9 | G56: 54 | I56: FR | J56: 20
A57: 44837 | B57: #17127 | C57: 1 | D57: 70.83 | E57: 0 | F57: 14.17 | G57: 85 | J57: 20
A58: 44837 | B58: #17128 | C58: 1 | D58: 35 | E58: 0 | F58: 7 | G58: 42 | I58: FR | J58: 20
A59: 44837 | B59: #17128 | C59: 1 | D59: 32.5 | E59: 0 | F59: 6.5 | G59: 39 | I59: FR | J59: 20
A60: 44837 | B60: #17129 | C60: 1 | D60: 32.5 | E60: 0 | F60: 6.5 | G60: 39 | I60: FR | J60: 20
A61: 44837 | B61: #17130 | C61: 1 | D61: 29.75 | E61: 0 | F61: 5.95 | G61: 35.7 | I61: FR | J61: 20
A62: 44837 | B62: #17130 | C62: 1 | D62: 27.62 | E62: 0 | F62: 5.53 | G62: 33.15 | I62: FR | J62: 20
A63: 44837 | B63: #17130 | C63: 1 | D63: 27.62 | E63: 0 | F63: 5.53 | G63: 33.15 | I63: FR | J63: 20
A64: 44837 | B64: #17131 | C64: 1 | D64: 29.75 | E64: 0 | F64: 5.95 | G64: 35.7 | I64: FR | J64: 20
A65: 44837 | B65: #17131 | C65: 1 | D65: 27.62 | E65: 0 | F65: 5.53 | G65: 33.15 | I65: FR | J65: 20
A66: 44837 | B66: #17131 | C66: 1 | D66: 29.75 | E66: 0 | F66: 5.95 | G66: 35.7 | I66: FR | J66: 20
A67: 44837 | B67: #17132 | C67: 1 | D67: 32.5 | E67: 0 | F67: 6.5 | G67: 39 | I67: FR | J67: 20
A68: 44837 | B68: #17133 | C68: 1 | D68: 35 | E68: 0 | F68: 7 | G68: 42 | I68: FR | J68: 20
A69: 44837 | B69: #17133 | C69: 1 | D69: 32.5 | E69: 0 | F69: 6.5 | G69: 39 | I69: FR | J69: 20
... A85: 44837 | B85: #17120 | C85: 1 | D85: 0 | E85: 0 | F85: 0 | G85: 0 | I85: FR | J85: 20
A86: 44837 | B86: #17127 | C86: 1 | D86: 0 | E86: 0 | F86: 0 | G86: 0 | J86: 20
A87: 44837 | B87: #17121 | C87: 1 | D87: 0 | E87: 5.83 | F87: 1.17 | G87: 7 | I87: FR | J87: 20
A88: 44837 | B88: #17133 | C88: 1 | D88: 0 | E88: 5.83 | F88: 1.17 | G88: 7 | I88: FR | J88: 20
A89: 44837 | B89: #17124 | C89: 1 | D89: 0 | E89: 0 | F89: 0 | G89: 0 | I89: FR | J89: 20
A90: 44837 | B90: #17132 | C90: 1 | D90: 0 | E90: 3.33 | F90: 0.67 | G90: 4 | I90: FR | J90: 20
A91: 44837 | B91: #17125 | C91: 1 | D91: 0 | E91: 3.33 | F91: 0.67 | G91: 4 | I91: FR | J91: 20
A92: 44837 | B92: #17122 | C92: 1 | D92: 0 | E92: 0 | F92: 0 | G92: 0 | I92: FR | J92: 20
A93: 44837 | B93: #17119 | C93: 1 | D93: 0 | E93: 5.83 | F93: 1.17 | G93: 7 | I93: FR | J93: 20
A94: 44837 | B94: #17128 | C94: 1 | D94: 0 | E94: 5.83 | F94: 1.17 | G94: 7 | I94: FR | J94: 20
A95: 44837 | B95: #17130 | C95: 1 | D95: 0 | E95: 0 | F95: 0 | G95: 0 | I95: FR | J95: 20
A96: 44837 | B96: #17126 | C96: 1 | D96: 0 | E96: 0 | F96: 0 | G96: 0 | I96: FR | J96: 20
A97: 44837 | B97: #17129 | C97: 1 | D97: 0 | E97: 3.33 | F97: 0.67 | G97: 4 | I97: FR | J97: 20
A98: 44837 | B98: #17123 | C98: 1 | D98: 0 | E98: 0 | F98: 0 | G98: 0 | I98: FR | J98: 20
... A410: 44850 | B410: #17232 | C410: 1 | D410: 45 | E410: 0 | F410: 9 | G410: 54 | I410: FR | J410: 20
A411: 44850 | B411: #17226 | D411: 0 | E411: 0 | F411: 0 | G411: 0 | I411: FR | J411: 20
A412: 44850 | B412: #17230 | D412: 0 | E412: 0 | F412: 0 | G412: 0 | I412: FR | J412: 20
A413: 44850 | B413: #17225 | D413: 0 | E413: 0 | F413: 0 | G413: 0 | I413: FR | J413: 20
A414: 44850 | B414: #17227 | D414: 0 | E414: 0 | F414: 0 | G414: 0 | I414: FR | J414: 20
A415: 44850 | B415: #17231 | D415: 0 | E415: 3.33 | F415: 0.67 | G415: 4 | I415: FR | J415: 20
A416: 44850 | B416: #17232 | D416: 0 | E416: 0 | F416: 0 | G416: 0 | I416: FR | J416: 20
A417: 44850 | B417: #17228 | D417: 0 | E417: 5.83 | F417: 1.17 | G417: 7 | I417: FR | J417: 20
A418: 44850 | B418: #17229 | D418: 0 | E418: 12.4 | F418: 2.6 | G418: 15 | I418: BE | J418: 21
A419: 44851 | B419: #17234 | D419: 27.62 | E419: 0 | F419: 5.53 | G419: 33.15 | I419: FR | J419: 20
A420: 44851 | B420: #17234 | D420: 55.25 | E420: 0 | F420: 11.05 | G420: 66.3 | I420: FR | J420: 20
A421: 44851 | B421: #17236 | D421: 44.63 | E421: 0 | F421: 9.37 | G421: 54 | I421: BE | J421: 21
A422: 44851 | B422: #17235 | D422: 55.25 | E422: 0 | F422: 11.05 | G422: 66.3 | I422: FR | J422: 20
... A1929: 44865 | B1929: #17722 | D1929: 0 | E1929: 3.33 | F1929: 0.67 | G1929: 4 | I1929: FR | J1929: 20

Sheet ecritures comptables
A1: date | B1: Name | C1: Email | D1: HT compte 707 | E1: frais de port compte 708 | F1: TVA | G1: TTC | H1: Colonne1 | I1: pays | J1: taux tva
A2: 44835 | B2: #17107 | C2: 1 | D2: 29.75 | E2: 0 | F2: 5.95 | G2: 35.7 | I2: FR | J2: 20
F4: ttc | G4: ht/tva
A5: Date | B5: N°Facture | C5: pays | D5: Compte | E5: Libéllé compte | F5: débit | G5: crédit
A6: =+'DONNEES VENTE'!$A$2 -> 44835 | B6: =+'DONNEES VENTE'!$B$2 -> #17107 | C6: =+'DONNEES VENTE'!$I$2 -> FR | D6: C000 | E6: =+'DONNEES VENTE'!$C$2 -> 1 | F6: =+'DONNEES VENTE'!G2 -> 35.7
A7: =+'DONNEES VENTE'!$A$2 -> 44835 | B7: =+'DONNEES VENTE'!$B$2 -> #17107 | C7: =+'DONNEES VENTE'!$I$2 -> FR | D7: =+'plan comptable'!A12 -> 707010 | E7: =+'DONNEES VENTE'!$C$2 -> 1 | G7: =+'DONNEES VENTE'!D2 -> 29.75 | I7: Comptes comptables France 20%
A8: 44835 | B8: #17107 | C8: FR | D8: 708010 | E8: 1 | G8: 0
A9: =+'DONNEES VENTE'!$A$2 -> 44835 | B9: =+'DONNEES VENTE'!$B$2 -> #17107 | C9: =+'DONNEES VENTE'!$I$2 -> FR | D9: 445710 | E9: =+'DONNEES VENTE'!$C$2 -> 1 | G9: =+'DONNEES VENTE'!F2 -> 5.95
A13: 44840 | B13: #17155 | C13: 1 | D13: 0 | E13: 12.4 | F13: 2.6 | G13: 15 | I13: BE | J13: 21
A15: =+A13 -> 44840 | B15: =+B13 -> #17155 | C15: =+'DONNEES VENTE'!I184 -> BE | D15: C000 | E15: =+'DONNEES VENTE'!$C$2 -> 1 | F15: 15
A16: =+A13 -> 44840 | B16: =+B13 -> #17155 | C16: =+C15 -> BE | D16: 707040 | E16: =+'DONNEES VENTE'!$C$2 -> 1 | G16: 0
A17: =+A15 -> 44840 | B17: =+B15 -> #17155 | C17: =+C16 -> BE | D17: 708040 | E17: 1 | G17: 12.4 | I17: comptes comptables Belgique 21%
A18: =+A16 -> 44840 | B18: =+B16 -> #17155 | C18: =+C17 -> BE | D18: 445716 | E18: =+'DONNEES VENTE'!$C$2 -> 1 | G18: 2.6

Sheet Power Query
A2: date | B2: N°Facture | C2: Pays | D2: Compte | E2: Libellé compte | F2: Débit | G2: Crédit
A3: 44773 | B3: #16427 | C3: FR | D3: 707000 | E3: 1 | G3: 48.33
A4: 44773 | B4: #16427 | C4: FR | D4: 445710 | E4: 1 | G4: 9.67
A5: 44773 | B5: #16427 | C5: FR | D5: C000 | E5: 1 | F5: 58
A6: 44773 | B6: #16426 | C6: FR | D6: 707000 | E6: 1 | G6: 63.33
A7: 44773 | B7: #16426 | C7: FR | D7: 445710 | E7: 1 | G7: 12.67
A8: 44773 | B8: #16426 | C8: FR | D8: C000 | E8: 1 | F8: 76
A9: 44773 | B9: #16425 | C9: BE | D9: 707000 | E9: 1 | G9: 76.04
A10: 44773 | B10: #16425 | C10: BE | D10: 445710 | E10: 1 | G10: 15.96
A11: 44773 | B11: #16425 | C11: BE | D11: C000 | E11: 1 | F11: 92
A12: 44773 | B12: #16424 | C12: DE | D12: 707000 | E12: 1 | G12: 168.92
A13: 44773 | B13: #16424 | C13: DE | D13: 445710 | E13: 1 | G13: 32.08
A14: 44773 | B14: #16424 | C14: DE | D14: C000 | E14: 1 | F14: 201
A15: 44773 | B15: #16423 | C15: FR | D15: 707000 | E15: 1 | G15: 48.33
A16: 44773 | B16: #16423 | C16: FR | D16: 445710 | E16: 1 | G16: 9.67
A17: 44773 | B17: #16423 | C17: FR | D17: C000 | E17: 1 | F17: 58
A18: 44773 | B18: #16422 | C18: FR | D18: 707000 | E18: 1 | G18: 39.33
A19: 44773 | B19: #16422 | C19: FR | D19: 445710 | E19: 1 | G19: 7.87
A20: 44773 | B20: #16422 | C20: FR | D20: C000 | E20: 1 | F20: 47.2
A21: 44773 | B21: #16421 | C21: FR | D21: 707000 | E21: 1 | G21: 93.33
A22: 44773 | B22: #16421 | C22: FR | D22: 445710 | E22: 1 | G22: 18.67
A23: 44773 | B23: #16421 | C23: FR | D23: C000 | E23: 1 | F23: 112
A24: 44773 | B24: #16420 | C24: FR | D24: 707000 | E24: 1 | G24: 40.83
A25: 44773 | B25: #16420 | C25: FR | D25: 445710 | E25: 1 | G25: 8.17
A26: 44773 | B26: #16420 | C26: FR | D26: C000 | E26: 1 | F26: 49
A27: 44773 | B27: #16419 | C27: FR | D27: 707000 | E27: 1 | G27: 67.5
A28: 44773 | B28: #16419 | C28: FR | D28: 445710 | E28: 1 | G28: 13.5
A29: 44773 | B29: #16419 | C29: FR | D29: C000 | E29: 1 | F29: 81
A30: 44773 | B30: #16418 | C30: FR | D30: 707000 | E30: 1 | G30: 63.33
A31: 44773 | B31: #16418 | C31: FR | D31: 445710 | E31: 1 | G31: 12.67
A32: 44773 | B32: #16418 | C32: FR | D32: C000 | E32: 1 | F32: 76
A33: 44772 | B33: #16417 | C33: FR | D33: 707000 | E33: 1 | G33: 70
A34: 44772 | B34: #16417 | C34: FR | D34: 445710 | E34: 1 | G34: 14
A35: 44772 | B35: #16417 | C35: FR | D35: C000 | E35: 1 | F35: 84
A36: 44772 | B36: #16416 | C36: BE | D36: 707000 | E36: 1 | G36: 104.97
A37: 44772 | B37: #16416 | C37: BE | D37: 445710 | E37: 1 | G37: 22.03
A38: 44772 | B38: #16416 | C38: BE | D38: C000 | E38: 1 | F38: 127
A39: 44772 | B39: #16415 | C39: FR | D39: 707000 | E39: 1 | G39: 39.33
A40: 44772 | B40: #16415 | C40: FR | D40: 445710 | E40: 1 | G40: 7.87
A41: 44772 | B41: #16415 | C41: FR | D41: C000 | E41: 1 | F41: 47.2
A42: 44772 | B42: #16414 | C42: CH | D42: 707000 | E42: 1 | G42: 95
A43: 44772 | B43: #16414 | C43: CH | D43: 445710 | E43: 1 | G43: 0
A44: 44772 | B44: #16414 | C44: CH | D44: C000 | E44: 1 | F44: 95
A45: 44772 | B45: #16413 | C45: FR | D45: 707000 | E45: 1 | G45: 67.5
A46: 44772 | B46: #16413 | C46: FR | D46: 445710 | E46: 1 | G46: 13.5
A47: 44772 | B47: #16413 | C47: FR | D47: C000 | E47: 1 | F47: 81
A48: 44772 | B48: #16412 | C48: FR | D48: 707000 | E48: 1 | G48: 67.5
A49: 44772 | B49: #16412 | C49: FR | D49: 445710 | E49: 1 | G49: 13.5
A50: 44772 | B50: #16412 | C50: FR | D50: C000 | E50: 1 | F50: 81
A51: 44772 | B51: #16411 | C51: FR | D51: 707000 | E51: 1 | G51: 128.33
A52: 44772 | B52: #16411 | C52: FR | D52: 445710 | E52: 1 | G52: 25.67
A53: 44772 | B53: #16411 | C53: FR | D53: C000 | E53: 1 | F53: 154
A54: 44772 | B54: #16410 | C54: FR | D54: 707000 | E54: 1 | G54: 70
A55: 44772 | B55: #16410 | C55: FR | D55: 445710 | E55: 1 | G55: 14
A56: 44772 | B56: #16410 | C56: FR | D56: C000 | E56: 1 | F56: 84
A57: 44772 | B57: #16409 | C57: FR | D57: 707000 | E57: 1 | G57: 70
A58: 44772 | B58: #16409 | C58: FR | D58: 445710 | E58: 1 | G58: 14
A59: 44772 | B59: #16409 | C59: FR | D59: C000 | E59: 1 | F59: 84
A60: 44772 | B60: #16408 | C60: FR | D60: 707000 | E60: 1 | G60: 70
A61: 44772 | B61: #16408 | C61: FR | D61: 445710 | E61: 1 | G61: 14
A62: 44772 | B62: #16408 | C62: FR | D62: C000 | E62: 1 | F62: 84
A63: 44772 | B63: #16407 | C63: BE | D63: 707000 | E63: 1 | G63: 49.59
A64: 44772 | B64: #16407 | C64: BE | D64: 445710 | E64: 1 | G64: 10.41
A65: 44772 | B65: #16407 | C65: BE | D65: C000 | E65: 1 | F65: 60
A66: 44772 | B66: #16406 | C66: FR | D66: 707000 | E66: 1 | G66: 40.83
A67: 44772 | B67: #16406 | C67: FR | D67: 445710 | E67: 1 | G67: 8.17
A68: 44772 | B68: #16406 | C68: FR | D68: C000 | E68: 1 | F68: 49
A69: 44771 | B69: #16405 | C69: FR | D69: 707000 | E69: 1 | G69: 70
A70: 44771 | B70: #16405 | C70: FR | D70: 445710 | E70: 1 | G70: 14
A71: 44771 | B71: #16405 | C71: FR | D71: C000 | E71: 1 | F71: 84
A72: 44771 | B72: #16404 | C72: FR | D72: 707000 | E72: 1 | G72: 63.33
A73: 44771 | B73: #16404 | C73: FR | D73: 445710 | E73: 1 | G73: 12.67
A74: 44771 | B74: #16404 | C74: FR | D74: C000 | E74: 1 | F74: 76
A75: 44771 | B75: #16403 | C75: FR | D75: 707000 | E75: 1 | G75: 70
A76: 44771 | B76: #16403 | C76: FR | D76: 445710 | E76: 1 | G76: 14
A77: 44771 | B77: #16403 | C77: FR | D77: C000 | E77: 1 | F77: 84
A78: 44771 | B78: #16402 | C78: BE | D78: 707000 | E78: 1 | G78: 78.52
A79: 44771 | B79: #16402 | C79: BE | D79: 445710 | E79: 1 | G79: 16.48
A80: 44771 | B80: #16402 | C80: BE | D80: C000 | E80: 1 | F80: 95
A81: 44771 | B81: #16401 | C81: FR | D81: 707000 | E81: 1 | G81: 48.33
A82: 44771 | B82: #16401 | C82: FR | D82: 445710 | E82: 1 | G82: 9.67
A83: 44771 | B83: #16401 | C83: FR | D83: C000 | E83: 1 | F83: 58
A84: 44771 | B84: #16400 | C84: FR | D84: 707000 | E84: 1 | G84: 89.33
A85: 44771 | B85: #16400 | C85: FR | D85: 445710 | E85: 1 | G85: 17.87
A86: 44771 | B86: #16400 | C86: FR | D86: C000 | E86: 1 | F86: 107.2
A87: 44771 | B87: #16399 | C87: FR | D87: 707000 | E87: 1 | G87: 67.5
A88: 44771 | B88: #16399 | C88: FR | D88: 445710 | E88: 1 | G88: 13.5
A89: 44771 | B89: #16399 | C89: FR | D89: C000 | E89: 1 | F89: 81
A90: 44770 | B90: #16398 | C90: FR | D90: 707000 | E90: 1 | G90: 63.33
A91: 44770 | B91: #16398 | C91: FR | D91: 445710 | E91: 1 | G91: 12.67
A92: 44770 | B92: #16398 | C92: FR | D92: C000 | E92: 1 | F92: 76
A93: 44770 | B93: #16397 | C93: FR | D93: 707000 | E93: 1 | G93: 75.33
A94: 44770 | B94: #16397 | C94: FR | D94: 445710 | E94: 1 | G94: 15.07
A95: 44770 | B95: #16397 | C95: FR | D95: C000 | E95: 1 | F95: 90.4
A96: 44770 | B96: #16396 | C96: BE | D96: 707000 | E96: 1 | G96: 48.1
A97: 44770 | B97: #16396 | C97: BE | D97: 445710 | E97: 1 | G97: 10.1
A98: 44770 | B98: #16396 | C98: BE | D98: C000 | E98: 1 | F98: 58.2
A99: 44770 | B99: #16395 | C99: FR | D99: 707000 | E99: 1 | G99: 36.66
A100: 44770 | B100: #16395 | C100: FR | D100: 445710 | E100: 1 | G100: 7.34
A101: 44770 | B101: #16395 | C101: FR | D101: C000 | E101: 1 | F101: 44
...

Sheet plan comptable
A1: Comptes | B1: Libelles
A2: 707000 | B2: Ventes de marchandises
A3: 445710 | B3: Tva Collectée
A4: C000 | B4: Comptes clients
A8: Comptes comptables | B8: Libelles | C8: Code Pays | D8: taux tva
A9: 707001 | B9: Ventes de marchandises Hors UE
A10: 708001 | B10: Transport sur ventes Hors UE
A12: 707010 | B12: Ventes de marchandises France 20% | C12: FR | D12: 20
A13: 708010 | B13: Transport sur ventes France 20% | C13: FR | D13: 20
A14: 445710 | B14: Tva collectee France 20% | C14: FR | D14: 20
A15: 707011 | B15: Ventes de marchandises France 5,5% | C15: FR | D15: 5.5
A16: 708011 | B16: Transport sur ventes France 5,5% | C16: FR | D16: 5.5
A17: 445711 | B17: Tva collectee France 5,5% | C17: FR | D17: 5.5
A19: 707020 | B19: Ventes de marchandises Allemagne 19% | C19: DE | D19: 19
A20: 708020 | B20: Transport sur ventes Allemagne 19% | C20: DE | D20: 19
A21: 445712 | B21: Tva collectee Allemagne 19% | C21: DE | D21: 19
A22: 707021 | B22: Ventes de marchandises Allemagne TR 7% | C22: DE | D22: 7
A23: 708021 | B23: Transport sur ventes Allemagne TR 7% | C23: DE | D23: 7
A24: 445713 | B24: Tva collectee Allemagne TR 7% | C24: DE | D24: 7
... A193: 445761 | B193: Tva collectee Bulgarie TR 9% | C193: BG | D193: 9
