Workbook

Sheet DONNEES VENTE
A1: date | B1: Name | C1: Email | D1: HT compte 707 | E1: frais de port compte 708 | F1: TVA | G1: TTC | H1: Colonne1 | I1: pays | J1: taux tva
A2: 44835 | B2: #17107 | C2: 1 | D2: 29.75 | E2: 0 | F2: 5.95 | G2: 35.7 | I2: FR | J2: 20
A3: 44835 | B3: #17106 | C3: 1 | D3: 45 | E3: 0 | F3: 9 | G3: 54 | I3: FR | J3: 20
A4: 44835 | B4: #17104 | C4: 1 | D4: 43.33 | E4: 0 | F4: 8.67 | G4: 52 | I4: FR | J4: 20
A5: 44835 | B5: #17105 | C5: 1 | D5: 29.75 | E5: 0 | F5: 5.95 | G5: 35.7 | I5: FR | J5: 20
A6: 44835 | B6: #17107 | C6: 1 | D6: 45 | E6: 0 | F6: 9 | G6: 54 | I6: FR | J6: 20
A7: 44835 | B7: #17108 | C7: 1 | D7: 35 | E7: 0 | F7: 7 | G7: 42 | I7: FR | J7: 20
A8: 44835 | B8: #17108 | C8: 1 | D8: 50 | E8: 0 | F8: 10 | G8: 60 | I8: FR | J8: 20
A9: 44835 | B9: #17108 | C9: 1 | D9: 45 | E9: 0 | F9: 9 | G9: 54 | I9: FR | J9: 20
A10: 44835 | B10: #17107 | C10: 1 | D10: 55.25 | E10: 0 | F10: 11.05 | G10: 66.3 | I10: FR | J10: 20
A11: 44835 | B11: #17106 | C11: 1 | D11: 21.67 | E11: 0 | F11: 4.33 | G11: 26 | I11: FR | J11: 20
A12: 44835 | B12: #17105 | C12: 1 | D12: 55.25 | E12: 0 | F12: 11.05 | G12: 66.3 | I12: FR | J12: 20
A13: 44835 | B13: #17104 | C13: 1 | D13: 0 | E13: 5.83 | F13: 1.17 | G13: 7 | I13: FR | J13: 20
... A38: 44836 | B38: #17112 | C38: 1 | D38: 32.5 | E38: 0 | F38: 6.5 | G38: 39 | I38: FR | J38: 20
A39: 44836 | B39: #17112 | D39: 45 | E39: 0 | F39: 9 | G39: 54 | I39: FR | J39: 20
A40: 44836 | B40: #17110 | C40: 1 | D40: 0 | E40: 0 | F40: 0 | G40: 0 | I40: FR | J40: 20
A41: 44836 | B41: #17116 | C41: 1 | D41: 0 | E41: 3.33 | F41: 0.67 | G41: 4 | I41: FR | J41: 20
A42: 44836 | B42: #17115 | C42: 1 | D42: 0 | E42: 0 | F42: 0 | G42: 0 | I42: FR | J42: 20
A43: 44836 | B43: #17113 | C43: 1 | D43: 0 | E43: 3.33 | F43: 0.67 | G43: 4 | I43: FR | J43: 20
A44: 44836 | B44: #17118 | C44: 1 | D44: 0 | E44: 3.33 | F44: 0.67 | G44: 4 | I44: FR | J44: 20
A45: 44836 | B45: #17109 | C45: 1 | D45: 0 | E45: 0 | F45: 0 | G45: 0 | I45: FR | J45: 20
A46: 44836 | B46: #17114 | C46: 1 | D46: 0 | E46: 3.33 | F46: 0.67 | G46: 4 | I46: FR | J46: 20
A47: 44836 | B47: #17111 | C47: 1 | D47: 0 | E47: 0 | F47: 0 | G47: 0 | I47: FR | J47: 20
A48: 44836 | B48: #17117 | C48: 1 | D48: 0 | E48: 0 | F48: 0 | G48: 0 | I48: FR | J48: 20
A49: 44836 | B49: #17112 | C49: 1 | D49: 0 | E49: 0 | F49: 0 | G49: 0 | I49: FR | J49: 20
A50: 44837 | B50: #17126 | C50: 1 | D50: 29.75 | E50: 0 | F50: 5.95 | G50: 35.7 | I50: FR | J50: 20
A51: 44837 | B51: #17119 | C51: 1 | D51: 35 | E51: 0 | F51: 7 | G51: 42 | I51: FR | J51: 20
... A56: 44837 | B56: #17126 | C56: 1 | D56: 45 | E56: 0 | F56: 9 | G56: 54 | I56: FR | J56: 20
A57: 44837 | B57: #17127 | C57: 1 | D57: 70.83 | E57: 0 | F57: 14.17 | G57: 85 | J57: 20
A58: 44837 | B58: #17128 | C58: 1 | D58: 35 | E58: 0 | F58: 7 | G58: 42 | I58: FR | J58: 20
A59: 44837 | B59: #17128 | C59: 1 | D59: 32.5 | E59: 0 | F59: 6.5 | G59: 39 | I59: FR | J59: 20
A60: 44837 | B60: #17129 | C60: 1 | D60: 32.5 | E60: 0 | F60: 6.5 | G60: 39 | I60: FR | J60: 20
A61: 44837 | B61: #17130 | C61: 1 | D61: 29.75 | E61: 0 | F61: 5.95 | G61: 35.7 | I61: FR | J61: 20
A62: 44837 | B62: #17130 | C62: 1 | D62: 27.62 | E62: 0 | F62: 5.53 | G62: 33.15 | I62: FR | J62: 20
A63: 44837 | B63: #17130 | C63: 1 | D63: 27.62 | E63: 0 | F63: 5.53 | G63: 33.15 | I63: FR | J63: 20
A64: 44837 | B64: #17131 | C64: 1 | D64: 29.75 | E64: 0 | F64: 5.95 | G64: 35.7 | I64: FR | J64: 20
A65: 44837 | B65: #17131 | C65: 1 | D65: 27.62 | E65: 0 | F65: 5.53 | G65: 33.15 | I65: FR | J65: 20
A66: 44837 | B66: #17131 | C66: 1 | D66: 29.75 | E66: 0 | F66: 5.95 | G66: 35.7 | I66: FR | J66: 20
A67: 44837 | B67: #17132 | C67: 1 | D67: 32.5 | E67: 0 | F67: 6.5 | G67: 39 | I67: FR | J67: 20
A68: 44837 | B68: #17133 | C68: 1 | D68: 35 | E68: 0 | F68: 7 | G68: 42 | I68: FR | J68: 20
...

Sheet ecritures comptables
A1: date | B1: Name | C1: Email | D1: HT compte 707 | E1: frais de port compte 708 | F1: TVA | G1: TTC | H1: Colonne1 | I1: pays | J1: taux tva
A2: 44835 | B2: #17107 | C2: 1 | D2: 29.75 | E2: 0 | F2: 5.95 | G2: 35.7 | I2: FR | J2: 20
F4: ttc | G4: ht/tva
A5: Date | B5: N°Facture | C5: pays | D5: Compte | E5: Libéllé compte | F5: débit | G5: crédit
A6: =+'DONNEES VENTE'!$A$2 -> 44835 | B6: =+'DONNEES VENTE'!$B$2 -> #17107 | C6: =+'DONNEES VENTE'!$I$2 -> FR | D6: C000 | E6: =+'DONNEES VENTE'!$C$2 -> 1 | F6: =+'DONNEES VENTE'!G2 -> 35.7
A7: =+'DONNEES VENTE'!$A$2 -> 44835 | B7: =+'DONNEES VENTE'!$B$2 -> #17107 | C7: =+'DONNEES VENTE'!$I$2 -> FR | D7: =+'plan comptable'!A12 -> 707010 | E7: =+'DONNEES VENTE'!$C$2 -> 1 | G7: =+'DONNEES VENTE'!D2 -> 29.75 | I7: Comptes comptables France 20%
A8: 44835 | B8: #17107 | C8: FR | D8: 708010 | E8: 1 | G8: 0
A9: =+'DONNEES VENTE'!$A$2 -> 44835 | B9: =+'DONNEES VENTE'!$B$2 -> #17107 | C9: =+'DONNEES VENTE'!$I$2 -> FR | D9: 445710 | E9: =+'DONNEES VENTE'!$C$2 -> 1 | G9: =+'DONNEES VENTE'!F2 -> 5.95
A13: 44840 | B13: #17155 | C13: 1 | D13: 0 | E13: 12.4 | F13: 2.6 | G13: 15 | I13: BE | J13: 21
A15: =+A13 -> 44840 | B15: =+B13 -> #17155 | C15: =+'DONNEES VENTE'!I184 -> BE | D15: C000 | E15: =+'DONNEES VENTE'!$C$2 -> 1 | F15: 15
A16: =+A13 -> 44840 | B16: =+B13 -> #17155 | C16: =+C15 -> BE | D16: 707040 | E16: =+'DONNEES VENTE'!$C$2 -> 1 | G16: 0
A17: =+A15 -> 44840 | B17: =+B15 -> #17155 | C17: =+C16 -> BE | D17: 708040 | E17: 1 | G17: 12.4 | I17: comptes comptables Belgique 21%
A18: =+A16 -> 44840 | B18: =+B16 -> #17155 | C18: =+C17 -> BE | D18: 445716 | E18: =+'DONNEES VENTE'!$C$2 -> 1 | G18: 2.6

Sheet Power Query
A2: date | B2: N°Facture | C2: Pays | D2: Compte | E2: Libellé compte | F2: Débit | G2: Crédit
A3: 44773 | B3: #16427 | C3: FR | D3: 707000 | E3: 1 | G3: 48.33
A4: 44773 | B4: #16427 | C4: FR | D4: 445710 | E4: 1 | G4: 9.67
A5: 44773 | B5: #16427 | C5: FR | D5: C000 | E5: 1 | F5: 58
A6: 44773 | B6: #16426 | C6: FR | D6: 707000 | E6: 1 | G6: 63.33
A7: 44773 | B7: #16426 | C7: FR | D7: 445710 | E7: 1 | G7: 12.67
A8: 44773 | B8: #16426 | C8: FR | D8: C000 | E8: 1 | F8: 76
A9: 44773 | B9: #16425 | C9: BE | D9: 707000 | E9: 1 | G9: 76.04
A10: 44773 | B10: #16425 | C10: BE | D10: 445710 | E10: 1 | G10: 15.96
A11: 44773 | B11: #16425 | C11: BE | D11: C000 | E11: 1 | F11: 92
A12: 44773 | B12: #16424 | C12: DE | D12: 707000 | E12: 1 | G12: 168.92
A13: 44773 | B13: #16424 | C13: DE | D13: 445710 | E13: 1 | G13: 32.08
A14: 44773 | B14: #16424 | C14: DE | D14: C000 | E14: 1 | F14: 201
A15: 44773 | B15: #16423 | C15: FR | D15: 707000 | E15: 1 | G15: 48.33
A16: 44773 | B16: #16423 | C16: FR | D16: 445710 | E16: 1 | G16: 9.67
A17: 44773 | B17: #16423 | C17: FR | D17: C000 | E17: 1 | F17: 58
A18: 44773 | B18: #16422 | C18: FR | D18: 707000 | E18: 1 | G18: 39.33
A19: 44773 | B19: #16422 | C19: FR | D19: 445710 | E19: 1 | G19: 7.87
A20: 44773 | B20: #16422 | C20: FR | D20: C000 | E20: 1 | F20: 47.2
A21: 44773 | B21: #16421 | C21: FR | D21: 707000 | E21: 1 | G21: 93.33
A22: 44773 | B22: #16421 | C22: FR | D22: 445710 | E22: 1 | G22: 18.67
A23: 44773 | B23: #16421 | C23: FR | D23: C000 | E23: 1 | F23: 112
A24: 44773 | B24: #16420 | C24: FR | D24: 707000 | E24: 1 | G24: 40.83
A25: 44773 | B25: #16420 | C25: FR | D25: 445710 | E25: 1 | G25: 8.17
A26: 44773 | B26: #16420 | C26: FR | D26: C000 | E26: 1 | F26: 49
A27: 44773 | B27: #16419 | C27: FR | D27: 707000 | E27: 1 | G27: 67.5
A28: 44773 | B28: #16419 | C28: FR | D28: 445710 | E28: 1 | G28: 13.5
A29: 44773 | B29: #16419 | C29: FR | D29: C000 | E29: 1 | F29: 81
A30: 44773 | B30: #16418 | C30: FR | D30: 707000 | E30: 1 | G30: 63.33
A31: 44773 | B31: #16418 | C31: FR | D31: 445710 | E31: 1 | G31: 12.67
A32: 44773 | B32: #16418 | C32: FR | D32: C000 | E32: 1 | F32: 76
A33: 44772 | B33: #16417 | C33: FR | D33: 707000 | E33: 1 | G33: 70
A34: 44772 | B34: #16417 | C34: FR | D34: 445710 | E34: 1 | G34: 14
A35: 44772 | B35: #16417 | C35: FR | D35: C000 | E35: 1 | F35: 84
A36: 44772 | B36: #16416 | C36: BE | D36: 707000 | E36: 1 | G36: 104.97
A37: 44772 | B37: #16416 | C37: BE | D37: 445710 | E37: 1 | G37: 22.03
A38: 44772 | B38: #16416 | C38: BE | D38: C000 | E38: 1 | F38: 127
A39: 44772 | B39: #16415 | C39: FR | D39: 707000 | E39: 1 | G39: 39.33
A40: 44772 | B40: #16415 | C40: FR | D40: 445710 | E40: 1 | G40: 7.87
A41: 44772 | B41: #16415 | C41: FR | D41: C000 | E41: 1 | F41: 47.2
...

Sheet plan comptable
A1: Comptes | B1: Libelles
A2: 707000 | B2: Ventes de marchandises
A3: 445710 | B3: Tva Collectée
A4: C000 | B4: Comptes clients
A8: Comptes comptables | B8: Libelles | C8: Code Pays | D8: taux tva
A9: 707001 | B9: Ventes de marchandises Hors UE
A10: 708001 | B10: Transport sur ventes Hors UE
A12: 707010 | B12: Ventes de marchandises France 20% | C12: FR | D12: 20
A13: 708010 | B13: Transport sur ventes France 20% | C13: FR | D13: 20
A14: 445710 | B14: Tva collectee France 20% | C14: FR | D14: 20
A15: 707011 | B15: Ventes de marchandises France 5,5% | C15: FR | D15: 5.5
A16: 708011 | B16: Transport sur ventes France 5,5% | C16: FR | D16: 5.5
A17: 445711 | B17: Tva collectee France 5,5% | C17: FR | D17: 5.5
A19: 707020 | B19: Ventes de marchandises Allemagne 19% | C19: DE | D19: 19
A20: 708020 | B20: Transport sur ventes Allemagne 19% | C20: DE | D20: 19
A21: 445712 | B21: Tva collectee Allemagne 19% | C21: DE | D21: 19
A22: 707021 | B22: Ventes de marchandises Allemagne TR 7% | C22: DE | D22: 7
A23: 708021 | B23: Transport sur ventes Allemagne TR 7% | C23: DE | D23: 7
A24: 445713 | B24: Tva collectee Allemagne TR 7% | C24: DE | D24: 7
... A193: 445761 | B193: Tva collectee Bulgarie TR 9% | C193: BG | D193: 9
