Workbook

Sheet Mloc 2022
B1: 1 | C1: 2 | D1: 3 | E1: 4 | F1: 6 | G1: 7 | H1: 8 | I1: 11 | J1: 12 | K1: 13 | L1: 26
B2: Nom du travailleur | C2: Prénom du travailleur | D2: Numéro de registre national | E2: Régime de travail (exprimé en ETP) | F2: Ancienneté barémique au 01/01/2022 | G2: Exemple ancienneté barémique | H2: Rémunération | I2: Date de naissance | J2: Fonction du travailleur - Echelon barémique | L2: Différence coût total réel - coût finançable
J7: Echelon barémique | K7: Intitulé de la fonction
A10: 1 | B10: Machin | C10: Truc | D10: 84053112233 | E10: 1 | F10: 0600 | G10: 1 ans et 2 mois = 0102 | H10: =IF(J10=1,VLOOKUP(LEFT(F10,2),Listes!$H$2:$O$34,2),IF(J10=2,VLOOKUP(LEFT(F10,2),Listes!$H$2:$O$34,3),IF(J10=3,VLOOKUP(LEFT(F10,2),Listes!$H$2:$O$34,4),IF(J10="4.1",VLOOKUP(LEFT(F10,2),Listes!$H$2:$O$34,5),IF(J10="4.2",VLOOKUP(LEFT(F10,2),Listes!$H$2:$O$34,6),IF(J10=5,VLOOKUP(LEFT(F10,2),Listes!$H$2:$O$34,7),IF(J10=6,VLOOKUP(LEFT(F10,2),Listes!$H$2:$O$34,8),"Erreur"))))))) -> 3731.7 | I10: =DATEVALUE(TEXT("19"&LEFT(D10,6),"####-##-##")) -> 30833 | J10: 5
A11: 2 | G11: 5 ans et 10 mois = 0510 | H11: =IF(J11=1,VLOOKUP(LEFT(F11,2),Listes!$H$2:$O$34,2),IF(J11=2,VLOOKUP(LEFT(F11,2),Listes!$H$2:$O$34,3),IF(J11=3,VLOOKUP(LEFT(F11,2),Listes!$H$2:$O$34,4),IF(J11="4.1",VLOOKUP(LEFT(F11,2),Listes!$H$2:$O$34,5),IF(J11="4.2",VLOOKUP(LEFT(F11,2),Listes!$H$2:$O$34,6),IF(J11=5,VLOOKUP(LEFT(F11,2),Listes!$H$2:$O$34,7),IF(J11=6,VLOOKUP(LEFT(F11,2),Listes!$H$2:$O$34,8),"Erreur"))))))) -> Erreur | I11: =DATEVALUE(TEXT("19"&LEFT(D11,6),"####-##-##")) -> #VALUE!
A12: 3 | G12: 10 ans et 2 mois = 1002 | H12: =IF(J12=1,VLOOKUP(LEFT(F12,2),Listes!$H$2:$O$34,2),IF(J12=2,VLOOKUP(LEFT(F12,2),Listes!$H$2:$O$34,3),IF(J12=3,VLOOKUP(LEFT(F12,2),Listes!$H$2:$O$34,4),IF(J12="4.1",VLOOKUP(LEFT(F12,2),Listes!$H$2:$O$34,5),IF(J12="4.2",VLOOKUP(LEFT(F12,2),Listes!$H$2:$O$34,6),IF(J12=5,VLOOKUP(LEFT(F12,2),Listes!$H$2:$O$34,7),IF(J12=6,VLOOKUP(LEFT(F12,2),Listes!$H$2:$O$34,8),"Erreur"))))))) -> Erreur | I12: =DATEVALUE(TEXT("19"&LEFT(D12,6),"####-##-##")) -> #VALUE!
A13: 4 | G13: 15 ans et 11 mois = 1511 | H13: =IF(J13=1,VLOOKUP(LEFT(F13,2),Listes!$H$2:$O$34,2),IF(J13=2,VLOOKUP(LEFT(F13,2),Listes!$H$2:$O$34,3),IF(J13=3,VLOOKUP(LEFT(F13,2),Listes!$H$2:$O$34,4),IF(J13="4.1",VLOOKUP(LEFT(F13,2),Listes!$H$2:$O$34,5),IF(J13="4.2",VLOOKUP(LEFT(F13,2),Listes!$H$2:$O$34,6),IF(J13=5,VLOOKUP(LEFT(F13,2),Listes!$H$2:$O$34,7),IF(J13=6,VLOOKUP(LEFT(F13,2),Listes!$H$2:$O$34,8),"Erreur"))))))) -> Erreur | I13: =DATEVALUE(TEXT("19"&LEFT(D13,6),"####-##-##")) -> #VALUE!
A14: 5 | H14: =IF(J14=1,VLOOKUP(LEFT(F14,2),Listes!$H$2:$O$34,2),IF(J14=2,VLOOKUP(LEFT(F14,2),Listes!$H$2:$O$34,3),IF(J14=3,VLOOKUP(LEFT(F14,2),Listes!$H$2:$O$34,4),IF(J14="4.1",VLOOKUP(LEFT(F14,2),Listes!$H$2:$O$34,5),IF(J14="4.2",VLOOKUP(LEFT(F14,2),Listes!$H$2:$O$34,6),IF(J14=5,VLOOKUP(LEFT(F14,2),Listes!$H$2:$O$34,7),IF(J14=6,VLOOKUP(LEFT(F14,2),Listes!$H$2:$O$34,8),"Erreur"))))))) -> Erreur | I14: =DATEVALUE(TEXT("19"&LEFT(D14,6),"####-##-##")) -> #VALUE!
A15: 6 | H15: =IF(J15=1,VLOOKUP(LEFT(F15,2),Listes!$H$2:$O$34,2),IF(J15=2,VLOOKUP(LEFT(F15,2),Listes!$H$2:$O$34,3),IF(J15=3,VLOOKUP(LEFT(F15,2),Listes!$H$2:$O$34,4),IF(J15="4.1",VLOOKUP(LEFT(F15,2),Listes!$H$2:$O$34,5),IF(J15="4.2",VLOOKUP(LEFT(F15,2),Listes!$H$2:$O$34,6),IF(J15=5,VLOOKUP(LEFT(F15,2),Listes!$H$2:$O$34,7),IF(J15=6,VLOOKUP(LEFT(F15,2),Listes!$H$2:$O$34,8),"Erreur"))))))) -> Erreur | I15: =DATEVALUE(TEXT("19"&LEFT(D15,6),"####-##-##")) -> #VALUE!
A16: 7 | H16: =IF(J16=1,VLOOKUP(LEFT(F16,2),Listes!$H$2:$O$34,2),IF(J16=2,VLOOKUP(LEFT(F16,2),Listes!$H$2:$O$34,3),IF(J16=3,VLOOKUP(LEFT(F16,2),Listes!$H$2:$O$34,4),IF(J16="4.1",VLOOKUP(LEFT(F16,2),Listes!$H$2:$O$34,5),IF(J16="4.2",VLOOKUP(LEFT(F16,2),Listes!$H$2:$O$34,6),IF(J16=5,VLOOKUP(LEFT(F16,2),Listes!$H$2:$O$34,7),IF(J16=6,VLOOKUP(LEFT(F16,2),Listes!$H$2:$O$34,8),"Erreur"))))))) -> Erreur | I16: =DATEVALUE(TEXT("19"&LEFT(D16,6),"####-##-##")) -> #VALUE!
A17: 8 | H17: =IF(J17=1,VLOOKUP(LEFT(F17,2),Listes!$H$2:$O$34,2),IF(J17=2,VLOOKUP(LEFT(F17,2),Listes!$H$2:$O$34,3),IF(J17=3,VLOOKUP(LEFT(F17,2),Listes!$H$2:$O$34,4),IF(J17="4.1",VLOOKUP(LEFT(F17,2),Listes!$H$2:$O$34,5),IF(J17="4.2",VLOOKUP(LEFT(F17,2),Listes!$H$2:$O$34,6),IF(J17=5,VLOOKUP(LEFT(F17,2),Listes!$H$2:$O$34,7),IF(J17=6,VLOOKUP(LEFT(F17,2),Listes!$H$2:$O$34,8),"Erreur"))))))) -> Erreur | I17: =DATEVALUE(TEXT("19"&LEFT(D17,6),"####-##-##")) -> #VALUE!
A18: 9 | H18: =IF(J18=1,VLOOKUP(LEFT(F18,2),Listes!$H$2:$O$34,2),IF(J18=2,VLOOKUP(LEFT(F18,2),Listes!$H$2:$O$34,3),IF(J18=3,VLOOKUP(LEFT(F18,2),Listes!$H$2:$O$34,4),IF(J18="4.1",VLOOKUP(LEFT(F18,2),Listes!$H$2:$O$34,5),IF(J18="4.2",VLOOKUP(LEFT(F18,2),Listes!$H$2:$O$34,6),IF(J18=5,VLOOKUP(LEFT(F18,2),Listes!$H$2:$O$34,7),IF(J18=6,VLOOKUP(LEFT(F18,2),Listes!$H$2:$O$34,8),"Erreur"))))))) -> Erreur | I18: =DATEVALUE(TEXT("19"&LEFT(D18,6),"####-##-##")) -> #VALUE!
A19: 10 | H19: =IF(J19=1,VLOOKUP(LEFT(F19,2),Listes!$H$2:$O$34,2),IF(J19=2,VLOOKUP(LEFT(F19,2),Listes!$H$2:$O$34,3),IF(J19=3,VLOOKUP(LEFT(F19,2),Listes!$H$2:$O$34,4),IF(J19="4.1",VLOOKUP(LEFT(F19,2),Listes!$H$2:$O$34,5),IF(J19="4.2",VLOOKUP(LEFT(F19,2),Listes!$H$2:$O$34,6),IF(J19=5,VLOOKUP(LEFT(F19,2),Listes!$H$2:$O$34,7),IF(J19=6,VLOOKUP(LEFT(F19,2),Listes!$H$2:$O$34,8),"Erreur"))))))) -> Erreur | I19: =DATEVALUE(TEXT("19"&LEFT(D19,6),"####-##-##")) -> #VALUE!
A20: 11 | H20: =IF(J20=1,VLOOKUP(LEFT(F20,2),Listes!$H$2:$O$34,2),IF(J20=2,VLOOKUP(LEFT(F20,2),Listes!$H$2:$O$34,3),IF(J20=3,VLOOKUP(LEFT(F20,2),Listes!$H$2:$O$34,4),IF(J20="4.1",VLOOKUP(LEFT(F20,2),Listes!$H$2:$O$34,5),IF(J20="4.2",VLOOKUP(LEFT(F20,2),Listes!$H$2:$O$34,6),IF(J20=5,VLOOKUP(LEFT(F20,2),Listes!$H$2:$O$34,7),IF(J20=6,VLOOKUP(LEFT(F20,2),Listes!$H$2:$O$34,8),"Erreur"))))))) -> Erreur | I20: =DATEVALUE(TEXT("19"&LEFT(D20,6),"####-##-##")) -> #VALUE!
A21: 12 | H21: =IF(J21=1,VLOOKUP(LEFT(F21,2),Listes!$H$2:$O$34,2),IF(J21=2,VLOOKUP(LEFT(F21,2),Listes!$H$2:$O$34,3),IF(J21=3,VLOOKUP(LEFT(F21,2),Listes!$H$2:$O$34,4),IF(J21="4.1",VLOOKUP(LEFT(F21,2),Listes!$H$2:$O$34,5),IF(J21="4.2",VLOOKUP(LEFT(F21,2),Listes!$H$2:$O$34,6),IF(J21=5,VLOOKUP(LEFT(F21,2),Listes!$H$2:$O$34,7),IF(J21=6,VLOOKUP(LEFT(F21,2),Listes!$H$2:$O$34,8),"Erreur"))))))) -> Erreur | I21: =DATEVALUE(TEXT("19"&LEFT(D21,6),"####-##-##")) -> #VALUE!
A22: 13 | H22: =IF(J22=1,VLOOKUP(LEFT(F22,2),Listes!$H$2:$O$34,2),IF(J22=2,VLOOKUP(LEFT(F22,2),Listes!$H$2:$O$34,3),IF(J22=3,VLOOKUP(LEFT(F22,2),Listes!$H$2:$O$34,4),IF(J22="4.1",VLOOKUP(LEFT(F22,2),Listes!$H$2:$O$34,5),IF(J22="4.2",VLOOKUP(LEFT(F22,2),Listes!$H$2:$O$34,6),IF(J22=5,VLOOKUP(LEFT(F22,2),Listes!$H$2:$O$34,7),IF(J22=6,VLOOKUP(LEFT(F22,2),Listes!$H$2:$O$34,8),"Erreur"))))))) -> Erreur | I22: =DATEVALUE(TEXT("19"&LEFT(D22,6),"####-##-##")) -> #VALUE!
A23: 14 | H23: =IF(J23=1,VLOOKUP(LEFT(F23,2),Listes!$H$2:$O$34,2),IF(J23=2,VLOOKUP(LEFT(F23,2),Listes!$H$2:$O$34,3),IF(J23=3,VLOOKUP(LEFT(F23,2),Listes!$H$2:$O$34,4),IF(J23="4.1",VLOOKUP(LEFT(F23,2),Listes!$H$2:$O$34,5),IF(J23="4.2",VLOOKUP(LEFT(F23,2),Listes!$H$2:$O$34,6),IF(J23=5,VLOOKUP(LEFT(F23,2),Listes!$H$2:$O$34,7),IF(J23=6,VLOOKUP(LEFT(F23,2),Listes!$H$2:$O$34,8),"Erreur"))))))) -> Erreur | I23: =DATEVALUE(TEXT("19"&LEFT(D23,6),"####-##-##")) -> #VALUE!
A24: 15 | H24: =IF(J24=1,VLOOKUP(LEFT(F24,2),Listes!$H$2:$O$34,2),IF(J24=2,VLOOKUP(LEFT(F24,2),Listes!$H$2:$O$34,3),IF(J24=3,VLOOKUP(LEFT(F24,2),Listes!$H$2:$O$34,4),IF(J24="4.1",VLOOKUP(LEFT(F24,2),Listes!$H$2:$O$34,5),IF(J24="4.2",VLOOKUP(LEFT(F24,2),Listes!$H$2:$O$34,6),IF(J24=5,VLOOKUP(LEFT(F24,2),Listes!$H$2:$O$34,7),IF(J24=6,VLOOKUP(LEFT(F24,2),Listes!$H$2:$O$34,8),"Erreur"))))))) -> Erreur | I24: =DATEVALUE(TEXT("19"&LEFT(D24,6),"####-##-##")) -> #VALUE!
A25: 16 | H25: =IF(J25=1,VLOOKUP(LEFT(F25,2),Listes!$H$2:$O$34,2),IF(J25=2,VLOOKUP(LEFT(F25,2),Listes!$H$2:$O$34,3),IF(J25=3,VLOOKUP(LEFT(F25,2),Listes!$H$2:$O$34,4),IF(J25="4.1",VLOOKUP(LEFT(F25,2),Listes!$H$2:$O$34,5),IF(J25="4.2",VLOOKUP(LEFT(F25,2),Listes!$H$2:$O$34,6),IF(J25=5,VLOOKUP(LEFT(F25,2),Listes!$H$2:$O$34,7),IF(J25=6,VLOOKUP(LEFT(F25,2),Listes!$H$2:$O$34,8),"Erreur"))))))) -> Erreur | I25: =DATEVALUE(TEXT("19"&LEFT(D25,6),"####-##-##")) -> #VALUE!
... A109: 100 | H109: =IF(J109=1,VLOOKUP(LEFT(F109,2),Listes!$H$2:$O$34,2),IF(J109=2,VLOOKUP(LEFT(F109,2),Listes!$H$2:$O$34,3),IF(J109=3,VLOOKUP(LEFT(F109,2),Listes!$H$2:$O$34,4),IF(J109="4.1",VLOOKUP(LEFT(F109,2),Listes!$H$2:$O$34,5),IF(J109="4.2",VLOOKUP(LEFT(F109,2),Listes!$H$2:$O$34,6),IF(J109=5,VLOOKUP(LEFT(F109,2),Listes!$H$2:$O$34,7),IF(J109=6,VLOOKUP(LEFT(F109,2),Listes!$H$2:$O$34,8),"Erreur"))))))) -> Erreur | I109: =DATEVALUE(TEXT("19"&LEFT(D109,6),"####-##-##")) -> #VALUE!
A110: FRAIS SALARIAUX
A111: FRAIS DE FONCTIONNEMENT
A112: MONTANT TOTAL
C115: Nombre P.P.
A116: TRAVAILLEURS ACS INSERTION
A117: TRAVAILLEURS ART.60
A118: TRAVAILLEURS ART.60 ES
A119: TRAVAILLEURS ECOSOC INSERTION
A120: TRAVAILLEURS ECOSOC TRANSITION
A122: Nombre TRAVAILLEURS ISP | C122: =COUNTA(B10:B109) -> 1
A123: Nombre ETP ISP | C123: =SUM(#REF!) -> #REF!
D125: Travailleurs | E125: Régime de travail | F125: TOTAL AFFECTATION (hors équipe de base COCOF)
D127: =A10 -> 1 | E127: =E10 -> 1 | F127: =IFERROR((#REF!+#REF!+#REF!),"")
D128: =A11 -> 2 | E128: =E11 -> 0 | F128: =IFERROR((#REF!+#REF!+#REF!),"")
D129: =A12 -> 3 | E129: =E12 -> 0 | F129: =IFERROR((#REF!+#REF!+#REF!),"")
D130: =A13 -> 4 | E130: =E13 -> 0 | F130: =IFERROR((#REF!+#REF!+#REF!),"")
D131: =A14 -> 5 | E131: =E14 -> 0 | F131: =IFERROR((#REF!+#REF!+#REF!),"")
D132: =A15 -> 6 | E132: =E15 -> 0 | F132: =IFERROR((#REF!+#REF!+#REF!),"")
D133: =A16 -> 7 | E133: =E16 -> 0 | F133: =IFERROR((#REF!+#REF!+#REF!),"")
D134: =A17 -> 8 | E134: =E17 -> 0 | F134: =IFERROR((#REF!+#REF!+#REF!),"")
D135: =A18 -> 9 | E135: =E18 -> 0 | F135: =IFERROR((#REF!+#REF!+#REF!),"")
D136: =A19 -> 10 | E136: =E19 -> 0 | F136: =IFERROR((#REF!+#REF!+#REF!),"")
D137: =A20 -> 11 | E137: =E20 -> 0 | F137: =IFERROR((#REF!+#REF!+#REF!),"")
D138: =A21 -> 12 | E138: =E21 -> 0 | F138: =IFERROR((#REF!+#REF!+#REF!),"")
... D226: =A109 -> 100 | E226: =E109 -> 0 | F226: =IFERROR((#REF!+#REF!+#REF!),"")
E227: =SUM(E127:E226) -> 1 | F227: =IFERROR((#REF!+#REF!+#REF!),"")

Sheet Listes
B2: Barèmes | H2: Ancienneté | I2: Echelon 1 | J2: Echelon 2 | K2: Echelon 3 | L2: Échelon 4.1 | M2: Échelon 4.2 | N2: Echelon 5 | O2: Echelon 6
B3: 1 | H3: 00 | I3: 1964.23 | J3: 2152.01 | K3: 2433.38 | L3: 2637.14 | M3: 3111.67 | N3: 3400.3 | O3: 3551.71
B4: 2 | H4: 01 | I4: 2128.78 | J4: 2322.17 | K4: 2618.22 | L4: 2829.1 | M4: 3271.19 | N4: 3534.93 | O4: 3725.08
B5: 3 | H5: 02 | I5: 2139.96 | J5: 2344.53 | K5: 2618.22 | L5: 2829.1 | M5: 3271.19 | N5: 3534.93 | O5: 3725.08
B6: 4.1 | H6: 03 | I6: 2151.16 | J6: 2366.85 | K6: 2736.02 | L6: 2963.48 | M6: 3387.25 | N6: 3633.33 | O6: 3880.94
B7: 4.2 | H7: 04 | I7: 2162.33 | J7: 2389.22 | K7: 2736.02 | L7: 2963.48 | M7: 3387.25 | N7: 3633.33 | O7: 3880.94
B8: 5 | H8: 05 | I8: 2173.48 | J8: 2411.61 | K8: 2859.16 | L8: 3104.24 | M8: 3503.17 | N8: 3731.7 | O8: 4036.84
B9: 6 | H9: 06 | I9: 2184.68 | J9: 2433.94 | K9: 2859.16 | L9: 3104.24 | M9: 3503.17 | N9: 3731.7 | O9: 4036.84
H10: 07 | I10: 2195.87 | J10: 2456.31 | K10: 2987.8 | L10: 3251.71 | M10: 3619.19 | N10: 3830.13 | O10: 4192.72
H11: 08 | I11: 2207.09 | J11: 2478.7 | K11: 2987.8 | L11: 3251.71 | M11: 3619.19 | N11: 3830.13 | O11: 4192.72
H12: 09 | I12: 2218.24 | J12: 2501 | K12: 3122.24 | L12: 3406.15 | M12: 3735.18 | N12: 3928.5 | O12: 4348.58
H13: 10 | I13: 2287.12 | J13: 2588.72 | K13: 3122.24 | L13: 3406.15 | M13: 3793.2 | N13: 3986.46 | O13: 4406.86
H14: 11 | I14: 2298.28 | J14: 2615.56 | K14: 3262.73 | L14: 3567.93 | M14: 3909.14 | N14: 4084.92 | O14: 4562.74
H15: 12 | I15: 2309.41 | J15: 2642.41 | K15: 3262.73 | L15: 3567.93 | M15: 3909.14 | N15: 4084.92 | O15: 4562.74
H16: 13 | I16: 2320.64 | J16: 2669.2 | K16: 3409.54 | L16: 3737.43 | M16: 425.15 | N16: 4183.28 | O16: 4718.63
H17: 14 | I17: 2331.8 | J17: 2696.01 | K17: 3409.54 | L17: 3737.43 | M17: 425.15 | N17: 4183.28 | O17: 4718.63
H18: 15 | I18: 2343 | J18: 2722.85 | K18: 3522.11 | L18: 3886.93 | M18: 4141.16 | N18: 4281.67 | O18: 4874.51
H19: 16 | I19: 2354.22 | J19: 2749.67 | K19: 3522.11 | L19: 3886.93 | M19: 4141.16 | N19: 4281.67 | O19: 4874.51
H20: 17 | I20: 2365.34 | J20: 2776.47 | K20: 3578.03 | L20: 4042.4 | M20: 4257.13 | N20: 4380.07 | O20: 5030.37
H21: 18 | I21: 2376.53 | J21: 2803.32 | K21: 3578.03 | L21: 4042.4 | M21: 4257.13 | N21: 4380.07 | O21: 5030.37
... H34: 31 | I34: 2477.19 | J34: 3098.7 | K34: 4013 | L34: 4646.07 | M34: 4837.06 | N34: 4872.04 | O34: 5658.27
