Workbook

Sheet Feuil4
B3: Étiquettes de colonnes
B4: VQB10 | E4: VYX11 | H4: VYZ11 | K4: WDK11 | N4: WTR11 | Q4: WTS11 | T4: WTT11 | W4: WUL11 | Z4: WUS11 | AC4: WUT11 | AF4: WWY11 | AI4: WYS11 | AL4: WYT11 | AO4: WYU11 | AR4: WYV11 | AU4: WZB11 | AX4: WZC11 | BA4: XBE11 | BD4: XBM11 | BG4: XBN11 | BJ4: XBP11 | BM4: Total Somme de TEMPS log en secondes | BN4: Total Somme de Ventes | BO4: Total Somme de Contacts
A5: Étiquettes de lignes | B5: Somme de TEMPS log en secondes | C5: Somme de Ventes | D5: Somme de Contacts | E5: Somme de TEMPS log en secondes | F5: Somme de Ventes | G5: Somme de Contacts | H5: Somme de TEMPS log en secondes | I5: Somme de Ventes | J5: Somme de Contacts | K5: Somme de TEMPS log en secondes | L5: Somme de Ventes | M5: Somme de Contacts | N5: Somme de TEMPS log en secondes | O5: Somme de Ventes | P5: Somme de Contacts | Q5: Somme de TEMPS log en secondes | R5: Somme de Ventes | S5: Somme de Contacts | T5: Somme de TEMPS log en secondes | U5: Somme de Ventes | V5: Somme de Contacts | W5: Somme de TEMPS log en secondes | X5: Somme de Ventes | Y5: Somme de Contacts | Z5: Somme de TEMPS log en secondes | AA5: Somme de Ventes | AB5: Somme de Contacts | AC5: Somme de TEMPS log en secondes | AD5: Somme de Ventes | AE5: Somme de Contacts | AF5: Somme de TEMPS log en secondes | AG5: Somme de Ventes | AH5: Somme de Contacts | AI5: Somme de TEMPS log en secondes | AJ5: Somme de Ventes | AK5: Somme de Contacts | AL5: Somme de TEMPS log en secondes | AM5: Somme de Ventes | AN5: Somme de Contacts | AO5: Somme de TEMPS log en secondes | AP5: Somme de Ventes | AQ5: Somme de Contacts | AR5: Somme de TEMPS log en secondes | AS5: Somme de Ventes | AT5: Somme de Contacts | AU5: Somme de TEMPS log en secondes | AV5: Somme de Ventes | AW5: Somme de Contacts | AX5: Somme de TEMPS log en secondes | AY5: Somme de Ventes | AZ5: Somme de Contacts | BA5: Somme de TEMPS log en secondes | BB5: Somme de Ventes | BC5: Somme de Contacts | BD5: Somme de TEMPS log en secondes | BE5: Somme de Ventes | BF5: Somme de Contacts | BG5: Somme de TEMPS log en secondes | BH5: Somme de Ventes | BI5: Somme de Contacts | BJ5: Somme de TEMPS log en secondes | BK5: Somme de Ventes | BL5: Somme de Contacts
A6: 1000 | AF6: 323 | AG6: 0 | AH6: 0 | BJ6: 487 | BK6: 0 | BL6: 0 | BM6: 810 | BN6: 0 | BO6: 0
A7: 1305 | AF7: 17068 | AG7: 2 | AH7: 35 | BM7: 17068 | BN7: 2 | BO7: 35
A8: 1729 | Q8: 6220 | R8: 0 | S8: 6 | Z8: 41795 | AA8: 1 | AB8: 81 | AC8: 55537 | AD8: 4 | AE8: 95 | AR8: 7559 | AS8: 2 | AT8: 16 | BM8: 111111 | BN8: 7 | BO8: 198
A9: 1730 | T9: 16446 | U9: 0 | V9: 23 | Z9: 53144 | AA9: 7 | AB9: 141 | AF9: 281430 | AG9: 44 | AH9: 906 | AR9: 5560 | AS9: 1 | AT9: 19 | BA9: 17729 | BB9: 0 | BC9: 71 | BM9: 374309 | BN9: 52 | BO9: 1160
A10: 1731 | T10: 3418 | U10: 0 | V10: 4 | Z10: 1233 | AA10: 1 | AB10: 2 | AC10: 11805 | AD10: 0 | AE10: 18 | AO10: 335 | AP10: 0 | AQ10: 0 | AR10: 228047 | AS10: 27 | AT10: 418 | AX10: 96239 | AY10: 6 | AZ10: 128 | BM10: 341077 | BN10: 34 | BO10: 570
A11: 4070 | AI11: 3339 | AJ11: 0 | AK11: 11 | BA11: 3886 | BB11: 0 | BC11: 11 | BM11: 7225 | BN11: 0 | BO11: 22
A12: 4071 | AR12: 36476 | AS12: 3 | AT12: 56 | BM12: 36476 | BN12: 3 | BO12: 56
A13: 4072 | AI13: 1802 | AJ13: 1 | AK13: 8 | AL13: 17174 | AM13: 1 | AN13: 41 | BM13: 18976 | BN13: 2 | BO13: 49
A14: 4075 | W14: 7209 | X14: 1 | Y14: 17 | AO14: 1927 | AP14: 0 | AQ14: 4 | AR14: 19849 | AS14: 2 | AT14: 79 | BM14: 28985 | BN14: 3 | BO14: 100
A15: 4079 | AR15: 7533 | AS15: 0 | AT15: 25 | BM15: 7533 | BN15: 0 | BO15: 25
A16: 6316 | E16: 20240 | F16: 0 | G16: 24 | Z16: 11726 | AA16: 1 | AB16: 23 | AR16: 127962 | AS16: 21 | AT16: 306 | AU16: 4581 | AV16: 0 | AW16: 11 | BD16: 78158 | BE16: 12 | BF16: 184 | BM16: 242667 | BN16: 34 | BO16: 548
A17: 6319 | K17: 65792 | L17: 5 | M17: 126 | Z17: 6890 | AA17: 0 | AB17: 6 | AC17: 13169 | AD17: 1 | AE17: 33 | AR17: 127506 | AS17: 10 | AT17: 351 | AU17: 18750 | AV17: 0 | AW17: 26 | AX17: 57451 | AY17: 6 | AZ17: 127 | BD17: 41971 | BE17: 6 | BF17: 66 | BM17: 331529 | BN17: 28 | BO17: 735
A18: 6320 | Q18: 13331 | R18: 0 | S18: 8 | T18: 5811 | U18: 0 | V18: 20 | W18: 231570 | X18: 15 | Y18: 697 | AO18: 93229 | AP18: 11 | AQ18: 271 | AR18: 73006 | AS18: 13 | AT18: 244 | BM18: 416947 | BN18: 39 | BO18: 1240
A19: 6601 | Q19: 17422 | R19: 2 | S19: 22 | Z19: 61955 | AA19: 7 | AB19: 64 | AR19: 244762 | AS19: 34 | AT19: 317 | AU19: 13047 | AV19: 0 | AW19: 25 | AX19: 6571 | AY19: 0 | AZ19: 5 | BD19: 15570 | BE19: 3 | BF19: 26 | BM19: 359327 | BN19: 46 | BO19: 459
A20: 6604 | AR20: 47782 | AS20: 2 | AT20: 153 | BM20: 47782 | BN20: 2 | BO20: 153
A21: 6605 | E21: 62958 | F21: 2 | G21: 102 | H21: 13143 | I21: 0 | J21: 25 | AR21: 182871 | AS21: 26 | AT21: 552 | AU21: 3602 | AV21: 0 | AW21: 16 | AX21: 75892 | AY21: 6 | AZ21: 284 | BD21: 7598 | BE21: 0 | BF21: 31 | BG21: 14676 | BH21: 1 | BI21: 38 | BM21: 360740 | BN21: 35 | BO21: 1048
A22: 6614 | AL22: 10111 | AM22: 0 | AN22: 27 | BM22: 10111 | BN22: 0 | BO22: 27
A23: 6615 | AL23: 12385 | AM23: 0 | AN23: 23 | BM23: 12385 | BN23: 0 | BO23: 23
A24: 6616 | AL24: 8948 | AM24: 0 | AN24: 20 | BM24: 8948 | BN24: 0 | BO24: 20
A25: 6617 | AL25: 8259 | AM25: 0 | AN25: 22 | BM25: 8259 | BN25: 0 | BO25: 22
A26: 6618 | AO26: 7243 | AP26: 0 | AQ26: 25 | BM26: 7243 | BN26: 0 | BO26: 25
A27: 6619 | W27: 3239 | X27: 0 | Y27: 10 | AO27: 6055 | AP27: 0 | AQ27: 22 | BM27: 9294 | BN27: 0 | BO27: 32
A28: 7000 | AI28: 13410 | AJ28: 1 | AK28: 25 | AL28: 294699 | AM28: 21 | AN28: 837 | AR28: 53610 | AS28: 4 | AT28: 151 | BA28: 53987 | BB28: 3 | BC28: 173 | BM28: 415706 | BN28: 29 | BO28: 1186
A29: 7006 | AI29: 48270 | AJ29: 3 | AK29: 90 | AL29: 189957 | AM29: 24 | AN29: 428 | AR29: 51157 | AS29: 6 | AT29: 115 | BM29: 289384 | BN29: 33 | BO29: 633
A30: 7011 | AL30: 134747 | AM30: 9 | AN30: 298 | BM30: 134747 | BN30: 9 | BO30: 298
A31: 7014 | AI31: 92471 | AJ31: 8 | AK31: 184 | AL31: 194436 | AM31: 12 | AN31: 461 | AR31: 57722 | AS31: 6 | AT31: 148 | BA31: 76365 | BB31: 1 | BC31: 243 | BM31: 420994 | BN31: 27 | BO31: 1036
A32: 7020 | AI32: 38540 | AJ32: 2 | AK32: 85 | AL32: 220499 | AM32: 25 | AN32: 568 | AR32: 98544 | AS32: 7 | AT32: 240 | BA32: 15160 | BB32: 0 | BC32: 50 | BM32: 372743 | BN32: 34 | BO32: 943
A33: 7023 | AI33: 8458 | AJ33: 0 | AK33: 11 | AL33: 174575 | AM33: 18 | AN33: 366 | AR33: 31660 | AS33: 5 | AT33: 79 | BA33: 40432 | BB33: 1 | BC33: 135 | BM33: 255125 | BN33: 24 | BO33: 591
A34: 7025 | AL34: 39969 | AM34: 4 | AN34: 71 | BM34: 39969 | BN34: 4 | BO34: 71
A35: 7035 | E35: 5113 | F35: 0 | G35: 10 | Z35: 115077 | AA35: 15 | AB35: 312 | AC35: 45503 | AD35: 8 | AE35: 125 | AR35: 158038 | AS35: 31 | AT35: 503 | BD35: 71543 | BE35: 18 | BF35: 201 | BG35: 11142 | BH35: 4 | BI35: 27 | BM35: 406416 | BN35: 76 | BO35: 1178
A36: 7040 | B36: 45356 | C36: 10 | D36: 41 | E36: 47662 | F36: 7 | G36: 107 | H36: 10168 | I36: 0 | J36: 14 | W36: 8446 | X36: 0 | Y36: 26 | Z36: 16494 | AA36: 2 | AB36: 55 | AC36: 15029 | AD36: 1 | AE36: 25 | AR36: 44848 | AS36: 11 | AT36: 111 | AU36: 17551 | AV36: 0 | AW36: 44 | AX36: 24175 | AY36: 5 | AZ36: 45 | BD36: 64837 | BE36: 18 | BF36: 175 | BG36: 25392 | BH36: 9 | BI36: 64 | BM36: 319958 | BN36: 63 | BO36: 707
A37: 7078 | AR37: 5856 | AS37: 0 | AT37: 10 | BM37: 5856 | BN37: 0 | BO37: 10
A38: 7091 | AI38: 10297 | AJ38: 1 | AK38: 19 | AL38: 343910 | AM38: 20 | AN38: 894 | AR38: 49900 | AS38: 3 | AT38: 118 | BA38: 15945 | BB38: 0 | BC38: 41 | BM38: 420052 | BN38: 24 | BO38: 1072
A39: 7093 | E39: 18086 | F39: 0 | G39: 49 | H39: 2251 | I39: 0 | J39: 7 | Z39: 62581 | AA39: 2 | AB39: 134 | AC39: 36757 | AD39: 3 | AE39: 57 | AR39: 104836 | AS39: 8 | AT39: 299 | AU39: 9833 | AV39: 1 | AW39: 27 | AX39: 3995 | AY39: 0 | AZ39: 15 | BD39: 69575 | BE39: 7 | BF39: 183 | BG39: 33465 | BH39: 5 | BI39: 97 | BM39: 341379 | BN39: 26 | BO39: 868
A40: 7302 | K40: 4486 | L40: 0 | M40: 19 | Q40: 15446 | R40: 2 | S40: 25 | AR40: 183637 | AS40: 18 | AT40: 583 | AU40: 8692 | AV40: 0 | AW40: 35 | AX40: 67931 | AY40: 5 | AZ40: 262 | BM40: 280192 | BN40: 25 | BO40: 924
A41: 7303 | Q41: 296 | R41: 0 | S41: 0 | W41: 167320 | X41: 12 | Y41: 303 | AO41: 154947 | AP41: 17 | AQ41: 453 | AR41: 22126 | AS41: 2 | AT41: 48 | BM41: 344689 | BN41: 31 | BO41: 804
A42: 7305 | K42: 81464 | L42: 5 | M42: 192 | Z42: 19516 | AA42: 2 | AB42: 41 | AC42: 2686 | AD42: 0 | AE42: 6 | AR42: 154282 | AS42: 20 | AT42: 365 | AU42: 31968 | AV42: 2 | AW42: 78 | BG42: 88589 | BH42: 9 | BI42: 235 | BM42: 378505 | BN42: 38 | BO42: 917
A43: 7306 | K43: 49620 | L43: 3 | M43: 86 | AF43: 306157 | AG43: 46 | AH43: 636 | BA43: 41962 | BB43: 3 | BC43: 94 | BM43: 397739 | BN43: 52 | BO43: 816
A44: 7307 | H44: 3882 | I44: 0 | J44: 9 | K44: 27007 | L44: 0 | M44: 74 | Z44: 712 | AA44: 0 | AB44: 0 | AC44: 9298 | AD44: 0 | AE44: 29 | AR44: 12113 | AS44: 2 | AT44: 34 | BM44: 53012 | BN44: 2 | BO44: 146
A45: 7310 | T45: 15830 | U45: 1 | V45: 15 | W45: 214900 | X45: 24 | Y45: 544 | AO45: 157166 | AP45: 22 | AQ45: 435 | AR45: 27827 | AS45: 6 | AT45: 88 | BM45: 415723 | BN45: 53 | BO45: 1082
A46: 7311 | K46: 11937 | L46: 0 | M46: 19 | Z46: 1913 | AA46: 0 | AB46: 3 | AF46: 276502 | AG46: 45 | AH46: 583 | BA46: 13661 | BB46: 0 | BC46: 30 | BM46: 304013 | BN46: 45 | BO46: 635
A47: 7312 | K47: 64596 | L47: 1 | M47: 147 | T47: 200 | U47: 0 | V47: 0 | AR47: 260496 | AS47: 20 | AT47: 655 | AU47: 16529 | AV47: 2 | AW47: 37 | AX47: 56698 | AY47: 7 | AZ47: 135 | BM47: 398519 | BN47: 30 | BO47: 974
A48: 7317 | E48: 40060 | F48: 1 | G48: 103 | H48: 76743 | I48: 3 | J48: 151 | W48: 13234 | X48: 1 | Y48: 41 | AC48: 10934 | AD48: 0 | AE48: 32 | AR48: 140463 | AS48: 17 | AT48: 486 | BD48: 73415 | BE48: 10 | BF48: 219 | BG48: 41067 | BH48: 6 | BI48: 120 | BM48: 395916 | BN48: 38 | BO48: 1152
A49: 7328 | K49: 37179 | L49: 0 | M49: 71 | Z49: 26735 | AA49: 7 | AB49: 41 | AF49: 321592 | AG49: 77 | AH49: 625 | BA49: 18858 | BB49: 1 | BC49: 34 | BM49: 404364 | BN49: 85 | BO49: 771
A50: 7330 | AL50: 4426 | AM50: 1 | AN50: 7 | BM50: 4426 | BN50: 1 | BO50: 7
A51: 7331 | AI51: 2095 | AJ51: 1 | AK51: 3 | AL51: 204876 | AM51: 6 | AN51: 738 | BA51: 11662 | BB51: 0 | BC51: 56 | BM51: 218633 | BN51: 7 | BO51: 797
A52: 7332 | AI52: 160817 | AJ52: 24 | AK52: 336 | AL52: 53258 | AM52: 4 | AN52: 151 | BA52: 149786 | BB52: 7 | BC52: 452 | BM52: 363861 | BN52: 35 | BO52: 939
A53: 7333 | AI53: 3237 | AJ53: 0 | AK53: 7 | AL53: 236499 | AM53: 21 | AN53: 713 | BA53: 117846 | BB53: 1 | BC53: 469 | BM53: 357582 | BN53: 22 | BO53: 1189
A54: 7334 | AI54: 10863 | AJ54: 1 | AK54: 26 | AL54: 330902 | AM54: 24 | AN54: 997 | AR54: 10603 | AS54: 0 | AT54: 34 | BA54: 15827 | BB54: 0 | BC54: 52 | BM54: 368195 | BN54: 25 | BO54: 1109
A55: 7335 | AI55: 27816 | AJ55: 0 | AK55: 49 | AL55: 364839 | AM55: 18 | AN55: 787 | AR55: 180 | AS55: 0 | AT55: 0 | BA55: 39941 | BB55: 1 | BC55: 138 | BM55: 432776 | BN55: 19 | BO55: 974
A56: 7336 | AL56: 119769 | AM56: 10 | AN56: 361 | BM56: 119769 | BN56: 10 | BO56: 361
A57: 7343 | K57: 9986 | L57: 0 | M57: 26 | T57: 21222 | U57: 0 | V57: 33 | AF57: 309803 | AG57: 73 | AH57: 707 | BA57: 17906 | BB57: 2 | BC57: 58 | BM57: 358917 | BN57: 75 | BO57: 824
A58: 7344 | K58: 44874 | L58: 3 | M58: 105 | Q58: 16128 | R58: 0 | S58: 13 | AF58: 219847 | AG58: 29 | AH58: 627 | AR58: 10381 | AS58: 1 | AT58: 18 | BA58: 32585 | BB58: 1 | BC58: 96 | BM58: 323815 | BN58: 34 | BO58: 859
A59: 7345 | Q59: 35703 | R59: 1 | S59: 58 | Z59: 53578 | AA59: 1 | AB59: 111 | AC59: 11633 | AD59: 1 | AE59: 22 | AR59: 187068 | AS59: 19 | AT59: 647 | AX59: 67474 | AY59: 7 | AZ59: 180 | BG59: 65946 | BH59: 7 | BI59: 179 | BM59: 421402 | BN59: 36 | BO59: 1197
A60: 7346 | K60: 8021 | L60: 0 | M60: 20 | AR60: 223701 | AS60: 20 | AT60: 586 | AU60: 66402 | AV60: 3 | AW60: 147 | AX60: 36796 | AY60: 2 | AZ60: 88 | BM60: 334920 | BN60: 25 | BO60: 841
A61: 7347 | K61: 60797 | L61: 1 | M61: 137 | Q61: 1187 | R61: 0 | S61: 2 | AR61: 157862 | AS61: 12 | AT61: 341 | AU61: 56950 | AV61: 2 | AW61: 89 | AX61: 37969 | AY61: 5 | AZ61: 77 | BM61: 314765 | BN61: 20 | BO61: 646
A62: 7376 | AL62: 119771 | AM62: 12 | AN62: 355 | BM62: 119771 | BN62: 12 | BO62: 355
A63: 7407 | AR63: 9740 | AS63: 0 | AT63: 24 | BM63: 9740 | BN63: 0 | BO63: 24
A64: 7609 | K64: 37083 | L64: 1 | M64: 88 | AF64: 98500 | AG64: 29 | AH64: 237 | BA64: 14338 | BB64: 0 | BC64: 44 | BM64: 149921 | BN64: 30 | BO64: 369
A65: 7610 | AI65: 258828 | AJ65: 29 | AK65: 500 | AL65: 49061 | AM65: 6 | AN65: 105 | AR65: 75350 | AS65: 9 | AT65: 206 | BM65: 383239 | BN65: 44 | BO65: 811
A66: 7620 | E66: 4640 | F66: 0 | G66: 16 | H66: 5727 | I66: 1 | J66: 11 | W66: 104593 | X66: 5 | Y66: 310 | AO66: 121027 | AP66: 11 | AQ66: 388 | AR66: 132586 | AS66: 16 | AT66: 474 | BD66: 1468 | BE66: 0 | BF66: 4 | BM66: 370041 | BN66: 33 | BO66: 1203
A67: 7623 | E67: 4197 | F67: 0 | G67: 13 | K67: 21311 | L67: 1 | M67: 66 | Z67: 17988 | AA67: 3 | AB67: 41 | AC67: 81636 | AD67: 13 | AE67: 161 | AR67: 122019 | AS67: 11 | AT67: 412 | AX67: 90486 | AY67: 11 | AZ67: 243 | BD67: 26336 | BE67: 1 | BF67: 73 | BG67: 52367 | BH67: 5 | BI67: 135 | BM67: 416340 | BN67: 45 | BO67: 1144
A68: 7632 | W68: 240371 | X68: 26 | Y68: 580 | Z68: 1208 | AA68: 1 | AB68: 1 | AC68: 23347 | AD68: 2 | AE68: 58 | AO68: 132361 | AP68: 22 | AQ68: 308 | AR68: 12380 | AS68: 2 | AT68: 34 | BM68: 409667 | BN68: 53 | BO68: 981
A69: 7636 | E69: 535 | F69: 0 | G69: 1 | H69: 34180 | I69: 1 | J69: 74 | Z69: 9195 | AA69: 1 | AB69: 24 | AR69: 58914 | AS69: 8 | AT69: 213 | BM69: 102824 | BN69: 10 | BO69: 312
A70: 7639 | E70: 4377 | F70: 0 | G70: 17 | H70: 297 | I70: 0 | J70: 0 | Z70: 50025 | AA70: 5 | AB70: 123 | AC70: 140533 | AD70: 15 | AE70: 300 | AO70: 392 | AP70: 0 | AQ70: 2 | AR70: 128760 | AS70: 9 | AT70: 400 | AX70: 32693 | AY70: 1 | AZ70: 102 | BD70: 1079 | BE70: 0 | BF70: 4 | BG70: 77929 | BH70: 6 | BI70: 212 | BM70: 436085 | BN70: 36 | BO70: 1160
A71: 7649 | E71: 1780 | F71: 0 | G71: 4 | Z71: 25339 | AA71: 2 | AB71: 31 | AR71: 99382 | AS71: 14 | AT71: 208 | AX71: 12864 | AY71: 3 | AZ71: 26 | BD71: 25486 | BE71: 2 | BF71: 58 | BG71: 2007 | BH71: 0 | BI71: 2 | BM71: 166858 | BN71: 21 | BO71: 329
A72: 7658 | K72: 133 | L72: 0 | M72: 0 | T72: 6733 | U72: 0 | V72: 19 | BM72: 6866 | BN72: 0 | BO72: 19
A73: 7664 | Q73: 8367 | R73: 0 | S73: 4 | Z73: 37640 | AA73: 2 | AB73: 66 | AC73: 688 | AD73: 0 | AE73: 0 | AO73: 443 | AP73: 0 | AQ73: 0 | AR73: 89526 | AS73: 6 | AT73: 135 | AX73: 53340 | AY73: 2 | AZ73: 109 | BD73: 50697 | BE73: 4 | BF73: 86 | BM73: 240701 | BN73: 14 | BO73: 400
A74: 7671 | AR74: 207357 | AS74: 26 | AT74: 542 | AX74: 159785 | AY74: 12 | AZ74: 379 | BM74: 367142 | BN74: 38 | BO74: 921
A75: 7679 | AI75: 45955 | AJ75: 4 | AK75: 58 | AL75: 296355 | AM75: 36 | AN75: 555 | AR75: 25525 | AS75: 3 | AT75: 63 | BM75: 367835 | BN75: 43 | BO75: 676
A76: 7680 | AL76: 135276 | AM76: 10 | AN76: 385 | BA76: 159446 | BB76: 10 | BC76: 540 | BM76: 294722 | BN76: 20 | BO76: 925
A77: 7681 | AI77: 186745 | AJ77: 23 | AK77: 355 | AL77: 176482 | AM77: 18 | AN77: 341 | AR77: 1971 | AS77: 0 | AT77: 0 | BM77: 365198 | BN77: 41 | BO77: 696
A78: 7687 | AI78: 11460 | AJ78: 0 | AK78: 36 | AL78: 217732 | AM78: 15 | AN78: 522 | AR78: 50327 | AS78: 5 | AT78: 123 | BA78: 119049 | BB78: 5 | BC78: 352 | BM78: 398568 | BN78: 25 | BO78: 1033
A79: 7688 | N79: 523 | O79: 0 | P79: 1 | AL79: 1906 | AM79: 0 | AN79: 8 | BM79: 2429 | BN79: 0 | BO79: 9
A80: 7689 | AL80: 3815 | AM80: 0 | AN80: 8 | BM80: 3815 | BN80: 0 | BO80: 8
A81: 7693 | AI81: 58543 | AJ81: 3 | AK81: 113 | AL81: 232961 | AM81: 18 | AN81: 551 | AR81: 3629 | AS81: 0 | AT81: 6 | BA81: 2568 | BB81: 0 | BC81: 11 | BM81: 297701 | BN81: 21 | BO81: 681
A82: 7700 | AI82: 17820 | AJ82: 1 | AK82: 19 | AL82: 2525 | AM82: 0 | AN82: 2 | AR82: 106085 | AS82: 10 | AT82: 233 | BM82: 126430 | BN82: 11 | BO82: 254
A83: 7707 | K83: 36157 | L83: 3 | M83: 74 | AF83: 197708 | AG83: 33 | AH83: 411 | BM83: 233865 | BN83: 36 | BO83: 485
A84: 7761 | AI84: 143935 | AJ84: 10 | AK84: 271 | AL84: 248384 | AM84: 36 | AN84: 622 | AR84: 5522 | AS84: 0 | AT84: 9 | BM84: 397841 | BN84: 46 | BO84: 902
A85: 7762 | K85: 1055 | L85: 0 | M85: 4 | W85: 94849 | X85: 4 | Y85: 244 | Z85: 49493 | AA85: 8 | AB85: 100 | AC85: 59516 | AD85: 10 | AE85: 135 | AO85: 122498 | AP85: 11 | AQ85: 373 | AR85: 28727 | AS85: 5 | AT85: 86 | BG85: 16538 | BH85: 0 | BI85: 45 | BM85: 372676 | BN85: 38 | BO85: 987
A86: 7766 | E86: 79458 | F86: 1 | G86: 164 | H86: 22214 | I86: 1 | J86: 52 | Z86: 6846 | AA86: 0 | AB86: 18 | AC86: 16590 | AD86: 1 | AE86: 42 | AR86: 117236 | AS86: 10 | AT86: 327 | AU86: 1652 | AV86: 0 | AW86: 8 | BD86: 51236 | BE86: 7 | BF86: 137 | BG86: 51760 | BH86: 8 | BI86: 121 | BM86: 346992 | BN86: 28 | BO86: 869
A87: 7799 | K87: 56585 | L87: 6 | M87: 170 | AF87: 225083 | AG87: 31 | AH87: 642 | BA87: 13821 | BB87: 0 | BC87: 49 | BM87: 295489 | BN87: 37 | BO87: 861
A88: 7917 | W88: 263391 | X88: 17 | Y88: 735 | Z88: 10462 | AA88: 2 | AB88: 28 | AC88: 616 | AD88: 0 | AE88: 1 | AO88: 167520 | AP88: 15 | AQ88: 456 | AR88: 35886 | AS88: 5 | AT88: 109 | BG88: 5573 | BH88: 1 | BI88: 14 | BM88: 483448 | BN88: 40 | BO88: 1343
A89: 7921 | Z89: 13059 | AA89: 1 | AB89: 29 | AC89: 13944 | AD89: 0 | AE89: 36 | BD89: 76427 | BE89: 10 | BF89: 221 | BM89: 103430 | BN89: 11 | BO89: 286
A90: 7924 | AI90: 230906 | AJ90: 20 | AK90: 424 | AL90: 156220 | AM90: 10 | AN90: 260 | AR90: 37321 | AS90: 3 | AT90: 81 | BM90: 424447 | BN90: 33 | BO90: 765
A91: 7928 | E91: 57873 | F91: 3 | G91: 136 | Z91: 14831 | AA91: 1 | AB91: 32 | AC91: 13536 | AD91: 2 | AE91: 21 | AR91: 51094 | AS91: 5 | AT91: 131 | AU91: 34618 | AV91: 6 | AW91: 74 | BG91: 22894 | BH91: 2 | BI91: 69 | BM91: 194846 | BN91: 19 | BO91: 463
A92: 7931 | H92: 7885 | I92: 0 | J92: 11 | Z92: 23891 | AA92: 0 | AB92: 53 | AC92: 57725 | AD92: 6 | AE92: 100 | AR92: 159845 | AS92: 24 | AT92: 457 | AU92: 151 | AV92: 0 | AW92: 0 | AX92: 34026 | AY92: 3 | AZ92: 111 | BD92: 84243 | BE92: 10 | BF92: 193 | BG92: 4081 | BH92: 0 | BI92: 12 | BM92: 371847 | BN92: 43 | BO92: 937
A93: 7934 | E93: 22383 | F93: 1 | G93: 61 | H93: 15417 | I93: 0 | J93: 27 | Z93: 22786 | AA93: 0 | AB93: 67 | AC93: 90879 | AD93: 5 | AE93: 254 | AR93: 223140 | AS93: 19 | AT93: 698 | BD93: 112674 | BE93: 13 | BF93: 299 | BG93: 5749 | BH93: 0 | BI93: 16 | BM93: 493028 | BN93: 38 | BO93: 1422
A94: 7939 | E94: 8617 | F94: 1 | G94: 18 | H94: 35931 | I94: 1 | J94: 75 | W94: 34064 | X94: 3 | Y94: 70 | Z94: 8794 | AA94: 2 | AB94: 10 | AC94: 4939 | AD94: 0 | AE94: 9 | AR94: 70242 | AS94: 4 | AT94: 175 | AU94: 6172 | AV94: 1 | AW94: 14 | BD94: 32581 | BE94: 4 | BF94: 72 | BG94: 28154 | BH94: 4 | BI94: 69 | BM94: 229494 | BN94: 20 | BO94: 512
A95: 7943 | K95: 11069 | L95: 0 | M95: 40 | T95: 1215 | U95: 0 | V95: 1 | AF95: 293380 | AG95: 42 | AH95: 859 | BA95: 45025 | BB95: 1 | BC95: 172 | BD95: 5702 | BE95: 1 | BF95: 15 | BM95: 356391 | BN95: 44 | BO95: 1087
A96: 7949 | K96: 15590 | L96: 1 | M96: 55 | AF96: 76209 | AG96: 12 | AH96: 185 | BM96: 91799 | BN96: 13 | BO96: 240
A97: 7953 | E97: 5687 | F97: 0 | G97: 8 | H97: 6355 | I97: 0 | J97: 11 | Z97: 29702 | AA97: 3 | AB97: 50 | AC97: 71793 | AD97: 5 | AE97: 123 | AO97: 554 | AP97: 0 | AQ97: 1 | AR97: 177809 | AS97: 26 | AT97: 432 | AU97: 10603 | AV97: 1 | AW97: 21 | AX97: 121 | AY97: 0 | AZ97: 0 | BD97: 803 | BE97: 0 | BF97: 1 | BG97: 85335 | BH97: 14 | BI97: 209 | BM97: 388762 | BN97: 49 | BO97: 856
A98: 7963 | E98: 3134 | F98: 0 | G98: 5 | Z98: 49480 | AA98: 5 | AB98: 82 | AC98: 61038 | AD98: 8 | AE98: 79 | AR98: 6947 | AS98: 0 | AT98: 26 | AU98: 59989 | AV98: 5 | AW98: 121 | BG98: 77590 | BH98: 7 | BI98: 172 | BM98: 258178 | BN98: 25 | BO98: 485
A99: 7965 | AI99: 21522 | AJ99: 2 | AK99: 35 | AL99: 282368 | AM99: 29 | AN99: 682 | AR99: 21127 | AS99: 0 | AT99: 70 | BA99: 38350 | BB99: 0 | BC99: 123 | BM99: 363367 | BN99: 31 | BO99: 910
A100: 7968 | B100: 27002 | C100: 3 | D100: 18 | E100: 3728 | F100: 0 | G100: 7 | H100: 9291 | I100: 0 | J100: 15 | Z100: 59412 | AA100: 6 | AB100: 100 | AC100: 32049 | AD100: 3 | AE100: 59 | AR100: 132334 | AS100: 21 | AT100: 284 | AU100: 8346 | AV100: 0 | AW100: 9 | AX100: 20696 | AY100: 2 | AZ100: 41 | BD100: 6305 | BE100: 1 | BF100: 10 | BG100: 76823 | BH100: 19 | BI100: 140 | BM100: 375986 | BN100: 55 | BO100: 683
A101: 7988 | K101: 18103 | L101: 0 | M101: 40 | Z101: 22409 | AA101: 2 | AB101: 61 | AF101: 287911 | AG101: 44 | AH101: 691 | BA101: 51560 | BB101: 3 | BC101: 160 | BM101: 379983 | BN101: 49 | BO101: 952
A102: 7992 | E102: 2319 | F102: 0 | G102: 8 | K102: 81055 | L102: 3 | M102: 241 | W102: 53013 | X102: 2 | Y102: 143 | AR102: 56300 | AS102: 6 | AT102: 160 | AX102: 28272 | AY102: 3 | AZ102: 58 | BM102: 220959 | BN102: 14 | BO102: 610
...

Sheet Primes
A2: 1 | B2: 4 | C2: 131 | D2: 132
B6: Nom prénom | C6: SPH obj | D6: % Obj | E6: Prix heures | F6: Heures de travail | G6: Primes heures
A7: 7632 | B7: Jean-jaque CALLER | C7: 0.27536414 | D7: 1.6913754 | E7: =IF(D7>0,IF(D7<Config!$B$3,Config!$E$3,IF(D7<Config!$B$4,Config!$E$4,IF(D7<Config!$B$5,Config!$E$5,IF(D7<Config!$B$6,Config!$E$6,IF(D7<Config!$B$7,Config!$E$7,IF(D7<Config!$B$8,Config!$E$8,IF(D7<Config!$B$9,Config!$E$9,IF(D7<Config!$B$10,Config!$E$10,IF(D7<Config!$B$12,Config!$E$12,IF(D7>=Config!$B$12,Config!$E$13)))))))))),"") -> 21.818182 | F7: 180.26694 | G7: =IFERROR(F7*E7,0) -> 3933.097
A8: 7639 | B8: Eric BUTO | C8: 0.50178268 | D8: 0.59226789 | E8: =IF(D8>0,IF(D8<Config!$B$3,Config!$E$3,IF(D8<Config!$B$4,Config!$E$4,IF(D8<Config!$B$5,Config!$E$5,IF(D8<Config!$B$6,Config!$E$6,IF(D8<Config!$B$7,Config!$E$7,IF(D8<Config!$B$8,Config!$E$8,IF(D8<Config!$B$9,Config!$E$9,IF(D8<Config!$B$10,Config!$E$10,IF(D8<Config!$B$12,Config!$E$12,IF(D8>=Config!$B$12,Config!$E$13)))))))))),"") -> 0 | F8: 181.55194 | G8: =IFERROR(F8*E8,0) -> 0
A9: 7649 | B9: Yoann FERGO | C9: 0.44151045 | D9: 1.0262042 | E9: =IF(D9>0,IF(D9<Config!$B$3,Config!$E$3,IF(D9<Config!$B$4,Config!$E$4,IF(D9<Config!$B$5,Config!$E$5,IF(D9<Config!$B$6,Config!$E$6,IF(D9<Config!$B$7,Config!$E$7,IF(D9<Config!$B$8,Config!$E$8,IF(D9<Config!$B$9,Config!$E$9,IF(D9<Config!$B$10,Config!$E$10,IF(D9<Config!$B$12,Config!$E$12,IF(D9>=Config!$B$12,Config!$E$13)))))))))),"") -> 13.939394 | F9: 95.6575 | G9: =IFERROR(F9*E9,0) -> 1333.4076
A10: 7664 | B10: Fréd MILLER | C10: 0.4541564 | D10: 0.4939812 | E10: =IF(D10>0,IF(D10<Config!$B$3,Config!$E$3,IF(D10<Config!$B$4,Config!$E$4,IF(D10<Config!$B$5,Config!$E$5,IF(D10<Config!$B$6,Config!$E$6,IF(D10<Config!$B$7,Config!$E$7,IF(D10<Config!$B$8,Config!$E$8,IF(D10<Config!$B$9,Config!$E$9,IF(D10<Config!$B$10,Config!$E$10,IF(D10<Config!$B$12,Config!$E$12,IF(D10>=Config!$B$12,Config!$E$13)))))))))),"") -> 0 | F10: 146.84694 | G10: =IFERROR(F10*E10,0) -> 0
A11: 7671 | B11: SARAH LOG | C11: 0.42176065 | D11: 0.92995591 | E11: =IF(D11>0,IF(D11<Config!$B$3,Config!$E$3,IF(D11<Config!$B$4,Config!$E$4,IF(D11<Config!$B$5,Config!$E$5,IF(D11<Config!$B$6,Config!$E$6,IF(D11<Config!$B$7,Config!$E$7,IF(D11<Config!$B$8,Config!$E$8,IF(D11<Config!$B$9,Config!$E$9,IF(D11<Config!$B$10,Config!$E$10,IF(D11<Config!$B$12,Config!$E$12,IF(D11>=Config!$B$12,Config!$E$13)))))))))),"") -> 12.121212 | F11: 129.61889 | G11: =IFERROR(F11*E11,0) -> 1571.138

Sheet Config
A1: Cible Client
A2: Principe | B2: % Atteinte | C2: Montant mois | D2: Montant Hebdo | E2: Montant heure présence
B3: 0.6 | C3: =35%*$C$7 -> 700 | D3: =+C3/4.3 -> 162.7907 | E3: 0 | F3: 0-79 | G3: 0 | H3: =44*4.3 -> 189.2 | J3: 165 | K3: =J3/4.3 -> 38.372093
B4: 0.7 | C4: =50%*$C$7 -> 1000 | D4: =+C4/4.3 -> 232.55814 | E4: =+D4/$K$3 -> 6.0606061 | F4: 80-89 | G4: 3.9772727 | H4: =1.5*12 -> 18 | I4: =+H4*8.8 -> 158.4 | J4: =+I4/12 -> 13.2 | L4: =+G4-E4 -> -2.0833333
B5: 0.8 | C5: =65%*$C$7 -> 1300 | D5: =+C5/4.3 -> 302.32558 | E5: =+D5/$K$3 -> 7.8787879 | F5: 90-94 | G5: 5.1136364 | L5: =+G5-E5 -> -2.7651515
B6: 0.9 | C6: =80%*$C$7 -> 1600 | D6: =+C6/4.3 -> 372.09302 | E6: =+D6/$K$3 -> 9.6969697 | F6: 95-99 | G6: 11.363636 | H6: =44/5 -> 8.8 | L6: =+G6-E6 -> 1.6666667
B7: 0.95 | C7: 2000 | D7: =+C7/4.3 -> 465.11628 | E7: =+D7/$K$3 -> 12.121212 | F7: 100-104 | G7: 12.215909 | L7: =+G7-E7 -> 0.09469697
B8: 1 | C8: =110%*$C$7 -> 2200 | D8: =+C8/4.3 -> 511.62791 | E8: =+D8/$K$3 -> 13.333333 | F8: 105-109 | G8: 13.352273 | L8: =+G8-E8 -> 0.018939394
B9: 1.05 | C9: =115%*$C$7 -> 2300 | D9: =+C9/4.3 -> 534.88372 | E9: =+D9/$K$3 -> 13.939394 | F9: 110-114 | G9: 14.204545 | L9: =+G9-E9 -> 0.26515152
B10: 1.1 | C10: =120%*$C$7 -> 2400 | D10: =+C10/4.3 -> 558.13953 | E10: =+D10/$K$3 -> 14.545455 | F10: 115-119 | G10: 15.056818 | L10: =+G10-E10 -> 0.51136364
B11: 1.15 | C11: =140%*$C$7 -> 2800 | D11: =+C11/4.3 -> 651.16279 | E11: =+D11/$K$3 -> 16.969697 | F11: 120-124 | G11: 16.761364 | L11: =+G11-E11 -> -0.20833333
B12: 1.3 | C12: =180%*$C$7 -> 3600 | D12: =+C12/4.3 -> 837.2093 | E12: =+D12/$K$3 -> 21.818182 | F12: 120-124 | G12: 16.761364 | L12: =+G12-E12 -> -5.0568182
B13: 1.4 | C13: =180%*$C$7 -> 3600 | D13: =+C13/4.3 -> 837.2093 | E13: =+D13/$K$3 -> 21.818182 | F13: >125
E14: =E13 -> 21.818182
B15: 9 | E15: 350 | F15: 9 à 9,4
B16: 9.5 | E16: 200 | F16: 9,5 à 9,9
B17: 10 | E17: 0 | F17: De 10 à 10,5
B18: 10.5 | E18: -100 | F18: >10,5
