Workbook

Sheet Feuil4
B3: Étiquettes de colonnes
B4: VQB10 | E4: VYX11 | H4: VYZ11 | K4: WDK11 | N4: WTR11 | Q4: WTS11 | T4: WTT11 | W4: WUL11 | Z4: WUS11 | AC4: WUT11 | AF4: WWY11 | AI4: WYS11 | AL4: WYT11 | AO4: WYU11 | AR4: WYV11 | AU4: WZB11 | AX4: WZC11 | BA4: XBE11 | BD4: XBM11 | BG4: XBN11 | BJ4: XBP11 | BM4: Total Somme de TEMPS log en secondes | BN4: Total Somme de Ventes | BO4: Total Somme de Contacts
A5: Étiquettes de lignes | B5: Somme de TEMPS log en secondes | C5: Somme de Ventes | D5: Somme de Contacts | E5: Somme de TEMPS log en secondes | F5: Somme de Ventes | G5: Somme de Contacts | H5: Somme de TEMPS log en secondes | I5: Somme de Ventes | J5: Somme de Contacts | K5: Somme de TEMPS log en secondes | L5: Somme de Ventes | M5: Somme de Contacts | N5: Somme de TEMPS log en secondes | O5: Somme de Ventes | P5: Somme de Contacts | Q5: Somme de TEMPS log en secondes | R5: Somme de Ventes | S5: Somme de Contacts | T5: Somme de TEMPS log en secondes | U5: Somme de Ventes | V5: Somme de Contacts | W5: Somme de TEMPS log en secondes | X5: Somme de Ventes | Y5: Somme de Contacts | Z5: Somme de TEMPS log en secondes | AA5: Somme de Ventes | AB5: Somme de Contacts | AC5: Somme de TEMPS log en secondes | AD5: Somme de Ventes | AE5: Somme de Contacts | AF5: Somme de TEMPS log en secondes | AG5: Somme de Ventes | AH5: Somme de Contacts | AI5: Somme de TEMPS log en secondes | AJ5: Somme de Ventes | AK5: Somme de Contacts | AL5: Somme de TEMPS log en secondes | AM5: Somme de Ventes | AN5: Somme de Contacts | AO5: Somme de TEMPS log en secondes | AP5: Somme de Ventes | AQ5: Somme de Contacts | AR5: Somme de TEMPS log en secondes | AS5: Somme de Ventes | AT5: Somme de Contacts | AU5: Somme de TEMPS log en secondes | AV5: Somme de Ventes | AW5: Somme de Contacts | AX5: Somme de TEMPS log en secondes | AY5: Somme de Ventes | AZ5: Somme de Contacts | BA5: Somme de TEMPS log en secondes | BB5: Somme de Ventes | BC5: Somme de Contacts | BD5: Somme de TEMPS log en secondes | BE5: Somme de Ventes | BF5: Somme de Contacts | BG5: Somme de TEMPS log en secondes | BH5: Somme de Ventes | BI5: Somme de Contacts | BJ5: Somme de TEMPS log en secondes | BK5: Somme de Ventes | BL5: Somme de Contacts
A6: 1000 | AF6: 323 | AG6: 0 | AH6: 0 | BJ6: 487 | BK6: 0 | BL6: 0 | BM6: 810 | BN6: 0 | BO6: 0
A7: 1305 | AF7: 17068 | AG7: 2 | AH7: 35 | BM7: 17068 | BN7: 2 | BO7: 35
A8: 1729 | Q8: 6220 | R8: 0 | S8: 6 | Z8: 41795 | AA8: 1 | AB8: 81 | AC8: 55537 | AD8: 4 | AE8: 95 | AR8: 7559 | AS8: 2 | AT8: 16 | BM8: 111111 | BN8: 7 | BO8: 198
A9: 1730 | T9: 16446 | U9: 0 | V9: 23 | Z9: 53144 | AA9: 7 | AB9: 141 | AF9: 281430 | AG9: 44 | AH9: 906 | AR9: 5560 | AS9: 1 | AT9: 19 | BA9: 17729 | BB9: 0 | BC9: 71 | BM9: 374309 | BN9: 52 | BO9: 1160
A10: 1731 | T10: 3418 | U10: 0 | V10: 4 | Z10: 1233 | AA10: 1 | AB10: 2 | AC10: 11805 | AD10: 0 | AE10: 18 | AO10: 335 | AP10: 0 | AQ10: 0 | AR10: 228047 | AS10: 27 | AT10: 418 | AX10: 96239 | AY10: 6 | AZ10: 128 | BM10: 341077 | BN10: 34 | BO10: 570
A11: 4070 | AI11: 3339 | AJ11: 0 | AK11: 11 | BA11: 3886 | BB11: 0 | BC11: 11 | BM11: 7225 | BN11: 0 | BO11: 22
A12: 4071 | AR12: 36476 | AS12: 3 | AT12: 56 | BM12: 36476 | BN12: 3 | BO12: 56
A13: 4072 | AI13: 1802 | AJ13: 1 | AK13: 8 | AL13: 17174 | AM13: 1 | AN13: 41 | BM13: 18976 | BN13: 2 | BO13: 49
A14: 4075 | W14: 7209 | X14: 1 | Y14: 17 | AO14: 1927 | AP14: 0 | AQ14: 4 | AR14: 19849 | AS14: 2 | AT14: 79 | BM14: 28985 | BN14: 3 | BO14: 100
A15: 4079 | AR15: 7533 | AS15: 0 | AT15: 25 | BM15: 7533 | BN15: 0 | BO15: 25
A16: 6316 | E16: 20240 | F16: 0 | G16: 24 | Z16: 11726 | AA16: 1 | AB16: 23 | AR16: 127962 | AS16: 21 | AT16: 306 | AU16: 4581 | AV16: 0 | AW16: 11 | BD16: 78158 | BE16: 12 | BF16: 184 | BM16: 242667 | BN16: 34 | BO16: 548
A17: 6319 | K17: 65792 | L17: 5 | M17: 126 | Z17: 6890 | AA17: 0 | AB17: 6 | AC17: 13169 | AD17: 1 | AE17: 33 | AR17: 127506 | AS17: 10 | AT17: 351 | AU17: 18750 | AV17: 0 | AW17: 26 | AX17: 57451 | AY17: 6 | AZ17: 127 | BD17: 41971 | BE17: 6 | BF17: 66 | BM17: 331529 | BN17: 28 | BO17: 735
A18: 6320 | Q18: 13331 | R18: 0 | S18: 8 | T18: 5811 | U18: 0 | V18: 20 | W18: 231570 | X18: 15 | Y18: 697 | AO18: 93229 | AP18: 11 | AQ18: 271 | AR18: 73006 | AS18: 13 | AT18: 244 | BM18: 416947 | BN18: 39 | BO18: 1240
A19: 6601 | Q19: 17422 | R19: 2 | S19: 22 | Z19: 61955 | AA19: 7 | AB19: 64 | AR19: 244762 | AS19: 34 | AT19: 317 | AU19: 13047 | AV19: 0 | AW19: 25 | AX19: 6571 | AY19: 0 | AZ19: 5 | BD19: 15570 | BE19: 3 | BF19: 26 | BM19: 359327 | BN19: 46 | BO19: 459
A20: 6604 | AR20: 47782 | AS20: 2 | AT20: 153 | BM20: 47782 | BN20: 2 | BO20: 153
A21: 6605 | E21: 62958 | F21: 2 | G21: 102 | H21: 13143 | I21: 0 | J21: 25 | AR21: 182871 | AS21: 26 | AT21: 552 | AU21: 3602 | AV21: 0 | AW21: 16 | AX21: 75892 | AY21: 6 | AZ21: 284 | BD21: 7598 | BE21: 0 | BF21: 31 | BG21: 14676 | BH21: 1 | BI21: 38 | BM21: 360740 | BN21: 35 | BO21: 1048
A22: 6614 | AL22: 10111 | AM22: 0 | AN22: 27 | BM22: 10111 | BN22: 0 | BO22: 27
A23: 6615 | AL23: 12385 | AM23: 0 | AN23: 23 | BM23: 12385 | BN23: 0 | BO23: 23
A24: 6616 | AL24: 8948 | AM24: 0 | AN24: 20 | BM24: 8948 | BN24: 0 | BO24: 20
A25: 6617 | AL25: 8259 | AM25: 0 | AN25: 22 | BM25: 8259 | BN25: 0 | BO25: 22
A26: 6618 | AO26: 7243 | AP26: 0 | AQ26: 25 | BM26: 7243 | BN26: 0 | BO26: 25
A27: 6619 | W27: 3239 | X27: 0 | Y27: 10 | AO27: 6055 | AP27: 0 | AQ27: 22 | BM27: 9294 | BN27: 0 | BO27: 32
A28: 7000 | AI28: 13410 | AJ28: 1 | AK28: 25 | AL28: 294699 | AM28: 21 | AN28: 837 | AR28: 53610 | AS28: 4 | AT28: 151 | BA28: 53987 | BB28: 3 | BC28: 173 | BM28: 415706 | BN28: 29 | BO28: 1186
A29: 7006 | AI29: 48270 | AJ29: 3 | AK29: 90 | AL29: 189957 | AM29: 24 | AN29: 428 | AR29: 51157 | AS29: 6 | AT29: 115 | BM29: 289384 | BN29: 33 | BO29: 633
A30: 7011 | AL30: 134747 | AM30: 9 | AN30: 298 | BM30: 134747 | BN30: 9 | BO30: 298
A31: 7014 | AI31: 92471 | AJ31: 8 | AK31: 184 | AL31: 194436 | AM31: 12 | AN31: 461 | AR31: 57722 | AS31: 6 | AT31: 148 | BA31: 76365 | BB31: 1 | BC31: 243 | BM31: 420994 | BN31: 27 | BO31: 1036
A32: 7020 | AI32: 38540 | AJ32: 2 | AK32: 85 | AL32: 220499 | AM32: 25 | AN32: 568 | AR32: 98544 | AS32: 7 | AT32: 240 | BA32: 15160 | BB32: 0 | BC32: 50 | BM32: 372743 | BN32: 34 | BO32: 943
A33: 7023 | AI33: 8458 | AJ33: 0 | AK33: 11 | AL33: 174575 | AM33: 18 | AN33: 366 | AR33: 31660 | AS33: 5 | AT33: 79 | BA33: 40432 | BB33: 1 | BC33: 135 | BM33: 255125 | BN33: 24 | BO33: 591
A34: 7025 | AL34: 39969 | AM34: 4 | AN34: 71 | BM34: 39969 | BN34: 4 | BO34: 71
A35: 7035 | E35: 5113 | F35: 0 | G35: 10 | Z35: 115077 | AA35: 15 | AB35: 312 | AC35: 45503 | AD35: 8 | AE35: 125 | AR35: 158038 | AS35: 31 | AT35: 503 | BD35: 71543 | BE35: 18 | BF35: 201 | BG35: 11142 | BH35: 4 | BI35: 27 | BM35: 406416 | BN35: 76 | BO35: 1178
A36: 7040 | B36: 45356 | C36: 10 | D36: 41 | E36: 47662 | F36: 7 | G36: 107 | H36: 10168 | I36: 0 | J36: 14 | W36: 8446 | X36: 0 | Y36: 26 | Z36: 16494 | AA36: 2 | AB36: 55 | AC36: 15029 | AD36: 1 | AE36: 25 | AR36: 44848 | AS36: 11 | AT36: 111 | AU36: 17551 | AV36: 0 | AW36: 44 | AX36: 24175 | AY36: 5 | AZ36: 45 | BD36: 64837 | BE36: 18 | BF36: 175 | BG36: 25392 | BH36: 9 | BI36: 64 | BM36: 319958 | BN36: 63 | BO36: 707
A37: 7078 | AR37: 5856 | AS37: 0 | AT37: 10 | BM37: 5856 | BN37: 0 | BO37: 10
A38: 7091 | AI38: 10297 | AJ38: 1 | AK38: 19 | AL38: 343910 | AM38: 20 | AN38: 894 | AR38: 49900 | AS38: 3 | AT38: 118 | BA38: 15945 | BB38: 0 | BC38: 41 | BM38: 420052 | BN38: 24 | BO38: 1072
A39: 7093 | E39: 18086 | F39: 0 | G39: 49 | H39: 2251 | I39: 0 | J39: 7 | Z39: 62581 | AA39: 2 | AB39: 134 | AC39: 36757 | AD39: 3 | AE39: 57 | AR39: 104836 | AS39: 8 | AT39: 299 | AU39: 9833 | AV39: 1 | AW39: 27 | AX39: 3995 | AY39: 0 | AZ39: 15 | BD39: 69575 | BE39: 7 | BF39: 183 | BG39: 33465 | BH39: 5 | BI39: 97 | BM39: 341379 | BN39: 26 | BO39: 868
A40: 7302 | K40: 4486 | L40: 0 | M40: 19 | Q40: 15446 | R40: 2 | S40: 25 | AR40: 183637 | AS40: 18 | AT40: 583 | AU40: 8692 | AV40: 0 | AW40: 35 | AX40: 67931 | AY40: 5 | AZ40: 262 | BM40: 280192 | BN40: 25 | BO40: 924
A41: 7303 | Q41: 296 | R41: 0 | S41: 0 | W41: 167320 | X41: 12 | Y41: 303 | AO41: 154947 | AP41: 17 | AQ41: 453 | AR41: 22126 | AS41: 2 | AT41: 48 | BM41: 344689 | BN41: 31 | BO41: 804
A42: 7305 | K42: 81464 | L42: 5 | M42: 192 | Z42: 19516 | AA42: 2 | AB42: 41 | AC42: 2686 | AD42: 0 | AE42: 6 | AR42: 154282 | AS42: 20 | AT42: 365 | AU42: 31968 | AV42: 2 | AW42: 78 | BG42: 88589 | BH42: 9 | BI42: 235 | BM42: 378505 | BN42: 38 | BO42: 917
...

Sheet Primes
A2: 1 | B2: 4 | C2: 131 | D2: 132
B6: Nom prénom | C6: SPH obj | D6: % Obj | E6: Prix heures | F6: Heures de travail | G6: Primes heures
A7: 7632 | B7: Jean-jaque CALLER | C7: 0.27536414 | D7: 1.6913754 | E7: =IF(D7>0,IF(D7<Config!$B$3,Config!$E$3,IF(D7<Config!$B$4,Config!$E$4,IF(D7<Config!$B$5,Config!$E$5,IF(D7<Config!$B$6,Config!$E$6,IF(D7<Config!$B$7,Config!$E$7,IF(D7<Config!$B$8,Config!$E$8,IF(D7<Config!$B$9,Config!$E$9,IF(D7<Config!$B$10,Config!$E$10,IF(D7<Config!$B$12,Config!$E$12,IF(D7>=Config!$B$12,Config!$E$13)))))))))),"") -> 21.818182 | F7: 180.26694 | G7: =IFERROR(F7*E7,0) -> 3933.097
A8: 7639 | B8: Eric BUTO | C8: 0.50178268 | D8: 0.59226789 | E8: =IF(D8>0,IF(D8<Config!$B$3,Config!$E$3,IF(D8<Config!$B$4,Config!$E$4,IF(D8<Config!$B$5,Config!$E$5,IF(D8<Config!$B$6,Config!$E$6,IF(D8<Config!$B$7,Config!$E$7,IF(D8<Config!$B$8,Config!$E$8,IF(D8<Config!$B$9,Config!$E$9,IF(D8<Config!$B$10,Config!$E$10,IF(D8<Config!$B$12,Config!$E$12,IF(D8>=Config!$B$12,Config!$E$13)))))))))),"") -> 0 | F8: 181.55194 | G8: =IFERROR(F8*E8,0) -> 0
A9: 7649 | B9: Yoann FERGO | C9: 0.44151045 | D9: 1.0262042 | E9: =IF(D9>0,IF(D9<Config!$B$3,Config!$E$3,IF(D9<Config!$B$4,Config!$E$4,IF(D9<Config!$B$5,Config!$E$5,IF(D9<Config!$B$6,Config!$E$6,IF(D9<Config!$B$7,Config!$E$7,IF(D9<Config!$B$8,Config!$E$8,IF(D9<Config!$B$9,Config!$E$9,IF(D9<Config!$B$10,Config!$E$10,IF(D9<Config!$B$12,Config!$E$12,IF(D9>=Config!$B$12,Config!$E$13)))))))))),"") -> 13.939394 | F9: 95.6575 | G9: =IFERROR(F9*E9,0) -> 1333.4076
A10: 7664 | B10: Fréd MILLER | C10: 0.4541564 | D10: 0.4939812 | E10: =IF(D10>0,IF(D10<Config!$B$3,Config!$E$3,IF(D10<Config!$B$4,Config!$E$4,IF(D10<Config!$B$5,Config!$E$5,IF(D10<Config!$B$6,Config!$E$6,IF(D10<Config!$B$7,Config!$E$7,IF(D10<Config!$B$8,Config!$E$8,IF(D10<Config!$B$9,Config!$E$9,IF(D10<Config!$B$10,Config!$E$10,IF(D10<Config!$B$12,Config!$E$12,IF(D10>=Config!$B$12,Config!$E$13)))))))))),"") -> 0 | F10: 146.84694 | G10: =IFERROR(F10*E10,0) -> 0
A11: 7671 | B11: SARAH LOG | C11: 0.42176065 | D11: 0.92995591 | E11: =IF(D11>0,IF(D11<Config!$B$3,Config!$E$3,IF(D11<Config!$B$4,Config!$E$4,IF(D11<Config!$B$5,Config!$E$5,IF(D11<Config!$B$6,Config!$E$6,IF(D11<Config!$B$7,Config!$E$7,IF(D11<Config!$B$8,Config!$E$8,IF(D11<Config!$B$9,Config!$E$9,IF(D11<Config!$B$10,Config!$E$10,IF(D11<Config!$B$12,Config!$E$12,IF(D11>=Config!$B$12,Config!$E$13)))))))))),"") -> 12.121212 | F11: 129.61889 | G11: =IFERROR(F11*E11,0) -> 1571.138

Sheet Config
A1: Cible Client
A2: Principe | B2: % Atteinte | C2: Montant mois | D2: Montant Hebdo | E2: Montant heure présence
B3: 0.6 | C3: =35%*$C$7 -> 700 | D3: =+C3/4.3 -> 162.7907 | E3: 0 | F3: 0-79 | G3: 0 | H3: =44*4.3 -> 189.2 | J3: 165 | K3: =J3/4.3 -> 38.372093
B4: 0.7 | C4: =50%*$C$7 -> 1000 | D4: =+C4/4.3 -> 232.55814 | E4: =+D4/$K$3 -> 6.0606061 | F4: 80-89 | G4: 3.9772727 | H4: =1.5*12 -> 18 | I4: =+H4*8.8 -> 158.4 | J4: =+I4/12 -> 13.2 | L4: =+G4-E4 -> -2.0833333
B5: 0.8 | C5: =65%*$C$7 -> 1300 | D5: =+C5/4.3 -> 302.32558 | E5: =+D5/$K$3 -> 7.8787879 | F5: 90-94 | G5: 5.1136364 | L5: =+G5-E5 -> -2.7651515
B6: 0.9 | C6: =80%*$C$7 -> 1600 | D6: =+C6/4.3 -> 372.09302 | E6: =+D6/$K$3 -> 9.6969697 | F6: 95-99 | G6: 11.363636 | H6: =44/5 -> 8.8 | L6: =+G6-E6 -> 1.6666667
B7: 0.95 | C7: 2000 | D7: =+C7/4.3 -> 465.11628 | E7: =+D7/$K$3 -> 12.121212 | F7: 100-104 | G7: 12.215909 | L7: =+G7-E7 -> 0.09469697
B8: 1 | C8: =110%*$C$7 -> 2200 | D8: =+C8/4.3 -> 511.62791 | E8: =+D8/$K$3 -> 13.333333 | F8: 105-109 | G8: 13.352273 | L8: =+G8-E8 -> 0.018939394
B9: 1.05 | C9: =115%*$C$7 -> 2300 | D9: =+C9/4.3 -> 534.88372 | E9: =+D9/$K$3 -> 13.939394 | F9: 110-114 | G9: 14.204545 | L9: =+G9-E9 -> 0.26515152
B10: 1.1 | C10: =120%*$C$7 -> 2400 | D10: =+C10/4.3 -> 558.13953 | E10: =+D10/$K$3 -> 14.545455 | F10: 115-119 | G10: 15.056818 | L10: =+G10-E10 -> 0.51136364
B11: 1.15 | C11: =140%*$C$7 -> 2800 | D11: =+C11/4.3 -> 651.16279 | E11: =+D11/$K$3 -> 16.969697 | F11: 120-124 | G11: 16.761364 | L11: =+G11-E11 -> -0.20833333
B12: 1.3 | C12: =180%*$C$7 -> 3600 | D12: =+C12/4.3 -> 837.2093 | E12: =+D12/$K$3 -> 21.818182 | F12: 120-124 | G12: 16.761364 | L12: =+G12-E12 -> -5.0568182
B13: 1.4 | C13: =180%*$C$7 -> 3600 | D13: =+C13/4.3 -> 837.2093 | E13: =+D13/$K$3 -> 21.818182 | F13: >125
E14: =E13 -> 21.818182
B15: 9 | E15: 350 | F15: 9 à 9,4
B16: 9.5 | E16: 200 | F16: 9,5 à 9,9
B17: 10 | E17: 0 | F17: De 10 à 10,5
B18: 10.5 | E18: -100 | F18: >10,5
