Workbook

Sheet Feuil1
A1: 104 | B1: 1
A2: 149 | B2: 2
A3: 131 | B3: 3
A4: 139 | B4: 4
A5: 199 | B5: 5
A6: 105 | B6: 6
A7: 129 | B7: 7
A8: 172 | B8: 8
A9: 159 | B9: 9
A10: 168 | B10: 10
A11: 107 | B11: 11
A12: 131 | B12: 12
... A19: 115 | B19: 16

Sheet Feuil2
A1: 126 | B1: =IF(IFERROR(VLOOKUP(A1,Feuil1!A1:B16,1,0),0)=A1,A1,Feuil1!A1) -> 104 | C1: =IF(B1=0,Feuil1!A1,Feuil2!B1) -> 104
A2: 139 | B2: =IF(IFERROR(VLOOKUP(A2,Feuil1!A2:B17,1,0),0)=A2,A2,Feuil1!A2) -> 139 | C2: =IF(B2=0,Feuil1!A2,Feuil2!B2) -> 139
A3: 176 | B3: =IF(IFERROR(VLOOKUP(A3,Feuil1!A3:B18,1,0),0)=A3,A3,Feuil1!A3) -> 131 | C3: =IF(B3=0,Feuil1!A3,Feuil2!B3) -> 131
A4: 172 | B4: =IF(IFERROR(VLOOKUP(A4,Feuil1!A4:B19,1,0),0)=A4,A4,Feuil1!A4) -> 172 | C4: =IF(B4=0,Feuil1!A4,Feuil2!B4) -> 172
A5: 170 | B5: =IF(IFERROR(VLOOKUP(A5,Feuil1!A5:B20,1,0),0)=A5,A5,Feuil1!A5) -> 199 | C5: =IF(B5=0,Feuil1!A5,Feuil2!B5) -> 199
A6: 189 | B6: =IF(IFERROR(VLOOKUP(A6,Feuil1!A6:B21,1,0),0)=A6,A6,Feuil1!A6) -> 105 | C6: =IF(B6=0,Feuil1!A6,Feuil2!B6) -> 105
A7: 191 | B7: =IF(IFERROR(VLOOKUP(A7,Feuil1!A7:B22,1,0),0)=A7,A7,Feuil1!A7) -> 191 | C7: =IF(B7=0,Feuil1!A7,Feuil2!B7) -> 191
A8: 174 | B8: =IF(IFERROR(VLOOKUP(A8,Feuil1!A8:B23,1,0),0)=A8,A8,Feuil1!A8) -> 172 | C8: =IF(B8=0,Feuil1!A8,Feuil2!B8) -> 172
A9: 119 | B9: =IF(IFERROR(VLOOKUP(A9,Feuil1!A9:B24,1,0),0)=A9,A9,Feuil1!A9) -> 159 | C9: =IF(B9=0,Feuil1!A9,Feuil2!B9) -> 159
A10: 165 | B10: =IF(IFERROR(VLOOKUP(A10,Feuil1!A10:B25,1,0),0)=A10,A10,Feuil1!A10) -> 168 | C10: =IF(B10=0,Feuil1!A10,Feuil2!B10) -> 168
A11: 114 | B11: =IF(IFERROR(VLOOKUP(A11,Feuil1!A11:B26,1,0),0)=A11,A11,Feuil1!A11) -> 107 | C11: =IF(B11=0,Feuil1!A11,Feuil2!B11) -> 107
A12: 107 | B12: =IF(IFERROR(VLOOKUP(A12,Feuil1!A12:B27,1,0),0)=A12,A12,Feuil1!A12) -> 107 | C12: =IF(B12=0,Feuil1!A12,Feuil2!B12) -> 107
... A19: 115 | B19: =IF(IFERROR(VLOOKUP(A19,Feuil1!A19:B34,1,0),0)=A19,A19,Feuil1!A19) -> 115 | C19: =IF(B19=0,Feuil1!A19,Feuil2!B19) -> 115
B21: =_xlfn.FORMULATEXT(B1) -> =SI(SIERREUR(RECHERCHEV(A1;Feuil1!A1:B16;1;0);0)=A1;A1;Feuil1!A1)
