Workbook

Sheet KNAUF
A1: GTIN | B1: éco-contribution 2023 (à l'UQB) | C1: stk-vente
A2: 3551660209687 | B2: 0.09 | C2: =IFERROR(VLOOKUP(A2,GIMEL!$A$2:$B$765,2,0),"Non trouvé") -> Non trouvé
A3: 3551660209625 | B3: 0.0936 | C3: =IFERROR(VLOOKUP(A3,GIMEL!$A$2:$B$765,2,0),"Non trouvé") -> Non trouvé
A4: 3551660006644 | B4: 0.072 | C4: =IFERROR(VLOOKUP(A4,GIMEL!$A$2:$B$765,2,0),"Non trouvé") -> Non trouvé
A5: 3551660000093 | B5: 0.0864 | C5: =IFERROR(VLOOKUP(A5,GIMEL!$A$2:$B$765,2,0),"Non trouvé") -> Non trouvé
A6: 3551660000079 | B6: 0.09 | C6: =IFERROR(VLOOKUP(A6,GIMEL!$A$2:$B$765,2,0),"Non trouvé") -> Non trouvé
A7: 3551660000086 | B7: 0.0936 | C7: =IFERROR(VLOOKUP(A7,GIMEL!$A$2:$B$765,2,0),"Non trouvé") -> Non trouvé
A8: 3551660057233 | B8: 0.0972 | C8: =IFERROR(VLOOKUP(A8,GIMEL!$A$2:$B$765,2,0),"Non trouvé") -> Non trouvé
A9: 3551660004367 | B9: 0.1008 | C9: =IFERROR(VLOOKUP(A9,GIMEL!$A$2:$B$765,2,0),"Non trouvé") -> Non trouvé
A10: 3551660001786 | B10: 0.108 | C10: =IFERROR(VLOOKUP(A10,GIMEL!$A$2:$B$765,2,0),"Non trouvé") -> Non trouvé
A11: 3551660004398 | B11: 0.1152 | C11: =IFERROR(VLOOKUP(A11,GIMEL!$A$2:$B$765,2,0),"Non trouvé") -> Non trouvé
A12: 3551660004404 | B12: 0.1296 | C12: =IFERROR(VLOOKUP(A12,GIMEL!$A$2:$B$765,2,0),"Non trouvé") -> Non trouvé
A13: 5413503312252 | B13: 0.045 | C13: =IFERROR(VLOOKUP(A13,GIMEL!$A$2:$B$765,2,0),"Non trouvé") -> Non trouvé
... A379: 3551660182904 | B379: 0.0005 | C379: =IFERROR(VLOOKUP(A379,GIMEL!$A$2:$B$765,2,0),"Non trouvé") -> Non trouvé
A380: 3472994496393 | B380: NON | C380: =IFERROR(VLOOKUP(A380,GIMEL!$A$2:$B$765,2,0),"Non trouvé") -> Non trouvé
A381: 3551660058803 | B381: NON | C381: =IFERROR(VLOOKUP(A381,GIMEL!$A$2:$B$765,2,0),"Non trouvé") -> Non trouvé
A382: 3551660182478 | B382: NON | C382: =IFERROR(VLOOKUP(A382,GIMEL!$A$2:$B$765,2,0),"Non trouvé") -> Non trouvé
A383: 3551660403528 | B383: 1e-05 | C383: =IFERROR(VLOOKUP(A383,GIMEL!$A$2:$B$765,2,0),"Non trouvé") -> Non trouvé
A384: 3551660403535 | B384: 1.75e-05 | C384: =IFERROR(VLOOKUP(A384,GIMEL!$A$2:$B$765,2,0),"Non trouvé") -> Non trouvé
A385: 3551660403542 | B385: 2.5e-06 | C385: =IFERROR(VLOOKUP(A385,GIMEL!$A$2:$B$765,2,0),"Non trouvé") -> Non trouvé
A386: 3551660259835 | B386: 0.00025 | C386: =IFERROR(VLOOKUP(A386,GIMEL!$A$2:$B$765,2,0),"Non trouvé") -> Non trouvé
A387: 3551660520669 | B387: 0.00065 | C387: =IFERROR(VLOOKUP(A387,GIMEL!$A$2:$B$765,2,0),"Non trouvé") -> Non trouvé
A388: 3551660533928 | B388: 0.000253 | C388: =IFERROR(VLOOKUP(A388,GIMEL!$A$2:$B$765,2,0),"Non trouvé") -> Non trouvé
A389: 3551660264341 | B389: 0.001 | C389: =IFERROR(VLOOKUP(A389,GIMEL!$A$2:$B$765,2,0),"Non trouvé") -> Non trouvé
A390: 3551660343602 | B390: 0.00125 | C390: =IFERROR(VLOOKUP(A390,GIMEL!$A$2:$B$765,2,0),"Non trouvé") -> Non trouvé
A391: 3551660343619 | B391: 0.0007 | C391: =IFERROR(VLOOKUP(A391,GIMEL!$A$2:$B$765,2,0),"Non trouvé") -> Non trouvé
A392: 3551660001090 | B392: 0.01725 | C392: =IFERROR(VLOOKUP(A392,GIMEL!$A$2:$B$765,2,0),"Non trouvé") -> Non trouvé
A393: 3551660001137 | B393: 0.01725 | C393: =IFERROR(VLOOKUP(A393,GIMEL!$A$2:$B$765,2,0),"Non trouvé") -> Non trouvé
A394: 3551660163187 | B394: 0.000335 | C394: =IFERROR(VLOOKUP(A394,GIMEL!$A$2:$B$765,2,0),"Non trouvé") -> Non trouvé
... A424: 3551660507363 | B424: 0.00195 | C424: =IFERROR(VLOOKUP(A424,GIMEL!$A$2:$B$765,2,0),"Non trouvé") -> Non trouvé
A425: 4260021860069 | B425: NON | C425: =IFERROR(VLOOKUP(A425,GIMEL!$A$2:$B$765,2,0),"Non trouvé") -> Non trouvé
A426: 3551660347815 | B426: 0.000847 | C426: =IFERROR(VLOOKUP(A426,GIMEL!$A$2:$B$765,2,0),"Non trouvé") -> Non trouvé
A427: 4260021861424 | B427: NON | C427: =IFERROR(VLOOKUP(A427,GIMEL!$A$2:$B$765,2,0),"Non trouvé") -> Non trouvé
A428: 4260021861431 | B428: NON | C428: =IFERROR(VLOOKUP(A428,GIMEL!$A$2:$B$765,2,0),"Non trouvé") -> Non trouvé
A429: 4260021861271 | B429: NON | C429: =IFERROR(VLOOKUP(A429,GIMEL!$A$2:$B$765,2,0),"Non trouvé") -> Non trouvé
A430: 4260021861158 | B430: 0.0048 | C430: =IFERROR(VLOOKUP(A430,GIMEL!$A$2:$B$765,2,0),"Non trouvé") -> Non trouvé
A431: 4260021860403 | B431: NON | C431: =IFERROR(VLOOKUP(A431,GIMEL!$A$2:$B$765,2,0),"Non trouvé") -> Non trouvé
A432: 4260021860984 | B432: NON | C432: =IFERROR(VLOOKUP(A432,GIMEL!$A$2:$B$765,2,0),"Non trouvé") -> Non trouvé
A433: 3551660282246 | B433: 0.001325 | C433: =IFERROR(VLOOKUP(A433,GIMEL!$A$2:$B$765,2,0),"Non trouvé") -> Non trouvé
A434: 4260021860175 | B434: 0.267343 | C434: =IFERROR(VLOOKUP(A434,GIMEL!$A$2:$B$765,2,0),"Non trouvé") -> Non trouvé
...

Sheet GIMEL
A1: Gencod | B1: Stk -> Vte
A2: 3551660004800 | B2: 3.36
A3: 3551660453585 | B3: 3
A4: 3660492100014 | B4: 1
A5: 3551660358996 | B5: 3.2
A6: 5413503005130 | B6: 3.12
A7: 3551660359061 | B7: 3.2
A8: 3551660290746 | B8: 1
A9: 3551660248594 | B9: 3
A10: 3551660012768 | B10: 1.2
A11: 3551660018463 | B11: 3.12
A12: 3551660001366 | B12: 3
A13: 3551660001380 | B13: 3
... A113: 4003982226037 | B113: 1
B114: 1
B115: 2.5
A116: 3551660290708 | B116: 1
A117: 3551660260435 | B117: 1
A118: 5413503573141 | B118: 2.34
A119: 3551660226998 | B119: 2.34
A120: 3551660260558 | B120: 1
A121: 3551660260534 | B121: 1
A122: 3551660260398 | B122: 1
A123: 3551660193917 | B123: 3
A124: 3551660358903 | B124: 4
A125: 3551660006668 | B125: 3.12
A126: 3551660004848 | B126: 3
A127: 3551660314473 | B127: 3
... A138: 3434550640473 | B138: 0.75
B139: 1.56
B140: 1
A141: 3551660315302 | B141: 3.24
A142: 3551660423724 | B142: 1
A143: 3551660158282 | B143: 3
B144: 0.72
A145: 3551660290685 | B145: 1
A146: 4003982196644 | B146: 1
A147: 3551660313650 | B147: 3.36
A148: 3551660021937 | B148: 3
A149: 4003982192349 | B149: 0.72
...
