Workbook

Sheet KNAUF
A1: GTIN | B1: éco-contribution 2023 (à l'UQB) | C1: stk-vente
A2: 3551660209687 | B2: 0.09 | C2: =IFERROR(VLOOKUP(A2,GIMEL!$A$2:$B$765,2,0),"Non trouvé") -> Non trouvé
A3: 3551660209625 | B3: 0.0936 | C3: =IFERROR(VLOOKUP(A3,GIMEL!$A$2:$B$765,2,0),"Non trouvé") -> Non trouvé
A4: 3551660006644 | B4: 0.072 | C4: =IFERROR(VLOOKUP(A4,GIMEL!$A$2:$B$765,2,0),"Non trouvé") -> Non trouvé
A5: 3551660000093 | B5: 0.0864 | C5: =IFERROR(VLOOKUP(A5,GIMEL!$A$2:$B$765,2,0),"Non trouvé") -> Non trouvé
A6: 3551660000079 | B6: 0.09 | C6: =IFERROR(VLOOKUP(A6,GIMEL!$A$2:$B$765,2,0),"Non trouvé") -> Non trouvé
A7: 3551660000086 | B7: 0.0936 | C7: =IFERROR(VLOOKUP(A7,GIMEL!$A$2:$B$765,2,0),"Non trouvé") -> Non trouvé
A8: 3551660057233 | B8: 0.0972 | C8: =IFERROR(VLOOKUP(A8,GIMEL!$A$2:$B$765,2,0),"Non trouvé") -> Non trouvé
A9: 3551660004367 | B9: 0.1008 | C9: =IFERROR(VLOOKUP(A9,GIMEL!$A$2:$B$765,2,0),"Non trouvé") -> Non trouvé
A10: 3551660001786 | B10: 0.108 | C10: =IFERROR(VLOOKUP(A10,GIMEL!$A$2:$B$765,2,0),"Non trouvé") -> Non trouvé
A11: 3551660004398 | B11: 0.1152 | C11: =IFERROR(VLOOKUP(A11,GIMEL!$A$2:$B$765,2,0),"Non trouvé") -> Non trouvé
A12: 3551660004404 | B12: 0.1296 | C12: =IFERROR(VLOOKUP(A12,GIMEL!$A$2:$B$765,2,0),"Non trouvé") -> Non trouvé
A13: 5413503312252 | B13: 0.045 | C13: =IFERROR(VLOOKUP(A13,GIMEL!$A$2:$B$765,2,0),"Non trouvé") -> Non trouvé
... A379: 3551660182904 | B379: 0.0005 | C379: =IFERROR(VLOOKUP(A379,GIMEL!$A$2:$B$765,2,0),"Non trouvé") -> Non trouvé
A380: 3472994496393 | B380: NON | C380: =IFERROR(VLOOKUP(A380,GIMEL!$A$2:$B$765,2,0),"Non trouvé") -> Non trouvé
A381: 3551660058803 | B381: NON | C381: =IFERROR(VLOOKUP(A381,GIMEL!$A$2:$B$765,2,0),"Non trouvé") -> Non trouvé
A382: 3551660182478 | B382: NON | C382: =IFERROR(VLOOKUP(A382,GIMEL!$A$2:$B$765,2,0),"Non trouvé") -> Non trouvé
A383: 3551660403528 | B383: 1e-05 | C383: =IFERROR(VLOOKUP(A383,GIMEL!$A$2:$B$765,2,0),"Non trouvé") -> Non trouvé
A384: 3551660403535 | B384: 1.75e-05 | C384: =IFERROR(VLOOKUP(A384,GIMEL!$A$2:$B$765,2,0),"Non trouvé") -> Non trouvé
A385: 3551660403542 | B385: 2.5e-06 | C385: =IFERROR(VLOOKUP(A385,GIMEL!$A$2:$B$765,2,0),"Non trouvé") -> Non trouvé
A386: 3551660259835 | B386: 0.00025 | C386: =IFERROR(VLOOKUP(A386,GIMEL!$A$2:$B$765,2,0),"Non trouvé") -> Non trouvé
A387: 3551660520669 | B387: 0.00065 | C387: =IFERROR(VLOOKUP(A387,GIMEL!$A$2:$B$765,2,0),"Non trouvé") -> Non trouvé
A388: 3551660533928 | B388: 0.000253 | C388: =IFERROR(VLOOKUP(A388,GIMEL!$A$2:$B$765,2,0),"Non trouvé") -> Non trouvé
A389: 3551660264341 | B389: 0.001 | C389: =IFERROR(VLOOKUP(A389,GIMEL!$A$2:$B$765,2,0),"Non trouvé") -> Non trouvé
A390: 3551660343602 | B390: 0.00125 | C390: =IFERROR(VLOOKUP(A390,GIMEL!$A$2:$B$765,2,0),"Non trouvé") -> Non trouvé
A391: 3551660343619 | B391: 0.0007 | C391: =IFERROR(VLOOKUP(A391,GIMEL!$A$2:$B$765,2,0),"Non trouvé") -> Non trouvé
A392: 3551660001090 | B392: 0.01725 | C392: =IFERROR(VLOOKUP(A392,GIMEL!$A$2:$B$765,2,0),"Non trouvé") -> Non trouvé
A393: 3551660001137 | B393: 0.01725 | C393: =IFERROR(VLOOKUP(A393,GIMEL!$A$2:$B$765,2,0),"Non trouvé") -> Non trouvé
A394: 3551660163187 | B394: 0.000335 | C394: =IFERROR(VLOOKUP(A394,GIMEL!$A$2:$B$765,2,0),"Non trouvé") -> Non trouvé
... A424: 3551660507363 | B424: 0.00195 | C424: =IFERROR(VLOOKUP(A424,GIMEL!$A$2:$B$765,2,0),"Non trouvé") -> Non trouvé
A425: 4260021860069 | B425: NON | C425: =IFERROR(VLOOKUP(A425,GIMEL!$A$2:$B$765,2,0),"Non trouvé") -> Non trouvé
A426: 3551660347815 | B426: 0.000847 | C426: =IFERROR(VLOOKUP(A426,GIMEL!$A$2:$B$765,2,0),"Non trouvé") -> Non trouvé
A427: 4260021861424 | B427: NON | C427: =IFERROR(VLOOKUP(A427,GIMEL!$A$2:$B$765,2,0),"Non trouvé") -> Non trouvé
A428: 4260021861431 | B428: NON | C428: =IFERROR(VLOOKUP(A428,GIMEL!$A$2:$B$765,2,0),"Non trouvé") -> Non trouvé
A429: 4260021861271 | B429: NON | C429: =IFERROR(VLOOKUP(A429,GIMEL!$A$2:$B$765,2,0),"Non trouvé") -> Non trouvé
A430: 4260021861158 | B430: 0.0048 | C430: =IFERROR(VLOOKUP(A430,GIMEL!$A$2:$B$765,2,0),"Non trouvé") -> Non trouvé
A431: 4260021860403 | B431: NON | C431: =IFERROR(VLOOKUP(A431,GIMEL!$A$2:$B$765,2,0),"Non trouvé") -> Non trouvé
A432: 4260021860984 | B432: NON | C432: =IFERROR(VLOOKUP(A432,GIMEL!$A$2:$B$765,2,0),"Non trouvé") -> Non trouvé
A433: 3551660282246 | B433: 0.001325 | C433: =IFERROR(VLOOKUP(A433,GIMEL!$A$2:$B$765,2,0),"Non trouvé") -> Non trouvé
A434: 4260021860175 | B434: 0.267343 | C434: =IFERROR(VLOOKUP(A434,GIMEL!$A$2:$B$765,2,0),"Non trouvé") -> Non trouvé
A435: 4029369014646 | B435: NON | C435: =IFERROR(VLOOKUP(A435,GIMEL!$A$2:$B$765,2,0),"Non trouvé") -> Non trouvé
A436: 3551660347808 | B436: 0.00915 | C436: =IFERROR(VLOOKUP(A436,GIMEL!$A$2:$B$765,2,0),"Non trouvé") -> Non trouvé
A437: 3551660521437 | B437: NON | C437: =IFERROR(VLOOKUP(A438,GIMEL!$A$2:$B$245,2,0),"Non trouvé") -> Non trouvé
A438: 4260021860373 | B438: NON | C438: =IFERROR(VLOOKUP(A439,GIMEL!$A$2:$B$245,2,0),"Non trouvé") -> Non trouvé
A439: 4260021860953 | B439: NON | C439: =IFERROR(VLOOKUP(A440,GIMEL!$A$2:$B$245,2,0),"Non trouvé") -> Non trouvé
A440: 3551660134903 | B440: NON | C440: =IFERROR(VLOOKUP(A441,GIMEL!$A$2:$B$245,2,0),"Non trouvé") -> Non trouvé
A441: 3551660194419 | B441: 0.004265 | C441: =IFERROR(VLOOKUP(A442,GIMEL!$A$2:$B$245,2,0),"Non trouvé") -> Non trouvé
A442: 3551660533584 | B442: 9.5e-05 | C442: =IFERROR(VLOOKUP(A443,GIMEL!$A$2:$B$245,2,0),"Non trouvé") -> Non trouvé
A443: 3551660262323 | B443: 0.01706 | C443: =IFERROR(VLOOKUP(A444,GIMEL!$A$2:$B$245,2,0),"Non trouvé") -> Non trouvé
A444: 3551660303040 | B444: 0.0003 | C444: =IFERROR(VLOOKUP(A445,GIMEL!$A$2:$B$245,2,0),"Non trouvé") -> Non trouvé
A445: 3551660267458 | B445: 0.0045209 | C445: =IFERROR(VLOOKUP(A446,GIMEL!$A$2:$B$245,2,0),"Non trouvé") -> Non trouvé
A446: 3551660262385 | B446: 9.35e-05 | C446: =IFERROR(VLOOKUP(A447,GIMEL!$A$2:$B$245,2,0),"Non trouvé") -> Non trouvé
A447: 3551660262361 | B447: 9.35e-05 | C447: =IFERROR(VLOOKUP(A448,GIMEL!$A$2:$B$245,2,0),"Non trouvé") -> Non trouvé
A448: 3551660262347 | B448: 0.00159511 | C448: =IFERROR(VLOOKUP(A449,GIMEL!$A$2:$B$245,2,0),"Non trouvé") -> Non trouvé
A449: 3551660262309 | B449: 5e-07 | C449: =IFERROR(VLOOKUP(A450,GIMEL!$A$2:$B$245,2,0),"Non trouvé") -> Non trouvé
A450: 4029369082393 | B450: 0.00115 | C450: =IFERROR(VLOOKUP(A451,GIMEL!$A$2:$B$245,2,0),"Non trouvé") -> Non trouvé
A451: 4029369060162 | B451: 0.00115 | C451: =IFERROR(VLOOKUP(A452,GIMEL!$A$2:$B$245,2,0),"Non trouvé") -> Non trouvé
A452: 4029369079256 | B452: 0.001211 | C452: =IFERROR(VLOOKUP(A453,GIMEL!$A$2:$B$245,2,0),"Non trouvé") -> Non trouvé
... A557: 3551660193108 | B557: 0.054757 | C557: =IFERROR(VLOOKUP(A558,GIMEL!$A$2:$B$245,2,0),"Non trouvé") -> Non trouvé
A558: 4003982054425 | B558: NON | C558: =IFERROR(VLOOKUP(A559,GIMEL!$A$2:$B$245,2,0),"Non trouvé") -> Non trouvé
A559: 4003982054432 | B559: NON | C559: =IFERROR(VLOOKUP(A560,GIMEL!$A$2:$B$245,2,0),"Non trouvé") -> Non trouvé
A560: 3551660061377 | B560: NON | C560: =IFERROR(VLOOKUP(A561,GIMEL!$A$2:$B$245,2,0),"Non trouvé") -> Non trouvé
A561: 3551660161213 | B561: NON | C561: =IFERROR(VLOOKUP(A562,GIMEL!$A$2:$B$245,2,0),"Non trouvé") -> Non trouvé
A562: 3551660161220 | B562: NON | C562: =IFERROR(VLOOKUP(A563,GIMEL!$A$2:$B$245,2,0),"Non trouvé") -> Non trouvé
A563: 3551660075053 | B563: NON | C563: =IFERROR(VLOOKUP(A564,GIMEL!$A$2:$B$245,2,0),"Non trouvé") -> Non trouvé
A564: 3551660211390 | B564: NON | C564: =IFERROR(VLOOKUP(A565,GIMEL!$A$2:$B$245,2,0),"Non trouvé") -> Non trouvé
A565: 3551660207027 | B565: NON | C565: =IFERROR(VLOOKUP(A566,GIMEL!$A$2:$B$245,2,0),"Non trouvé") -> Non trouvé
A566: 5027947113049 | B566: NON | C566: =IFERROR(VLOOKUP(A567,GIMEL!$A$2:$B$245,2,0),"Non trouvé") -> Non trouvé
A567: 4003982055521 | B567: NON | C567: =IFERROR(VLOOKUP(A568,GIMEL!$A$2:$B$245,2,0),"Non trouvé") -> Non trouvé
A568: 4003982056085 | B568: NON | C568: =IFERROR(VLOOKUP(A569,GIMEL!$A$2:$B$245,2,0),"Non trouvé") -> Non trouvé
A569: 3551660197847 | B569: NON | C569: =IFERROR(VLOOKUP(A570,GIMEL!$A$2:$B$245,2,0),"Non trouvé") -> Non trouvé
... A587: 4003982420572 | B587: NON | C587: =IFERROR(VLOOKUP(A588,GIMEL!$A$2:$B$245,2,0),"Non trouvé") -> Non trouvé
A588: 4003982196644 | B588: 0.010064 | C588: =IFERROR(VLOOKUP(A589,GIMEL!$A$2:$B$245,2,0),"Non trouvé") -> Non trouvé
A589: 3551660544177 | B589: 0.0115956 | C589: =IFERROR(VLOOKUP(A590,GIMEL!$A$2:$B$245,2,0),"Non trouvé") -> Non trouvé
A590: 4006379044498 | B590: NON | C590: =IFERROR(VLOOKUP(A591,GIMEL!$A$2:$B$245,2,0),"Non trouvé") -> Non trouvé
A591: 3551660423625 | B591: NON | C591: =IFERROR(VLOOKUP(A592,GIMEL!$A$2:$B$245,2,0),"Non trouvé") -> Non trouvé
A592: 3551660423687 | B592: NON | C592: =IFERROR(VLOOKUP(A593,GIMEL!$A$2:$B$245,2,0),"Non trouvé") -> Non trouvé
A593: 3551660423649 | B593: NON | C593: =IFERROR(VLOOKUP(A594,GIMEL!$A$2:$B$245,2,0),"Non trouvé") -> Non trouvé
A594: 3551660423700 | B594: NON | C594: =IFERROR(VLOOKUP(A595,GIMEL!$A$2:$B$245,2,0),"Non trouvé") -> Non trouvé
A595: 3551660423663 | B595: NON | C595: =IFERROR(VLOOKUP(A596,GIMEL!$A$2:$B$245,2,0),"Non trouvé") -> Non trouvé
A596: 3551660545716 | B596: NON | C596: =IFERROR(VLOOKUP(A597,GIMEL!$A$2:$B$245,2,0),"Non trouvé") -> Non trouvé
A597: 3551660547635 | B597: NON | C597: =IFERROR(VLOOKUP(A598,GIMEL!$A$2:$B$245,2,0),"Non trouvé") -> Non trouvé
A598: 3551660487313 | B598: NON | C598: =IFERROR(VLOOKUP(A599,GIMEL!$A$2:$B$245,2,0),"Non trouvé") -> Non trouvé
A599: 3551660423762 | B599: NON | C599: =IFERROR(VLOOKUP(A600,GIMEL!$A$2:$B$245,2,0),"Non trouvé") -> Non trouvé
A600: 3551660423786 | B600: NON | C600: =IFERROR(VLOOKUP(A601,GIMEL!$A$2:$B$245,2,0),"Non trouvé") -> Non trouvé
A601: 3551660423809 | B601: NON | C601: =IFERROR(VLOOKUP(A602,GIMEL!$A$2:$B$245,2,0),"Non trouvé") -> Non trouvé
... A605: 3551660492867 | B605: NON | C605: =IFERROR(VLOOKUP(A606,GIMEL!$A$2:$B$245,2,0),"Non trouvé") -> Non trouvé
A606: 4003982032348 | B606: 0.0115736 | C606: =IFERROR(VLOOKUP(A607,GIMEL!$A$2:$B$245,2,0),"Non trouvé") -> Non trouvé
A607: 4003982307477 | B607: NON | C607: =IFERROR(VLOOKUP(A608,GIMEL!$A$2:$B$245,2,0),"Non trouvé") -> Non trouvé
A608: 4029369035207 | B608: 0.135282 | C608: =IFERROR(VLOOKUP(A609,GIMEL!$A$2:$B$245,2,0),"Non trouvé") -> Non trouvé
A609: 3551660159814 | B609: 0.00389741 | C609: =IFERROR(VLOOKUP(A610,GIMEL!$A$2:$B$245,2,0),"Non trouvé") -> Non trouvé
A610: 5413503597024 | B610: NON | C610: =IFERROR(VLOOKUP(A611,GIMEL!$A$2:$B$245,2,0),"Non trouvé") -> Non trouvé
A611: 3289558590998 | B611: NON | C611: =IFERROR(VLOOKUP(A612,GIMEL!$A$2:$B$245,2,0),"Non trouvé") -> Non trouvé
A612: 3551660346535 | B612: NON | C612: =IFERROR(VLOOKUP(A613,GIMEL!$A$2:$B$245,2,0),"Non trouvé") -> Non trouvé
A613: 3551660346542 | B613: NON | C613: =IFERROR(VLOOKUP(A614,GIMEL!$A$2:$B$245,2,0),"Non trouvé") -> Non trouvé
A614: 3551660346559 | B614: NON | C614: =IFERROR(VLOOKUP(A615,GIMEL!$A$2:$B$245,2,0),"Non trouvé") -> Non trouvé
A615: 3551660346566 | B615: NON | C615: =IFERROR(VLOOKUP(A616,GIMEL!$A$2:$B$245,2,0),"Non trouvé") -> Non trouvé
A616: 3551660346573 | B616: NON | C616: =IFERROR(VLOOKUP(A617,GIMEL!$A$2:$B$245,2,0),"Non trouvé") -> Non trouvé
A617: 3551660346528 | B617: NON | C617: =IFERROR(VLOOKUP(A618,GIMEL!$A$2:$B$245,2,0),"Non trouvé") -> Non trouvé
A618: 4003982302403 | B618: 0.000154 | C618: =IFERROR(VLOOKUP(A619,GIMEL!$A$2:$B$245,2,0),"Non trouvé") -> Non trouvé
...

Sheet GIMEL
A1: Gencod | B1: Stk -> Vte
A2: 3551660004800 | B2: 3.36
A3: 3551660453585 | B3: 3
A4: 3660492100014 | B4: 1
A5: 3551660358996 | B5: 3.2
A6: 5413503005130 | B6: 3.12
A7: 3551660359061 | B7: 3.2
A8: 3551660290746 | B8: 1
A9: 3551660248594 | B9: 3
A10: 3551660012768 | B10: 1.2
A11: 3551660018463 | B11: 3.12
A12: 3551660001366 | B12: 3
A13: 3551660001380 | B13: 3
... A113: 4003982226037 | B113: 1
B114: 1
B115: 2.5
A116: 3551660290708 | B116: 1
A117: 3551660260435 | B117: 1
A118: 5413503573141 | B118: 2.34
A119: 3551660226998 | B119: 2.34
A120: 3551660260558 | B120: 1
A121: 3551660260534 | B121: 1
A122: 3551660260398 | B122: 1
A123: 3551660193917 | B123: 3
A124: 3551660358903 | B124: 4
A125: 3551660006668 | B125: 3.12
A126: 3551660004848 | B126: 3
A127: 3551660314473 | B127: 3
... A138: 3434550640473 | B138: 0.75
B139: 1.56
B140: 1
A141: 3551660315302 | B141: 3.24
A142: 3551660423724 | B142: 1
A143: 3551660158282 | B143: 3
B144: 0.72
A145: 3551660290685 | B145: 1
A146: 4003982196644 | B146: 1
A147: 3551660313650 | B147: 3.36
A148: 3551660021937 | B148: 3
A149: 4003982192349 | B149: 0.72
A150: 3551660003636 | B150: 2.4
A151: 3551660021999 | B151: 3.6
A152: 3551660251570 | B152: 2.52
A153: 3551660220002 | B153: 2.52
A154: 3551660133548 | B154: 1
A155: 3551660315500 | B155: 3.12
A156: 3551660315555 | B156: 3.12
... A184: 3551660315548 | B184: 3.24
B185: 1
A186: 3551660313636 | B186: 3
A187: 3551660315494 | B187: 3.24
A188: 3551660315517 | B188: 3
A189: 3551660314619 | B189: 3
A190: 3551660314602 | B190: 3.12
A191: 3551660314596 | B191: 3.24
A192: 3551660313582 | B192: 3
A193: 3551660313568 | B193: 3.24
A194: 3551660315463 | B194: 3
A195: 3551660315456 | B195: 3.12
A196: 3551660315449 | B196: 3.24
A197: 3551660314558 | B197: 3.12
... A212: 3551660313940 | B212: 3.12
B213: 1
A214: 3551660315432 | B214: 3.36
A215: 4260021861165 | B215: 1
A216: 3551660314169 | B216: 3.12
A217: 3551660251587 | B217: 2.7
A218: 3551660310567 | B218: 3.24
A219: 3551660004732 | B219: 3
A220: 3551660264600 | B220: 3
A221: 3551660001861 | B221: 1
A222: 5413503583737 | B222: 1
A223: 3551660426688 | B223: 1.2
A224: 5413503583713 | B224: 1
A225: 3551660359122 | B225: 4
... A228: 3551660311540 | B228: 3.6
B229: 1
A230: 3551660217460 | B230: 1.2
A231: 3551660259941 | B231: 2.34
A232: 3551660276269 | B232: 0.72
A233: 3551660276023 | B233: 0.72
A234: 3551660266949 | B234: 0.72
A235: 3551660259934 | B235: 2.25
A236: 3551660276047 | B236: 0.72
A237: 3551660248556 | B237: 3
A238: 3551660313629 | B238: 3.12
A239: 3551660128032 | B239: 2.88
A240: 3551660361651 | B240: 1.2
A241: 9002943074453 | B241: 1
... A324: 3434550639200 | B324: 0.75
B325: 1
A326: 5413503583720 | B326: 1
A327: 5413503583768 | B327: 1
A328: 3551660219778 | B328: 1
A329: 3551660357913 | B329: 1
A330: 3551660295246 | B330: 1
A331: 3551660219600 | B331: 1
A332: 3551660219563 | B332: 1
A333: 3551660002165 | B333: 0.5
A334: 3551660219587 | B334: 1
...
