Workbook
Name Beg_Bal: #REF!
Name End_Bal: '[1]Tableau d''amortissement'!$I$19:$I$378
Name Extra_Pay: #REF!
Name Header_Row: ROW('[1]Tableau d''amortissement'!$A$18:$IV$18)
Name Int: #REF!
Name Interest_Rate: '[1]Tableau d''amortissement'!$D$6
Name Last_Row: IF(Values_Entered,Header_Row+Number_of_Payments,Header_Row)
Name Loan_Amount: '[1]Tableau d''amortissement'!$D$5
Name Loan_Start: '[1]Tableau d''amortissement'!$D$9
Name Loan_Years: '[1]Tableau d''amortissement'!$D$7
Name Num_Pmt_Per_Year: #REF!
Name Number_of_Payments: MATCH(0.01,End_Bal,-1)+1
Name Pay_Num: #REF!
Name Princ: #REF!
Name Sched_Pay: #REF!
Name Scheduled_Extra_Payments: #REF!
Name Scheduled_Monthly_Payment: #REF!
Name Total_Pay: #REF!
Name Values_Entered: IF(Loan_Amount*Interest_Rate*Loan_Years*Loan_Start>0,1,0)

Sheet simu
B2: 1 | C2: EAP NAV | D2: 2 | E2: 3 | F2: 4 | G2: 5 | H2: atis (locaux + escabeau) | I2: eap gls | J2: eap fret soute courrier / colipost 1 | K2: 6 | L2: 7 | M2: 8 | N2: 9
A3: MENSUEL HT | B3: 5000 | C3: 0 | D3: 5500 | E3: =PRODUCT(E4,0.083333) -> 7499.97 | F3: 6500 | G3: 3000 | H3: 0 | I3: 0 | J3: 0 | K3: =PRODUCT(K4,0.083333) -> 0.083333 | L3: =maint!L17 -> 17500 | M3: =chif!W34 -> 37840 | N3: =chif!X34 -> 11825
A4: ANNUEL HT | B4: =PRODUCT(B3,12) -> 60000 | C4: =PRODUCT(C3,12) -> 0 | D4: =PRODUCT(12,D3) -> 66000 | E4: 90000 | F4: =PRODUCT(12,F3) -> 78000 | G4: =PRODUCT(12,G3) -> 36000 | H4: =PRODUCT(12,H3) -> 0 | I4: =PRODUCT(12,I3) -> 0 | J4: =PRODUCT(12,J3) -> 0 | K4: 1 | L4: =PRODUCT(12,L3) -> 210000 | M4: =PRODUCT(12,M3) -> 454080 | N4: =PRODUCT(12,N3) -> 141900
B6: amortissement prêts : 1 | C6: assurances | E6: cout prêts : 1 | F6: leasing | G6: taxes salaires | H6: maintenance (materiel + outillage) | I6: divers (detail feuil3) | J6: entretien materiel: salaire + pieces | K6: admini | L6: SALAIRES | M6: ammortissement: 2 | N6: ammortissement: 3 | O6: divers administratif | P6: cout prêt : 2 | Q6: cout prêt 3
A7: MENSUEL | B7: =B8/12 -> 1190.9722 | C7: =C8/12 -> 2357.5 | D7: 0 | E7: =E8/12 -> 150.60223 | F7: ='details charges'!F12 -> 376.81438 | G7: =salaires!R5*0.0123 -> 477.24 | H7: =H8/12 -> 750 | I7: ='details charges'!B21 -> 3796.6667 | J7: =chif!K16 -> 1940.9722 | K7: ='details charges'!J14 -> 776.5 | L7: =salaires!R3 -> 54320 | M7: =chif!N16 -> 9291.6667 | N7: =(chif!N29)-M7 -> 1111.1111 | O7: =chif!Q43 -> 3400.4307 | P7: =P8/12 -> 1176.7171 | Q7: =Q8/12 -> 140.50353
A8: ANNUEL | B8: ='details charges'!M16 -> 14291.667 | C8: ='details charges'!P16 -> 28290 | D8: 0 | E8: ='[2]Tableau d''amortissement'!H9/6 -> 1807.2267 | F8: =PRODUCT(12,F7) -> 4521.7726 | G8: =PRODUCT(12,G7) -> 5726.88 | H8: ='details charges'!J25 -> 9000 | I8: =PRODUCT(12,I7) -> 45560 | J8: =PRODUCT(12,J7) -> 23291.667 | K8: =PRODUCT(12,K7) -> 9318 | L8: =PRODUCT(12,L7) -> 651840 | M8: =PRODUCT(12,M7) -> 111500 | N8: =PRODUCT(12,N7) -> 13333.333 | O8: =PRODUCT(12,O7) -> 40805.169 | P8: ='[3]Tableau d''amortissement'!H9/'[3]Tableau d''amortissement'!D7 -> 14120.605 | Q8: ='[4]Tableau d''amortissement'!H9/'[4]Tableau d''amortissement'!D7-P8 -> 1686.0424
B13: HT | C13: TTC | E13: I S | F13: =(38120*0.15)+(B19-38120)*0.3333 -> 46636.667
A14: total entrées mensuel | B14: =SUM(B3:N3) -> 94665.053 | C14: =B14*1.196 -> 113219.4
A15: total entrées annuel | B15: =B14*12 -> 1135980.6 | C15: =B15*1.196 -> 1358632.8
A16: total sorties mensuel | B16: =SUM(B7:Q7) -> 81257.697 | C16: =B16*1.196 -> 97184.205
A17: total entrées annuel | B17: =B16*12 -> 975092.36 | C17: =B17*1.196 -> 1166210.5 | E17: resultat apres IS | F17: =B19-F13 -> 114251.61
A18: resultat mensuel | B18: =B14-B16 -> 13407.356 | C18: =B18*1.196 -> 16035.198
A19: resultat annuel | B19: =B15-B17 -> 160888.28 | C19: =B19*1.196 -> 192422.38

Sheet detail depenses
A1: dépenses
A2: matières premières | B2: divers | C2: 250*12 | D2: tva | E2: conso
A3: petit matériel | B3: divers | C3: 100*12 | D3: tva | E3: outillage
A4: eau | B4: cci | D4: tva
A5: électricité | B5: cci | D5: tva
A6: carburant | B6: divers | C6: 400€12 | D6: tva | E6: bp
A7: leasing | B7: leasing | D7: pas de tva
A8: location mobilière | B8: divers | D8: tva | E8: location matériel divers
A9: location immobilière | D9: tva
A10: honoraire compta | B10: compta | D10: tva
A11: frais bancaires | B11: divers | C11: 30€*12 | D11: tva
A12: taxes sur les salaires | B12: taxes salaires | D12: pas de tva | E12: taxes apprentissage + agefoss = 0,68% + 0,55% du salaires brut + tva
A13: salaires brut | B13: salaires | D13: pas de tva | E13: brut = NET + ch. salariales
A14: charges salariales | B14: salaires | D14: pas de tva | E14: 25% du brut
A15: charges patronales | B15: salaires | D15: pas de tva | E15: 40% du brut
A16: salaires globales | B16: salaires | D16: pas de tva | E16: global= BRUT{NET(25%)+ch. sal(75%)} + ch. pat (40% BRUT)
A17: mutuelle | B17: divers | C17: 205€*12 | D17: tva
A18: taxe pro | D18: pas de tva | E18: fini
A19: impôt sur la société | D19: pas de tva
A20: intérêts des emprunts | B20: intérêts emprunts | D20: pas de tva | E20: cout du crédit divisé par le nombre d'année pour une valeur générale
A21: dotation aux amortissement des immo | B21: amortissement immo | D21: pas de tva | E21: valeur de l'achat au prorata suivant la date d'achat divisée par le nombre d'année de l'amortissement | F21: ex: achat 3500€, amortissement 10ans, date d'achat mai: 3500/116mois pour le générale par mois
A22: assurances | B22: assurances | D22: pas de tva | E22: assurance voiture + divers

Sheet buletin de paye
A1: Saisir les zones en jaune | D1: CALCUL DE BULLETIN DE SALAIRE
E2: Tranches:
A3: Cadre (0/N): | B3: 0 | C3: Plafond SS: | D3: 2773 | E3: A | F3: 0 | G3: =D3 -> 2773
C4: Effectif: | D4: 10 | E4: B | F4: =D3 -> 2773 | G4: =4*D3 -> 11092
A5: Brut: | B5: 800 | C5: Agglo.(O/N): | D5: N | E5: C | F5: =G4 -> 11092 | G5: =8*D3 -> 22184
A6: Retenues: | B6: 0 | E6: 1 | F6: =F3 -> 0 | G6: =G3 -> 2773
A7: Avantages: | B7: 0 | E7: 2 | F7: =D3 -> 2773 | G7: =3*D3 -> 8319
A8: Nombre HS: | B8: 17.33
A9: montant HS au taux1: | B9: 324.94
A10: montant HS au taux2: | B10: 0 | D10: Cotisations prises en cpte: | G10: =SUM(D24:D27,D33:D37,D38:D40,D42:D43,D44:D45,D46:D50) -> 198.6644
A11: montant HS au taux3: | B11: 0 | D11: Taux réduction: | G11: =IF(B20<>0,MIN(0.215,G10/B20),0) -> 0.1766
A12: Maintien CP: | B12: 0 | D12: Réduction cot. sal.: | G12: =SUM(B9:B11)*G11 -> 57.384404
A13: Indem. CP 1/10: | B13: 0 | D13: Réduction cot. patr.: | G13: =IF(D4>20,B8*G14,B8*(G14+1)) -> 25.995
A14: Remb. de frais: | B14: 0 | D14: Base remise cot patr.: | G14: 0.5
A15: Primes avec cot: | B15: 0
A16: Primes sans cot. ni IR: | B16: 0 | E16: 1=URSSAF-431
A17: Indem compl. maladie: | B17: 0 | C17: (sans IJSS) | E17: 2=ASSEDIC-4371
A18: IJSS brutes: | B18: 0 | E18: 3=ARRCO-4372
E19: 4=AGIRC-4373
A20: Brut cotis: | B20: =B5-B6+B7+B9+B10+B11+MAX(B12,B13)+B15+B17 -> 1124.94
A21: Brut sans H Supp | B21: =B20-SUM(B9:B11) -> 800
A23: Cotisations salariales | F23: Cotisations patronales
A24: SS maladie | B24: total | C24: 0.75 | D24: =B$20*C24/100 -> 8.43705 | E24: 1 | F24: 12.8 | G24: =B$20*F24/100 -> 143.99232 | H24: 1
A25: SS vieillesse | B25: total | C25: 0.1 | D25: =B$20*C25/100 -> 1.12494 | E25: 1 | F25: 1.6 | G25: =B$20*F25/100 -> 17.99904 | H25: 1
A26: SS vieillesse | B26: TA | C26: 6.65 | D26: =MIN(B$20*C26/100,G$3*C26/100) -> 74.80851 | E26: 1 | F26: 8.3 | G26: =MIN(B$20*F26/100,G$3*F26/100) -> 93.37002 | H26: 1
A27: Contr. Sol. | B27: total | C27: 0 | D27: =B$20*C27/100 -> 0 | E27: 1 | F27: 0.3 | G27: =B$20*F27/100 -> 3.37482 | H27: 1
A28: alloc. Familiales | B28: total | C28: 0 | D28: =MIN(B$20*C28/100,G$3*C28/100) -> 0 | E28: 1 | F28: 5.4 | G28: =B$20*F28/100 -> 60.74676 | H28: 1
A29: accidents travail | B29: total | C29: 0 | D29: =MIN(B$20*C29/100,G$3*C29/100) -> 0 | E29: 1 | F29: 1 | G29: =B$20*F29/100 -> 11.2494 | H29: 1
A30: FNAL | B30: TA | C30: 0 | D30: =MIN(B$20*C30/100,G$3*C30/100) -> 0 | E30: 1 | F30: 0.1 | G30: =MIN(B20*F30/100,G3*F30/100) -> 1.12494 | H30: 1-633
A31: FNAL plus de 19 | B31: total | C31: 0 | D31: =MIN(B$20*C31/100,G$3*C31/100) -> 0 | E31: 1 | F31: 0.4 | G31: =IF(D4>19,B20*F31/100,0) -> 0 | H31: 1-633
A32: transport | B32: total | C32: 0 | D32: =MIN(B$20*C32/100,G$3*C32/100) -> 0 | E32: 1 | F32: 2.6 | G32: =IF(AND(D4>9,D5="O"),B20*F32/100,0) -> 0 | H32: 1-633
A33: CSG déduc | B33: =B$21 -> 800 | C33: 5.1 | D33: =B33*0.97*C33/100 -> 39.576 | E33: 1 | F33: 0 | G33: =F33*B$20 -> 0 | H33: 1
A34: CSG non ded | B34: =B$21 -> 800 | C34: 2.4 | D34: =B34*0.97*C34/100 -> 18.624 | E34: 1 | F34: 0 | G34: =F34*B$20 -> 0 | H34: 1
A35: CRDS non ded | B35: =B$21 -> 800 | C35: 0.5 | D35: =B35*0.97*C35/100 -> 3.88 | E35: 1 | F35: 0 | G35: =F35*B$20 -> 0 | H35: 1
A36: CSG HS | B36: =SUM(B9:B11) -> 324.94 | C36: 7.5 | D36: =B36*0.97*C36/100 -> 23.639385 | E36: 1 | F36: 0 | G36: =F36*B$20 -> 0 | H36: 1
A37: CRDS HS | B37: =SUM(B9:B11) -> 324.94 | C37: 0.5 | D37: =B37*0.97*C37/100 -> 1.575959 | E37: 1 | F37: 0 | G37: =F37*B$20 -> 0 | H37: 1
A38: ass décès cadres | B38: TA | C38: 0 | D38: =MIN(B$20*C38/100,G$3*C38/100) -> 0 | E38: 4 | F38: 1.5 | G38: =IF(B3="O",MIN(B20*F38/100,G3*F38/100),0) -> 0 | H38: 4
A39: ASSEDIC | B39: AB | C39: 2.4 | D39: =MIN(B$20*C39/100,G$4*C39/100) -> 26.99856 | E39: 2 | F39: 4 | G39: =MIN(B$20*F39/100,G$4*F39/100) -> 44.9976 | H39: 2
A40: APEC cadres | B40: TB | C40: 0.024 | D40: =IF(AND($B$3="O",$B$20>$F$4),MIN(($B$20-$F$4)*C40/100,($G$4-$F$4)*C40/100),0) -> 0 | E40: 4 | F40: 0.036 | G40: =IF(AND($B$3="O",$B$20>$F$4),MIN(($B$20-$F$4)*F40/100,($G$4-$F$4)*F40/100),0) -> 0 | H40: 4
A41: AGS | B41: AB | C41: 0 | D41: =MIN(B$20*C41/100,G$4*C41/100) -> 0 | E41: 2 | F41: 0.15 | G41: =MIN(B$20*F41/100,G$4*F41/100) -> 1.68741 | H41: 2
...

Sheet salaires
B1: ADMINISTRATIF | C1: RESPONSABLES | F1: technique | I1: TITULAIRES
A2: SALAIRES | B2: responsable ste | C2: cadre 1 | D2: cadre 2 | E2: cadre 3 | F2: responsable technique (B1) | G2: technicien 1 (B1) | H2: technicien 2 (A1) | I2: TITULAIRE 1 | J2: TITULAIRE 2 | K2: TITULAIRE 3 | L2: TITULAIRE 4 | M2: TITULAIRE 5 | N2: TITULAIR 6 | O2: TITULAIRE 7 | P2: TITULAIRE 8 | Q2: SAISONNIERS | R2: TOTAL
A3: MENSUEL global | B3: =SUM(B5,B7) -> 5600 | C3: =SUM(C5,C7) -> 4293.3333 | D3: =SUM(D5,D7) -> 4293.3333 | E3: =SUM(E5,E7) -> 4106.6667 | F3: =SUM(F5,F7) -> 5040 | G3: =SUM(G5,G7) -> 4106.6667 | H3: =SUM(H5,H7) -> 0 | I3: =SUM(I5,I7) -> 2800 | ... Q3: =SUM(Q5,Q7) -> 4480 | R3: =SUM(B3:Q3) -> 54320
A4: ANNUEL global | B4: =+PRODUCT(B3,12) -> 67200 | C4: =+PRODUCT(C3,12) -> 51520 | D4: =+PRODUCT(D3,12) -> 51520 | E4: =+PRODUCT(E3,12) -> 49280 | F4: =+PRODUCT(F3,12) -> 60480 | G4: =+PRODUCT(G3,12) -> 49280 | H4: =+PRODUCT(H3,12) -> 0 | I4: =+PRODUCT(I3,12) -> 33600 | ... Q4: =+PRODUCT(Q3,12) -> 53760 | R4: =SUM(B4:Q4) -> 651840
A5: brut | B5: =PRODUCT(B8,1/0.75) -> 4000 | C5: =PRODUCT(C8,1/0.75) -> 3066.6667 | D5: =PRODUCT(D8,1/0.75) -> 3066.6667 | E5: =PRODUCT(E8,1/0.75) -> 2933.3333 | F5: =PRODUCT(F8,1/0.75) -> 3600 | G5: =PRODUCT(G8,1/0.75) -> 2933.3333 | H5: =PRODUCT(H8,1/0.75) -> 0 | I5: =PRODUCT(I8,1/0.75) -> 2000 | ... Q5: =PRODUCT(Q8,1/0.75) -> 3200 | R5: =SUM(B5:Q5) -> 38800
A6: ch. sal | B6: =PRODUCT(B5,0.25) -> 1000 | C6: =PRODUCT(C5,0.25) -> 766.66667 | D6: =PRODUCT(D5,0.25) -> 766.66667 | E6: =PRODUCT(E5,0.25) -> 733.33333 | F6: =PRODUCT(F5,0.25) -> 900 | G6: =PRODUCT(G5,0.25) -> 733.33333 | H6: =PRODUCT(H5,0.25) -> 0 | I6: =PRODUCT(I5,0.25) -> 500 | ... Q6: =PRODUCT(Q5,0.25) -> 800 | R6: =SUM(B6:Q6) -> 9700
A7: ch. pat | B7: =PRODUCT(B5,0.4) -> 1600 | C7: =PRODUCT(C5,0.4) -> 1226.6667 | D7: =PRODUCT(D5,0.4) -> 1226.6667 | E7: =PRODUCT(E5,0.4) -> 1173.3333 | F7: =PRODUCT(F5,0.4) -> 1440 | G7: =PRODUCT(G5,0.4) -> 1173.3333 | H7: =PRODUCT(H5,0.4) -> 0 | I7: =PRODUCT(I5,0.4) -> 800 | ... Q7: =PRODUCT(Q5,0.4) -> 1280 | R7: =SUM(B7:Q7) -> 15520
A8: net | B8: 3000 | C8: =INDIRECT("chif!Q9") -> 2300 | D8: =INDIRECT("chif!Q10") -> 2300 | E8: =INDIRECT("chif!Q11") -> 2200 | F8: =maint!C3 -> 2700 | G8: =maint!C4 -> 2200 | H8: =maint!C5 -> 0 | I8: =INDIRECT("chif!Q8") -> 1500 | J8: =INDIRECT("chif!Q8") -> 1500 | K8: =INDIRECT("chif!Q8") -> 1500 | L8: =INDIRECT("chif!Q8") -> 1500 | M8: =INDIRECT("chif!Q8") -> 1500 | N8: =INDIRECT("chif!Q8") -> 1500 | O8: =INDIRECT("chif!Q8") -> 1500 | P8: =INDIRECT("chif!Q8") -> 1500 | Q8: 2400 | R8: =SUM(B8:Q8) -> 29100

Sheet details charges
A1: divers depenses | D1: leasing | I1: admin | L1: prêt materiel avant 2012 | O1: assurances
A2: designation | B2: prix mensuel | D2: designation | E2: prix | F2: prix mensuel | I2: designation | J2: prix | L2: designation | M2: cout | O2: designation | P2: tarif
A3: cadeaux clients | B3: 150 | D3: mat8 | F3: 152.83 | I3: activité | J3: 220 | L3: bungalow | M3: 34450 | O3: av 2012 | P3: 7000
A4: carburant dechargement | B4: =[6]Feuil1!L16 -> 347.22222 | D4: partner | F4: 297.84 | I4: boite a lettre | J4: 3 | L4: mat | M4: 18000 | O4: 1 | P4: 7170
A5: carburant dechargement 2 | B5: =[6]Feuil1!L29-B4 -> 44.444444 | I5: carte parking | J5: 50 | L5: bungalows 2 | M5: 20000 | O5: 2 | P5: =8890-P4 -> 1720
A6: compta | B6: 700 | I6: eau | J6: 21 | L6: hangar | M6: 13300 | O6: vehicules | P6: 2400
A7: divers bricolage | B7: 200 | I7: elec | J7: 150 | O7: maintenance | P7: 10000
A8: essence | B8: 500 | I8: locaux | J8: 95
A9: frais banque | B9: 15 | I9: tel | J9: 32.5
A10: divers conso | B10: 200 | I10: terrain | J10: 205
A11: materiel bureau + / informatique | B11: 250 | F11: =SUM(F3:F10) -> 450.67
A12: mutuelle | B12: 220 | D12: total | F12: =F11/1.196 -> 376.81438
A13: orange adsl | B13: 70
A14: orange mobile | B14: 300 | I14: total | J14: =SUM(J3:J13) -> 776.5 | L14: total | M14: =SUM(M2:M13) -> 85750
A15: outillage | B15: 100
A16: produit lavage | B16: 200 | I16: surplus | L16: ammortissement annuel (6ans) | M16: =M14/6 -> 14291.667 | O16: total | P16: =SUM(P3:P15) -> 28290
A17: vetements | B17: 200 | I17: designation | J17: prix
A18: consomables maintenance | B18: 300 | I18: outillage | J18: 15000
I19: divers | J19: 35000
I20: remorque | J20: 4000
A21: total depenses mensuel | B21: =SUM(B3:B20) -> 3796.6667
I24: total | J24: =SUM(J18:J23) -> 54000
I25: ammortissement annuel (6ans) | J25: =J24/6 -> 9000

Sheet chif
A4: cas 1: déchargement | S4: cas 1: déchargement uniquement contrat Air France actuel (tarif entre 600 et 780€) | AB4: cas 2 : cas 1 + partie postale et Chronopost au sol
A5: désignation | B5: prix ht | C5: prix ttc | D5: qte demandé | E5: prix total | F5: amortissement en années | G5: cout annuel | H5: cout mensuel | I5: cout horaire | J5: cout par touché total: suivant le nombre de machine | K5: plus-value entretien mensuelle | L5: plus value carburant | M5: cout par touché carburant compris & entretien | N5: cout mensuel ammortissement / nb d'engins | P5: désignation | Q5: salaire net | R5: salaire total | S5: nombre / touché | T5: nombre total | U5: formation | V5: cout / touché de jour soit cout Horaire | W5: cout / touché de nuit | X5: cout total / touché pour 1 pers 0,55h jour + 1h nuit | Y5: cout total : touché tout pers 1h jour + 1h nuit | Z5: cout total / mois | AA5: cout total/ touché avec plus value conges, maladie, formations | AB5: nombre / touché | AC5: nombre total | AD5: formation | AE5: cout / touché de jour soit cout Horaire | AF5: cout / touché de nuit | AG5: cout total : touché pour 1 pers 1h jour + 1h nuit | AH5: cout total : touché tout pers 1h jour + 1h nuit | AI5: cout total / mois | AJ5: cout total/ touché avec plus value conges, maladie, formations
A6: nom | B6: en € | C6: B*TVA | D6: NB | E6: B * D | F6: NB | G6: B / F | H6: G / 12 | I6: H / (47,3*1,5) | J6: I * D | K6: Q32% de H | L6: Q34% de H | M6: Q26% de J | N6: H * D
A7: mat 1 | B7: 40000 | C7: =B7*1.196 -> 47840 | D7: 2 | E7: =B7*D7 -> 80000 | F7: =INDIRECT("Q28") -> 6 | G7: =B7/F7 -> 6666.6667 | H7: =G7/12 -> 555.55556 | I7: =H7/47.3*1.5 -> 17.618041 | J7: =I7*D7 -> 35.236082 | K7: =H7*D7*(INDIRECT("Q32")/100) -> 277.77778 | L7: =H7*D7*(INDIRECT("Q34")/100) -> 44.444444 | M7: =J7*(INDIRECT("Q26")/100+1) -> 45.454545 | N7: =D7*H7 -> 1111.1111 | P7: agent 1 | Q7: 0 | R7: =(Q7*1/0.75)+(Q7*1/0.75*0.4) -> 0 | S7: 0 | T7: 3 | U7: 0 | V7: =R7/161.5+U7/1135.2 -> 0 | W7: =V7*1.2 -> 0 | X7: =V7*0.55+W7 -> 0 | Y7: =X7*S7 -> 0 | Z7: =Y7*47.3 -> 0 | AA7: =Y7*(Q30/100+1) -> 0 | AB7: 1 | AC7: 3 | AD7: 4100 | AE7: =R7/161.5+U7/1135.2 -> 0 | AF7: =AE7*1.2 -> 0 | AG7: =AE7*0.55+AF7 -> 0 | AH7: =AG7*AB7 -> 0 | AI7: =AH7*47.3 -> 0 | AJ7: =AH7*1.2 -> 0
A8: mat 2 | B8: 150000 | C8: =B8*1.196 -> 179400 | D8: 2 | E8: =B8*D8 -> 300000 | F8: =INDIRECT("Q28") -> 6 | G8: =B8/F8 -> 25000 | H8: =G8/12 -> 2083.3333 | I8: =H8/47.3*1.5 -> 66.067653 | J8: =I8*D8 -> 132.13531 | K8: =H8*D8*(INDIRECT("Q32")/100) -> 1041.6667 | L8: =H8*D8*(INDIRECT("Q34")/100) -> 166.66667 | M8: =J8*(INDIRECT("Q26")/100+1) -> 170.45455 | N8: =D8*H8 -> 4166.6667 | P8: agent2 | Q8: 1500 | R8: =(Q8*1/0.75)+(Q8*1/0.75*0.4) -> 2800 | S8: 5 | T8: 6 | U8: 5000 | V8: =R8/161.5+U8/1135.2 -> 21.741972 | W8: =V8*1.2 -> 26.090366 | X8: =V8*0.55+W8 -> 38.04845 | Y8: =X8*S8 -> 190.24225 | Z8: =Y8*47.3 -> 8998.4585 | AA8: =Y8*(Q30/100+1) -> 247.31493 | AB8: 10 | AC8: 12 | AD8: 600 | AE8: =R8/161.5+U8/1135.2 -> 21.741972 | AF8: =AE8*1.2 -> 26.090366 | AG8: =AE8*0.55+AF8 -> 38.04845 | AH8: =AG8*AB8 -> 380.4845 | AI8: =AH8*47.3 -> 17996.917 | AJ8: =AH8*1.2 -> 456.5814
A9: mat 3 | B9: 45000 | C9: =B9*1.196 -> 53820 | D9: 1 | E9: =B9*D9 -> 45000 | F9: =INDIRECT("Q28") -> 6 | G9: =B9/F9 -> 7500 | H9: =G9/12 -> 625 | I9: =H9/47.3*1.5 -> 19.820296 | J9: =I9*D9 -> 19.820296 | K9: =H9*D9*(INDIRECT("Q32")/100) -> 156.25 | L9: =H9*D9*(INDIRECT("Q34")/100) -> 25 | M9: =J9*(INDIRECT("Q26")/100+1) -> 25.568182 | N9: =D9*H9 -> 625 | P9: agent3 | Q9: 2300 | R9: =(Q9*1/0.75)+(Q9*1/0.75*0.4) -> 4293.3333 | S9: 0.33 | T9: 0 | U9: 10000 | V9: =R9/161.5+U9/1135.2 -> 35.393128 | W9: =V9*1.2 -> 42.471753 | X9: =V9*0.55+W9 -> 61.937974 | Y9: =X9*S9 -> 20.439531 | Z9: =Y9*47.3 -> 966.78983 | AA9: =Y9*1.2 -> 24.527438 | AE9: =R9/161.5+U9/1135.2 -> 35.393128 | AF9: =AE9*1.2 -> 42.471753 | AG9: =AE9*0.55+AF9 -> 61.937974 | AH9: =AG9*AB9 -> 0 | AI9: =AH9*47.3 -> 0 | AJ9: =AH9*1.2 -> 0
A10: mat4 | B10: 7000 | C10: =B10*1.196 -> 8372 | D10: 2 | E10: =B10*D10 -> 14000 | F10: =INDIRECT("Q28") -> 6 | G10: =B10/F10 -> 1166.6667 | H10: =G10/12 -> 97.222222 | I10: =H10/47.3*1.5 -> 3.0831572 | J10: =I10*D10 -> 6.1663143 | K10: =H10*D10*(INDIRECT("Q32")/100) -> 48.611111 | M10: =J10*(INDIRECT("Q26")/100+1) -> 7.9545455 | N10: =D10*H10 -> 194.44444 | P10: agent4 | Q10: 2300 | R10: =(Q10*1/0.75)+(Q10*1/0.75*0.4) -> 4293.3333 | S10: 0.33 | T10: 0 | U10: =+U9 -> 10000 | V10: =R10/161.5+U10/1135.2 -> 35.393128 | W10: =V10*1.2 -> 42.471753 | X10: =V10*0.55+W10 -> 61.937974 | Y10: =X10*S10 -> 20.439531 | Z10: =Y10*47.3 -> 966.78983 | AA10: =Y10*1.2 -> 24.527438 | AE10: =R10/161.5+U10/1135.2 -> 35.393128 | AF10: =AE10*1.2 -> 42.471753 | AG10: =AE10*0.55+AF10 -> 61.937974 | AH10: =AG10*AB10 -> 0 | AI10: =AH10*47.3 -> 0 | AJ10: =AH10*1.2 -> 0
A11: mat5 | B11: 120000 | C11: =B11*1.196 -> 143520 | D11: 1 | E11: =B11*D11 -> 120000 | F11: =INDIRECT("Q28") -> 6 | G11: =B11/F11 -> 20000 | H11: =G11/12 -> 1666.6667 | I11: =H11/47.3*1.5 -> 52.854123 | J11: =I11*D11 -> 52.854123 | K11: =H11*D11*(INDIRECT("Q32")/100) -> 416.66667 | L11: =H11*D11*(INDIRECT("Q34")/100) -> 66.666667 | M11: =J11*(INDIRECT("Q26")/100+1) -> 68.181818 | N11: =D11*H11 -> 1666.6667 | P11: agent5 | Q11: 2200 | R11: =(Q11*1/0.75)+(Q11*1/0.75*0.4) -> 4106.6667 | S11: 0.33 | T11: 1 | U11: =+U10 -> 10000 | V11: =R11/161.5+U11/1135.2 -> 34.237297 | W11: =V11*1.2 -> 41.084756 | X11: =V11*0.55+W11 -> 59.91527 | Y11: =X11*S11 -> 19.772039 | Z11: =Y11*47.3 -> 935.21745 | AA11: =Y11*1.2 -> 23.726447 | AE11: =R11/161.5+U11/1135.2 -> 34.237297 | AF11: =AE11*1.2 -> 41.084756 | AG11: =AE11*0.55+AF11 -> 59.91527 | AH11: =AG11*AB11 -> 0 | AI11: =AH11*47.3 -> 0 | AJ11: =AH11*1.2 -> 0
A12: mat6 | B12: 40000 | C12: =B12*1.196 -> 47840 | D12: 2 | E12: =B12*D12 -> 80000 | F12: =INDIRECT("Q28") -> 6 | G12: =B12/F12 -> 6666.6667 | H12: =G12/12 -> 555.55556 | I12: =H12/47.3*1.5 -> 17.618041 | J12: =I12*D12 -> 35.236082 | K12: =H12*D12*(INDIRECT("Q32")/100) -> 277.77778 | L12: =H12*D12*(INDIRECT("Q34")/100) -> 44.444444 | M12: =J12*(INDIRECT("Q26")/100+1) -> 45.454545 | N12: =D12*H12 -> 1111.1111 | V12: =R12/161.5+U12/1135.2 -> 0 | W12: =V12*1.2 -> 0 | X12: =V12*0.55+W12 -> 0 | Y12: =X12*S12 -> 0 | Z12: =Y12*47.3 -> 0 | AA12: =Y12*1.2 -> 0 | AE12: =R12/161.5+U12/1135.2 -> 0 | AF12: =AE12*1.2 -> 0 | AG12: =AE12*0.55+AF12 -> 0 | AH12: =AG12*AB12 -> 0 | AI12: =AH12*47.3 -> 0 | AJ12: =AH12*1.2 -> 0
A13: vehicule | B13: 15000 | C13: =B13*1.196 -> 17940 | D13: 2 | E13: =B13*D13 -> 30000 | F13: =INDIRECT("Q28") -> 6 | G13: =B13/F13 -> 2500 | H13: =G13/12 -> 208.33333 | I13: =H13/47.3*1.5 -> 6.6067653 | J13: =I13*D13 -> 13.213531 | L13: =H13*D13*(INDIRECT("Q34")/100) -> 16.666667 | M13: =J13*(INDIRECT("Q26")/100+1) -> 17.045455 | N13: =D13*H13 -> 416.66667 | V13: =R13/161.5+U13/1135.2 -> 0 | W13: =V13*1.2 -> 0 | X13: =V13*0.55+W13 -> 0 | Y13: =X13*S13 -> 0 | Z13: =Y13*47.3 -> 0 | AA13: =Y13*1.2 -> 0 | AE13: =R13/161.5+U13/1135.2 -> 0 | AF13: =AE13*1.2 -> 0 | AG13: =AE13*0.55+AF13 -> 0 | AH13: =AG13*AB13 -> 0 | AI13: =AH13*47.3 -> 0 | AJ13: =AH13*1.2 -> 0
F14: =INDIRECT("Q28") -> 6 | V14: =R14/161.5+U14/1135.2 -> 0 | W14: =V14*1.2 -> 0 | X14: =V14*0.55+W14 -> 0 | Y14: =X14*S14 -> 0 | Z14: =Y14*47.3 -> 0 | AA14: =Y14*1.2 -> 0 | AE14: =R14/161.5+U14/1135.2 -> 0 | AF14: =AE14*1.2 -> 0 | AG14: =AE14*0.55+AF14 -> 0 | AH14: =AG14*AB14 -> 0 | AI14: =AH14*47.3 -> 0 | AJ14: =AH14*1.2 -> 0
F15: =INDIRECT("Q28") -> 6 | V15: =R15/161.5+U15/1135.2 -> 0 | W15: =V15*1.2 -> 0 | X15: =V15*0.55+W15 -> 0 | Y15: =X15*S15 -> 0 | Z15: =Y15*47.3 -> 0 | AA15: =Y15*1.2 -> 0 | AE15: =R15/161.5+U15/1135.2 -> 0 | AF15: =AE15*1.2 -> 0 | AG15: =AE15*0.55+AF15 -> 0 | AH15: =AG15*AB15 -> 0 | AI15: =AH15*47.3 -> 0 | AJ15: =AH15*1.2 -> 0
A16: total | B16: =SUM(B7:B15) -> 417000 | C16: =SUM(C7:C15) -> 498732 | E16: =SUM(E7:E15) -> 669000 | G16: =SUM(G7:G15) -> 69500 | H16: =SUM(H7:H15) -> 5791.6667 | I16: =SUM(I7:I15) -> 183.66808 | J16: =SUM(J7:J15) -> 294.66173 | K16: =SUM(K7:K11) -> 1940.9722 | L16: =SUM(L7:L12) -> 347.22222 | M16: =SUM(M7:M15) -> 380.11364 | N16: =SUM(N7:N15) -> 9291.6667 | V16: =SUM(V7:V15) -> 126.76552 | W16: =SUM(W7:W15) -> 152.11863 | X16: =SUM(X7:X15) -> 221.83967 | Y16: =SUM(Y7:Y15) -> 250.89335 | Z16: =SUM(Z7:Z15) -> 11867.256 | AA16: =Y16*((Q30*0.01)+1) -> 326.16136 | AE16: =SUM(AE7:AE15) -> 126.76552 | AF16: =SUM(AF7:AF15) -> 152.11863 | AG16: =SUM(AG7:AG15) -> 221.83967 | AH16: =SUM(AH7:AH15) -> 380.4845 | AI16: =SUM(AI7:AI15) -> 17996.917 | AJ16: =AH16*((Q30*0.01)+1) -> 494.62985
A18: cas 2 : cas 1 + chargement | S18: assurance
A19: désignation | B19: prix ht | C19: prix ttc | D19: qte demandé | E19: prix total | F19: amortissement en années | G19: cout annuel | H19: cout mensuel | I19: cout horaire | J19: cout par touché total: suivant le nombre de machine | K19: plus-value entretien mensuelle | L19: plus value carburant | M19: cout par touché carburant compris | N19: cout mensuel ammortissement / nb d'engins | T19: cas 1 | U19: cas 2
A20: mat 1 | B20: =B7 -> 40000 | C20: =B20*1.196 -> 47840 | D20: 4 | E20: =B20*D20 -> 160000 | F20: =INDIRECT("Q28") -> 6 | G20: =B20/F20 -> 6666.6667 | H20: =G20/12 -> 555.55556 | I20: =H20/47.3*1.5 -> 17.618041 | J20: =I20*D20 -> 70.472163 | K20: =H20*D20*(INDIRECT("Q32")/100) -> 555.55556 | L20: =H20*D20*(INDIRECT("Q34")/100) -> 88.888889 | M20: =J20*(INDIRECT("Q26")/100+1) -> 90.909091 | N20: =D20*H20 -> 2222.2222 | P20: 1,5h/touché, 11 touchés/semaine et 4,3 semaines/mois soit:1,5*11*4,3=70,95h/mois dont 23,65h de jour et 47,3h de nuit | S20: prime annuelle | T20: 7170 | U20: 8890
A21: mat 2 | B21: =B8 -> 150000 | C21: =B21*1.196 -> 179400 | D21: 2 | E21: =B21*D21 -> 300000 | F21: =INDIRECT("Q28") -> 6 | G21: =B21/F21 -> 25000 | H21: =G21/12 -> 2083.3333 | I21: =H21/47.3*1.5 -> 66.067653 | J21: =I21*D21 -> 132.13531 | K21: =H21*D21*(INDIRECT("Q32")/100) -> 1041.6667 | L21: =H21*D21*(INDIRECT("Q34")/100) -> 166.66667 | M21: =J21*(INDIRECT("Q26")/100+1) -> 170.45455 | N21: =D21*H21 -> 4166.6667
A22: mat 3 | B22: =B9 -> 45000 | C22: =B22*1.196 -> 53820 | D22: 1 | E22: =B22*D22 -> 45000 | F22: =INDIRECT("Q28") -> 6 | G22: =B22/F22 -> 7500 | H22: =G22/12 -> 625 | I22: =H22/47.3*1.5 -> 19.820296 | J22: =I22*D22 -> 19.820296 | K22: =H22*D22*(INDIRECT("Q32")/100) -> 156.25 | L22: =H22*D22*(INDIRECT("Q34")/100) -> 25 | M22: =J22*(INDIRECT("Q26")/100+1) -> 25.568182 | N22: =D22*H22 -> 625
A23: mat4 | B23: =B10 -> 7000 | C23: =B23*1.196 -> 8372 | D23: 2 | E23: =B23*D23 -> 14000 | F23: =INDIRECT("Q28") -> 6 | G23: =B23/F23 -> 1166.6667 | H23: =G23/12 -> 97.222222 | I23: =H23/47.3*1.5 -> 3.0831572 | J23: =I23*D23 -> 6.1663143 | K23: =H23*D23*(INDIRECT("Q32")/100) -> 48.611111 | M23: =J23*(INDIRECT("Q26")/100+1) -> 7.9545455 | N23: =D23*H23 -> 194.44444
A24: mat5 | B24: =B11 -> 120000 | C24: =B24*1.196 -> 143520 | D24: 1 | E24: =B24*D24 -> 120000 | F24: =INDIRECT("Q28") -> 6 | G24: =B24/F24 -> 20000 | H24: =G24/12 -> 1666.6667 | I24: =H24/47.3*1.5 -> 52.854123 | J24: =I24*D24 -> 52.854123 | K24: =H24*D24*(INDIRECT("Q32")/100) -> 416.66667 | L24: =H24*D24*(INDIRECT("Q34")/100) -> 66.666667 | M24: =J24*(INDIRECT("Q26")/100+1) -> 68.181818 | N24: =D24*H24 -> 1666.6667
A25: mat7 | B25: 2500 | C25: =B25*1.196 -> 2990 | D25: 0 | E25: =B25*D25 -> 0 | F25: =INDIRECT("Q28") -> 6 | G25: =B25/F25 -> 416.66667 | H25: =G25/12 -> 34.722222 | I25: =H25/47.3*1.5 -> 1.1011276 | J25: =I25*D25 -> 0 | K25: =H25*D25*(INDIRECT("Q32")/100) -> 0 | M25: =J25*(INDIRECT("Q26")/100+1) -> 0 | N25: =D25*H25 -> 0
A26: mat6 | B26: =B12 -> 40000 | C26: =B26*1.196 -> 47840 | D26: 2 | E26: =B26*D26 -> 80000 | F26: =INDIRECT("Q28") -> 6 | G26: =B26/F26 -> 6666.6667 | H26: =G26/12 -> 555.55556 | I26: =H26/47.3*1.5 -> 17.618041 | J26: =I26*D26 -> 35.236082 | K26: =H26*D26*(INDIRECT("Q32")/100) -> 277.77778 | L26: =H26*D26*(INDIRECT("Q34")/100) -> 44.444444 | M26: =J26*(INDIRECT("Q26")/100+1) -> 45.454545 | N26: =D26*H26 -> 1111.1111 | P26: plus-value carburant & entretien | Q26: =Q32+Q34 -> 29 | W26: cas1/ touché | X26: cas2/touché | Z26: cas 1 annuel | AA26: cas 2 annuel | AC26: cas 1 mensuel | AD26: cas 2 mensuel
A27: vehicule | B27: 15000 | C27: =B27*1.196 -> 17940 | D27: 2 | E27: =B27*D27 -> 30000 | F27: =INDIRECT("Q28") -> 6 | G27: =B27/F27 -> 2500 | H27: =G27/12 -> 208.33333 | I27: =H27/47.3*1.5 -> 6.6067653 | J27: =I27*D27 -> 13.213531 | L27: =H27*D27*(INDIRECT("Q34")/100) -> 16.666667 | M27: =J27*(INDIRECT("Q26")/100+1) -> 17.045455 | N27: =D27*H27 -> 416.66667 | U27: materiel | W27: =+M16 -> 380.11364 | X27: =M29 -> 425.56818 | Z27: =W27*47.3*12 -> 215752.5 | AA27: =X27*47.3*12 -> 241552.5 | AC27: =W27*47.3 -> 17979.375 | AD27: =X27*47.3 -> 20129.375
F28: =INDIRECT("Q28") -> 6 | P28: ammortissement materiel | Q28: 6 | U28: personnel | W28: =+AA16 -> 326.16136 | X28: =AJ16 -> 494.62985 | Z28: =W28*47.3*12 -> 185129.19 | AA28: =X28*47.3*12 -> 280751.9 | AC28: =W28*47.3 -> 15427.432 | AD28: =X28*47.3 -> 23395.992
A29: total | B29: =SUM(B20:B28) -> 419500 | C29: =SUM(C20:C28) -> 501722 | E29: =SUM(E20:E28) -> 749000 | G29: =SUM(G20:G28) -> 69916.667 | H29: =SUM(H20:H28) -> 5826.3889 | I29: =SUM(I20:I28) -> 184.7692 | J29: =SUM(J20:J28) -> 329.89782 | K29: =SUM(K20:K24) -> 2218.75 | L29: =SUM(L20:L26) -> 391.66667 | M29: =SUM(M20:M28) -> 425.56818 | N29: =SUM(N20:N28) -> 10402.778 | U29: assurance | W29: =T20/(12*47.3) -> 12.632135 | X29: =U20/(12*47.3) -> 15.662438 | Z29: =W29*47.3*12 -> 7170 | AA29: =X29*47.3*12 -> 8890 | AC29: =W29*47.3 -> 597.5 | AD29: =X29*47.3 -> 740.83333
P30: plus-value formation, congés, maladie % | Q30: 30 | U30: administratif % | V30: 10 | W30: =V30/100*(W27+W28+W29) -> 71.890713 | X30: =V30/100*(X27+X28+X29) -> 93.586047 | Z30: =W30*47.3*12 -> 40805.169 | AA30: =X30*47.3*12 -> 53119.44 | AC30: =W30*47.3 -> 3400.4307 | AD30: =X30*47.3 -> 4426.62
P32: plus-value entretien % | Q32: 25 | U32: tarif | W32: =SUM(W27:W31) -> 790.79784 | X32: =SUM(X27:X31) -> 1029.4465 | Z32: =SUM(Z27:Z31) -> 448856.86 | AA32: =SUM(AA27:AA31) -> 584313.84 | AC32: =SUM(AC27:AC31) -> 37404.738 | AD32: =SUM(AD27:AD31) -> 48692.82
U33: fact jour | W33: 800 | X33: 1050
P34: plus-value carburant | Q34: 4 | U34: fact mens | W34: =W33*47.3 -> 37840 | X34: =X33*47.3-W34 -> 11825
P37: consomation carburant en L | Q37: =L16/1.5 -> 231.48148
P39: cout mat mensuel cas 1 | Q39: =INDIRECT("m16")*47.3 -> 17979.375
P41: cout mat mensuel cas 2 | Q41: =INDIRECT("m29")*47.3 -> 20129.375 | R41: soit: | S41: =Q41-Q39 -> 2150
P43: frais administratif mensuels | Q43: =W30*47.3 -> 3400.4307

Sheet maint
A1: MAINTENANCE MATERIEL
B2: qte | C2: salaire net | D2: salaire total | E2: total / an | F2: total/mois
A3: agent resp | B3: 1 | C3: 2700 | D3: =(C3*1/0.75)+(C3*1/0.75*0.4) -> 5040 | E3: =D3*12*B3 -> 60480 | F3: =E3/12 -> 5040
A4: agent | B4: 1 | C4: 2200 | D4: =(C4*1/0.75)+(C4*1/0.75*0.4) -> 4106.6667 | E4: =D4*12*B4 -> 49280 | F4: =E4/12 -> 4106.6667
A5: agent | B5: 1 | C5: 0
A6: salaires comptabilisés dans l'onglet salaires
E9: =SUM(E3:E8) -> 109760 | F9: =SUM(F3:F8) -> 9146.6667
K15: total/mois | L15: =F9+C30 -> 13940
B17: prix /an | C17: prix/mois | K17: total facturé | L17: 17500
A18: assurance | B18: 10000 | C18: =B18/12 -> 833.33333
A19: locaux | B19: 1500 | C19: =B19/12 -> 125
A20: consommable | B20: =C20*12 -> 1800 | C20: 150
A21: vehicule | B21: =C21*12 -> 1800 | C21: 150
A22: materiel | B22: 40000 | C22: =B22/12 -> 3333.3333
A23: outillage | B23: 2000 | C23: =B23/12 -> 166.66667
A24: mat6 | B24: 420 | C24: =B24/12 -> 35
B30: =SUM(B18:B29) -> 57520 | C30: =SUM(C18:C29) -> 4793.3333
