Workbook
Name Taux_adhesion_rep: Stats!$B$20:$B$23
Name Taux_compr_rep: Stats!$B$14:$B$17
Name Taux_info_rep: Stats!$B$8:$B$11
Name Taux_part_rep: Stats!$B$26:$B$29

Sheet Réponses
A1: ID | B1: Heure de début | C1: Heure de fin | D1: Adresse de messagerie | E1: Nom | F1: Total points | G1: Quiz feedback | H1: Avez-vous entendu parler du projet? | I1: Points - Avez-vous entendu parler du projet? | J1: Feedback - Avez-vous entendu parler du projet? | K1: Votre hiérarchie vous a-t-elle présenté le projet? | L1: Points - Votre hiérarchie vous a-t-elle présenté le projet? | M1: Feedback - Votre hiérarchie vous a-t-elle présenté le projet? | N1: Avez-vous reçu des informations concernant le projet? | O1: Points - Avez-vous reçu des informations concernant le projet? | P1: Feedback - Avez-vous reçu des informations concernant le projet? | Q1: Avez-vous recherché des informations concernant le projet? | R1: Points - Avez-vous recherché des informations concernant le projet? | S1: Feedback - Avez-vous recherché des informations concernant le projet? | T1: Comprenez-vous les objectifs et les modalités du projet? | U1: Points - Comprenez-vous les objectifs et les modalités du projet? | V1: Feedback - Comprenez-vous les objectifs et les modalités du projet? | W1: Avez-vous sollicité des personnes ou des experts pour une meilleure compréhension du projet? | X1: Points - Avez-vous sollicité des personnes ou des experts pour une meilleure compréhension du projet? | Y1: Feedback - Avez-vous sollicité des personnes ou des experts pour une meilleure compréhension du projet? | Z1: Avez-vous une idée claire de ce qui changera pour vous? | AA1: Points - Avez-vous une idée claire de ce qui changera pour vous? | AB1: Feedback - Avez-vous une idée claire de ce qui changera pour vous? | AC1: Vous êtes-vous documenté sur le projet et ses thématiques? | AD1: Points - Vous êtes-vous documenté sur le projet et ses thématiques? | AE1: Feedback - Vous êtes-vous documenté sur le projet et ses thématiques? | AF1: Pensez-vous que ce projet soit utile pour l'entreprise? | AG1: Points - Pensez-vous que ce projet soit utile pour l'entreprise? | AH1: Feedback - Pensez-vous que ce projet soit utile pour l'entreprise? | AI1: Pensez-vous que ce projet soit utile pour votre activité? | AJ1: Points - Pensez-vous que ce projet soit utile pour votre activité? | AK1: Feedback - Pensez-vous que ce projet soit utile pour votre activité? | AL1: Pensez-vous que ce projet soit bien accueilli par les salariés? | AM1: Points - Pensez-vous que ce projet soit bien accueilli par les salariés? | AN1: Feedback - Pensez-vous que ce projet soit bien accueilli par les salariés? | AO1: Pensez-vous que toutes les conditions soient réunies pour la réussite de ce projet? | AP1: Points - Pensez-vous que toutes les conditions soient réunies pour la réussite de ce projet? | AQ1: Feedback - Pensez-vous que toutes les conditions soient réunies pour la réussite de ce projet? | AR1: Avez-vous participé à des réunions du projet? | AS1: Points - Avez-vous participé à des réunions du projet? | AT1: Feedback - Avez-vous participé à des réunions du projet? | AU1: Avez-vous produit des diagnostics, analyses et propositions pour le projet? | AV1: Points - Avez-vous produit des diagnostics, analyses et propositions pour le projet? | AW1: Feedback - Avez-vous produit des diagnostics, analyses et propositions pour le projet? | AX1: Avez-vous envisagé une intégration des éléments du projet dans votre activité? | AY1: Points - Avez-vous envisagé une intégration des éléments du projet dans votre activité? | AZ1: Feedback - Avez-vous envisagé une intégration des éléments du projet dans votre activité? | BA1: Avez-vous testé certains éléments du projet dans votre activité? | BB1: Points - Avez-vous testé certains éléments du projet dans votre activité? | BC1: Feedback - Avez-vous testé certains éléments du projet dans votre activité?
A2: 1 | B2: 44593.628 | C2: 44593.628 | D2: anonymous | H2: Oui, une seule fois | K2: Oui, une seule fois | N2: Non, jamais | Q2: Non, jamais | T2: Non, pas du tout | W2: Non, mais j'aimerais | Z2: Non, pas du tout | AC2: Non, pas du tout | AF2: Non, pas du tout | AI2: Oui, un peu | AL2: Oui, complétement | AO2: Oui, un peu | AR2: Non, et ça ne m'intéresse pas | AU2: Oui, de manière partielle | AX2: Non, mais j'aimerais | BA2: Non, et ça ne m'intéresse pas
A3: 2 | B3: 44593.628 | C3: 44593.628 | D3: anonymous | H3: Oui, une seule fois | K3: Oui, une seule fois | N3: Non, jamais | Q3: Non, jamais | T3: Non, pas du tout | W3: Non, mais j'aimerais | Z3: Non, pas du tout | AC3: Non, pas du tout | AF3: Oui, complétement | AI3: Oui, dans l'ensemble | AL3: Oui, un peu | AO3: Non, pas du tout | AR3: Non, et ça ne m'intéresse pas | AU3: Non, mais j'aimerais | AX3: Non, mais j'aimerais | BA3: Oui, de manière partielle
A4: 3 | B4: 44625.628 | C4: 44625.628 | D4: anonymous | H4: Oui, une seule fois | K4: Oui, une seule fois | N4: Non, jamais | Q4: Non, jamais | T4: Non, pas du tout | W4: Non, mais j'aimerais | Z4: Non, pas du tout | AC4: Non, pas du tout | AF4: Oui, complétement | AI4: Oui, dans l'ensemble | AL4: Oui, un peu | AO4: Non, pas du tout | AR4: Non, et ça ne m'intéresse pas | AU4: Non, mais j'aimerais | AX4: Non, mais j'aimerais | BA4: Oui, de manière partielle
A5: 4 | B5: 44625.628 | C5: 44625.628 | D5: anonymous | H5: Oui, une seule fois | K5: Oui, une seule fois | N5: Non, jamais | Q5: Non, jamais | T5: Non, pas du tout | W5: Non, mais j'aimerais | Z5: Non, pas du tout | AC5: Non, pas du tout | AF5: Oui, complétement | AI5: Oui, dans l'ensemble | AL5: Oui, un peu | AO5: Non, pas du tout | AR5: Non, et ça ne m'intéresse pas | AU5: Non, mais j'aimerais | AX5: Non, mais j'aimerais | BA5: Oui, de manière partielle
A6: 5 | B6: 44650.628 | C6: 44650.628 | D6: anonymous | H6: Oui, une seule fois | K6: Oui, une seule fois | N6: Non, jamais | Q6: Non, jamais | T6: Non, pas du tout | W6: Non, mais j'aimerais | Z6: Non, pas du tout | AC6: Non, pas du tout | AF6: Oui, complétement | AI6: Oui, dans l'ensemble | AL6: Oui, un peu | AO6: Non, pas du tout | AR6: Non, et ça ne m'intéresse pas | AU6: Non, mais j'aimerais | AX6: Non, mais j'aimerais | BA6: Oui, de manière partielle
A7: 6 | B7: 44717.628 | C7: 44717.628 | D7: anonymous | H7: Oui, une seule fois | K7: Oui, une seule fois | N7: Non, jamais | Q7: Non, jamais | T7: Non, pas du tout | W7: Non, mais j'aimerais | Z7: Non, pas du tout | AC7: Non, pas du tout | AF7: Oui, complétement | AI7: Oui, dans l'ensemble | AL7: Oui, un peu | AO7: Non, pas du tout | AR7: Non, et ça ne m'intéresse pas | AU7: Non, mais j'aimerais | AX7: Non, mais j'aimerais | BA7: Oui, de manière partielle
A8: 7 | B8: 44717.628 | C8: 44717.628 | D8: anonymous | H8: Oui, une seule fois | K8: Oui, une seule fois | N8: Non, jamais | Q8: Non, jamais | T8: Non, pas du tout | W8: Non, mais j'aimerais | Z8: Non, pas du tout | AC8: Non, pas du tout | AF8: Oui, complétement | AI8: Oui, dans l'ensemble | AL8: Oui, un peu | AO8: Non, pas du tout | AR8: Non, et ça ne m'intéresse pas | AU8: Non, mais j'aimerais | AX8: Non, mais j'aimerais | BA8: Oui, de manière partielle
A9: 8 | B9: 44717.628 | C9: 44717.628 | D9: anonymous | H9: Oui, une seule fois | K9: Oui, une seule fois | N9: Non, jamais | Q9: Non, jamais | T9: Non, pas du tout | W9: Non, mais j'aimerais | Z9: Non, pas du tout | AC9: Non, pas du tout | AF9: Oui, complétement | AI9: Oui, dans l'ensemble | AL9: Oui, un peu | AO9: Non, pas du tout | AR9: Non, et ça ne m'intéresse pas | AU9: Non, mais j'aimerais | AX9: Non, mais j'aimerais | BA9: Oui, de manière partielle
A10: 9 | B10: 44809.628 | C10: 44809.628 | D10: anonymous | H10: Oui, une seule fois | K10: Oui, une seule fois | N10: Non, jamais | Q10: Non, jamais | T10: Non, pas du tout | W10: Non, mais j'aimerais | Z10: Non, pas du tout | AC10: Non, pas du tout | AF10: Oui, complétement | AI10: Oui, dans l'ensemble | AL10: Oui, un peu | AO10: Non, pas du tout | AR10: Non, et ça ne m'intéresse pas | AU10: Non, mais j'aimerais | AX10: Non, mais j'aimerais | BA10: Oui, de manière partielle
A11: 10 | B11: 44870.628 | C11: 44870.628 | D11: anonymous | H11: Oui, une seule fois | K11: Oui, une seule fois | N11: Non, jamais | Q11: Non, jamais | T11: Non, pas du tout | W11: Non, mais j'aimerais | Z11: Non, pas du tout | AC11: Non, pas du tout | AF11: Oui, complétement | AI11: Oui, dans l'ensemble | AL11: Oui, un peu | AO11: Non, pas du tout | AR11: Non, et ça ne m'intéresse pas | AU11: Non, mais j'aimerais | AX11: Non, mais j'aimerais | BA11: Oui, de manière partielle
A12: 11 | B12: 44900.628 | C12: 44900.628 | D12: anonymous | H12: Oui, une seule fois | K12: Oui, une seule fois | N12: Non, jamais | Q12: Non, jamais | T12: Non, pas du tout | W12: Non, mais j'aimerais | Z12: Non, pas du tout | AC12: Non, pas du tout | AF12: Oui, complétement | AI12: Oui, dans l'ensemble | AL12: Oui, un peu | AO12: Non, pas du tout | AR12: Non, et ça ne m'intéresse pas | AU12: Non, mais j'aimerais | AX12: Non, mais j'aimerais | BA12: Oui, de manière partielle
A13: 12 | B13: 44900.628 | C13: 44900.628 | D13: anonymous | H13: Oui, une seule fois | K13: Oui, une seule fois | N13: Non, jamais | Q13: Non, jamais | T13: Non, pas du tout | W13: Non, mais j'aimerais | Z13: Non, pas du tout | AC13: Non, pas du tout | AF13: Oui, complétement | AI13: Oui, dans l'ensemble | AL13: Oui, un peu | AO13: Non, pas du tout | AR13: Non, et ça ne m'intéresse pas | AU13: Non, mais j'aimerais | AX13: Non, mais j'aimerais | BA13: Oui, de manière partielle

Sheet Stats
A2: référence | B2: =COUNTA(Réponses!$A:$A)-1 -> 12
B3: Nombre total de réponses | H3: Nb réponses | N3: Nb réponses | T3: Nb réponses | Z3: Nb réponses
A4: ok (en dur) | B4: =SUM(H4,N4,T4,Z4) -> 12 | H4: =COUNTIFS(Réponses!$C:$C,"<1/4/22") -> 5 | N4: =COUNTIFS(Réponses!$C:$C,">=1/4/22",Réponses!$C:$C,"<1/9/22") -> 3 | T4: =COUNTIFS(Réponses!$C:$C,">=1/9/22",Réponses!$C:$C,"<1/12/22") -> 2 | Z4: =COUNTIFS(Réponses!$C:$C,">=1/12/22") -> 2
A5: nok | B5: =SUM(H5,N5,T5,Z5) -> 1 | H5: =COUNTIFS(Réponses!$C:$C,"<Paramètres!N6") -> 1 | N5: =COUNTIFS(Réponses!$C:$C,">=Paramètres!N6",Réponses!$C:$C,"<Paramètres!N7") -> 0 | T5: =COUNTIFS(Réponses!$C:$C,">=Paramètres!N7",Réponses!$C:$C,"<Paramètres!N8") -> 0 | Z5: =COUNTIFS(Réponses!$C:$C,">=Paramètres!N8") -> 0
C6: Conception | I6: Réalisation | O6: Tests | U6: Production
B7: Taux d'information | C7: Avez-vous entendu parler du projet? | D7: Votre hiérarchie vous a-t-elle présenté le projet? | E7: Avez-vous reçu des informations concernant le projet? | F7: Avez-vous recherché des informations concernant le projet? | G7: Total | H7: %age | I7: Avez-vous entendu parler du projet? | J7: Votre hiérarchie vous a-t-elle présenté le projet? | K7: Avez-vous reçu des informations concernant le projet? | L7: Avez-vous recherché des informations concernant le projet? | M7: Total | N7: %age | O7: Avez-vous entendu parler du projet? | P7: Votre hiérarchie vous a-t-elle présenté le projet? | Q7: Avez-vous reçu des informations concernant le projet? | R7: Avez-vous recherché des informations concernant le projet? | S7: Total | T7: %age | U7: Avez-vous entendu parler du projet? | V7: Votre hiérarchie vous a-t-elle présenté le projet? | W7: Avez-vous reçu des informations concernant le projet? | X7: Avez-vous recherché des informations concernant le projet? | Y7: Total | Z7: %age
A8: 4 | B8: Oui, régulièrement | C8: =COUNTIF(Réponses!$H:$H,Taux_info_rep)*Paramètres!$K5 -> 0 | D8: =COUNTIF(Réponses!$K:$K,Taux_info_rep)*Paramètres!$K5 -> 0 | E8: =COUNTIF(Réponses!$N:$N,Taux_info_rep)*Paramètres!$K5 -> 0 | F8: =COUNTIF(Réponses!$Q:$Q,Taux_info_rep)*Paramètres!$K5 -> 0 | G8: =SUM(C8:F8) -> 0 | I8: =COUNTIF(Réponses!$H:$H,Taux_info_rep)*Paramètres!$K5 -> 0 | J8: =COUNTIF(Réponses!$K:$K,Taux_info_rep)*Paramètres!$K5 -> 0 | K8: =COUNTIF(Réponses!$N:$N,Taux_info_rep)*Paramètres!$K5 -> 0 | L8: =COUNTIF(Réponses!$Q:$Q,Taux_info_rep)*Paramètres!$K5 -> 0 | M8: =SUM(I8:L8) -> 0 | O8: =COUNTIF(Réponses!$H:$H,Taux_info_rep)*Paramètres!$K5 -> 0 | P8: =COUNTIF(Réponses!$K:$K,Taux_info_rep)*Paramètres!$K5 -> 0 | Q8: =COUNTIF(Réponses!$N:$N,Taux_info_rep)*Paramètres!$K5 -> 0 | R8: =COUNTIF(Réponses!$Q:$Q,Taux_info_rep)*Paramètres!$K5 -> 0 | S8: =SUM(O8:R8) -> 0 | U8: =COUNTIF(Réponses!$H:$H,Taux_info_rep)*Paramètres!$K5 -> 0 | V8: =COUNTIF(Réponses!$K:$K,Taux_info_rep)*Paramètres!$K5 -> 0 | W8: =COUNTIF(Réponses!$N:$N,Taux_info_rep)*Paramètres!$K5 -> 0 | X8: =COUNTIF(Réponses!$Q:$Q,Taux_info_rep)*Paramètres!$K5 -> 0 | Y8: =SUM(U8:X8) -> 0
A9: 3 | B9: Oui, de temps en temps | C9: =COUNTIF(Réponses!$H:$H,Taux_info_rep)*Paramètres!$K6 -> 0 | D9: =COUNTIF(Réponses!$K:$K,Taux_info_rep)*Paramètres!$K6 -> 0 | E9: =COUNTIF(Réponses!$N:$N,Taux_info_rep)*Paramètres!$K6 -> 0 | F9: =COUNTIF(Réponses!$Q:$Q,Taux_info_rep)*Paramètres!$K6 -> 0 | G9: =SUM(C9:F9) -> 0 | I9: =COUNTIF(Réponses!$H:$H,Taux_info_rep)*Paramètres!$K6 -> 0 | J9: =COUNTIF(Réponses!$K:$K,Taux_info_rep)*Paramètres!$K6 -> 0 | K9: =COUNTIF(Réponses!$N:$N,Taux_info_rep)*Paramètres!$K6 -> 0 | L9: =COUNTIF(Réponses!$Q:$Q,Taux_info_rep)*Paramètres!$K6 -> 0 | M9: =SUM(I9:L9) -> 0 | O9: =COUNTIF(Réponses!$H:$H,Taux_info_rep)*Paramètres!$K6 -> 0 | P9: =COUNTIF(Réponses!$K:$K,Taux_info_rep)*Paramètres!$K6 -> 0 | Q9: =COUNTIF(Réponses!$N:$N,Taux_info_rep)*Paramètres!$K6 -> 0 | R9: =COUNTIF(Réponses!$Q:$Q,Taux_info_rep)*Paramètres!$K6 -> 0 | S9: =SUM(O9:R9) -> 0 | U9: =COUNTIF(Réponses!$H:$H,Taux_info_rep)*Paramètres!$K6 -> 0 | V9: =COUNTIF(Réponses!$K:$K,Taux_info_rep)*Paramètres!$K6 -> 0 | W9: =COUNTIF(Réponses!$N:$N,Taux_info_rep)*Paramètres!$K6 -> 0 | X9: =COUNTIF(Réponses!$Q:$Q,Taux_info_rep)*Paramètres!$K6 -> 0 | Y9: =SUM(U9:X9) -> 0
A10: 2 | B10: Oui, une seule fois | C10: =COUNTIF(Réponses!$H:$H,Taux_info_rep)*Paramètres!$K7 -> 24 | D10: =COUNTIF(Réponses!$K:$K,Taux_info_rep)*Paramètres!$K7 -> 24 | E10: =COUNTIF(Réponses!$N:$N,Taux_info_rep)*Paramètres!$K7 -> 0 | F10: =COUNTIF(Réponses!$Q:$Q,Taux_info_rep)*Paramètres!$K7 -> 0 | G10: =SUM(C10:F10) -> 48 | I10: =COUNTIF(Réponses!$H:$H,Taux_info_rep)*Paramètres!$K7 -> 24 | J10: =COUNTIF(Réponses!$K:$K,Taux_info_rep)*Paramètres!$K7 -> 24 | K10: =COUNTIF(Réponses!$N:$N,Taux_info_rep)*Paramètres!$K7 -> 0 | L10: =COUNTIF(Réponses!$Q:$Q,Taux_info_rep)*Paramètres!$K7 -> 0 | M10: =SUM(I10:L10) -> 48 | O10: =COUNTIF(Réponses!$H:$H,Taux_info_rep)*Paramètres!$K7 -> 24 | P10: =COUNTIF(Réponses!$K:$K,Taux_info_rep)*Paramètres!$K7 -> 24 | Q10: =COUNTIF(Réponses!$N:$N,Taux_info_rep)*Paramètres!$K7 -> 0 | R10: =COUNTIF(Réponses!$Q:$Q,Taux_info_rep)*Paramètres!$K7 -> 0 | S10: =SUM(O10:R10) -> 48 | U10: =COUNTIF(Réponses!$H:$H,Taux_info_rep)*Paramètres!$K7 -> 24 | V10: =COUNTIF(Réponses!$K:$K,Taux_info_rep)*Paramètres!$K7 -> 24 | W10: =COUNTIF(Réponses!$N:$N,Taux_info_rep)*Paramètres!$K7 -> 0 | X10: =COUNTIF(Réponses!$Q:$Q,Taux_info_rep)*Paramètres!$K7 -> 0 | Y10: =SUM(U10:X10) -> 48
A11: 1 | B11: Non, jamais | C11: =COUNTIF(Réponses!$H:$H,Taux_info_rep)*Paramètres!$K8 -> 0 | D11: =COUNTIF(Réponses!$K:$K,Taux_info_rep)*Paramètres!$K8 -> 0 | E11: =COUNTIF(Réponses!$N:$N,Taux_info_rep)*Paramètres!$K8 -> 12 | F11: =COUNTIF(Réponses!$Q:$Q,Taux_info_rep)*Paramètres!$K8 -> 12 | G11: =SUM(C11:F11) -> 24 | I11: =COUNTIF(Réponses!$H:$H,Taux_info_rep)*Paramètres!$K8 -> 0 | J11: =COUNTIF(Réponses!$K:$K,Taux_info_rep)*Paramètres!$K8 -> 0 | K11: =COUNTIF(Réponses!$N:$N,Taux_info_rep)*Paramètres!$K8 -> 12 | L11: =COUNTIF(Réponses!$Q:$Q,Taux_info_rep)*Paramètres!$K8 -> 12 | M11: =SUM(I11:L11) -> 24 | O11: =COUNTIF(Réponses!$H:$H,Taux_info_rep)*Paramètres!$K8 -> 0 | P11: =COUNTIF(Réponses!$K:$K,Taux_info_rep)*Paramètres!$K8 -> 0 | Q11: =COUNTIF(Réponses!$N:$N,Taux_info_rep)*Paramètres!$K8 -> 12 | R11: =COUNTIF(Réponses!$Q:$Q,Taux_info_rep)*Paramètres!$K8 -> 12 | S11: =SUM(O11:R11) -> 24 | U11: =COUNTIF(Réponses!$H:$H,Taux_info_rep)*Paramètres!$K8 -> 0 | V11: =COUNTIF(Réponses!$K:$K,Taux_info_rep)*Paramètres!$K8 -> 0 | W11: =COUNTIF(Réponses!$N:$N,Taux_info_rep)*Paramètres!$K8 -> 12 | X11: =COUNTIF(Réponses!$Q:$Q,Taux_info_rep)*Paramètres!$K8 -> 12 | Y11: =SUM(U11:X11) -> 24
G12: =SUM(G8:G11) -> 72 | H12: =G12/($H$4*16) -> 0.9 | M12: =SUM(M8:M11) -> 72 | N12: =M12/($I$4*16) -> #DIV/0! | S12: =SUM(S8:S11) -> 72 | T12: =S12/($T$4*16) -> 2.25 | Y12: =SUM(Y8:Y11) -> 72 | Z12: =Y12/($Z$4*16) -> 2.25
B13: Taux de compréhension | C13: Comprenez-vous les objectifs et les modalités du projet? | D13: Avez-vous sollicité des personnes ou des experts pour une meilleure compréhension du projet? | E13: Avez-vous une idée claire de ce qui changera pour vous? | F13: Vous êtes-vous documenté sur le projet et ses thématiques? | G13: Total | H13: %age | I13: Comprenez-vous les objectifs et les modalités du projet? | J13: Avez-vous sollicité des personnes ou des experts pour une meilleure compréhension du projet? | K13: Avez-vous une idée claire de ce qui changera pour vous? | L13: Vous êtes-vous documenté sur le projet et ses thématiques? | M13: Total | N13: %age | O13: Comprenez-vous les objectifs et les modalités du projet? | P13: Avez-vous sollicité des personnes ou des experts pour une meilleure compréhension du projet? | Q13: Avez-vous une idée claire de ce qui changera pour vous? | R13: Vous êtes-vous documenté sur le projet et ses thématiques? | S13: Total | T13: %age | U13: Comprenez-vous les objectifs et les modalités du projet? | V13: Avez-vous sollicité des personnes ou des experts pour une meilleure compréhension du projet? | W13: Avez-vous une idée claire de ce qui changera pour vous? | X13: Vous êtes-vous documenté sur le projet et ses thématiques? | Y13: Total | Z13: %age
A14: 4 | B14: Oui, de manière exhaustive | C14: =COUNTIF(Réponses!$T:$T,Taux_compr_rep)*Paramètres!$K5 -> 0 | D14: =COUNTIF(Réponses!$W:$W,Taux_compr_rep)*Paramètres!$K5 -> 0 | E14: =COUNTIF(Réponses!$Z:$Z,Taux_compr_rep)*Paramètres!$K5 -> 0 | F14: =COUNTIF(Réponses!$AC:$AC,Taux_compr_rep)*Paramètres!$K5 -> 0 | G14: =SUM(C14:F14) -> 0 | I14: =COUNTIF(Réponses!$T:$T,Taux_compr_rep)*Paramètres!$K5 -> 0 | J14: =COUNTIF(Réponses!$W:$W,Taux_compr_rep)*Paramètres!$K5 -> 0 | K14: =COUNTIF(Réponses!$Z:$Z,Taux_compr_rep)*Paramètres!$K5 -> 0 | L14: =COUNTIF(Réponses!$AC:$AC,Taux_compr_rep)*Paramètres!$K5 -> 0 | M14: =SUM(I14:L14) -> 0 | O14: =COUNTIF(Réponses!$T:$T,Taux_compr_rep)*Paramètres!$K5 -> 0 | P14: =COUNTIF(Réponses!$W:$W,Taux_compr_rep)*Paramètres!$K5 -> 0 | Q14: =COUNTIF(Réponses!$Z:$Z,Taux_compr_rep)*Paramètres!$K5 -> 0 | R14: =COUNTIF(Réponses!$AC:$AC,Taux_compr_rep)*Paramètres!$K5 -> 0 | S14: =SUM(O14:R14) -> 0 | U14: =COUNTIF(Réponses!$T:$T,Taux_compr_rep)*Paramètres!$K5 -> 0 | V14: =COUNTIF(Réponses!$W:$W,Taux_compr_rep)*Paramètres!$K5 -> 0 | W14: =COUNTIF(Réponses!$Z:$Z,Taux_compr_rep)*Paramètres!$K5 -> 0 | X14: =COUNTIF(Réponses!$AC:$AC,Taux_compr_rep)*Paramètres!$K5 -> 0 | Y14: =SUM(U14:X14) -> 0
A15: 3 | B15: Oui, de manière partielle | C15: =COUNTIF(Réponses!$T:$T,Taux_compr_rep)*Paramètres!$K6 -> 0 | D15: =COUNTIF(Réponses!$W:$W,Taux_compr_rep)*Paramètres!$K6 -> 0 | E15: =COUNTIF(Réponses!$Z:$Z,Taux_compr_rep)*Paramètres!$K6 -> 0 | F15: =COUNTIF(Réponses!$AC:$AC,Taux_compr_rep)*Paramètres!$K6 -> 0 | G15: =SUM(C15:F15) -> 0 | I15: =COUNTIF(Réponses!$T:$T,Taux_compr_rep)*Paramètres!$K6 -> 0 | J15: =COUNTIF(Réponses!$W:$W,Taux_compr_rep)*Paramètres!$K6 -> 0 | K15: =COUNTIF(Réponses!$Z:$Z,Taux_compr_rep)*Paramètres!$K6 -> 0 | L15: =COUNTIF(Réponses!$AC:$AC,Taux_compr_rep)*Paramètres!$K6 -> 0 | M15: =SUM(I15:L15) -> 0 | O15: =COUNTIF(Réponses!$T:$T,Taux_compr_rep)*Paramètres!$K6 -> 0 | P15: =COUNTIF(Réponses!$W:$W,Taux_compr_rep)*Paramètres!$K6 -> 0 | Q15: =COUNTIF(Réponses!$Z:$Z,Taux_compr_rep)*Paramètres!$K6 -> 0 | R15: =COUNTIF(Réponses!$AC:$AC,Taux_compr_rep)*Paramètres!$K6 -> 0 | S15: =SUM(O15:R15) -> 0 | U15: =COUNTIF(Réponses!$T:$T,Taux_compr_rep)*Paramètres!$K6 -> 0 | V15: =COUNTIF(Réponses!$W:$W,Taux_compr_rep)*Paramètres!$K6 -> 0 | W15: =COUNTIF(Réponses!$Z:$Z,Taux_compr_rep)*Paramètres!$K6 -> 0 | X15: =COUNTIF(Réponses!$AC:$AC,Taux_compr_rep)*Paramètres!$K6 -> 0 | Y15: =SUM(U15:X15) -> 0
A16: 2 | B16: Non, mais j'aimerais | C16: =COUNTIF(Réponses!$T:$T,Taux_compr_rep)*Paramètres!$K7 -> 0 | D16: =COUNTIF(Réponses!$W:$W,Taux_compr_rep)*Paramètres!$K7 -> 24 | E16: =COUNTIF(Réponses!$Z:$Z,Taux_compr_rep)*Paramètres!$K7 -> 0 | F16: =COUNTIF(Réponses!$AC:$AC,Taux_compr_rep)*Paramètres!$K7 -> 0 | G16: =SUM(C16:F16) -> 24 | I16: =COUNTIF(Réponses!$T:$T,Taux_compr_rep)*Paramètres!$K7 -> 0 | J16: =COUNTIF(Réponses!$W:$W,Taux_compr_rep)*Paramètres!$K7 -> 24 | K16: =COUNTIF(Réponses!$Z:$Z,Taux_compr_rep)*Paramètres!$K7 -> 0 | L16: =COUNTIF(Réponses!$AC:$AC,Taux_compr_rep)*Paramètres!$K7 -> 0 | M16: =SUM(I16:L16) -> 24 | O16: =COUNTIF(Réponses!$T:$T,Taux_compr_rep)*Paramètres!$K7 -> 0 | P16: =COUNTIF(Réponses!$W:$W,Taux_compr_rep)*Paramètres!$K7 -> 24 | Q16: =COUNTIF(Réponses!$Z:$Z,Taux_compr_rep)*Paramètres!$K7 -> 0 | R16: =COUNTIF(Réponses!$AC:$AC,Taux_compr_rep)*Paramètres!$K7 -> 0 | S16: =SUM(O16:R16) -> 24 | U16: =COUNTIF(Réponses!$T:$T,Taux_compr_rep)*Paramètres!$K7 -> 0 | V16: =COUNTIF(Réponses!$W:$W,Taux_compr_rep)*Paramètres!$K7 -> 24 | W16: =COUNTIF(Réponses!$Z:$Z,Taux_compr_rep)*Paramètres!$K7 -> 0 | X16: =COUNTIF(Réponses!$AC:$AC,Taux_compr_rep)*Paramètres!$K7 -> 0 | Y16: =SUM(U16:X16) -> 24
A17: 1 | B17: Non, pas du tout | C17: =COUNTIF(Réponses!$T:$T,Taux_compr_rep)*Paramètres!$K8 -> 12 | D17: =COUNTIF(Réponses!$W:$W,Taux_compr_rep)*Paramètres!$K8 -> 0 | E17: =COUNTIF(Réponses!$Z:$Z,Taux_compr_rep)*Paramètres!$K8 -> 12 | F17: =COUNTIF(Réponses!$AC:$AC,Taux_compr_rep)*Paramètres!$K8 -> 12 | G17: =SUM(C17:F17) -> 36 | I17: =COUNTIF(Réponses!$T:$T,Taux_compr_rep)*Paramètres!$K8 -> 12 | J17: =COUNTIF(Réponses!$W:$W,Taux_compr_rep)*Paramètres!$K8 -> 0 | K17: =COUNTIF(Réponses!$Z:$Z,Taux_compr_rep)*Paramètres!$K8 -> 12 | L17: =COUNTIF(Réponses!$AC:$AC,Taux_compr_rep)*Paramètres!$K8 -> 12 | M17: =SUM(I17:L17) -> 36 | O17: =COUNTIF(Réponses!$T:$T,Taux_compr_rep)*Paramètres!$K8 -> 12 | P17: =COUNTIF(Réponses!$W:$W,Taux_compr_rep)*Paramètres!$K8 -> 0 | Q17: =COUNTIF(Réponses!$Z:$Z,Taux_compr_rep)*Paramètres!$K8 -> 12 | R17: =COUNTIF(Réponses!$AC:$AC,Taux_compr_rep)*Paramètres!$K8 -> 12 | S17: =SUM(O17:R17) -> 36 | U17: =COUNTIF(Réponses!$T:$T,Taux_compr_rep)*Paramètres!$K8 -> 12 | V17: =COUNTIF(Réponses!$W:$W,Taux_compr_rep)*Paramètres!$K8 -> 0 | W17: =COUNTIF(Réponses!$Z:$Z,Taux_compr_rep)*Paramètres!$K8 -> 12 | X17: =COUNTIF(Réponses!$AC:$AC,Taux_compr_rep)*Paramètres!$K8 -> 12 | Y17: =SUM(U17:X17) -> 36
G18: =SUM(G14:G17) -> 60 | H18: =G18/($H$4*16) -> 0.75 | M18: =SUM(M14:M17) -> 60 | N18: =M18/($I$4*16) -> #DIV/0! | S18: =SUM(S14:S17) -> 60 | T18: =S18/($T$4*16) -> 1.875 | Y18: =SUM(Y14:Y17) -> 60 | Z18: =Y18/($Z$4*16) -> 1.875
B19: Taux d'adhésion | C19: Pensez-vous que ce projet soit utile pour l'entreprise? | D19: Pensez-vous que ce projet soit utile pour votre activité? | E19: Pensez-vous que ce projet soit bien accueilli par les salariés? | F19: Pensez-vous que toutes les conditions soient réunies pour la réussite de ce projet? | G19: Total | H19: %age | I19: Pensez-vous que ce projet soit utile pour l'entreprise? | J19: Pensez-vous que ce projet soit utile pour votre activité? | K19: Pensez-vous que ce projet soit bien accueilli par les salariés? | L19: Pensez-vous que toutes les conditions soient réunies pour la réussite de ce projet? | M19: Total | N19: %age | O19: Pensez-vous que ce projet soit utile pour l'entreprise? | P19: Pensez-vous que ce projet soit utile pour votre activité? | Q19: Pensez-vous que ce projet soit bien accueilli par les salariés? | R19: Pensez-vous que toutes les conditions soient réunies pour la réussite de ce projet? | S19: Total | T19: %age | U19: Pensez-vous que ce projet soit utile pour l'entreprise? | V19: Pensez-vous que ce projet soit utile pour votre activité? | W19: Pensez-vous que ce projet soit bien accueilli par les salariés? | X19: Pensez-vous que toutes les conditions soient réunies pour la réussite de ce projet? | Y19: Total | Z19: %age
A20: 4 | B20: Oui, complétement | C20: =COUNTIF(Réponses!$AF:$AF,Taux_adhesion_rep)*Paramètres!$K5 -> 44 | D20: =COUNTIF(Réponses!$AI:$AI,Taux_adhesion_rep)*Paramètres!$K5 -> 0 | E20: =COUNTIF(Réponses!$AL:$AL,Taux_adhesion_rep)*Paramètres!$K5 -> 4 | F20: =COUNTIF(Réponses!$AO:$AO,Taux_adhesion_rep)*Paramètres!$K5 -> 0 | G20: =SUM(C20:F20) -> 48 | I20: =COUNTIF(Réponses!$AF:$AF,Taux_adhesion_rep)*Paramètres!$K5 -> 44 | J20: =COUNTIF(Réponses!$AI:$AI,Taux_adhesion_rep)*Paramètres!$K5 -> 0 | K20: =COUNTIF(Réponses!$AL:$AL,Taux_adhesion_rep)*Paramètres!$K5 -> 4 | L20: =COUNTIF(Réponses!$AO:$AO,Taux_adhesion_rep)*Paramètres!$K5 -> 0 | M20: =SUM(I20:L20) -> 48 | O20: =COUNTIF(Réponses!$AF:$AF,Taux_adhesion_rep)*Paramètres!$K5 -> 44 | P20: =COUNTIF(Réponses!$AI:$AI,Taux_adhesion_rep)*Paramètres!$K5 -> 0 | Q20: =COUNTIF(Réponses!$AL:$AL,Taux_adhesion_rep)*Paramètres!$K5 -> 4 | R20: =COUNTIF(Réponses!$AO:$AO,Taux_adhesion_rep)*Paramètres!$K5 -> 0 | S20: =SUM(O20:R20) -> 48 | U20: =COUNTIF(Réponses!$AF:$AF,Taux_adhesion_rep)*Paramètres!$K5 -> 44 | V20: =COUNTIF(Réponses!$AI:$AI,Taux_adhesion_rep)*Paramètres!$K5 -> 0 | W20: =COUNTIF(Réponses!$AL:$AL,Taux_adhesion_rep)*Paramètres!$K5 -> 4 | X20: =COUNTIF(Réponses!$AO:$AO,Taux_adhesion_rep)*Paramètres!$K5 -> 0 | Y20: =SUM(U20:X20) -> 48
A21: 3 | B21: Oui, dans l'ensemble | C21: =COUNTIF(Réponses!$AF:$AF,Taux_adhesion_rep)*Paramètres!$K6 -> 0 | D21: =COUNTIF(Réponses!$AI:$AI,Taux_adhesion_rep)*Paramètres!$K6 -> 33 | E21: =COUNTIF(Réponses!$AL:$AL,Taux_adhesion_rep)*Paramètres!$K6 -> 0 | F21: =COUNTIF(Réponses!$AO:$AO,Taux_adhesion_rep)*Paramètres!$K6 -> 0 | G21: =SUM(C21:F21) -> 33 | I21: =COUNTIF(Réponses!$AF:$AF,Taux_adhesion_rep)*Paramètres!$K6 -> 0 | J21: =COUNTIF(Réponses!$AI:$AI,Taux_adhesion_rep)*Paramètres!$K6 -> 33 | K21: =COUNTIF(Réponses!$AL:$AL,Taux_adhesion_rep)*Paramètres!$K6 -> 0 | L21: =COUNTIF(Réponses!$AO:$AO,Taux_adhesion_rep)*Paramètres!$K6 -> 0 | M21: =SUM(I21:L21) -> 33 | O21: =COUNTIF(Réponses!$AF:$AF,Taux_adhesion_rep)*Paramètres!$K6 -> 0 | P21: =COUNTIF(Réponses!$AI:$AI,Taux_adhesion_rep)*Paramètres!$K6 -> 33 | Q21: =COUNTIF(Réponses!$AL:$AL,Taux_adhesion_rep)*Paramètres!$K6 -> 0 | R21: =COUNTIF(Réponses!$AO:$AO,Taux_adhesion_rep)*Paramètres!$K6 -> 0 | S21: =SUM(O21:R21) -> 33 | U21: =COUNTIF(Réponses!$AF:$AF,Taux_adhesion_rep)*Paramètres!$K6 -> 0 | V21: =COUNTIF(Réponses!$AI:$AI,Taux_adhesion_rep)*Paramètres!$K6 -> 33 | W21: =COUNTIF(Réponses!$AL:$AL,Taux_adhesion_rep)*Paramètres!$K6 -> 0 | X21: =COUNTIF(Réponses!$AO:$AO,Taux_adhesion_rep)*Paramètres!$K6 -> 0 | Y21: =SUM(U21:X21) -> 33
A22: 2 | B22: Oui, un peu | C22: =COUNTIF(Réponses!$AF:$AF,Taux_adhesion_rep)*Paramètres!$K7 -> 0 | D22: =COUNTIF(Réponses!$AI:$AI,Taux_adhesion_rep)*Paramètres!$K7 -> 2 | E22: =COUNTIF(Réponses!$AL:$AL,Taux_adhesion_rep)*Paramètres!$K7 -> 22 | F22: =COUNTIF(Réponses!$AO:$AO,Taux_adhesion_rep)*Paramètres!$K7 -> 2 | G22: =SUM(C22:F22) -> 26 | I22: =COUNTIF(Réponses!$AF:$AF,Taux_adhesion_rep)*Paramètres!$K7 -> 0 | J22: =COUNTIF(Réponses!$AI:$AI,Taux_adhesion_rep)*Paramètres!$K7 -> 2 | K22: =COUNTIF(Réponses!$AL:$AL,Taux_adhesion_rep)*Paramètres!$K7 -> 22 | L22: =COUNTIF(Réponses!$AO:$AO,Taux_adhesion_rep)*Paramètres!$K7 -> 2 | M22: =SUM(I22:L22) -> 26 | O22: =COUNTIF(Réponses!$AF:$AF,Taux_adhesion_rep)*Paramètres!$K7 -> 0 | P22: =COUNTIF(Réponses!$AI:$AI,Taux_adhesion_rep)*Paramètres!$K7 -> 2 | Q22: =COUNTIF(Réponses!$AL:$AL,Taux_adhesion_rep)*Paramètres!$K7 -> 22 | R22: =COUNTIF(Réponses!$AO:$AO,Taux_adhesion_rep)*Paramètres!$K7 -> 2 | S22: =SUM(O22:R22) -> 26 | U22: =COUNTIF(Réponses!$AF:$AF,Taux_adhesion_rep)*Paramètres!$K7 -> 0 | V22: =COUNTIF(Réponses!$AI:$AI,Taux_adhesion_rep)*Paramètres!$K7 -> 2 | W22: =COUNTIF(Réponses!$AL:$AL,Taux_adhesion_rep)*Paramètres!$K7 -> 22 | X22: =COUNTIF(Réponses!$AO:$AO,Taux_adhesion_rep)*Paramètres!$K7 -> 2 | Y22: =SUM(U22:X22) -> 26
A23: 1 | B23: Non, pas du tout | C23: =COUNTIF(Réponses!$AF:$AF,Taux_adhesion_rep)*Paramètres!$K8 -> 1 | D23: =COUNTIF(Réponses!$AI:$AI,Taux_adhesion_rep)*Paramètres!$K8 -> 0 | E23: =COUNTIF(Réponses!$AL:$AL,Taux_adhesion_rep)*Paramètres!$K8 -> 0 | F23: =COUNTIF(Réponses!$AO:$AO,Taux_adhesion_rep)*Paramètres!$K8 -> 11 | G23: =SUM(C23:F23) -> 12 | I23: =COUNTIF(Réponses!$AF:$AF,Taux_adhesion_rep)*Paramètres!$K8 -> 1 | J23: =COUNTIF(Réponses!$AI:$AI,Taux_adhesion_rep)*Paramètres!$K8 -> 0 | K23: =COUNTIF(Réponses!$AL:$AL,Taux_adhesion_rep)*Paramètres!$K8 -> 0 | L23: =COUNTIF(Réponses!$AO:$AO,Taux_adhesion_rep)*Paramètres!$K8 -> 11 | M23: =SUM(I23:L23) -> 12 | O23: =COUNTIF(Réponses!$AF:$AF,Taux_adhesion_rep)*Paramètres!$K8 -> 1 | P23: =COUNTIF(Réponses!$AI:$AI,Taux_adhesion_rep)*Paramètres!$K8 -> 0 | Q23: =COUNTIF(Réponses!$AL:$AL,Taux_adhesion_rep)*Paramètres!$K8 -> 0 | R23: =COUNTIF(Réponses!$AO:$AO,Taux_adhesion_rep)*Paramètres!$K8 -> 11 | S23: =SUM(O23:R23) -> 12 | U23: =COUNTIF(Réponses!$AF:$AF,Taux_adhesion_rep)*Paramètres!$K8 -> 1 | V23: =COUNTIF(Réponses!$AI:$AI,Taux_adhesion_rep)*Paramètres!$K8 -> 0 | W23: =COUNTIF(Réponses!$AL:$AL,Taux_adhesion_rep)*Paramètres!$K8 -> 0 | X23: =COUNTIF(Réponses!$AO:$AO,Taux_adhesion_rep)*Paramètres!$K8 -> 11 | Y23: =SUM(U23:X23) -> 12
G24: =SUM(G20:G23) -> 119 | H24: =G24/($H$4*16) -> 1.4875 | M24: =SUM(M20:M23) -> 119 | N24: =M24/($I$4*16) -> #DIV/0! | S24: =SUM(S20:S23) -> 119 | T24: =S24/($T$4*16) -> 3.71875 | Y24: =SUM(Y20:Y23) -> 119 | Z24: =Y24/($Z$4*16) -> 3.71875
B25: Taux de participation | C25: Avez-vous participé à des réunions du projet? | D25: Avez-vous produit des diagnostics, analyses et propositions pour le projet? | E25: Avez-vous envisagé une intégration des éléments du projet dans votre activité? | F25: Avez-vous testé certains éléments du projet dans votre activité? | G25: Total | H25: %age | I25: Avez-vous participé à des réunions du projet? | J25: Avez-vous produit des diagnostics, analyses et propositions pour le projet? | K25: Avez-vous envisagé une intégration des éléments du projet dans votre activité? | L25: Avez-vous testé certains éléments du projet dans votre activité? | M25: Total | N25: %age | O25: Avez-vous participé à des réunions du projet? | P25: Avez-vous produit des diagnostics, analyses et propositions pour le projet? | Q25: Avez-vous envisagé une intégration des éléments du projet dans votre activité? | R25: Avez-vous testé certains éléments du projet dans votre activité? | S25: Total | T25: %age | U25: Avez-vous participé à des réunions du projet? | V25: Avez-vous produit des diagnostics, analyses et propositions pour le projet? | W25: Avez-vous envisagé une intégration des éléments du projet dans votre activité? | X25: Avez-vous testé certains éléments du projet dans votre activité? | Y25: Total | Z25: %age
A26: 4 | B26: Oui, c'est une priorité | C26: =COUNTIF(Réponses!$AR:$AR,Taux_part_rep)*Paramètres!$K5 -> 0 | D26: =COUNTIF(Réponses!$AU:$AU,Taux_part_rep)*Paramètres!$K5 -> 0 | E26: =COUNTIF(Réponses!$AX:$AX,Taux_part_rep)*Paramètres!$K5 -> 0 | F26: =COUNTIF(Réponses!$BA:$BA,Taux_part_rep)*Paramètres!$K5 -> 0 | G26: =SUM(C26:F26) -> 0 | I26: =COUNTIF(Réponses!$AR:$AR,Taux_part_rep)*Paramètres!$K5 -> 0 | J26: =COUNTIF(Réponses!$AU:$AU,Taux_part_rep)*Paramètres!$K5 -> 0 | K26: =COUNTIF(Réponses!$AX:$AX,Taux_part_rep)*Paramètres!$K5 -> 0 | L26: =COUNTIF(Réponses!$BA:$BA,Taux_part_rep)*Paramètres!$K5 -> 0 | M26: =SUM(I26:L26) -> 0 | O26: =COUNTIF(Réponses!$AR:$AR,Taux_part_rep)*Paramètres!$K5 -> 0 | P26: =COUNTIF(Réponses!$AU:$AU,Taux_part_rep)*Paramètres!$K5 -> 0 | Q26: =COUNTIF(Réponses!$AX:$AX,Taux_part_rep)*Paramètres!$K5 -> 0 | R26: =COUNTIF(Réponses!$BA:$BA,Taux_part_rep)*Paramètres!$K5 -> 0 | S26: =SUM(O26:R26) -> 0 | U26: =COUNTIF(Réponses!$AR:$AR,Taux_part_rep)*Paramètres!$K5 -> 0 | V26: =COUNTIF(Réponses!$AU:$AU,Taux_part_rep)*Paramètres!$K5 -> 0 | W26: =COUNTIF(Réponses!$AX:$AX,Taux_part_rep)*Paramètres!$K5 -> 0 | X26: =COUNTIF(Réponses!$BA:$BA,Taux_part_rep)*Paramètres!$K5 -> 0 | Y26: =SUM(U26:X26) -> 0
A27: 3 | B27: Oui, de manière partielle | C27: =COUNTIF(Réponses!$AR:$AR,Taux_part_rep)*Paramètres!$K6 -> 0 | D27: =COUNTIF(Réponses!$AU:$AU,Taux_part_rep)*Paramètres!$K6 -> 3 | E27: =COUNTIF(Réponses!$AX:$AX,Taux_part_rep)*Paramètres!$K6 -> 0 | F27: =COUNTIF(Réponses!$BA:$BA,Taux_part_rep)*Paramètres!$K6 -> 33 | G27: =SUM(C27:F27) -> 36 | I27: =COUNTIF(Réponses!$AR:$AR,Taux_part_rep)*Paramètres!$K6 -> 0 | J27: =COUNTIF(Réponses!$AU:$AU,Taux_part_rep)*Paramètres!$K6 -> 3 | K27: =COUNTIF(Réponses!$AX:$AX,Taux_part_rep)*Paramètres!$K6 -> 0 | L27: =COUNTIF(Réponses!$BA:$BA,Taux_part_rep)*Paramètres!$K6 -> 33 | M27: =SUM(I27:L27) -> 36 | O27: =COUNTIF(Réponses!$AR:$AR,Taux_part_rep)*Paramètres!$K6 -> 0 | P27: =COUNTIF(Réponses!$AU:$AU,Taux_part_rep)*Paramètres!$K6 -> 3 | Q27: =COUNTIF(Réponses!$AX:$AX,Taux_part_rep)*Paramètres!$K6 -> 0 | R27: =COUNTIF(Réponses!$BA:$BA,Taux_part_rep)*Paramètres!$K6 -> 33 | S27: =SUM(O27:R27) -> 36 | U27: =COUNTIF(Réponses!$AR:$AR,Taux_part_rep)*Paramètres!$K6 -> 0 | V27: =COUNTIF(Réponses!$AU:$AU,Taux_part_rep)*Paramètres!$K6 -> 3 | W27: =COUNTIF(Réponses!$AX:$AX,Taux_part_rep)*Paramètres!$K6 -> 0 | X27: =COUNTIF(Réponses!$BA:$BA,Taux_part_rep)*Paramètres!$K6 -> 33 | Y27: =SUM(U27:X27) -> 36
A28: 2 | B28: Non, mais j'aimerais | C28: =COUNTIF(Réponses!$AR:$AR,Taux_part_rep)*Paramètres!$K7 -> 0 | D28: =COUNTIF(Réponses!$AU:$AU,Taux_part_rep)*Paramètres!$K7 -> 22 | E28: =COUNTIF(Réponses!$AX:$AX,Taux_part_rep)*Paramètres!$K7 -> 24 | F28: =COUNTIF(Réponses!$BA:$BA,Taux_part_rep)*Paramètres!$K7 -> 0 | G28: =SUM(C28:F28) -> 46 | I28: =COUNTIF(Réponses!$AR:$AR,Taux_part_rep)*Paramètres!$K7 -> 0 | J28: =COUNTIF(Réponses!$AU:$AU,Taux_part_rep)*Paramètres!$K7 -> 22 | K28: =COUNTIF(Réponses!$AX:$AX,Taux_part_rep)*Paramètres!$K7 -> 24 | L28: =COUNTIF(Réponses!$BA:$BA,Taux_part_rep)*Paramètres!$K7 -> 0 | M28: =SUM(I28:L28) -> 46 | O28: =COUNTIF(Réponses!$AR:$AR,Taux_part_rep)*Paramètres!$K7 -> 0 | P28: =COUNTIF(Réponses!$AU:$AU,Taux_part_rep)*Paramètres!$K7 -> 22 | Q28: =COUNTIF(Réponses!$AX:$AX,Taux_part_rep)*Paramètres!$K7 -> 24 | R28: =COUNTIF(Réponses!$BA:$BA,Taux_part_rep)*Paramètres!$K7 -> 0 | S28: =SUM(O28:R28) -> 46 | U28: =COUNTIF(Réponses!$AR:$AR,Taux_part_rep)*Paramètres!$K7 -> 0 | V28: =COUNTIF(Réponses!$AU:$AU,Taux_part_rep)*Paramètres!$K7 -> 22 | W28: =COUNTIF(Réponses!$AX:$AX,Taux_part_rep)*Paramètres!$K7 -> 24 | X28: =COUNTIF(Réponses!$BA:$BA,Taux_part_rep)*Paramètres!$K7 -> 0 | Y28: =SUM(U28:X28) -> 46
A29: 1 | B29: Non, et ça ne m'intéresse pas | C29: =COUNTIF(Réponses!$AR:$AR,Taux_part_rep)*Paramètres!$K8 -> 12 | D29: =COUNTIF(Réponses!$AU:$AU,Taux_part_rep)*Paramètres!$K8 -> 0 | E29: =COUNTIF(Réponses!$AX:$AX,Taux_part_rep)*Paramètres!$K8 -> 0 | F29: =COUNTIF(Réponses!$BA:$BA,Taux_part_rep)*Paramètres!$K8 -> 1 | G29: =SUM(C29:F29) -> 13 | I29: =COUNTIF(Réponses!$AR:$AR,Taux_part_rep)*Paramètres!$K8 -> 12 | J29: =COUNTIF(Réponses!$AU:$AU,Taux_part_rep)*Paramètres!$K8 -> 0 | K29: =COUNTIF(Réponses!$AX:$AX,Taux_part_rep)*Paramètres!$K8 -> 0 | L29: =COUNTIF(Réponses!$BA:$BA,Taux_part_rep)*Paramètres!$K8 -> 1 | M29: =SUM(I29:L29) -> 13 | O29: =COUNTIF(Réponses!$AR:$AR,Taux_part_rep)*Paramètres!$K8 -> 12 | P29: =COUNTIF(Réponses!$AU:$AU,Taux_part_rep)*Paramètres!$K8 -> 0 | Q29: =COUNTIF(Réponses!$AX:$AX,Taux_part_rep)*Paramètres!$K8 -> 0 | R29: =COUNTIF(Réponses!$BA:$BA,Taux_part_rep)*Paramètres!$K8 -> 1 | S29: =SUM(O29:R29) -> 13 | U29: =COUNTIF(Réponses!$AR:$AR,Taux_part_rep)*Paramètres!$K8 -> 12 | V29: =COUNTIF(Réponses!$AU:$AU,Taux_part_rep)*Paramètres!$K8 -> 0 | W29: =COUNTIF(Réponses!$AX:$AX,Taux_part_rep)*Paramètres!$K8 -> 0 | X29: =COUNTIF(Réponses!$BA:$BA,Taux_part_rep)*Paramètres!$K8 -> 1 | Y29: =SUM(U29:X29) -> 13
G30: =SUM(G26:G29) -> 95 | H30: =G30/($H$4*16) -> 1.1875 | M30: =SUM(M26:M29) -> 95 | N30: =M30/($I$4*16) -> #DIV/0! | S30: =SUM(S26:S29) -> 95 | T30: =S30/($T$4*16) -> 2.96875 | Y30: =SUM(Y26:Y29) -> 95 | Z30: =Y30/($Z$4*16) -> 2.96875

Sheet Paramètres
C4: Taux d'information | E4: Taux de compréhension | G4: Taux d'adhésion | I4: Taux de participation | K4: Score | M4: Etapes | N4: Début le :
C5: Oui, régulièrement | E5: Oui, de manière exhaustive | G5: Oui, complétement | I5: Oui, c'est une priorité | K5: 4 | M5: Conception | N5: 44593
C6: Oui, de temps en temps | E6: Oui, de manière partielle | G6: Oui, dans l'ensemble | I6: Oui, de manière partielle | K6: 3 | M6: Réalisation | N6: 44652
C7: Oui, une seule fois | E7: Non, mais j'aimerais | G7: Oui, un peu | I7: Non, mais j'aimerais | K7: 2 | M7: Tests | N7: 44805
C8: Non, jamais | E8: Non, pas du tout | G8: Non, pas du tout | I8: Non, et ça ne m'intéresse pas | K8: 1 | M8: Production | N8: 44896
