Workbook
Name Patients: Données!$A$2:$A$116
Name patients_soins: Données!$B$2:$B$182
Name Soignants: Données!$H$3:$H$12

Sheet Mois 1
B1: ='Date Plan'!C9-'Date Plan'!C11+1 -> 44557 | C1: =B1+1 -> 44558 | D1: =C1+1 -> 44559 | E1: =D1+1 -> 44560 | F1: =E1+1 -> 44561 | G1: =F1+1 -> 44562 | H1: =G1+1 -> 44563 | I1: =H1+1 -> 44564 | J1: =I1+1 -> 44565 | ... NH1: =NG1+1 -> 44927
A7: 1
A17: 1
A27: 0.9
A37: 1
A47: Heure
A67: 1
A77: 1
A87: Heure
A97: 1
A107: 1
A117: 0.7
A127: 0.75
A137: 0.7
A147: Heure
A157: Heure
A167: 0.7

Sheet Date Plan
C1: 1
C2: 2 | E2: =DATE(C2+2020,C1,1) -> 44562
C4: 2022 | F4: Janvier | G4: 2021
F5: Février | G5: 2022
F6: Mars | G6: 2023
F7: Avril | G7: 2024
F8: Mai | G8: 2025
A9: Premier Jour du mois | C9: =DATE(C4,C1,1) -> 44562 | F9: Juin | G9: 2026
A10: Dernier jour du mois | C10: =EOMONTH(C9,0) -> 44592 | F10: Juillet | G10: 2027
A11: Jour de la semaine du premier jour du mois | C11: =WEEKDAY(C9,2) -> 6 | F11: Août | G11: 2028
F12: Septembre | G12: 2029
F13: Octobre | G13: 2030
F14: Novembre | G14: 2031
F15: Décembre | G15: 2032

Sheet Date mois
C1: 7
C2: 2 | E2: =DATE(C2+2020,C1,1) -> 44743
C4: 2022 | F4: Janvier | G4: 2021
F5: Février | G5: 2022
F6: Mars | G6: 2023
F7: Avril | G7: 2024
F8: Mai | G8: 2025
A9: Premier Jour du mois | C9: =DATE(C4,C1,1) -> 44743 | F9: Juin | G9: 2026
A10: Dernier jour du mois | C10: =EOMONTH(C9,0) -> 44773 | F10: Juillet | G10: 2027
A11: Jour de la semaine du premier jour du mois | C11: =WEEKDAY(C9,2) -> 5 | F11: Août | G11: 2028
F12: Septembre | G12: 2029
F13: Octobre | G13: 2030
F14: Novembre | G14: 2031
F15: Décembre | G15: 2032

Sheet Données
A1: Patients tous | B1: Patients Soins | C1: Patients Proxi | E1: Patients | F1: Patients | G1: Patients | H1: Patients Autres | I1: Soignats | J1: Autres | L1: Date
A2: =C2 -> 0 | B2: {=_xlfn.UNIQUE(_xlfn._xlws.FILTER(A2:A182,NOT(ISBLANK(A2:A182))))} -> 0 | L2: =TODAY() -> 44811
A3: =C3 -> 0
A4: =C4 -> 0
A5: =C5 -> 0
A6: =C6 -> 0
A7: =C7 -> 0
A8: =C8 -> 0
A9: =C9 -> 0
A10: =C10 -> 0
A11: =C11 -> 0
A12: =C12 -> 0
A13: =C13 -> 0
A14: =C14 -> 0
... A29: =C29 -> 0
A30: =D2 -> 0
A31: =D3 -> 0
A32: =D4 -> 0
A33: =D5 -> 0
A34: =D6 -> 0
A35: =D7 -> 0
A36: =D8 -> 0
A37: =D9 -> 0
A38: =D10 -> 0
A39: =D11 -> 0
A40: =D12 -> 0
A41: =D13 -> 0
... A80: =D52 -> 0
A81: =E2 -> 0
A82: =E3 -> 0
A83: =E4 -> 0
A84: =E5 -> 0
A85: =E6 -> 0
A86: =E7 -> 0
A87: =E8 -> 0
A88: =E9 -> 0
A89: =E10 -> 0
A90: =E11 -> 0
A91: =E12 -> 0
A92: =E13 -> 0
...

Sheet INF+ASSC
B1: Planning Janvier | I1: =B1 -> Planning Janvier | P1: =I1 -> Planning Janvier
A8: ='Date mois'!C9-'Date mois'!C11+1 -> 44739 | B8: =A8+1 -> 44740 | C8: =B8+1 -> 44741 | D8: =C8+1 -> 44742 | E8: =D8+1 -> 44743 | F8: =E8+1 -> 44744 | G8: =F8+1 -> 44745 | H8: =A8 -> 44739 | I8: =H8+1 -> 44740 | J8: =I8+1 -> 44741 | K8: =J8+1 -> 44742 | L8: =K8+1 -> 44743 | M8: =L8+1 -> 44744 | N8: =M8+1 -> 44745 | O8: =H8 -> 44739 | P8: =O8+1 -> 44740 | Q8: =P8+1 -> 44741 | R8: =Q8+1 -> 44742 | S8: =R8+1 -> 44743 | T8: =S8+1 -> 44744 | U8: =T8+1 -> 44745
A9: ='Mois 1'!B2 -> 0 | B9: ='Mois 1'!C2 -> 0 | C9: ='Mois 1'!D2 -> 0 | D9: ='Mois 1'!E2 -> 0 | E9: ='Mois 1'!F2 -> 0 | F9: ='Mois 1'!G2 -> 0 | G9: ='Mois 1'!H2 -> 0 | H9: ='Mois 1'!B12 -> 0 | I9: ='Mois 1'!C12 -> 0 | J9: ='Mois 1'!D12 -> 0 | K9: ='Mois 1'!E12 -> 0 | L9: ='Mois 1'!F12 -> 0 | M9: ='Mois 1'!G12 -> 0 | N9: ='Mois 1'!H12 -> 0 | O9: ='Mois 1'!B22 -> 0 | P9: ='Mois 1'!C22 -> 0 | Q9: ='Mois 1'!D22 -> 0 | R9: ='Mois 1'!E22 -> 0 | S9: ='Mois 1'!F22 -> 0 | T9: ='Mois 1'!G22 -> 0 | U9: ='Mois 1'!H22 -> 0
A10: ='Mois 1'!B3 -> 0 | B10: ='Mois 1'!C3 -> 0 | C10: ='Mois 1'!D3 -> 0 | D10: ='Mois 1'!E3 -> 0 | E10: ='Mois 1'!F3 -> 0 | F10: ='Mois 1'!G3 -> 0 | G10: ='Mois 1'!H3 -> 0 | H10: ='Mois 1'!B13 -> 0 | I10: ='Mois 1'!C13 -> 0 | J10: ='Mois 1'!D13 -> 0 | K10: ='Mois 1'!E13 -> 0 | L10: ='Mois 1'!F13 -> 0 | M10: ='Mois 1'!G13 -> 0 | N10: ='Mois 1'!H13 -> 0 | O10: ='Mois 1'!B23 -> 0 | P10: ='Mois 1'!C23 -> 0 | Q10: ='Mois 1'!D23 -> 0 | R10: ='Mois 1'!E23 -> 0 | S10: ='Mois 1'!F23 -> 0 | T10: ='Mois 1'!G23 -> 0 | U10: ='Mois 1'!H23 -> 0
A11: ='Mois 1'!B4 -> 0 | B11: ='Mois 1'!C4 -> 0 | C11: ='Mois 1'!D4 -> 0 | D11: ='Mois 1'!E4 -> 0 | E11: ='Mois 1'!F4 -> 0 | F11: ='Mois 1'!G4 -> 0 | G11: ='Mois 1'!H4 -> 0 | H11: ='Mois 1'!B14 -> 0 | I11: ='Mois 1'!C14 -> 0 | J11: ='Mois 1'!D14 -> 0 | K11: ='Mois 1'!E14 -> 0 | L11: ='Mois 1'!F14 -> 0 | M11: ='Mois 1'!G14 -> 0 | N11: ='Mois 1'!H14 -> 0 | O11: ='Mois 1'!B24 -> 0 | P11: ='Mois 1'!C24 -> 0 | Q11: ='Mois 1'!D24 -> 0 | R11: ='Mois 1'!E24 -> 0 | S11: ='Mois 1'!F24 -> 0 | T11: ='Mois 1'!G24 -> 0 | U11: ='Mois 1'!H24 -> 0
A12: ='Mois 1'!B5 -> 0 | B12: ='Mois 1'!C5 -> 0 | C12: ='Mois 1'!D5 -> 0 | D12: ='Mois 1'!E5 -> 0 | E12: ='Mois 1'!F5 -> 0 | F12: ='Mois 1'!G5 -> 0 | G12: ='Mois 1'!H5 -> 0 | H12: ='Mois 1'!B15 -> 0 | I12: ='Mois 1'!C15 -> 0 | J12: ='Mois 1'!D15 -> 0 | K12: ='Mois 1'!E15 -> 0 | L12: ='Mois 1'!F15 -> 0 | M12: ='Mois 1'!G15 -> 0 | N12: ='Mois 1'!H15 -> 0 | O12: ='Mois 1'!B25 -> 0 | P12: ='Mois 1'!C25 -> 0 | Q12: ='Mois 1'!D25 -> 0 | R12: ='Mois 1'!E25 -> 0 | S12: ='Mois 1'!F25 -> 0 | T12: ='Mois 1'!G25 -> 0 | U12: ='Mois 1'!H25 -> 0
A13: ='Mois 1'!B6 -> 0 | B13: ='Mois 1'!C6 -> 0 | C13: ='Mois 1'!D6 -> 0 | D13: ='Mois 1'!E6 -> 0 | E13: ='Mois 1'!F6 -> 0 | F13: ='Mois 1'!G6 -> 0 | G13: ='Mois 1'!H6 -> 0 | H13: ='Mois 1'!B16 -> 0 | I13: ='Mois 1'!C16 -> 0 | J13: ='Mois 1'!D16 -> 0 | K13: ='Mois 1'!E16 -> 0 | L13: ='Mois 1'!F16 -> 0 | M13: ='Mois 1'!G16 -> 0 | N13: ='Mois 1'!H16 -> 0 | O13: ='Mois 1'!B26 -> 0 | P13: ='Mois 1'!C26 -> 0 | Q13: ='Mois 1'!D26 -> 0 | R13: ='Mois 1'!E26 -> 0 | S13: ='Mois 1'!F26 -> 0 | T13: ='Mois 1'!G26 -> 0 | U13: ='Mois 1'!H26 -> 0
A14: ='Mois 1'!B7 -> 0 | B14: ='Mois 1'!C7 -> 0 | C14: ='Mois 1'!D7 -> 0 | D14: ='Mois 1'!E7 -> 0 | E14: ='Mois 1'!F7 -> 0 | F14: ='Mois 1'!G7 -> 0 | G14: ='Mois 1'!H7 -> 0 | H14: ='Mois 1'!B17 -> 0 | I14: ='Mois 1'!C17 -> 0 | J14: ='Mois 1'!D17 -> 0 | K14: ='Mois 1'!E17 -> 0 | L14: ='Mois 1'!F17 -> 0 | M14: ='Mois 1'!G17 -> 0 | N14: ='Mois 1'!H17 -> 0 | O14: ='Mois 1'!B27 -> 0 | P14: ='Mois 1'!C27 -> 0 | Q14: ='Mois 1'!D27 -> 0 | R14: ='Mois 1'!E27 -> 0 | S14: ='Mois 1'!F27 -> 0 | T14: ='Mois 1'!G27 -> 0 | U14: ='Mois 1'!H27 -> 0
A15: ='Mois 1'!B8 -> 0 | B15: ='Mois 1'!C8 -> 0 | C15: ='Mois 1'!D8 -> 0 | D15: ='Mois 1'!E8 -> 0 | E15: ='Mois 1'!F8 -> 0 | F15: ='Mois 1'!G8 -> 0 | G15: ='Mois 1'!H8 -> 0 | H15: ='Mois 1'!B18 -> 0 | I15: ='Mois 1'!C18 -> 0 | J15: ='Mois 1'!D18 -> 0 | K15: ='Mois 1'!E18 -> 0 | L15: ='Mois 1'!F18 -> 0 | M15: ='Mois 1'!G18 -> 0 | N15: ='Mois 1'!H18 -> 0 | O15: ='Mois 1'!B28 -> 0 | P15: ='Mois 1'!C28 -> 0 | Q15: ='Mois 1'!D28 -> 0 | R15: ='Mois 1'!E28 -> 0 | S15: ='Mois 1'!F28 -> 0 | T15: ='Mois 1'!G28 -> 0 | U15: ='Mois 1'!H28 -> 0
A16: ='Mois 1'!B9 -> 0 | B16: ='Mois 1'!C9 -> 0 | C16: ='Mois 1'!D9 -> 0 | D16: ='Mois 1'!E9 -> 0 | E16: ='Mois 1'!F9 -> 0 | F16: ='Mois 1'!G9 -> 0 | G16: ='Mois 1'!H9 -> 0 | H16: ='Mois 1'!B19 -> 0 | I16: ='Mois 1'!C19 -> 0 | J16: ='Mois 1'!D19 -> 0 | K16: ='Mois 1'!E19 -> 0 | L16: ='Mois 1'!F19 -> 0 | M16: ='Mois 1'!G19 -> 0 | N16: ='Mois 1'!H19 -> 0 | O16: ='Mois 1'!B29 -> 0 | P16: ='Mois 1'!C29 -> 0 | Q16: ='Mois 1'!D29 -> 0 | R16: ='Mois 1'!E29 -> 0 | S16: ='Mois 1'!F29 -> 0 | T16: ='Mois 1'!G29 -> 0 | U16: ='Mois 1'!H29 -> 0
A17: ='Mois 1'!B10 -> 0 | B17: ='Mois 1'!C10 -> 0 | C17: ='Mois 1'!D10 -> 0 | D17: ='Mois 1'!E10 -> 0 | E17: ='Mois 1'!F10 -> 0 | F17: ='Mois 1'!G10 -> 0 | G17: ='Mois 1'!H10 -> 0 | H17: ='Mois 1'!B20 -> 0 | I17: ='Mois 1'!C20 -> 0 | J17: ='Mois 1'!D20 -> 0 | K17: ='Mois 1'!E20 -> 0 | L17: ='Mois 1'!F20 -> 0 | M17: ='Mois 1'!G20 -> 0 | N17: ='Mois 1'!H20 -> 0 | O17: ='Mois 1'!B30 -> 0 | P17: ='Mois 1'!C30 -> 0 | Q17: ='Mois 1'!D30 -> 0 | R17: ='Mois 1'!E30 -> 0 | S17: ='Mois 1'!F30 -> 0 | T17: ='Mois 1'!G30 -> 0 | U17: ='Mois 1'!H30 -> 0
A18: ='Mois 1'!B11 -> 0 | B18: ='Mois 1'!C11 -> 0 | C18: ='Mois 1'!D11 -> 0 | D18: ='Mois 1'!E11 -> 0 | E18: ='Mois 1'!F11 -> 0 | F18: ='Mois 1'!G11 -> 0 | G18: ='Mois 1'!H11 -> 0 | H18: ='Mois 1'!B21 -> 0 | I18: ='Mois 1'!C21 -> 0 | J18: ='Mois 1'!D21 -> 0 | K18: ='Mois 1'!E21 -> 0 | L18: ='Mois 1'!F21 -> 0 | M18: ='Mois 1'!G21 -> 0 | N18: ='Mois 1'!H21 -> 0 | O18: ='Mois 1'!B31 -> 0 | P18: ='Mois 1'!C31 -> 0 | Q18: ='Mois 1'!D31 -> 0 | R18: ='Mois 1'!E31 -> 0 | S18: ='Mois 1'!F31 -> 0 | T18: ='Mois 1'!G31 -> 0 | U18: ='Mois 1'!H31 -> 0
A19: =A7 -> 0 | H19: =H7 -> 0 | O19: =O7 -> 0
A20: =A8+7 -> 44746 | B20: =B8+7 -> 44747 | C20: =C8+7 -> 44748 | D20: =D8+7 -> 44749 | E20: =E8+7 -> 44750 | F20: =F8+7 -> 44751 | G20: =G8+7 -> 44752 | H20: =H8+7 -> 44746 | ... U20: =U8+7 -> 44752
A21: ='Mois 1'!I2 -> 0 | B21: ='Mois 1'!J2 -> 0 | C21: ='Mois 1'!K2 -> 0 | D21: ='Mois 1'!L2 -> 0 | E21: ='Mois 1'!M2 -> 0 | F21: ='Mois 1'!N2 -> 0 | G21: ='Mois 1'!O2 -> 0 | H21: ='Mois 1'!I12 -> 0 | I21: ='Mois 1'!J12 -> 0 | J21: ='Mois 1'!K12 -> 0 | K21: ='Mois 1'!L12 -> 0 | L21: ='Mois 1'!M12 -> 0 | M21: ='Mois 1'!N12 -> 0 | N21: ='Mois 1'!O12 -> 0 | O21: ='Mois 1'!I22 -> 0 | P21: ='Mois 1'!J22 -> 0 | Q21: ='Mois 1'!K22 -> 0 | R21: ='Mois 1'!L22 -> 0 | S21: ='Mois 1'!M22 -> 0 | T21: ='Mois 1'!N22 -> 0 | U21: ='Mois 1'!O22 -> 0
A22: ='Mois 1'!I3 -> 0 | B22: ='Mois 1'!J3 -> 0 | C22: ='Mois 1'!K3 -> 0 | D22: ='Mois 1'!L3 -> 0 | E22: ='Mois 1'!M3 -> 0 | F22: ='Mois 1'!N3 -> 0 | G22: ='Mois 1'!O3 -> 0 | H22: ='Mois 1'!I13 -> 0 | I22: ='Mois 1'!J13 -> 0 | J22: ='Mois 1'!K13 -> 0 | K22: ='Mois 1'!L13 -> 0 | L22: ='Mois 1'!M13 -> 0 | M22: ='Mois 1'!N13 -> 0 | N22: ='Mois 1'!O13 -> 0 | O22: ='Mois 1'!I23 -> 0 | P22: ='Mois 1'!J23 -> 0 | Q22: ='Mois 1'!K23 -> 0 | R22: ='Mois 1'!L23 -> 0 | S22: ='Mois 1'!M23 -> 0 | T22: ='Mois 1'!N23 -> 0 | U22: ='Mois 1'!O23 -> 0
A23: ='Mois 1'!I4 -> 0 | B23: ='Mois 1'!J4 -> 0 | C23: ='Mois 1'!K4 -> 0 | D23: ='Mois 1'!L4 -> 0 | E23: ='Mois 1'!M4 -> 0 | F23: ='Mois 1'!N4 -> 0 | G23: ='Mois 1'!O4 -> 0 | H23: ='Mois 1'!I14 -> 0 | I23: ='Mois 1'!J14 -> 0 | J23: ='Mois 1'!K14 -> 0 | K23: ='Mois 1'!L14 -> 0 | L23: ='Mois 1'!M14 -> 0 | M23: ='Mois 1'!N14 -> 0 | N23: ='Mois 1'!O14 -> 0 | O23: ='Mois 1'!I24 -> 0 | P23: ='Mois 1'!J24 -> 0 | Q23: ='Mois 1'!K24 -> 0 | R23: ='Mois 1'!L24 -> 0 | S23: ='Mois 1'!M24 -> 0 | T23: ='Mois 1'!N24 -> 0 | U23: ='Mois 1'!O24 -> 0
A24: ='Mois 1'!I5 -> 0 | B24: ='Mois 1'!J5 -> 0 | C24: ='Mois 1'!K5 -> 0 | D24: ='Mois 1'!L5 -> 0 | E24: ='Mois 1'!M5 -> 0 | F24: ='Mois 1'!N5 -> 0 | G24: ='Mois 1'!O5 -> 0 | H24: ='Mois 1'!I15 -> 0 | I24: ='Mois 1'!J15 -> 0 | J24: ='Mois 1'!K15 -> 0 | K24: ='Mois 1'!L15 -> 0 | L24: ='Mois 1'!M15 -> 0 | M24: ='Mois 1'!N15 -> 0 | N24: ='Mois 1'!O15 -> 0 | O24: ='Mois 1'!I25 -> 0 | P24: ='Mois 1'!J25 -> 0 | Q24: ='Mois 1'!K25 -> 0 | R24: ='Mois 1'!L25 -> 0 | S24: ='Mois 1'!M25 -> 0 | T24: ='Mois 1'!N25 -> 0 | U24: ='Mois 1'!O25 -> 0
A25: ='Mois 1'!I6 -> 0 | B25: ='Mois 1'!J6 -> 0 | C25: ='Mois 1'!K6 -> 0 | D25: ='Mois 1'!L6 -> 0 | E25: ='Mois 1'!M6 -> 0 | F25: ='Mois 1'!N6 -> 0 | G25: ='Mois 1'!O6 -> 0 | H25: ='Mois 1'!I16 -> 0 | I25: ='Mois 1'!J16 -> 0 | J25: ='Mois 1'!K16 -> 0 | K25: ='Mois 1'!L16 -> 0 | L25: ='Mois 1'!M16 -> 0 | M25: ='Mois 1'!N16 -> 0 | N25: ='Mois 1'!O16 -> 0 | O25: ='Mois 1'!I26 -> 0 | P25: ='Mois 1'!J26 -> 0 | Q25: ='Mois 1'!K26 -> 0 | R25: ='Mois 1'!L26 -> 0 | S25: ='Mois 1'!M26 -> 0 | T25: ='Mois 1'!N26 -> 0 | U25: ='Mois 1'!O26 -> 0
A26: ='Mois 1'!I7 -> 0 | B26: ='Mois 1'!J7 -> 0 | C26: ='Mois 1'!K7 -> 0 | D26: ='Mois 1'!L7 -> 0 | E26: ='Mois 1'!M7 -> 0 | F26: ='Mois 1'!N7 -> 0 | G26: ='Mois 1'!O7 -> 0 | H26: ='Mois 1'!I17 -> 0 | I26: ='Mois 1'!J17 -> 0 | J26: ='Mois 1'!K17 -> 0 | K26: ='Mois 1'!L17 -> 0 | L26: ='Mois 1'!M17 -> 0 | M26: ='Mois 1'!N17 -> 0 | N26: ='Mois 1'!O17 -> 0 | O26: ='Mois 1'!I27 -> 0 | P26: ='Mois 1'!J27 -> 0 | Q26: ='Mois 1'!K27 -> 0 | R26: ='Mois 1'!L27 -> 0 | S26: ='Mois 1'!M27 -> 0 | T26: ='Mois 1'!N27 -> 0 | U26: ='Mois 1'!O27 -> 0
A27: ='Mois 1'!I8 -> 0 | B27: ='Mois 1'!J8 -> 0 | C27: ='Mois 1'!K8 -> 0 | D27: ='Mois 1'!L8 -> 0 | E27: ='Mois 1'!M8 -> 0 | F27: ='Mois 1'!N8 -> 0 | G27: ='Mois 1'!O8 -> 0 | H27: ='Mois 1'!I18 -> 0 | I27: ='Mois 1'!J18 -> 0 | J27: ='Mois 1'!K18 -> 0 | K27: ='Mois 1'!L18 -> 0 | L27: ='Mois 1'!M18 -> 0 | M27: ='Mois 1'!N18 -> 0 | N27: ='Mois 1'!O18 -> 0 | O27: ='Mois 1'!I28 -> 0 | P27: ='Mois 1'!J28 -> 0 | Q27: ='Mois 1'!K28 -> 0 | R27: ='Mois 1'!L28 -> 0 | S27: ='Mois 1'!M28 -> 0 | T27: ='Mois 1'!N28 -> 0 | U27: ='Mois 1'!O28 -> 0
A28: ='Mois 1'!I9 -> 0 | B28: ='Mois 1'!J9 -> 0 | C28: ='Mois 1'!K9 -> 0 | D28: ='Mois 1'!L9 -> 0 | E28: ='Mois 1'!M9 -> 0 | F28: ='Mois 1'!N9 -> 0 | G28: ='Mois 1'!O9 -> 0 | H28: ='Mois 1'!I19 -> 0 | I28: ='Mois 1'!J19 -> 0 | J28: ='Mois 1'!K19 -> 0 | K28: ='Mois 1'!L19 -> 0 | L28: ='Mois 1'!M19 -> 0 | M28: ='Mois 1'!N19 -> 0 | N28: ='Mois 1'!O19 -> 0 | O28: ='Mois 1'!I29 -> 0 | P28: ='Mois 1'!J29 -> 0 | Q28: ='Mois 1'!K29 -> 0 | R28: ='Mois 1'!L29 -> 0 | S28: ='Mois 1'!M29 -> 0 | T28: ='Mois 1'!N29 -> 0 | U28: ='Mois 1'!O29 -> 0
A29: ='Mois 1'!I10 -> 0 | B29: ='Mois 1'!J10 -> 0 | C29: ='Mois 1'!K10 -> 0 | D29: ='Mois 1'!L10 -> 0 | E29: ='Mois 1'!M10 -> 0 | F29: ='Mois 1'!N10 -> 0 | G29: ='Mois 1'!O10 -> 0 | H29: ='Mois 1'!I20 -> 0 | I29: ='Mois 1'!J20 -> 0 | J29: ='Mois 1'!K20 -> 0 | K29: ='Mois 1'!L20 -> 0 | L29: ='Mois 1'!M20 -> 0 | M29: ='Mois 1'!N20 -> 0 | N29: ='Mois 1'!O20 -> 0 | O29: ='Mois 1'!I30 -> 0 | P29: ='Mois 1'!J30 -> 0 | Q29: ='Mois 1'!K30 -> 0 | R29: ='Mois 1'!L30 -> 0 | S29: ='Mois 1'!M30 -> 0 | T29: ='Mois 1'!N30 -> 0 | U29: ='Mois 1'!O30 -> 0
A30: ='Mois 1'!I11 -> 0 | B30: ='Mois 1'!J11 -> 0 | C30: ='Mois 1'!K11 -> 0 | D30: ='Mois 1'!L11 -> 0 | E30: ='Mois 1'!M11 -> 0 | F30: ='Mois 1'!N11 -> 0 | G30: ='Mois 1'!O11 -> 0 | H30: ='Mois 1'!I21 -> 0 | I30: ='Mois 1'!J21 -> 0 | J30: ='Mois 1'!K21 -> 0 | K30: ='Mois 1'!L21 -> 0 | L30: ='Mois 1'!M21 -> 0 | M30: ='Mois 1'!N21 -> 0 | N30: ='Mois 1'!O21 -> 0 | O30: ='Mois 1'!I31 -> 0 | P30: ='Mois 1'!J31 -> 0 | Q30: ='Mois 1'!K31 -> 0 | R30: ='Mois 1'!L31 -> 0 | S30: ='Mois 1'!M31 -> 0 | T30: ='Mois 1'!N31 -> 0 | U30: ='Mois 1'!O31 -> 0
A31: =A7 -> 0 | H31: =H7 -> 0 | O31: =O7 -> 0
A32: =A20+7 -> 44753 | B32: =B20+7 -> 44754 | C32: =C20+7 -> 44755 | D32: =D20+7 -> 44756 | E32: =E20+7 -> 44757 | F32: =F20+7 -> 44758 | G32: =G20+7 -> 44759 | H32: =H20+7 -> 44753 | ... U32: =U20+7 -> 44759
A33: ='Mois 1'!P2 -> 0 | B33: ='Mois 1'!Q2 -> 0 | C33: ='Mois 1'!R2 -> 0 | D33: ='Mois 1'!S2 -> 0 | E33: ='Mois 1'!T2 -> 0 | F33: ='Mois 1'!U2 -> 0 | G33: ='Mois 1'!V2 -> 0 | H33: ='Mois 1'!P12 -> 0 | I33: ='Mois 1'!Q12 -> 0 | J33: ='Mois 1'!R12 -> 0 | K33: ='Mois 1'!S12 -> 0 | L33: ='Mois 1'!T12 -> 0 | M33: ='Mois 1'!U12 -> 0 | N33: ='Mois 1'!V12 -> 0 | O33: ='Mois 1'!P22 -> 0 | P33: ='Mois 1'!Q22 -> 0 | Q33: ='Mois 1'!R22 -> 0 | R33: ='Mois 1'!S22 -> 0 | S33: ='Mois 1'!T22 -> 0 | T33: ='Mois 1'!U22 -> 0 | U33: ='Mois 1'!V22 -> 0
A34: ='Mois 1'!P3 -> 0 | B34: ='Mois 1'!Q3 -> 0 | C34: ='Mois 1'!R3 -> 0 | D34: ='Mois 1'!S3 -> 0 | E34: ='Mois 1'!T3 -> 0 | F34: ='Mois 1'!U3 -> 0 | G34: ='Mois 1'!V3 -> 0 | H34: ='Mois 1'!P13 -> 0 | I34: ='Mois 1'!Q13 -> 0 | J34: ='Mois 1'!R13 -> 0 | K34: ='Mois 1'!S13 -> 0 | L34: ='Mois 1'!T13 -> 0 | M34: ='Mois 1'!U13 -> 0 | N34: ='Mois 1'!V13 -> 0 | O34: ='Mois 1'!P23 -> 0 | P34: ='Mois 1'!Q23 -> 0 | Q34: ='Mois 1'!R23 -> 0 | R34: ='Mois 1'!S23 -> 0 | S34: ='Mois 1'!T23 -> 0 | T34: ='Mois 1'!U23 -> 0 | U34: ='Mois 1'!V23 -> 0
A35: ='Mois 1'!P4 -> 0 | B35: ='Mois 1'!Q4 -> 0 | C35: ='Mois 1'!R4 -> 0 | D35: ='Mois 1'!S4 -> 0 | E35: ='Mois 1'!T4 -> 0 | F35: ='Mois 1'!U4 -> 0 | G35: ='Mois 1'!V4 -> 0 | H35: ='Mois 1'!P14 -> 0 | I35: ='Mois 1'!Q14 -> 0 | J35: ='Mois 1'!R14 -> 0 | K35: ='Mois 1'!S14 -> 0 | L35: ='Mois 1'!T14 -> 0 | M35: ='Mois 1'!U14 -> 0 | N35: ='Mois 1'!V14 -> 0 | O35: ='Mois 1'!P24 -> 0 | P35: ='Mois 1'!Q24 -> 0 | Q35: ='Mois 1'!R24 -> 0 | R35: ='Mois 1'!S24 -> 0 | S35: ='Mois 1'!T24 -> 0 | T35: ='Mois 1'!U24 -> 0 | U35: ='Mois 1'!V24 -> 0
A36: ='Mois 1'!P5 -> 0 | B36: ='Mois 1'!Q5 -> 0 | C36: ='Mois 1'!R5 -> 0 | D36: ='Mois 1'!S5 -> 0 | E36: ='Mois 1'!T5 -> 0 | F36: ='Mois 1'!U5 -> 0 | G36: ='Mois 1'!V5 -> 0 | H36: ='Mois 1'!P15 -> 0 | I36: ='Mois 1'!Q15 -> 0 | J36: ='Mois 1'!R15 -> 0 | K36: ='Mois 1'!S15 -> 0 | L36: ='Mois 1'!T15 -> 0 | M36: ='Mois 1'!U15 -> 0 | N36: ='Mois 1'!V15 -> 0 | O36: ='Mois 1'!P25 -> 0 | P36: ='Mois 1'!Q25 -> 0 | Q36: ='Mois 1'!R25 -> 0 | R36: ='Mois 1'!S25 -> 0 | S36: ='Mois 1'!T25 -> 0 | T36: ='Mois 1'!U25 -> 0 | U36: ='Mois 1'!V25 -> 0
A37: ='Mois 1'!P6 -> 0 | B37: ='Mois 1'!Q6 -> 0 | C37: ='Mois 1'!R6 -> 0 | D37: ='Mois 1'!S6 -> 0 | E37: ='Mois 1'!T6 -> 0 | F37: ='Mois 1'!U6 -> 0 | G37: ='Mois 1'!V6 -> 0 | H37: ='Mois 1'!P16 -> 0 | I37: ='Mois 1'!Q16 -> 0 | J37: ='Mois 1'!R16 -> 0 | K37: ='Mois 1'!S16 -> 0 | L37: ='Mois 1'!T16 -> 0 | M37: ='Mois 1'!U16 -> 0 | N37: ='Mois 1'!V16 -> 0 | O37: ='Mois 1'!P26 -> 0 | P37: ='Mois 1'!Q26 -> 0 | Q37: ='Mois 1'!R26 -> 0 | R37: ='Mois 1'!S26 -> 0 | S37: ='Mois 1'!T26 -> 0 | T37: ='Mois 1'!U26 -> 0 | U37: ='Mois 1'!V26 -> 0
A38: ='Mois 1'!P7 -> 0 | B38: ='Mois 1'!Q7 -> 0 | C38: ='Mois 1'!R7 -> 0 | D38: ='Mois 1'!S7 -> 0 | E38: ='Mois 1'!T7 -> 0 | F38: ='Mois 1'!U7 -> 0 | G38: ='Mois 1'!V7 -> 0 | H38: ='Mois 1'!P17 -> 0 | I38: ='Mois 1'!Q17 -> 0 | J38: ='Mois 1'!R17 -> 0 | K38: ='Mois 1'!S17 -> 0 | L38: ='Mois 1'!T17 -> 0 | M38: ='Mois 1'!U17 -> 0 | N38: ='Mois 1'!V17 -> 0 | O38: ='Mois 1'!P27 -> 0 | P38: ='Mois 1'!Q27 -> 0 | Q38: ='Mois 1'!R27 -> 0 | R38: ='Mois 1'!S27 -> 0 | S38: ='Mois 1'!T27 -> 0 | T38: ='Mois 1'!U27 -> 0 | U38: ='Mois 1'!V27 -> 0
A39: ='Mois 1'!P8 -> 0 | B39: ='Mois 1'!Q8 -> 0 | C39: ='Mois 1'!R8 -> 0 | D39: ='Mois 1'!S8 -> 0 | E39: ='Mois 1'!T8 -> 0 | F39: ='Mois 1'!U8 -> 0 | G39: ='Mois 1'!V8 -> 0 | H39: ='Mois 1'!P18 -> 0 | I39: ='Mois 1'!Q18 -> 0 | J39: ='Mois 1'!R18 -> 0 | K39: ='Mois 1'!S18 -> 0 | L39: ='Mois 1'!T18 -> 0 | M39: ='Mois 1'!U18 -> 0 | N39: ='Mois 1'!V18 -> 0 | O39: ='Mois 1'!P28 -> 0 | P39: ='Mois 1'!Q28 -> 0 | Q39: ='Mois 1'!R28 -> 0 | R39: ='Mois 1'!S28 -> 0 | S39: ='Mois 1'!T28 -> 0 | T39: ='Mois 1'!U28 -> 0 | U39: ='Mois 1'!V28 -> 0
A40: ='Mois 1'!P9 -> 0 | B40: ='Mois 1'!Q9 -> 0 | C40: ='Mois 1'!R9 -> 0 | D40: ='Mois 1'!S9 -> 0 | E40: ='Mois 1'!T9 -> 0 | F40: ='Mois 1'!U9 -> 0 | G40: ='Mois 1'!V9 -> 0 | H40: ='Mois 1'!P19 -> 0 | I40: ='Mois 1'!Q19 -> 0 | J40: ='Mois 1'!R19 -> 0 | K40: ='Mois 1'!S19 -> 0 | L40: ='Mois 1'!T19 -> 0 | M40: ='Mois 1'!U19 -> 0 | N40: ='Mois 1'!V19 -> 0 | O40: ='Mois 1'!P29 -> 0 | P40: ='Mois 1'!Q29 -> 0 | Q40: ='Mois 1'!R29 -> 0 | R40: ='Mois 1'!S29 -> 0 | S40: ='Mois 1'!T29 -> 0 | T40: ='Mois 1'!U29 -> 0 | U40: ='Mois 1'!V29 -> 0
A41: ='Mois 1'!P10 -> 0 | B41: ='Mois 1'!Q10 -> 0 | C41: ='Mois 1'!R10 -> 0 | D41: ='Mois 1'!S10 -> 0 | E41: ='Mois 1'!T10 -> 0 | F41: ='Mois 1'!U10 -> 0 | G41: ='Mois 1'!V10 -> 0 | H41: ='Mois 1'!P20 -> 0 | I41: ='Mois 1'!Q20 -> 0 | J41: ='Mois 1'!R20 -> 0 | K41: ='Mois 1'!S20 -> 0 | L41: ='Mois 1'!T20 -> 0 | M41: ='Mois 1'!U20 -> 0 | N41: ='Mois 1'!V20 -> 0 | O41: ='Mois 1'!P30 -> 0 | P41: ='Mois 1'!Q30 -> 0 | Q41: ='Mois 1'!R30 -> 0 | R41: ='Mois 1'!S30 -> 0 | S41: ='Mois 1'!T30 -> 0 | T41: ='Mois 1'!U30 -> 0 | U41: ='Mois 1'!V30 -> 0
A42: ='Mois 1'!P11 -> 0 | B42: ='Mois 1'!Q11 -> 0 | C42: ='Mois 1'!R11 -> 0 | D42: ='Mois 1'!S11 -> 0 | E42: ='Mois 1'!T11 -> 0 | F42: ='Mois 1'!U11 -> 0 | G42: ='Mois 1'!V11 -> 0 | H42: ='Mois 1'!P21 -> 0 | I42: ='Mois 1'!Q21 -> 0 | J42: ='Mois 1'!R21 -> 0 | K42: ='Mois 1'!S21 -> 0 | L42: ='Mois 1'!T21 -> 0 | M42: ='Mois 1'!U21 -> 0 | N42: ='Mois 1'!V21 -> 0 | O42: ='Mois 1'!P31 -> 0 | P42: ='Mois 1'!Q31 -> 0 | Q42: ='Mois 1'!R31 -> 0 | R42: ='Mois 1'!S31 -> 0 | S42: ='Mois 1'!T31 -> 0 | T42: ='Mois 1'!U31 -> 0 | U42: ='Mois 1'!V31 -> 0
A43: =A7 -> 0 | H43: =H7 -> 0 | O43: =O7 -> 0
A44: =A32+7 -> 44760 | B44: =B32+7 -> 44761 | C44: =C32+7 -> 44762 | D44: =D32+7 -> 44763 | E44: =E32+7 -> 44764 | F44: =F32+7 -> 44765 | G44: =G32+7 -> 44766 | H44: =H32+7 -> 44760 | ... U44: =U32+7 -> 44766
A45: ='Mois 1'!W2 -> 0 | B45: ='Mois 1'!X2 -> 0 | C45: ='Mois 1'!Y2 -> 0 | D45: ='Mois 1'!Z2 -> 0 | E45: ='Mois 1'!AA2 -> 0 | F45: ='Mois 1'!AB2 -> 0 | G45: ='Mois 1'!AC2 -> 0 | H45: ='Mois 1'!W12 -> 0 | I45: ='Mois 1'!X12 -> 0 | J45: ='Mois 1'!Y12 -> 0 | K45: ='Mois 1'!Z12 -> 0 | L45: ='Mois 1'!AA12 -> 0 | M45: ='Mois 1'!AB12 -> 0 | N45: ='Mois 1'!AC12 -> 0 | O45: ='Mois 1'!W22 -> 0 | P45: ='Mois 1'!X22 -> 0 | Q45: ='Mois 1'!Y22 -> 0 | R45: ='Mois 1'!Z22 -> 0 | S45: ='Mois 1'!AA22 -> 0 | T45: ='Mois 1'!AB22 -> 0 | U45: ='Mois 1'!AC22 -> 0
A46: ='Mois 1'!W3 -> 0 | B46: ='Mois 1'!X3 -> 0 | C46: ='Mois 1'!Y3 -> 0 | D46: ='Mois 1'!Z3 -> 0 | E46: ='Mois 1'!AA3 -> 0 | F46: ='Mois 1'!AB3 -> 0 | G46: ='Mois 1'!AC3 -> 0 | H46: ='Mois 1'!W13 -> 0 | I46: ='Mois 1'!X13 -> 0 | J46: ='Mois 1'!Y13 -> 0 | K46: ='Mois 1'!Z13 -> 0 | L46: ='Mois 1'!AA13 -> 0 | M46: ='Mois 1'!AB13 -> 0 | N46: ='Mois 1'!AC13 -> 0 | O46: ='Mois 1'!W23 -> 0 | P46: ='Mois 1'!X23 -> 0 | Q46: ='Mois 1'!Y23 -> 0 | R46: ='Mois 1'!Z23 -> 0 | S46: ='Mois 1'!AA23 -> 0 | T46: ='Mois 1'!AB23 -> 0 | U46: ='Mois 1'!AC23 -> 0
...
