Workbook
Name Patients: Données!$A$2:$A$116
Name patients_soins: Données!$B$2:$B$182
Name Soignants: Données!$H$3:$H$12

Sheet Mois 1
B1: ='Date Plan'!C9-'Date Plan'!C11+1 -> 44557 | C1: =B1+1 -> 44558 | D1: =C1+1 -> 44559 | E1: =D1+1 -> 44560 | F1: =E1+1 -> 44561 | G1: =F1+1 -> 44562 | H1: =G1+1 -> 44563 | I1: =H1+1 -> 44564 | J1: =I1+1 -> 44565 | ... NH1: =NG1+1 -> 44927
A7: 1
A17: 1
A27: 0.9
A37: 1
A47: Heure
A67: 1
A77: 1
A87: Heure
A97: 1
A107: 1
A117: 0.7
A127: 0.75
A137: 0.7
A147: Heure
A157: Heure
A167: 0.7

Sheet Date Plan
C1: 1
C2: 2 | E2: =DATE(C2+2020,C1,1) -> 44562
C4: 2022 | F4: Janvier | G4: 2021
F5: Février | G5: 2022
F6: Mars | G6: 2023
F7: Avril | G7: 2024
F8: Mai | G8: 2025
A9: Premier Jour du mois | C9: =DATE(C4,C1,1) -> 44562 | F9: Juin | G9: 2026
A10: Dernier jour du mois | C10: =EOMONTH(C9,0) -> 44592 | F10: Juillet | G10: 2027
A11: Jour de la semaine du premier jour du mois | C11: =WEEKDAY(C9,2) -> 6 | F11: Août | G11: 2028
F12: Septembre | G12: 2029
F13: Octobre | G13: 2030
F14: Novembre | G14: 2031
F15: Décembre | G15: 2032

Sheet Date mois
C1: 7
C2: 2 | E2: =DATE(C2+2020,C1,1) -> 44743
C4: 2022 | F4: Janvier | G4: 2021
F5: Février | G5: 2022
F6: Mars | G6: 2023
F7: Avril | G7: 2024
F8: Mai | G8: 2025
A9: Premier Jour du mois | C9: =DATE(C4,C1,1) -> 44743 | F9: Juin | G9: 2026
A10: Dernier jour du mois | C10: =EOMONTH(C9,0) -> 44773 | F10: Juillet | G10: 2027
A11: Jour de la semaine du premier jour du mois | C11: =WEEKDAY(C9,2) -> 5 | F11: Août | G11: 2028
F12: Septembre | G12: 2029
F13: Octobre | G13: 2030
F14: Novembre | G14: 2031
F15: Décembre | G15: 2032

Sheet Données
A1: Patients tous | B1: Patients Soins | C1: Patients Proxi | E1: Patients | F1: Patients | G1: Patients | H1: Patients Autres | I1: Soignats | J1: Autres | L1: Date
A2: =C2 -> 0 | B2: {=_xlfn.UNIQUE(_xlfn._xlws.FILTER(A2:A182,NOT(ISBLANK(A2:A182))))} -> 0 | L2: =TODAY() -> 44811
A3: =C3 -> 0
A4: =C4 -> 0
A5: =C5 -> 0
A6: =C6 -> 0
A7: =C7 -> 0
A8: =C8 -> 0
A9: =C9 -> 0
A10: =C10 -> 0
A11: =C11 -> 0
A12: =C12 -> 0
A13: =C13 -> 0
A14: =C14 -> 0
... A29: =C29 -> 0
A30: =D2 -> 0
A31: =D3 -> 0
A32: =D4 -> 0
A33: =D5 -> 0
A34: =D6 -> 0
A35: =D7 -> 0
A36: =D8 -> 0
A37: =D9 -> 0
A38: =D10 -> 0
A39: =D11 -> 0
A40: =D12 -> 0
A41: =D13 -> 0
... A80: =D52 -> 0
A81: =E2 -> 0
A82: =E3 -> 0
A83: =E4 -> 0
A84: =E5 -> 0
A85: =E6 -> 0
A86: =E7 -> 0
A87: =E8 -> 0
A88: =E9 -> 0
A89: =E10 -> 0
A90: =E11 -> 0
A91: =E12 -> 0
A92: =E13 -> 0
... A97: =E18 -> 0
A98: =F2 -> 0
A99: =F3 -> 0
A100: =F4 -> 0
A101: =F5 -> 0
A102: =F6 -> 0
A103: =F7 -> 0
A104: =F8 -> 0
A105: =F9 -> 0
A106: =F10 -> 0
A107: =F11 -> 0
A108: =F12 -> 0
A109: =F13 -> 0
... A115: =F19 -> 0
A116: =G2 -> 0
A117: =G3 -> 0
A118: =G4 -> 0
A119: =G5 -> 0
A120: =G6 -> 0
A121: =G7 -> 0
A122: =G8 -> 0
A123: =G9 -> 0
A124: =G10 -> 0
A125: =G11 -> 0
A126: =G12 -> 0
A127: =G13 -> 0
... A131: =G17 -> 0
A132: =H2 -> 0
A133: =H3 -> 0
A134: =H4 -> 0
A135: =H5 -> 0
A136: =H6 -> 0
A137: =H7 -> 0
A138: =H8 -> 0
A139: =H9 -> 0
A140: =H10 -> 0
A141: =H11 -> 0
A142: =H12 -> 0
A143: =H13 -> 0
... A155: =H25 -> 0
A156: =J2 -> 0
A157: =J3 -> 0
A158: =J4 -> 0
A159: =J5 -> 0
A160: =J6 -> 0
A161: =J7 -> 0
A162: =J8 -> 0
A163: =J9 -> 0
A164: =J10 -> 0
A165: =J11 -> 0
A166: =J12 -> 0
A167: =I2 -> 0
A168: =I3 -> 0
A169: =I4 -> 0
A170: =I5 -> 0
A171: =I6 -> 0
A172: =I7 -> 0
A173: =I8 -> 0
A174: =I9 -> 0
A175: =I10 -> 0
...

Sheet INF+ASSC
B1: Planning Janvier | I1: =B1 -> Planning Janvier | P1: =I1 -> Planning Janvier
A8: ='Date mois'!C9-'Date mois'!C11+1 -> 44739 | B8: =A8+1 -> 44740 | C8: =B8+1 -> 44741 | D8: =C8+1 -> 44742 | E8: =D8+1 -> 44743 | F8: =E8+1 -> 44744 | G8: =F8+1 -> 44745 | H8: =A8 -> 44739 | I8: =H8+1 -> 44740 | J8: =I8+1 -> 44741 | K8: =J8+1 -> 44742 | L8: =K8+1 -> 44743 | M8: =L8+1 -> 44744 | N8: =M8+1 -> 44745 | O8: =H8 -> 44739 | P8: =O8+1 -> 44740 | Q8: =P8+1 -> 44741 | R8: =Q8+1 -> 44742 | S8: =R8+1 -> 44743 | T8: =S8+1 -> 44744 | U8: =T8+1 -> 44745
A9: ='Mois 1'!B2 -> 0 | B9: ='Mois 1'!C2 -> 0 | C9: ='Mois 1'!D2 -> 0 | D9: ='Mois 1'!E2 -> 0 | E9: ='Mois 1'!F2 -> 0 | F9: ='Mois 1'!G2 -> 0 | G9: ='Mois 1'!H2 -> 0 | H9: ='Mois 1'!B12 -> 0 | I9: ='Mois 1'!C12 -> 0 | J9: ='Mois 1'!D12 -> 0 | K9: ='Mois 1'!E12 -> 0 | L9: ='Mois 1'!F12 -> 0 | M9: ='Mois 1'!G12 -> 0 | N9: ='Mois 1'!H12 -> 0 | O9: ='Mois 1'!B22 -> 0 | P9: ='Mois 1'!C22 -> 0 | Q9: ='Mois 1'!D22 -> 0 | R9: ='Mois 1'!E22 -> 0 | S9: ='Mois 1'!F22 -> 0 | T9: ='Mois 1'!G22 -> 0 | U9: ='Mois 1'!H22 -> 0
A10: ='Mois 1'!B3 -> 0 | B10: ='Mois 1'!C3 -> 0 | C10: ='Mois 1'!D3 -> 0 | D10: ='Mois 1'!E3 -> 0 | E10: ='Mois 1'!F3 -> 0 | F10: ='Mois 1'!G3 -> 0 | G10: ='Mois 1'!H3 -> 0 | H10: ='Mois 1'!B13 -> 0 | I10: ='Mois 1'!C13 -> 0 | J10: ='Mois 1'!D13 -> 0 | K10: ='Mois 1'!E13 -> 0 | L10: ='Mois 1'!F13 -> 0 | M10: ='Mois 1'!G13 -> 0 | N10: ='Mois 1'!H13 -> 0 | O10: ='Mois 1'!B23 -> 0 | P10: ='Mois 1'!C23 -> 0 | Q10: ='Mois 1'!D23 -> 0 | R10: ='Mois 1'!E23 -> 0 | S10: ='Mois 1'!F23 -> 0 | T10: ='Mois 1'!G23 -> 0 | U10: ='Mois 1'!H23 -> 0
A11: ='Mois 1'!B4 -> 0 | B11: ='Mois 1'!C4 -> 0 | C11: ='Mois 1'!D4 -> 0 | D11: ='Mois 1'!E4 -> 0 | E11: ='Mois 1'!F4 -> 0 | F11: ='Mois 1'!G4 -> 0 | G11: ='Mois 1'!H4 -> 0 | H11: ='Mois 1'!B14 -> 0 | I11: ='Mois 1'!C14 -> 0 | J11: ='Mois 1'!D14 -> 0 | K11: ='Mois 1'!E14 -> 0 | L11: ='Mois 1'!F14 -> 0 | M11: ='Mois 1'!G14 -> 0 | N11: ='Mois 1'!H14 -> 0 | O11: ='Mois 1'!B24 -> 0 | P11: ='Mois 1'!C24 -> 0 | Q11: ='Mois 1'!D24 -> 0 | R11: ='Mois 1'!E24 -> 0 | S11: ='Mois 1'!F24 -> 0 | T11: ='Mois 1'!G24 -> 0 | U11: ='Mois 1'!H24 -> 0
A12: ='Mois 1'!B5 -> 0 | B12: ='Mois 1'!C5 -> 0 | C12: ='Mois 1'!D5 -> 0 | D12: ='Mois 1'!E5 -> 0 | E12: ='Mois 1'!F5 -> 0 | F12: ='Mois 1'!G5 -> 0 | G12: ='Mois 1'!H5 -> 0 | H12: ='Mois 1'!B15 -> 0 | I12: ='Mois 1'!C15 -> 0 | J12: ='Mois 1'!D15 -> 0 | K12: ='Mois 1'!E15 -> 0 | L12: ='Mois 1'!F15 -> 0 | M12: ='Mois 1'!G15 -> 0 | N12: ='Mois 1'!H15 -> 0 | O12: ='Mois 1'!B25 -> 0 | P12: ='Mois 1'!C25 -> 0 | Q12: ='Mois 1'!D25 -> 0 | R12: ='Mois 1'!E25 -> 0 | S12: ='Mois 1'!F25 -> 0 | T12: ='Mois 1'!G25 -> 0 | U12: ='Mois 1'!H25 -> 0
A13: ='Mois 1'!B6 -> 0 | B13: ='Mois 1'!C6 -> 0 | C13: ='Mois 1'!D6 -> 0 | D13: ='Mois 1'!E6 -> 0 | E13: ='Mois 1'!F6 -> 0 | F13: ='Mois 1'!G6 -> 0 | G13: ='Mois 1'!H6 -> 0 | H13: ='Mois 1'!B16 -> 0 | I13: ='Mois 1'!C16 -> 0 | J13: ='Mois 1'!D16 -> 0 | K13: ='Mois 1'!E16 -> 0 | L13: ='Mois 1'!F16 -> 0 | M13: ='Mois 1'!G16 -> 0 | N13: ='Mois 1'!H16 -> 0 | O13: ='Mois 1'!B26 -> 0 | P13: ='Mois 1'!C26 -> 0 | Q13: ='Mois 1'!D26 -> 0 | R13: ='Mois 1'!E26 -> 0 | S13: ='Mois 1'!F26 -> 0 | T13: ='Mois 1'!G26 -> 0 | U13: ='Mois 1'!H26 -> 0
A14: ='Mois 1'!B7 -> 0 | B14: ='Mois 1'!C7 -> 0 | C14: ='Mois 1'!D7 -> 0 | D14: ='Mois 1'!E7 -> 0 | E14: ='Mois 1'!F7 -> 0 | F14: ='Mois 1'!G7 -> 0 | G14: ='Mois 1'!H7 -> 0 | H14: ='Mois 1'!B17 -> 0 | I14: ='Mois 1'!C17 -> 0 | J14: ='Mois 1'!D17 -> 0 | K14: ='Mois 1'!E17 -> 0 | L14: ='Mois 1'!F17 -> 0 | M14: ='Mois 1'!G17 -> 0 | N14: ='Mois 1'!H17 -> 0 | O14: ='Mois 1'!B27 -> 0 | P14: ='Mois 1'!C27 -> 0 | Q14: ='Mois 1'!D27 -> 0 | R14: ='Mois 1'!E27 -> 0 | S14: ='Mois 1'!F27 -> 0 | T14: ='Mois 1'!G27 -> 0 | U14: ='Mois 1'!H27 -> 0
A15: ='Mois 1'!B8 -> 0 | B15: ='Mois 1'!C8 -> 0 | C15: ='Mois 1'!D8 -> 0 | D15: ='Mois 1'!E8 -> 0 | E15: ='Mois 1'!F8 -> 0 | F15: ='Mois 1'!G8 -> 0 | G15: ='Mois 1'!H8 -> 0 | H15: ='Mois 1'!B18 -> 0 | I15: ='Mois 1'!C18 -> 0 | J15: ='Mois 1'!D18 -> 0 | K15: ='Mois 1'!E18 -> 0 | L15: ='Mois 1'!F18 -> 0 | M15: ='Mois 1'!G18 -> 0 | N15: ='Mois 1'!H18 -> 0 | O15: ='Mois 1'!B28 -> 0 | P15: ='Mois 1'!C28 -> 0 | Q15: ='Mois 1'!D28 -> 0 | R15: ='Mois 1'!E28 -> 0 | S15: ='Mois 1'!F28 -> 0 | T15: ='Mois 1'!G28 -> 0 | U15: ='Mois 1'!H28 -> 0
A16: ='Mois 1'!B9 -> 0 | B16: ='Mois 1'!C9 -> 0 | C16: ='Mois 1'!D9 -> 0 | D16: ='Mois 1'!E9 -> 0 | E16: ='Mois 1'!F9 -> 0 | F16: ='Mois 1'!G9 -> 0 | G16: ='Mois 1'!H9 -> 0 | H16: ='Mois 1'!B19 -> 0 | I16: ='Mois 1'!C19 -> 0 | J16: ='Mois 1'!D19 -> 0 | K16: ='Mois 1'!E19 -> 0 | L16: ='Mois 1'!F19 -> 0 | M16: ='Mois 1'!G19 -> 0 | N16: ='Mois 1'!H19 -> 0 | O16: ='Mois 1'!B29 -> 0 | P16: ='Mois 1'!C29 -> 0 | Q16: ='Mois 1'!D29 -> 0 | R16: ='Mois 1'!E29 -> 0 | S16: ='Mois 1'!F29 -> 0 | T16: ='Mois 1'!G29 -> 0 | U16: ='Mois 1'!H29 -> 0
A17: ='Mois 1'!B10 -> 0 | B17: ='Mois 1'!C10 -> 0 | C17: ='Mois 1'!D10 -> 0 | D17: ='Mois 1'!E10 -> 0 | E17: ='Mois 1'!F10 -> 0 | F17: ='Mois 1'!G10 -> 0 | G17: ='Mois 1'!H10 -> 0 | H17: ='Mois 1'!B20 -> 0 | I17: ='Mois 1'!C20 -> 0 | J17: ='Mois 1'!D20 -> 0 | K17: ='Mois 1'!E20 -> 0 | L17: ='Mois 1'!F20 -> 0 | M17: ='Mois 1'!G20 -> 0 | N17: ='Mois 1'!H20 -> 0 | O17: ='Mois 1'!B30 -> 0 | P17: ='Mois 1'!C30 -> 0 | Q17: ='Mois 1'!D30 -> 0 | R17: ='Mois 1'!E30 -> 0 | S17: ='Mois 1'!F30 -> 0 | T17: ='Mois 1'!G30 -> 0 | U17: ='Mois 1'!H30 -> 0
A18: ='Mois 1'!B11 -> 0 | B18: ='Mois 1'!C11 -> 0 | C18: ='Mois 1'!D11 -> 0 | D18: ='Mois 1'!E11 -> 0 | E18: ='Mois 1'!F11 -> 0 | F18: ='Mois 1'!G11 -> 0 | G18: ='Mois 1'!H11 -> 0 | H18: ='Mois 1'!B21 -> 0 | I18: ='Mois 1'!C21 -> 0 | J18: ='Mois 1'!D21 -> 0 | K18: ='Mois 1'!E21 -> 0 | L18: ='Mois 1'!F21 -> 0 | M18: ='Mois 1'!G21 -> 0 | N18: ='Mois 1'!H21 -> 0 | O18: ='Mois 1'!B31 -> 0 | P18: ='Mois 1'!C31 -> 0 | Q18: ='Mois 1'!D31 -> 0 | R18: ='Mois 1'!E31 -> 0 | S18: ='Mois 1'!F31 -> 0 | T18: ='Mois 1'!G31 -> 0 | U18: ='Mois 1'!H31 -> 0
A19: =A7 -> 0 | H19: =H7 -> 0 | O19: =O7 -> 0
A20: =A8+7 -> 44746 | B20: =B8+7 -> 44747 | C20: =C8+7 -> 44748 | D20: =D8+7 -> 44749 | E20: =E8+7 -> 44750 | F20: =F8+7 -> 44751 | G20: =G8+7 -> 44752 | H20: =H8+7 -> 44746 | ... U20: =U8+7 -> 44752
A21: ='Mois 1'!I2 -> 0 | B21: ='Mois 1'!J2 -> 0 | C21: ='Mois 1'!K2 -> 0 | D21: ='Mois 1'!L2 -> 0 | E21: ='Mois 1'!M2 -> 0 | F21: ='Mois 1'!N2 -> 0 | G21: ='Mois 1'!O2 -> 0 | H21: ='Mois 1'!I12 -> 0 | I21: ='Mois 1'!J12 -> 0 | J21: ='Mois 1'!K12 -> 0 | K21: ='Mois 1'!L12 -> 0 | L21: ='Mois 1'!M12 -> 0 | M21: ='Mois 1'!N12 -> 0 | N21: ='Mois 1'!O12 -> 0 | O21: ='Mois 1'!I22 -> 0 | P21: ='Mois 1'!J22 -> 0 | Q21: ='Mois 1'!K22 -> 0 | R21: ='Mois 1'!L22 -> 0 | S21: ='Mois 1'!M22 -> 0 | T21: ='Mois 1'!N22 -> 0 | U21: ='Mois 1'!O22 -> 0
A22: ='Mois 1'!I3 -> 0 | B22: ='Mois 1'!J3 -> 0 | C22: ='Mois 1'!K3 -> 0 | D22: ='Mois 1'!L3 -> 0 | E22: ='Mois 1'!M3 -> 0 | F22: ='Mois 1'!N3 -> 0 | G22: ='Mois 1'!O3 -> 0 | H22: ='Mois 1'!I13 -> 0 | I22: ='Mois 1'!J13 -> 0 | J22: ='Mois 1'!K13 -> 0 | K22: ='Mois 1'!L13 -> 0 | L22: ='Mois 1'!M13 -> 0 | M22: ='Mois 1'!N13 -> 0 | N22: ='Mois 1'!O13 -> 0 | O22: ='Mois 1'!I23 -> 0 | P22: ='Mois 1'!J23 -> 0 | Q22: ='Mois 1'!K23 -> 0 | R22: ='Mois 1'!L23 -> 0 | S22: ='Mois 1'!M23 -> 0 | T22: ='Mois 1'!N23 -> 0 | U22: ='Mois 1'!O23 -> 0
A23: ='Mois 1'!I4 -> 0 | B23: ='Mois 1'!J4 -> 0 | C23: ='Mois 1'!K4 -> 0 | D23: ='Mois 1'!L4 -> 0 | E23: ='Mois 1'!M4 -> 0 | F23: ='Mois 1'!N4 -> 0 | G23: ='Mois 1'!O4 -> 0 | H23: ='Mois 1'!I14 -> 0 | I23: ='Mois 1'!J14 -> 0 | J23: ='Mois 1'!K14 -> 0 | K23: ='Mois 1'!L14 -> 0 | L23: ='Mois 1'!M14 -> 0 | M23: ='Mois 1'!N14 -> 0 | N23: ='Mois 1'!O14 -> 0 | O23: ='Mois 1'!I24 -> 0 | P23: ='Mois 1'!J24 -> 0 | Q23: ='Mois 1'!K24 -> 0 | R23: ='Mois 1'!L24 -> 0 | S23: ='Mois 1'!M24 -> 0 | T23: ='Mois 1'!N24 -> 0 | U23: ='Mois 1'!O24 -> 0
A24: ='Mois 1'!I5 -> 0 | B24: ='Mois 1'!J5 -> 0 | C24: ='Mois 1'!K5 -> 0 | D24: ='Mois 1'!L5 -> 0 | E24: ='Mois 1'!M5 -> 0 | F24: ='Mois 1'!N5 -> 0 | G24: ='Mois 1'!O5 -> 0 | H24: ='Mois 1'!I15 -> 0 | I24: ='Mois 1'!J15 -> 0 | J24: ='Mois 1'!K15 -> 0 | K24: ='Mois 1'!L15 -> 0 | L24: ='Mois 1'!M15 -> 0 | M24: ='Mois 1'!N15 -> 0 | N24: ='Mois 1'!O15 -> 0 | O24: ='Mois 1'!I25 -> 0 | P24: ='Mois 1'!J25 -> 0 | Q24: ='Mois 1'!K25 -> 0 | R24: ='Mois 1'!L25 -> 0 | S24: ='Mois 1'!M25 -> 0 | T24: ='Mois 1'!N25 -> 0 | U24: ='Mois 1'!O25 -> 0
A25: ='Mois 1'!I6 -> 0 | B25: ='Mois 1'!J6 -> 0 | C25: ='Mois 1'!K6 -> 0 | D25: ='Mois 1'!L6 -> 0 | E25: ='Mois 1'!M6 -> 0 | F25: ='Mois 1'!N6 -> 0 | G25: ='Mois 1'!O6 -> 0 | H25: ='Mois 1'!I16 -> 0 | I25: ='Mois 1'!J16 -> 0 | J25: ='Mois 1'!K16 -> 0 | K25: ='Mois 1'!L16 -> 0 | L25: ='Mois 1'!M16 -> 0 | M25: ='Mois 1'!N16 -> 0 | N25: ='Mois 1'!O16 -> 0 | O25: ='Mois 1'!I26 -> 0 | P25: ='Mois 1'!J26 -> 0 | Q25: ='Mois 1'!K26 -> 0 | R25: ='Mois 1'!L26 -> 0 | S25: ='Mois 1'!M26 -> 0 | T25: ='Mois 1'!N26 -> 0 | U25: ='Mois 1'!O26 -> 0
A26: ='Mois 1'!I7 -> 0 | B26: ='Mois 1'!J7 -> 0 | C26: ='Mois 1'!K7 -> 0 | D26: ='Mois 1'!L7 -> 0 | E26: ='Mois 1'!M7 -> 0 | F26: ='Mois 1'!N7 -> 0 | G26: ='Mois 1'!O7 -> 0 | H26: ='Mois 1'!I17 -> 0 | I26: ='Mois 1'!J17 -> 0 | J26: ='Mois 1'!K17 -> 0 | K26: ='Mois 1'!L17 -> 0 | L26: ='Mois 1'!M17 -> 0 | M26: ='Mois 1'!N17 -> 0 | N26: ='Mois 1'!O17 -> 0 | O26: ='Mois 1'!I27 -> 0 | P26: ='Mois 1'!J27 -> 0 | Q26: ='Mois 1'!K27 -> 0 | R26: ='Mois 1'!L27 -> 0 | S26: ='Mois 1'!M27 -> 0 | T26: ='Mois 1'!N27 -> 0 | U26: ='Mois 1'!O27 -> 0
A27: ='Mois 1'!I8 -> 0 | B27: ='Mois 1'!J8 -> 0 | C27: ='Mois 1'!K8 -> 0 | D27: ='Mois 1'!L8 -> 0 | E27: ='Mois 1'!M8 -> 0 | F27: ='Mois 1'!N8 -> 0 | G27: ='Mois 1'!O8 -> 0 | H27: ='Mois 1'!I18 -> 0 | I27: ='Mois 1'!J18 -> 0 | J27: ='Mois 1'!K18 -> 0 | K27: ='Mois 1'!L18 -> 0 | L27: ='Mois 1'!M18 -> 0 | M27: ='Mois 1'!N18 -> 0 | N27: ='Mois 1'!O18 -> 0 | O27: ='Mois 1'!I28 -> 0 | P27: ='Mois 1'!J28 -> 0 | Q27: ='Mois 1'!K28 -> 0 | R27: ='Mois 1'!L28 -> 0 | S27: ='Mois 1'!M28 -> 0 | T27: ='Mois 1'!N28 -> 0 | U27: ='Mois 1'!O28 -> 0
A28: ='Mois 1'!I9 -> 0 | B28: ='Mois 1'!J9 -> 0 | C28: ='Mois 1'!K9 -> 0 | D28: ='Mois 1'!L9 -> 0 | E28: ='Mois 1'!M9 -> 0 | F28: ='Mois 1'!N9 -> 0 | G28: ='Mois 1'!O9 -> 0 | H28: ='Mois 1'!I19 -> 0 | I28: ='Mois 1'!J19 -> 0 | J28: ='Mois 1'!K19 -> 0 | K28: ='Mois 1'!L19 -> 0 | L28: ='Mois 1'!M19 -> 0 | M28: ='Mois 1'!N19 -> 0 | N28: ='Mois 1'!O19 -> 0 | O28: ='Mois 1'!I29 -> 0 | P28: ='Mois 1'!J29 -> 0 | Q28: ='Mois 1'!K29 -> 0 | R28: ='Mois 1'!L29 -> 0 | S28: ='Mois 1'!M29 -> 0 | T28: ='Mois 1'!N29 -> 0 | U28: ='Mois 1'!O29 -> 0
A29: ='Mois 1'!I10 -> 0 | B29: ='Mois 1'!J10 -> 0 | C29: ='Mois 1'!K10 -> 0 | D29: ='Mois 1'!L10 -> 0 | E29: ='Mois 1'!M10 -> 0 | F29: ='Mois 1'!N10 -> 0 | G29: ='Mois 1'!O10 -> 0 | H29: ='Mois 1'!I20 -> 0 | I29: ='Mois 1'!J20 -> 0 | J29: ='Mois 1'!K20 -> 0 | K29: ='Mois 1'!L20 -> 0 | L29: ='Mois 1'!M20 -> 0 | M29: ='Mois 1'!N20 -> 0 | N29: ='Mois 1'!O20 -> 0 | O29: ='Mois 1'!I30 -> 0 | P29: ='Mois 1'!J30 -> 0 | Q29: ='Mois 1'!K30 -> 0 | R29: ='Mois 1'!L30 -> 0 | S29: ='Mois 1'!M30 -> 0 | T29: ='Mois 1'!N30 -> 0 | U29: ='Mois 1'!O30 -> 0
A30: ='Mois 1'!I11 -> 0 | B30: ='Mois 1'!J11 -> 0 | C30: ='Mois 1'!K11 -> 0 | D30: ='Mois 1'!L11 -> 0 | E30: ='Mois 1'!M11 -> 0 | F30: ='Mois 1'!N11 -> 0 | G30: ='Mois 1'!O11 -> 0 | H30: ='Mois 1'!I21 -> 0 | I30: ='Mois 1'!J21 -> 0 | J30: ='Mois 1'!K21 -> 0 | K30: ='Mois 1'!L21 -> 0 | L30: ='Mois 1'!M21 -> 0 | M30: ='Mois 1'!N21 -> 0 | N30: ='Mois 1'!O21 -> 0 | O30: ='Mois 1'!I31 -> 0 | P30: ='Mois 1'!J31 -> 0 | Q30: ='Mois 1'!K31 -> 0 | R30: ='Mois 1'!L31 -> 0 | S30: ='Mois 1'!M31 -> 0 | T30: ='Mois 1'!N31 -> 0 | U30: ='Mois 1'!O31 -> 0
A31: =A7 -> 0 | H31: =H7 -> 0 | O31: =O7 -> 0
A32: =A20+7 -> 44753 | B32: =B20+7 -> 44754 | C32: =C20+7 -> 44755 | D32: =D20+7 -> 44756 | E32: =E20+7 -> 44757 | F32: =F20+7 -> 44758 | G32: =G20+7 -> 44759 | H32: =H20+7 -> 44753 | ... U32: =U20+7 -> 44759
A33: ='Mois 1'!P2 -> 0 | B33: ='Mois 1'!Q2 -> 0 | C33: ='Mois 1'!R2 -> 0 | D33: ='Mois 1'!S2 -> 0 | E33: ='Mois 1'!T2 -> 0 | F33: ='Mois 1'!U2 -> 0 | G33: ='Mois 1'!V2 -> 0 | H33: ='Mois 1'!P12 -> 0 | I33: ='Mois 1'!Q12 -> 0 | J33: ='Mois 1'!R12 -> 0 | K33: ='Mois 1'!S12 -> 0 | L33: ='Mois 1'!T12 -> 0 | M33: ='Mois 1'!U12 -> 0 | N33: ='Mois 1'!V12 -> 0 | O33: ='Mois 1'!P22 -> 0 | P33: ='Mois 1'!Q22 -> 0 | Q33: ='Mois 1'!R22 -> 0 | R33: ='Mois 1'!S22 -> 0 | S33: ='Mois 1'!T22 -> 0 | T33: ='Mois 1'!U22 -> 0 | U33: ='Mois 1'!V22 -> 0
A34: ='Mois 1'!P3 -> 0 | B34: ='Mois 1'!Q3 -> 0 | C34: ='Mois 1'!R3 -> 0 | D34: ='Mois 1'!S3 -> 0 | E34: ='Mois 1'!T3 -> 0 | F34: ='Mois 1'!U3 -> 0 | G34: ='Mois 1'!V3 -> 0 | H34: ='Mois 1'!P13 -> 0 | I34: ='Mois 1'!Q13 -> 0 | J34: ='Mois 1'!R13 -> 0 | K34: ='Mois 1'!S13 -> 0 | L34: ='Mois 1'!T13 -> 0 | M34: ='Mois 1'!U13 -> 0 | N34: ='Mois 1'!V13 -> 0 | O34: ='Mois 1'!P23 -> 0 | P34: ='Mois 1'!Q23 -> 0 | Q34: ='Mois 1'!R23 -> 0 | R34: ='Mois 1'!S23 -> 0 | S34: ='Mois 1'!T23 -> 0 | T34: ='Mois 1'!U23 -> 0 | U34: ='Mois 1'!V23 -> 0
A35: ='Mois 1'!P4 -> 0 | B35: ='Mois 1'!Q4 -> 0 | C35: ='Mois 1'!R4 -> 0 | D35: ='Mois 1'!S4 -> 0 | E35: ='Mois 1'!T4 -> 0 | F35: ='Mois 1'!U4 -> 0 | G35: ='Mois 1'!V4 -> 0 | H35: ='Mois 1'!P14 -> 0 | I35: ='Mois 1'!Q14 -> 0 | J35: ='Mois 1'!R14 -> 0 | K35: ='Mois 1'!S14 -> 0 | L35: ='Mois 1'!T14 -> 0 | M35: ='Mois 1'!U14 -> 0 | N35: ='Mois 1'!V14 -> 0 | O35: ='Mois 1'!P24 -> 0 | P35: ='Mois 1'!Q24 -> 0 | Q35: ='Mois 1'!R24 -> 0 | R35: ='Mois 1'!S24 -> 0 | S35: ='Mois 1'!T24 -> 0 | T35: ='Mois 1'!U24 -> 0 | U35: ='Mois 1'!V24 -> 0
A36: ='Mois 1'!P5 -> 0 | B36: ='Mois 1'!Q5 -> 0 | C36: ='Mois 1'!R5 -> 0 | D36: ='Mois 1'!S5 -> 0 | E36: ='Mois 1'!T5 -> 0 | F36: ='Mois 1'!U5 -> 0 | G36: ='Mois 1'!V5 -> 0 | H36: ='Mois 1'!P15 -> 0 | I36: ='Mois 1'!Q15 -> 0 | J36: ='Mois 1'!R15 -> 0 | K36: ='Mois 1'!S15 -> 0 | L36: ='Mois 1'!T15 -> 0 | M36: ='Mois 1'!U15 -> 0 | N36: ='Mois 1'!V15 -> 0 | O36: ='Mois 1'!P25 -> 0 | P36: ='Mois 1'!Q25 -> 0 | Q36: ='Mois 1'!R25 -> 0 | R36: ='Mois 1'!S25 -> 0 | S36: ='Mois 1'!T25 -> 0 | T36: ='Mois 1'!U25 -> 0 | U36: ='Mois 1'!V25 -> 0
A37: ='Mois 1'!P6 -> 0 | B37: ='Mois 1'!Q6 -> 0 | C37: ='Mois 1'!R6 -> 0 | D37: ='Mois 1'!S6 -> 0 | E37: ='Mois 1'!T6 -> 0 | F37: ='Mois 1'!U6 -> 0 | G37: ='Mois 1'!V6 -> 0 | H37: ='Mois 1'!P16 -> 0 | I37: ='Mois 1'!Q16 -> 0 | J37: ='Mois 1'!R16 -> 0 | K37: ='Mois 1'!S16 -> 0 | L37: ='Mois 1'!T16 -> 0 | M37: ='Mois 1'!U16 -> 0 | N37: ='Mois 1'!V16 -> 0 | O37: ='Mois 1'!P26 -> 0 | P37: ='Mois 1'!Q26 -> 0 | Q37: ='Mois 1'!R26 -> 0 | R37: ='Mois 1'!S26 -> 0 | S37: ='Mois 1'!T26 -> 0 | T37: ='Mois 1'!U26 -> 0 | U37: ='Mois 1'!V26 -> 0
A38: ='Mois 1'!P7 -> 0 | B38: ='Mois 1'!Q7 -> 0 | C38: ='Mois 1'!R7 -> 0 | D38: ='Mois 1'!S7 -> 0 | E38: ='Mois 1'!T7 -> 0 | F38: ='Mois 1'!U7 -> 0 | G38: ='Mois 1'!V7 -> 0 | H38: ='Mois 1'!P17 -> 0 | I38: ='Mois 1'!Q17 -> 0 | J38: ='Mois 1'!R17 -> 0 | K38: ='Mois 1'!S17 -> 0 | L38: ='Mois 1'!T17 -> 0 | M38: ='Mois 1'!U17 -> 0 | N38: ='Mois 1'!V17 -> 0 | O38: ='Mois 1'!P27 -> 0 | P38: ='Mois 1'!Q27 -> 0 | Q38: ='Mois 1'!R27 -> 0 | R38: ='Mois 1'!S27 -> 0 | S38: ='Mois 1'!T27 -> 0 | T38: ='Mois 1'!U27 -> 0 | U38: ='Mois 1'!V27 -> 0
A39: ='Mois 1'!P8 -> 0 | B39: ='Mois 1'!Q8 -> 0 | C39: ='Mois 1'!R8 -> 0 | D39: ='Mois 1'!S8 -> 0 | E39: ='Mois 1'!T8 -> 0 | F39: ='Mois 1'!U8 -> 0 | G39: ='Mois 1'!V8 -> 0 | H39: ='Mois 1'!P18 -> 0 | I39: ='Mois 1'!Q18 -> 0 | J39: ='Mois 1'!R18 -> 0 | K39: ='Mois 1'!S18 -> 0 | L39: ='Mois 1'!T18 -> 0 | M39: ='Mois 1'!U18 -> 0 | N39: ='Mois 1'!V18 -> 0 | O39: ='Mois 1'!P28 -> 0 | P39: ='Mois 1'!Q28 -> 0 | Q39: ='Mois 1'!R28 -> 0 | R39: ='Mois 1'!S28 -> 0 | S39: ='Mois 1'!T28 -> 0 | T39: ='Mois 1'!U28 -> 0 | U39: ='Mois 1'!V28 -> 0
A40: ='Mois 1'!P9 -> 0 | B40: ='Mois 1'!Q9 -> 0 | C40: ='Mois 1'!R9 -> 0 | D40: ='Mois 1'!S9 -> 0 | E40: ='Mois 1'!T9 -> 0 | F40: ='Mois 1'!U9 -> 0 | G40: ='Mois 1'!V9 -> 0 | H40: ='Mois 1'!P19 -> 0 | I40: ='Mois 1'!Q19 -> 0 | J40: ='Mois 1'!R19 -> 0 | K40: ='Mois 1'!S19 -> 0 | L40: ='Mois 1'!T19 -> 0 | M40: ='Mois 1'!U19 -> 0 | N40: ='Mois 1'!V19 -> 0 | O40: ='Mois 1'!P29 -> 0 | P40: ='Mois 1'!Q29 -> 0 | Q40: ='Mois 1'!R29 -> 0 | R40: ='Mois 1'!S29 -> 0 | S40: ='Mois 1'!T29 -> 0 | T40: ='Mois 1'!U29 -> 0 | U40: ='Mois 1'!V29 -> 0
A41: ='Mois 1'!P10 -> 0 | B41: ='Mois 1'!Q10 -> 0 | C41: ='Mois 1'!R10 -> 0 | D41: ='Mois 1'!S10 -> 0 | E41: ='Mois 1'!T10 -> 0 | F41: ='Mois 1'!U10 -> 0 | G41: ='Mois 1'!V10 -> 0 | H41: ='Mois 1'!P20 -> 0 | I41: ='Mois 1'!Q20 -> 0 | J41: ='Mois 1'!R20 -> 0 | K41: ='Mois 1'!S20 -> 0 | L41: ='Mois 1'!T20 -> 0 | M41: ='Mois 1'!U20 -> 0 | N41: ='Mois 1'!V20 -> 0 | O41: ='Mois 1'!P30 -> 0 | P41: ='Mois 1'!Q30 -> 0 | Q41: ='Mois 1'!R30 -> 0 | R41: ='Mois 1'!S30 -> 0 | S41: ='Mois 1'!T30 -> 0 | T41: ='Mois 1'!U30 -> 0 | U41: ='Mois 1'!V30 -> 0
A42: ='Mois 1'!P11 -> 0 | B42: ='Mois 1'!Q11 -> 0 | C42: ='Mois 1'!R11 -> 0 | D42: ='Mois 1'!S11 -> 0 | E42: ='Mois 1'!T11 -> 0 | F42: ='Mois 1'!U11 -> 0 | G42: ='Mois 1'!V11 -> 0 | H42: ='Mois 1'!P21 -> 0 | I42: ='Mois 1'!Q21 -> 0 | J42: ='Mois 1'!R21 -> 0 | K42: ='Mois 1'!S21 -> 0 | L42: ='Mois 1'!T21 -> 0 | M42: ='Mois 1'!U21 -> 0 | N42: ='Mois 1'!V21 -> 0 | O42: ='Mois 1'!P31 -> 0 | P42: ='Mois 1'!Q31 -> 0 | Q42: ='Mois 1'!R31 -> 0 | R42: ='Mois 1'!S31 -> 0 | S42: ='Mois 1'!T31 -> 0 | T42: ='Mois 1'!U31 -> 0 | U42: ='Mois 1'!V31 -> 0
A43: =A7 -> 0 | H43: =H7 -> 0 | O43: =O7 -> 0
A44: =A32+7 -> 44760 | B44: =B32+7 -> 44761 | C44: =C32+7 -> 44762 | D44: =D32+7 -> 44763 | E44: =E32+7 -> 44764 | F44: =F32+7 -> 44765 | G44: =G32+7 -> 44766 | H44: =H32+7 -> 44760 | ... U44: =U32+7 -> 44766
A45: ='Mois 1'!W2 -> 0 | B45: ='Mois 1'!X2 -> 0 | C45: ='Mois 1'!Y2 -> 0 | D45: ='Mois 1'!Z2 -> 0 | E45: ='Mois 1'!AA2 -> 0 | F45: ='Mois 1'!AB2 -> 0 | G45: ='Mois 1'!AC2 -> 0 | H45: ='Mois 1'!W12 -> 0 | I45: ='Mois 1'!X12 -> 0 | J45: ='Mois 1'!Y12 -> 0 | K45: ='Mois 1'!Z12 -> 0 | L45: ='Mois 1'!AA12 -> 0 | M45: ='Mois 1'!AB12 -> 0 | N45: ='Mois 1'!AC12 -> 0 | O45: ='Mois 1'!W22 -> 0 | P45: ='Mois 1'!X22 -> 0 | Q45: ='Mois 1'!Y22 -> 0 | R45: ='Mois 1'!Z22 -> 0 | S45: ='Mois 1'!AA22 -> 0 | T45: ='Mois 1'!AB22 -> 0 | U45: ='Mois 1'!AC22 -> 0
A46: ='Mois 1'!W3 -> 0 | B46: ='Mois 1'!X3 -> 0 | C46: ='Mois 1'!Y3 -> 0 | D46: ='Mois 1'!Z3 -> 0 | E46: ='Mois 1'!AA3 -> 0 | F46: ='Mois 1'!AB3 -> 0 | G46: ='Mois 1'!AC3 -> 0 | H46: ='Mois 1'!W13 -> 0 | I46: ='Mois 1'!X13 -> 0 | J46: ='Mois 1'!Y13 -> 0 | K46: ='Mois 1'!Z13 -> 0 | L46: ='Mois 1'!AA13 -> 0 | M46: ='Mois 1'!AB13 -> 0 | N46: ='Mois 1'!AC13 -> 0 | O46: ='Mois 1'!W23 -> 0 | P46: ='Mois 1'!X23 -> 0 | Q46: ='Mois 1'!Y23 -> 0 | R46: ='Mois 1'!Z23 -> 0 | S46: ='Mois 1'!AA23 -> 0 | T46: ='Mois 1'!AB23 -> 0 | U46: ='Mois 1'!AC23 -> 0
A47: ='Mois 1'!W4 -> 0 | B47: ='Mois 1'!X4 -> 0 | C47: ='Mois 1'!Y4 -> 0 | D47: ='Mois 1'!Z4 -> 0 | E47: ='Mois 1'!AA4 -> 0 | F47: ='Mois 1'!AB4 -> 0 | G47: ='Mois 1'!AC4 -> 0 | H47: ='Mois 1'!W14 -> 0 | I47: ='Mois 1'!X14 -> 0 | J47: ='Mois 1'!Y14 -> 0 | K47: ='Mois 1'!Z14 -> 0 | L47: ='Mois 1'!AA14 -> 0 | M47: ='Mois 1'!AB14 -> 0 | N47: ='Mois 1'!AC14 -> 0 | O47: ='Mois 1'!W24 -> 0 | P47: ='Mois 1'!X24 -> 0 | Q47: ='Mois 1'!Y24 -> 0 | R47: ='Mois 1'!Z24 -> 0 | S47: ='Mois 1'!AA24 -> 0 | T47: ='Mois 1'!AB24 -> 0 | U47: ='Mois 1'!AC24 -> 0
A48: ='Mois 1'!W5 -> 0 | B48: ='Mois 1'!X5 -> 0 | C48: ='Mois 1'!Y5 -> 0 | D48: ='Mois 1'!Z5 -> 0 | E48: ='Mois 1'!AA5 -> 0 | F48: ='Mois 1'!AB5 -> 0 | G48: ='Mois 1'!AC5 -> 0 | H48: ='Mois 1'!W15 -> 0 | I48: ='Mois 1'!X15 -> 0 | J48: ='Mois 1'!Y15 -> 0 | K48: ='Mois 1'!Z15 -> 0 | L48: ='Mois 1'!AA15 -> 0 | M48: ='Mois 1'!AB15 -> 0 | N48: ='Mois 1'!AC15 -> 0 | O48: ='Mois 1'!W25 -> 0 | P48: ='Mois 1'!X25 -> 0 | Q48: ='Mois 1'!Y25 -> 0 | R48: ='Mois 1'!Z25 -> 0 | S48: ='Mois 1'!AA25 -> 0 | T48: ='Mois 1'!AB25 -> 0 | U48: ='Mois 1'!AC25 -> 0
A49: ='Mois 1'!W6 -> 0 | B49: ='Mois 1'!X6 -> 0 | C49: ='Mois 1'!Y6 -> 0 | D49: ='Mois 1'!Z6 -> 0 | E49: ='Mois 1'!AA6 -> 0 | F49: ='Mois 1'!AB6 -> 0 | G49: ='Mois 1'!AC6 -> 0 | H49: ='Mois 1'!W16 -> 0 | I49: ='Mois 1'!X16 -> 0 | J49: ='Mois 1'!Y16 -> 0 | K49: ='Mois 1'!Z16 -> 0 | L49: ='Mois 1'!AA16 -> 0 | M49: ='Mois 1'!AB16 -> 0 | N49: ='Mois 1'!AC16 -> 0 | O49: ='Mois 1'!W26 -> 0 | P49: ='Mois 1'!X26 -> 0 | Q49: ='Mois 1'!Y26 -> 0 | R49: ='Mois 1'!Z26 -> 0 | S49: ='Mois 1'!AA26 -> 0 | T49: ='Mois 1'!AB26 -> 0 | U49: ='Mois 1'!AC26 -> 0
A50: ='Mois 1'!W7 -> 0 | B50: ='Mois 1'!X7 -> 0 | C50: ='Mois 1'!Y7 -> 0 | D50: ='Mois 1'!Z7 -> 0 | E50: ='Mois 1'!AA7 -> 0 | F50: ='Mois 1'!AB7 -> 0 | G50: ='Mois 1'!AC7 -> 0 | H50: ='Mois 1'!W17 -> 0 | I50: ='Mois 1'!X17 -> 0 | J50: ='Mois 1'!Y17 -> 0 | K50: ='Mois 1'!Z17 -> 0 | L50: ='Mois 1'!AA17 -> 0 | M50: ='Mois 1'!AB17 -> 0 | N50: ='Mois 1'!AC17 -> 0 | O50: ='Mois 1'!W27 -> 0 | P50: ='Mois 1'!X27 -> 0 | Q50: ='Mois 1'!Y27 -> 0 | R50: ='Mois 1'!Z27 -> 0 | S50: ='Mois 1'!AA27 -> 0 | T50: ='Mois 1'!AB27 -> 0 | U50: ='Mois 1'!AC27 -> 0
A51: ='Mois 1'!W8 -> 0 | B51: ='Mois 1'!X8 -> 0 | C51: ='Mois 1'!Y8 -> 0 | D51: ='Mois 1'!Z8 -> 0 | E51: ='Mois 1'!AA8 -> 0 | F51: ='Mois 1'!AB8 -> 0 | G51: ='Mois 1'!AC8 -> 0 | H51: ='Mois 1'!W18 -> 0 | I51: ='Mois 1'!X18 -> 0 | J51: ='Mois 1'!Y18 -> 0 | K51: ='Mois 1'!Z18 -> 0 | L51: ='Mois 1'!AA18 -> 0 | M51: ='Mois 1'!AB18 -> 0 | N51: ='Mois 1'!AC18 -> 0 | O51: ='Mois 1'!W28 -> 0 | P51: ='Mois 1'!X28 -> 0 | Q51: ='Mois 1'!Y28 -> 0 | R51: ='Mois 1'!Z28 -> 0 | S51: ='Mois 1'!AA28 -> 0 | T51: ='Mois 1'!AB28 -> 0 | U51: ='Mois 1'!AC28 -> 0
A52: ='Mois 1'!W9 -> 0 | B52: ='Mois 1'!X9 -> 0 | C52: ='Mois 1'!Y9 -> 0 | D52: ='Mois 1'!Z9 -> 0 | E52: ='Mois 1'!AA9 -> 0 | F52: ='Mois 1'!AB9 -> 0 | G52: ='Mois 1'!AC9 -> 0 | H52: ='Mois 1'!W19 -> 0 | I52: ='Mois 1'!X19 -> 0 | J52: ='Mois 1'!Y19 -> 0 | K52: ='Mois 1'!Z19 -> 0 | L52: ='Mois 1'!AA19 -> 0 | M52: ='Mois 1'!AB19 -> 0 | N52: ='Mois 1'!AC19 -> 0 | O52: ='Mois 1'!W29 -> 0 | P52: ='Mois 1'!X29 -> 0 | Q52: ='Mois 1'!Y29 -> 0 | R52: ='Mois 1'!Z29 -> 0 | S52: ='Mois 1'!AA29 -> 0 | T52: ='Mois 1'!AB29 -> 0 | U52: ='Mois 1'!AC29 -> 0
A53: ='Mois 1'!W10 -> 0 | B53: ='Mois 1'!X10 -> 0 | C53: ='Mois 1'!Y10 -> 0 | D53: ='Mois 1'!Z10 -> 0 | E53: ='Mois 1'!AA10 -> 0 | F53: ='Mois 1'!AB10 -> 0 | G53: ='Mois 1'!AC10 -> 0 | H53: ='Mois 1'!W20 -> 0 | I53: ='Mois 1'!X20 -> 0 | J53: ='Mois 1'!Y20 -> 0 | K53: ='Mois 1'!Z20 -> 0 | L53: ='Mois 1'!AA20 -> 0 | M53: ='Mois 1'!AB20 -> 0 | N53: ='Mois 1'!AC20 -> 0 | O53: ='Mois 1'!W30 -> 0 | P53: ='Mois 1'!X30 -> 0 | Q53: ='Mois 1'!Y30 -> 0 | R53: ='Mois 1'!Z30 -> 0 | S53: ='Mois 1'!AA30 -> 0 | T53: ='Mois 1'!AB30 -> 0 | U53: ='Mois 1'!AC30 -> 0
A54: ='Mois 1'!W11 -> 0 | B54: ='Mois 1'!X11 -> 0 | C54: ='Mois 1'!Y11 -> 0 | D54: ='Mois 1'!Z11 -> 0 | E54: ='Mois 1'!AA11 -> 0 | F54: ='Mois 1'!AB11 -> 0 | G54: ='Mois 1'!AC11 -> 0 | H54: ='Mois 1'!W21 -> 0 | I54: ='Mois 1'!X21 -> 0 | J54: ='Mois 1'!Y21 -> 0 | K54: ='Mois 1'!Z21 -> 0 | L54: ='Mois 1'!AA21 -> 0 | M54: ='Mois 1'!AB21 -> 0 | N54: ='Mois 1'!AC21 -> 0 | O54: ='Mois 1'!W31 -> 0 | P54: ='Mois 1'!X31 -> 0 | Q54: ='Mois 1'!Y31 -> 0 | R54: ='Mois 1'!Z31 -> 0 | S54: ='Mois 1'!AA31 -> 0 | T54: ='Mois 1'!AB31 -> 0 | U54: ='Mois 1'!AC31 -> 0
A55: =A19 -> 0 | H55: =H19 -> 0 | O55: =O19 -> 0
A56: =A44+7 -> 44767 | B56: =B44+7 -> 44768 | C56: =C44+7 -> 44769 | D56: =D44+7 -> 44770 | E56: =E44+7 -> 44771 | F56: =F44+7 -> 44772 | G56: =G44+7 -> 44773 | H56: =H44+7 -> 44767 | ... U56: =U44+7 -> 44773
A57: ='Mois 1'!AD2 -> 0 | B57: ='Mois 1'!AE2 -> 0 | C57: ='Mois 1'!AF2 -> 0 | D57: ='Mois 1'!AG2 -> 0 | E57: ='Mois 1'!AH2 -> 0 | F57: ='Mois 1'!AI2 -> 0 | G57: ='Mois 1'!AJ2 -> 0 | H57: ='Mois 1'!AD12 -> 0 | I57: ='Mois 1'!AE12 -> 0 | J57: ='Mois 1'!AF12 -> 0 | K57: ='Mois 1'!AG12 -> 0 | L57: ='Mois 1'!AH12 -> 0 | M57: ='Mois 1'!AI12 -> 0 | N57: ='Mois 1'!AJ12 -> 0 | O57: ='Mois 1'!AD22 -> 0 | P57: ='Mois 1'!AE22 -> 0 | Q57: ='Mois 1'!AF22 -> 0 | R57: ='Mois 1'!AG22 -> 0 | S57: ='Mois 1'!AH22 -> 0 | T57: ='Mois 1'!AI22 -> 0 | U57: ='Mois 1'!AJ22 -> 0
A58: ='Mois 1'!AD3 -> 0 | B58: ='Mois 1'!AE3 -> 0 | C58: ='Mois 1'!AF3 -> 0 | D58: ='Mois 1'!AG3 -> 0 | E58: ='Mois 1'!AH3 -> 0 | F58: ='Mois 1'!AI3 -> 0 | G58: ='Mois 1'!AJ3 -> 0 | H58: ='Mois 1'!AD13 -> 0 | I58: ='Mois 1'!AE13 -> 0 | J58: ='Mois 1'!AF13 -> 0 | K58: ='Mois 1'!AG13 -> 0 | L58: ='Mois 1'!AH13 -> 0 | M58: ='Mois 1'!AI13 -> 0 | N58: ='Mois 1'!AJ13 -> 0 | O58: ='Mois 1'!AD23 -> 0 | P58: ='Mois 1'!AE23 -> 0 | Q58: ='Mois 1'!AF23 -> 0 | R58: ='Mois 1'!AG23 -> 0 | S58: ='Mois 1'!AH23 -> 0 | T58: ='Mois 1'!AI23 -> 0 | U58: ='Mois 1'!AJ23 -> 0
A59: ='Mois 1'!AD4 -> 0 | B59: ='Mois 1'!AE4 -> 0 | C59: ='Mois 1'!AF4 -> 0 | D59: ='Mois 1'!AG4 -> 0 | E59: ='Mois 1'!AH4 -> 0 | F59: ='Mois 1'!AI4 -> 0 | G59: ='Mois 1'!AJ4 -> 0 | H59: ='Mois 1'!AD14 -> 0 | I59: ='Mois 1'!AE14 -> 0 | J59: ='Mois 1'!AF14 -> 0 | K59: ='Mois 1'!AG14 -> 0 | L59: ='Mois 1'!AH14 -> 0 | M59: ='Mois 1'!AI14 -> 0 | N59: ='Mois 1'!AJ14 -> 0 | O59: ='Mois 1'!AD24 -> 0 | P59: ='Mois 1'!AE24 -> 0 | Q59: ='Mois 1'!AF24 -> 0 | R59: ='Mois 1'!AG24 -> 0 | S59: ='Mois 1'!AH24 -> 0 | T59: ='Mois 1'!AI24 -> 0 | U59: ='Mois 1'!AJ24 -> 0
A60: ='Mois 1'!AD5 -> 0 | B60: ='Mois 1'!AE5 -> 0 | C60: ='Mois 1'!AF5 -> 0 | D60: ='Mois 1'!AG5 -> 0 | E60: ='Mois 1'!AH5 -> 0 | F60: ='Mois 1'!AI5 -> 0 | G60: ='Mois 1'!AJ5 -> 0 | H60: ='Mois 1'!AD15 -> 0 | I60: ='Mois 1'!AE15 -> 0 | J60: ='Mois 1'!AF15 -> 0 | K60: ='Mois 1'!AG15 -> 0 | L60: ='Mois 1'!AH15 -> 0 | M60: ='Mois 1'!AI15 -> 0 | N60: ='Mois 1'!AJ15 -> 0 | O60: ='Mois 1'!AD25 -> 0 | P60: ='Mois 1'!AE25 -> 0 | Q60: ='Mois 1'!AF25 -> 0 | R60: ='Mois 1'!AG25 -> 0 | S60: ='Mois 1'!AH25 -> 0 | T60: ='Mois 1'!AI25 -> 0 | U60: ='Mois 1'!AJ25 -> 0
A61: ='Mois 1'!AD6 -> 0 | B61: ='Mois 1'!AE6 -> 0 | C61: ='Mois 1'!AF6 -> 0 | D61: ='Mois 1'!AG6 -> 0 | E61: ='Mois 1'!AH6 -> 0 | F61: ='Mois 1'!AI6 -> 0 | G61: ='Mois 1'!AJ6 -> 0 | H61: ='Mois 1'!AD16 -> 0 | I61: ='Mois 1'!AE16 -> 0 | J61: ='Mois 1'!AF16 -> 0 | K61: ='Mois 1'!AG16 -> 0 | L61: ='Mois 1'!AH16 -> 0 | M61: ='Mois 1'!AI16 -> 0 | N61: ='Mois 1'!AJ16 -> 0 | O61: ='Mois 1'!AD26 -> 0 | P61: ='Mois 1'!AE26 -> 0 | Q61: ='Mois 1'!AF26 -> 0 | R61: ='Mois 1'!AG26 -> 0 | S61: ='Mois 1'!AH26 -> 0 | T61: ='Mois 1'!AI26 -> 0 | U61: ='Mois 1'!AJ26 -> 0
A62: ='Mois 1'!AD7 -> 0 | B62: ='Mois 1'!AE7 -> 0 | C62: ='Mois 1'!AF7 -> 0 | D62: ='Mois 1'!AG7 -> 0 | E62: ='Mois 1'!AH7 -> 0 | F62: ='Mois 1'!AI7 -> 0 | G62: ='Mois 1'!AJ7 -> 0 | H62: ='Mois 1'!AD17 -> 0 | I62: ='Mois 1'!AE17 -> 0 | J62: ='Mois 1'!AF17 -> 0 | K62: ='Mois 1'!AG17 -> 0 | L62: ='Mois 1'!AH17 -> 0 | M62: ='Mois 1'!AI17 -> 0 | N62: ='Mois 1'!AJ17 -> 0 | O62: ='Mois 1'!AD27 -> 0 | P62: ='Mois 1'!AE27 -> 0 | Q62: ='Mois 1'!AF27 -> 0 | R62: ='Mois 1'!AG27 -> 0 | S62: ='Mois 1'!AH27 -> 0 | T62: ='Mois 1'!AI27 -> 0 | U62: ='Mois 1'!AJ27 -> 0
A63: ='Mois 1'!AD8 -> 0 | B63: ='Mois 1'!AE8 -> 0 | C63: ='Mois 1'!AF8 -> 0 | D63: ='Mois 1'!AG8 -> 0 | E63: ='Mois 1'!AH8 -> 0 | F63: ='Mois 1'!AI8 -> 0 | G63: ='Mois 1'!AJ8 -> 0 | H63: ='Mois 1'!AD18 -> 0 | I63: ='Mois 1'!AE18 -> 0 | J63: ='Mois 1'!AF18 -> 0 | K63: ='Mois 1'!AG18 -> 0 | L63: ='Mois 1'!AH18 -> 0 | M63: ='Mois 1'!AI18 -> 0 | N63: ='Mois 1'!AJ18 -> 0 | O63: ='Mois 1'!AD28 -> 0 | P63: ='Mois 1'!AE28 -> 0 | Q63: ='Mois 1'!AF28 -> 0 | R63: ='Mois 1'!AG28 -> 0 | S63: ='Mois 1'!AH28 -> 0 | T63: ='Mois 1'!AI28 -> 0 | U63: ='Mois 1'!AJ28 -> 0
A64: ='Mois 1'!AD9 -> 0 | B64: ='Mois 1'!AE9 -> 0 | C64: ='Mois 1'!AF9 -> 0 | D64: ='Mois 1'!AG9 -> 0 | E64: ='Mois 1'!AH9 -> 0 | F64: ='Mois 1'!AI9 -> 0 | G64: ='Mois 1'!AJ9 -> 0 | H64: ='Mois 1'!AD19 -> 0 | I64: ='Mois 1'!AE19 -> 0 | J64: ='Mois 1'!AF19 -> 0 | K64: ='Mois 1'!AG19 -> 0 | L64: ='Mois 1'!AH19 -> 0 | M64: ='Mois 1'!AI19 -> 0 | N64: ='Mois 1'!AJ19 -> 0 | O64: ='Mois 1'!AD29 -> 0 | P64: ='Mois 1'!AE29 -> 0 | Q64: ='Mois 1'!AF29 -> 0 | R64: ='Mois 1'!AG29 -> 0 | S64: ='Mois 1'!AH29 -> 0 | T64: ='Mois 1'!AI29 -> 0 | U64: ='Mois 1'!AJ29 -> 0
A65: ='Mois 1'!AD10 -> 0 | B65: ='Mois 1'!AE10 -> 0 | C65: ='Mois 1'!AF10 -> 0 | D65: ='Mois 1'!AG10 -> 0 | E65: ='Mois 1'!AH10 -> 0 | F65: ='Mois 1'!AI10 -> 0 | G65: ='Mois 1'!AJ10 -> 0 | H65: ='Mois 1'!AD20 -> 0 | I65: ='Mois 1'!AE20 -> 0 | J65: ='Mois 1'!AF20 -> 0 | K65: ='Mois 1'!AG20 -> 0 | L65: ='Mois 1'!AH20 -> 0 | M65: ='Mois 1'!AI20 -> 0 | N65: ='Mois 1'!AJ20 -> 0 | O65: ='Mois 1'!AD30 -> 0 | P65: ='Mois 1'!AE30 -> 0 | Q65: ='Mois 1'!AF30 -> 0 | R65: ='Mois 1'!AG30 -> 0 | S65: ='Mois 1'!AH30 -> 0 | T65: ='Mois 1'!AI30 -> 0 | U65: ='Mois 1'!AJ30 -> 0
A66: ='Mois 1'!AD11 -> 0 | B66: ='Mois 1'!AE11 -> 0 | C66: ='Mois 1'!AF11 -> 0 | D66: ='Mois 1'!AG11 -> 0 | E66: ='Mois 1'!AH11 -> 0 | F66: ='Mois 1'!AI11 -> 0 | H66: ='Mois 1'!AD21 -> 0 | I66: ='Mois 1'!AE21 -> 0 | J66: ='Mois 1'!AF21 -> 0 | K66: ='Mois 1'!AG21 -> 0 | L66: ='Mois 1'!AH21 -> 0 | M66: ='Mois 1'!AI21 -> 0 | N66: ='Mois 1'!AJ21 -> 0 | O66: ='Mois 1'!AD31 -> 0 | P66: ='Mois 1'!AE31 -> 0 | Q66: ='Mois 1'!AF31 -> 0 | R66: ='Mois 1'!AG31 -> 0 | S66: ='Mois 1'!AH31 -> 0 | T66: ='Mois 1'!AI31 -> 0 | U66: ='Mois 1'!AJ31 -> 0
A67: Une pause d'un minimum de 30 minutes est obligatoire pendant la journée de travail. Cette pause n'est pas rémunérée | G67: =N67 -> 44811 | H67: Une pause d'un minimum de 30 minutes est obligatoire pendant la journée de travail. Cette pause n'est pas rémunérée | N67: =TODAY() -> 44811 | O67: Une pause d'un minimum de 30 minutes est obligatoire pendant la journée de travail. Cette pause n'est pas rémunérée | U67: =N67 -> 44811
B68: Planning Janvier | I68: =B68 -> Planning Janvier | P68: =I68 -> Planning Janvier
A74: Nicolas | H74: Claudia | O74: Tamara
A75: =A8 -> 44739 | B75: =B8 -> 44740 | C75: =C8 -> 44741 | D75: =D8 -> 44742 | E75: =E8 -> 44743 | F75: =F8 -> 44744 | G75: =G8 -> 44745 | H75: =A75 -> 44739 | I75: =B75 -> 44740 | J75: =C75 -> 44741 | K75: =D75 -> 44742 | L75: =E75 -> 44743 | M75: =F75 -> 44744 | N75: =G75 -> 44745 | O75: =H75 -> 44739 | ... U75: =N75 -> 44745
A76: ='Mois 1'!B32 -> 0 | B76: ='Mois 1'!C32 -> 0 | C76: ='Mois 1'!D32 -> 0 | D76: ='Mois 1'!E32 -> 0 | E76: ='Mois 1'!F32 -> 0 | F76: ='Mois 1'!G32 -> 0 | G76: ='Mois 1'!H32 -> 0 | H76: ='Mois 1'!B42 -> 0 | I76: ='Mois 1'!C42 -> 0 | J76: ='Mois 1'!D42 -> 0 | K76: ='Mois 1'!E42 -> 0 | L76: ='Mois 1'!F42 -> 0 | M76: ='Mois 1'!G42 -> 0 | N76: ='Mois 1'!H42 -> 0 | O76: ='Mois 1'!B52 -> 0 | P76: ='Mois 1'!C52 -> 0 | Q76: ='Mois 1'!D52 -> 0 | R76: ='Mois 1'!E52 -> 0 | S76: ='Mois 1'!F52 -> 0 | T76: ='Mois 1'!G52 -> 0 | U76: ='Mois 1'!H52 -> 0
A77: ='Mois 1'!B33 -> 0 | B77: ='Mois 1'!C33 -> 0 | C77: ='Mois 1'!D33 -> 0 | D77: ='Mois 1'!E33 -> 0 | E77: ='Mois 1'!F33 -> 0 | F77: ='Mois 1'!G33 -> 0 | G77: ='Mois 1'!H33 -> 0 | H77: ='Mois 1'!B43 -> 0 | I77: ='Mois 1'!C43 -> 0 | J77: ='Mois 1'!D43 -> 0 | K77: ='Mois 1'!E43 -> 0 | L77: ='Mois 1'!F43 -> 0 | M77: ='Mois 1'!G43 -> 0 | N77: ='Mois 1'!H43 -> 0 | O77: ='Mois 1'!B53 -> 0 | P77: ='Mois 1'!C53 -> 0 | Q77: ='Mois 1'!D53 -> 0 | R77: ='Mois 1'!E53 -> 0 | S77: ='Mois 1'!F53 -> 0 | T77: ='Mois 1'!G53 -> 0 | U77: ='Mois 1'!H53 -> 0
A78: ='Mois 1'!B34 -> 0 | B78: ='Mois 1'!C34 -> 0 | C78: ='Mois 1'!D34 -> 0 | D78: ='Mois 1'!E34 -> 0 | E78: ='Mois 1'!F34 -> 0 | F78: ='Mois 1'!G34 -> 0 | G78: ='Mois 1'!H34 -> 0 | H78: ='Mois 1'!B44 -> 0 | I78: ='Mois 1'!C44 -> 0 | J78: ='Mois 1'!D44 -> 0 | K78: ='Mois 1'!E44 -> 0 | L78: ='Mois 1'!F44 -> 0 | M78: ='Mois 1'!G44 -> 0 | N78: ='Mois 1'!H44 -> 0 | O78: ='Mois 1'!B54 -> 0 | P78: ='Mois 1'!C54 -> 0 | Q78: ='Mois 1'!D54 -> 0 | R78: ='Mois 1'!E54 -> 0 | S78: ='Mois 1'!F54 -> 0 | T78: ='Mois 1'!G54 -> 0 | U78: ='Mois 1'!H54 -> 0
A79: ='Mois 1'!B35 -> 0 | B79: ='Mois 1'!C35 -> 0 | C79: ='Mois 1'!D35 -> 0 | D79: ='Mois 1'!E35 -> 0 | E79: ='Mois 1'!F35 -> 0 | F79: ='Mois 1'!G35 -> 0 | G79: ='Mois 1'!H35 -> 0 | H79: ='Mois 1'!B45 -> 0 | I79: ='Mois 1'!C45 -> 0 | J79: ='Mois 1'!D45 -> 0 | K79: ='Mois 1'!E45 -> 0 | L79: ='Mois 1'!F45 -> 0 | M79: ='Mois 1'!G45 -> 0 | N79: ='Mois 1'!H45 -> 0 | O79: ='Mois 1'!B55 -> 0 | P79: ='Mois 1'!C55 -> 0 | Q79: ='Mois 1'!D55 -> 0 | R79: ='Mois 1'!E55 -> 0 | S79: ='Mois 1'!F55 -> 0 | T79: ='Mois 1'!G55 -> 0 | U79: ='Mois 1'!H55 -> 0
A80: ='Mois 1'!B36 -> 0 | B80: ='Mois 1'!C36 -> 0 | C80: ='Mois 1'!D36 -> 0 | D80: ='Mois 1'!E36 -> 0 | E80: ='Mois 1'!F36 -> 0 | F80: ='Mois 1'!G36 -> 0 | G80: ='Mois 1'!H36 -> 0 | H80: ='Mois 1'!B46 -> 0 | I80: ='Mois 1'!C46 -> 0 | J80: ='Mois 1'!D46 -> 0 | K80: ='Mois 1'!E46 -> 0 | L80: ='Mois 1'!F46 -> 0 | M80: ='Mois 1'!G46 -> 0 | N80: ='Mois 1'!H46 -> 0 | O80: ='Mois 1'!B56 -> 0 | P80: ='Mois 1'!C56 -> 0 | Q80: ='Mois 1'!D56 -> 0 | R80: ='Mois 1'!E56 -> 0 | S80: ='Mois 1'!F56 -> 0 | T80: ='Mois 1'!G56 -> 0 | U80: ='Mois 1'!H56 -> 0
A81: ='Mois 1'!B37 -> 0 | B81: ='Mois 1'!C37 -> 0 | C81: ='Mois 1'!D37 -> 0 | D81: ='Mois 1'!E37 -> 0 | E81: ='Mois 1'!F37 -> 0 | F81: ='Mois 1'!G37 -> 0 | G81: ='Mois 1'!H37 -> 0 | H81: ='Mois 1'!B47 -> 0 | I81: ='Mois 1'!C47 -> 0 | J81: ='Mois 1'!D47 -> 0 | K81: ='Mois 1'!E47 -> 0 | L81: ='Mois 1'!F47 -> 0 | M81: ='Mois 1'!G47 -> 0 | N81: ='Mois 1'!H47 -> 0 | O81: ='Mois 1'!B57 -> 0 | P81: ='Mois 1'!C57 -> 0 | Q81: ='Mois 1'!D57 -> 0 | R81: ='Mois 1'!E57 -> 0 | S81: ='Mois 1'!F57 -> 0 | T81: ='Mois 1'!G57 -> 0 | U81: ='Mois 1'!H57 -> 0
A82: ='Mois 1'!B38 -> 0 | B82: ='Mois 1'!C38 -> 0 | C82: ='Mois 1'!D38 -> 0 | D82: ='Mois 1'!E38 -> 0 | E82: ='Mois 1'!F38 -> 0 | F82: ='Mois 1'!G38 -> 0 | G82: ='Mois 1'!H38 -> 0 | H82: ='Mois 1'!B48 -> 0 | I82: ='Mois 1'!C48 -> 0 | J82: ='Mois 1'!D48 -> 0 | K82: ='Mois 1'!E48 -> 0 | L82: ='Mois 1'!F48 -> 0 | M82: ='Mois 1'!G48 -> 0 | N82: ='Mois 1'!H48 -> 0 | O82: ='Mois 1'!B58 -> 0 | P82: ='Mois 1'!C58 -> 0 | Q82: ='Mois 1'!D58 -> 0 | R82: ='Mois 1'!E58 -> 0 | S82: ='Mois 1'!F58 -> 0 | T82: ='Mois 1'!G58 -> 0 | U82: ='Mois 1'!H58 -> 0
A83: ='Mois 1'!B39 -> 0 | B83: ='Mois 1'!C39 -> 0 | C83: ='Mois 1'!D39 -> 0 | D83: ='Mois 1'!E39 -> 0 | E83: ='Mois 1'!F39 -> 0 | F83: ='Mois 1'!G39 -> 0 | G83: ='Mois 1'!H39 -> 0 | H83: ='Mois 1'!B49 -> 0 | I83: ='Mois 1'!C49 -> 0 | J83: ='Mois 1'!D49 -> 0 | K83: ='Mois 1'!E49 -> 0 | L83: ='Mois 1'!F49 -> 0 | M83: ='Mois 1'!G49 -> 0 | N83: ='Mois 1'!H49 -> 0 | O83: ='Mois 1'!B59 -> 0 | P83: ='Mois 1'!C59 -> 0 | Q83: ='Mois 1'!D59 -> 0 | R83: ='Mois 1'!E59 -> 0 | S83: ='Mois 1'!F59 -> 0 | T83: ='Mois 1'!G59 -> 0 | U83: ='Mois 1'!H59 -> 0
A84: ='Mois 1'!B40 -> 0 | B84: ='Mois 1'!C40 -> 0 | C84: ='Mois 1'!D40 -> 0 | D84: ='Mois 1'!E40 -> 0 | E84: ='Mois 1'!F40 -> 0 | F84: ='Mois 1'!G40 -> 0 | G84: ='Mois 1'!H40 -> 0 | H84: ='Mois 1'!B50 -> 0 | I84: ='Mois 1'!C50 -> 0 | J84: ='Mois 1'!D50 -> 0 | K84: ='Mois 1'!E50 -> 0 | L84: ='Mois 1'!F50 -> 0 | M84: ='Mois 1'!G50 -> 0 | N84: ='Mois 1'!H50 -> 0 | O84: ='Mois 1'!B60 -> 0 | P84: ='Mois 1'!C60 -> 0 | Q84: ='Mois 1'!D60 -> 0 | R84: ='Mois 1'!E60 -> 0 | S84: ='Mois 1'!F60 -> 0 | T84: ='Mois 1'!G60 -> 0 | U84: ='Mois 1'!H60 -> 0
A85: ='Mois 1'!B41 -> 0 | B85: ='Mois 1'!C41 -> 0 | C85: ='Mois 1'!D41 -> 0 | D85: ='Mois 1'!E41 -> 0 | E85: ='Mois 1'!F41 -> 0 | F85: ='Mois 1'!G41 -> 0 | G85: ='Mois 1'!H41 -> 0 | H85: ='Mois 1'!B51 -> 0 | I85: ='Mois 1'!C51 -> 0 | J85: ='Mois 1'!D51 -> 0 | K85: ='Mois 1'!E51 -> 0 | L85: ='Mois 1'!F51 -> 0 | M85: ='Mois 1'!G51 -> 0 | N85: ='Mois 1'!H51 -> 0 | O85: ='Mois 1'!B61 -> 0 | P85: ='Mois 1'!C61 -> 0 | Q85: ='Mois 1'!D61 -> 0 | R85: ='Mois 1'!E61 -> 0 | S85: ='Mois 1'!F61 -> 0 | T85: ='Mois 1'!G61 -> 0 | U85: ='Mois 1'!H61 -> 0
A86: =A74 -> Nicolas | H86: =H74 -> Claudia | O86: =O74 -> Tamara
A87: =A20 -> 44746 | B87: =B20 -> 44747 | C87: =C20 -> 44748 | D87: =D20 -> 44749 | E87: =E20 -> 44750 | F87: =F20 -> 44751 | G87: =G20 -> 44752 | H87: =H75+7 -> 44746 | I87: =I75+7 -> 44747 | J87: =J75+7 -> 44748 | K87: =K75+7 -> 44749 | L87: =L75+7 -> 44750 | M87: =M75+7 -> 44751 | N87: =N75+7 -> 44752 | O87: =O75+7 -> 44746 | ... U87: =U75+7 -> 44752
A88: ='Mois 1'!I32 -> 0 | B88: ='Mois 1'!J32 -> 0 | C88: ='Mois 1'!K32 -> 0 | D88: ='Mois 1'!L32 -> 0 | E88: ='Mois 1'!M32 -> 0 | F88: ='Mois 1'!N32 -> 0 | G88: ='Mois 1'!O32 -> 0 | H88: ='Mois 1'!I42 -> 0 | I88: ='Mois 1'!J42 -> 0 | J88: ='Mois 1'!K42 -> 0 | K88: ='Mois 1'!L42 -> 0 | L88: ='Mois 1'!M42 -> 0 | M88: ='Mois 1'!N42 -> 0 | N88: ='Mois 1'!O42 -> 0 | O88: ='Mois 1'!I52 -> 0 | P88: ='Mois 1'!J52 -> 0 | Q88: ='Mois 1'!K52 -> 0 | R88: ='Mois 1'!L52 -> 0 | S88: ='Mois 1'!M52 -> 0 | T88: ='Mois 1'!N52 -> 0 | U88: ='Mois 1'!O52 -> 0
A89: ='Mois 1'!I33 -> 0 | B89: ='Mois 1'!J33 -> 0 | C89: ='Mois 1'!K33 -> 0 | D89: ='Mois 1'!L33 -> 0 | E89: ='Mois 1'!M33 -> 0 | F89: ='Mois 1'!N33 -> 0 | G89: ='Mois 1'!O33 -> 0 | H89: ='Mois 1'!I43 -> 0 | I89: ='Mois 1'!J43 -> 0 | J89: ='Mois 1'!K43 -> 0 | K89: ='Mois 1'!L43 -> 0 | L89: ='Mois 1'!M43 -> 0 | M89: ='Mois 1'!N43 -> 0 | N89: ='Mois 1'!O43 -> 0 | O89: ='Mois 1'!I53 -> 0 | P89: ='Mois 1'!J53 -> 0 | Q89: ='Mois 1'!K53 -> 0 | R89: ='Mois 1'!L53 -> 0 | S89: ='Mois 1'!M53 -> 0 | T89: ='Mois 1'!N53 -> 0 | U89: ='Mois 1'!O53 -> 0
A90: ='Mois 1'!I34 -> 0 | B90: ='Mois 1'!J34 -> 0 | C90: ='Mois 1'!K34 -> 0 | D90: ='Mois 1'!L34 -> 0 | E90: ='Mois 1'!M34 -> 0 | F90: ='Mois 1'!N34 -> 0 | G90: ='Mois 1'!O34 -> 0 | H90: ='Mois 1'!I44 -> 0 | I90: ='Mois 1'!J44 -> 0 | J90: ='Mois 1'!K44 -> 0 | K90: ='Mois 1'!L44 -> 0 | L90: ='Mois 1'!M44 -> 0 | M90: ='Mois 1'!N44 -> 0 | N90: ='Mois 1'!O44 -> 0 | O90: ='Mois 1'!I54 -> 0 | P90: ='Mois 1'!J54 -> 0 | Q90: ='Mois 1'!K54 -> 0 | R90: ='Mois 1'!L54 -> 0 | S90: ='Mois 1'!M54 -> 0 | T90: ='Mois 1'!N54 -> 0 | U90: ='Mois 1'!O54 -> 0
A91: ='Mois 1'!I35 -> 0 | B91: ='Mois 1'!J35 -> 0 | C91: ='Mois 1'!K35 -> 0 | D91: ='Mois 1'!L35 -> 0 | E91: ='Mois 1'!M35 -> 0 | F91: ='Mois 1'!N35 -> 0 | G91: ='Mois 1'!O35 -> 0 | H91: ='Mois 1'!I45 -> 0 | I91: ='Mois 1'!J45 -> 0 | J91: ='Mois 1'!K45 -> 0 | K91: ='Mois 1'!L45 -> 0 | L91: ='Mois 1'!M45 -> 0 | M91: ='Mois 1'!N45 -> 0 | N91: ='Mois 1'!O45 -> 0 | O91: ='Mois 1'!I55 -> 0 | P91: ='Mois 1'!J55 -> 0 | Q91: ='Mois 1'!K55 -> 0 | R91: ='Mois 1'!L55 -> 0 | S91: ='Mois 1'!M55 -> 0 | T91: ='Mois 1'!N55 -> 0 | U91: ='Mois 1'!O55 -> 0
A92: ='Mois 1'!I36 -> 0 | B92: ='Mois 1'!J36 -> 0 | C92: ='Mois 1'!K36 -> 0 | D92: ='Mois 1'!L36 -> 0 | E92: ='Mois 1'!M36 -> 0 | F92: ='Mois 1'!N36 -> 0 | G92: ='Mois 1'!O36 -> 0 | H92: ='Mois 1'!I46 -> 0 | I92: ='Mois 1'!J46 -> 0 | J92: ='Mois 1'!K46 -> 0 | K92: ='Mois 1'!L46 -> 0 | L92: ='Mois 1'!M46 -> 0 | M92: ='Mois 1'!N46 -> 0 | N92: ='Mois 1'!O46 -> 0 | O92: ='Mois 1'!I56 -> 0 | P92: ='Mois 1'!J56 -> 0 | Q92: ='Mois 1'!K56 -> 0 | R92: ='Mois 1'!L56 -> 0 | S92: ='Mois 1'!M56 -> 0 | T92: ='Mois 1'!N56 -> 0 | U92: ='Mois 1'!O56 -> 0
A93: ='Mois 1'!I37 -> 0 | B93: ='Mois 1'!J37 -> 0 | C93: ='Mois 1'!K37 -> 0 | D93: ='Mois 1'!L37 -> 0 | E93: ='Mois 1'!M37 -> 0 | F93: ='Mois 1'!N37 -> 0 | G93: ='Mois 1'!O37 -> 0 | H93: ='Mois 1'!I47 -> 0 | I93: ='Mois 1'!J47 -> 0 | J93: ='Mois 1'!K47 -> 0 | K93: ='Mois 1'!L47 -> 0 | L93: ='Mois 1'!M47 -> 0 | M93: ='Mois 1'!N47 -> 0 | N93: ='Mois 1'!O47 -> 0 | O93: ='Mois 1'!I57 -> 0 | P93: ='Mois 1'!J57 -> 0 | Q93: ='Mois 1'!K57 -> 0 | R93: ='Mois 1'!L57 -> 0 | S93: ='Mois 1'!M57 -> 0 | T93: ='Mois 1'!N57 -> 0 | U93: ='Mois 1'!O57 -> 0
A94: ='Mois 1'!I38 -> 0 | B94: ='Mois 1'!J38 -> 0 | C94: ='Mois 1'!K38 -> 0 | D94: ='Mois 1'!L38 -> 0 | E94: ='Mois 1'!M38 -> 0 | F94: ='Mois 1'!N38 -> 0 | G94: ='Mois 1'!O38 -> 0 | H94: ='Mois 1'!I48 -> 0 | I94: ='Mois 1'!J48 -> 0 | J94: ='Mois 1'!K48 -> 0 | K94: ='Mois 1'!L48 -> 0 | L94: ='Mois 1'!M48 -> 0 | M94: ='Mois 1'!N48 -> 0 | N94: ='Mois 1'!O48 -> 0 | O94: ='Mois 1'!I58 -> 0 | P94: ='Mois 1'!J58 -> 0 | Q94: ='Mois 1'!K58 -> 0 | R94: ='Mois 1'!L58 -> 0 | S94: ='Mois 1'!M58 -> 0 | T94: ='Mois 1'!N58 -> 0 | U94: ='Mois 1'!O58 -> 0
A95: ='Mois 1'!I39 -> 0 | B95: ='Mois 1'!J39 -> 0 | C95: ='Mois 1'!K39 -> 0 | D95: ='Mois 1'!L39 -> 0 | E95: ='Mois 1'!M39 -> 0 | F95: ='Mois 1'!N39 -> 0 | G95: ='Mois 1'!O39 -> 0 | H95: ='Mois 1'!I49 -> 0 | I95: ='Mois 1'!J49 -> 0 | J95: ='Mois 1'!K49 -> 0 | K95: ='Mois 1'!L49 -> 0 | L95: ='Mois 1'!M49 -> 0 | M95: ='Mois 1'!N49 -> 0 | N95: ='Mois 1'!O49 -> 0 | O95: ='Mois 1'!I59 -> 0 | P95: ='Mois 1'!J59 -> 0 | Q95: ='Mois 1'!K59 -> 0 | R95: ='Mois 1'!L59 -> 0 | S95: ='Mois 1'!M59 -> 0 | T95: ='Mois 1'!N59 -> 0 | U95: ='Mois 1'!O59 -> 0
A96: ='Mois 1'!I40 -> 0 | B96: ='Mois 1'!J40 -> 0 | C96: ='Mois 1'!K40 -> 0 | D96: ='Mois 1'!L40 -> 0 | E96: ='Mois 1'!M40 -> 0 | F96: ='Mois 1'!N40 -> 0 | G96: ='Mois 1'!O40 -> 0 | H96: ='Mois 1'!I50 -> 0 | I96: ='Mois 1'!J50 -> 0 | J96: ='Mois 1'!K50 -> 0 | K96: ='Mois 1'!L50 -> 0 | L96: ='Mois 1'!M50 -> 0 | M96: ='Mois 1'!N50 -> 0 | N96: ='Mois 1'!O50 -> 0 | O96: ='Mois 1'!I60 -> 0 | P96: ='Mois 1'!J60 -> 0 | Q96: ='Mois 1'!K60 -> 0 | R96: ='Mois 1'!L60 -> 0 | S96: ='Mois 1'!M60 -> 0 | T96: ='Mois 1'!N60 -> 0 | U96: ='Mois 1'!O60 -> 0
A97: ='Mois 1'!I41 -> 0 | B97: ='Mois 1'!J41 -> 0 | C97: ='Mois 1'!K41 -> 0 | D97: ='Mois 1'!L41 -> 0 | E97: ='Mois 1'!M41 -> 0 | F97: ='Mois 1'!N41 -> 0 | G97: ='Mois 1'!O41 -> 0 | H97: ='Mois 1'!I51 -> 0 | I97: ='Mois 1'!J51 -> 0 | J97: ='Mois 1'!K51 -> 0 | K97: ='Mois 1'!L51 -> 0 | L97: ='Mois 1'!M51 -> 0 | M97: ='Mois 1'!N51 -> 0 | N97: ='Mois 1'!O51 -> 0 | O97: ='Mois 1'!I61 -> 0 | P97: ='Mois 1'!J61 -> 0 | Q97: ='Mois 1'!K61 -> 0 | R97: ='Mois 1'!L61 -> 0 | S97: ='Mois 1'!M61 -> 0 | T97: ='Mois 1'!N61 -> 0 | U97: ='Mois 1'!O61 -> 0
A98: =A74 -> Nicolas | H98: =H74 -> Claudia | O98: =O74 -> Tamara
A99: =A32 -> 44753 | B99: =B32 -> 44754 | C99: =C32 -> 44755 | D99: =D32 -> 44756 | E99: =E32 -> 44757 | F99: =F32 -> 44758 | G99: =G32 -> 44759 | H99: =H87+7 -> 44753 | I99: =I87+7 -> 44754 | J99: =J87+7 -> 44755 | K99: =K87+7 -> 44756 | L99: =L87+7 -> 44757 | M99: =M87+7 -> 44758 | N99: =N87+7 -> 44759 | O99: =O87+7 -> 44753 | ... U99: =U87+7 -> 44759
A100: ='Mois 1'!P32 -> 0 | B100: ='Mois 1'!Q32 -> 0 | C100: ='Mois 1'!R32 -> 0 | D100: ='Mois 1'!S32 -> 0 | E100: ='Mois 1'!T32 -> 0 | F100: ='Mois 1'!U32 -> 0 | G100: ='Mois 1'!V32 -> 0 | H100: ='Mois 1'!P42 -> 0 | I100: ='Mois 1'!Q42 -> 0 | J100: ='Mois 1'!R42 -> 0 | K100: ='Mois 1'!S42 -> 0 | L100: ='Mois 1'!T42 -> 0 | M100: ='Mois 1'!U42 -> 0 | N100: ='Mois 1'!V42 -> 0 | O100: ='Mois 1'!P52 -> 0 | P100: ='Mois 1'!Q52 -> 0 | Q100: ='Mois 1'!R52 -> 0 | R100: ='Mois 1'!S52 -> 0 | S100: ='Mois 1'!T52 -> 0 | T100: ='Mois 1'!U52 -> 0 | U100: ='Mois 1'!V52 -> 0
A101: ='Mois 1'!P33 -> 0 | B101: ='Mois 1'!Q33 -> 0 | C101: ='Mois 1'!R33 -> 0 | D101: ='Mois 1'!S33 -> 0 | E101: ='Mois 1'!T33 -> 0 | F101: ='Mois 1'!U33 -> 0 | G101: ='Mois 1'!V33 -> 0 | H101: ='Mois 1'!P43 -> 0 | I101: ='Mois 1'!Q43 -> 0 | J101: ='Mois 1'!R43 -> 0 | K101: ='Mois 1'!S43 -> 0 | L101: ='Mois 1'!T43 -> 0 | M101: ='Mois 1'!U43 -> 0 | N101: ='Mois 1'!V43 -> 0 | O101: ='Mois 1'!P53 -> 0 | P101: ='Mois 1'!Q53 -> 0 | Q101: ='Mois 1'!R53 -> 0 | R101: ='Mois 1'!S53 -> 0 | S101: ='Mois 1'!T53 -> 0 | T101: ='Mois 1'!U53 -> 0 | U101: ='Mois 1'!V53 -> 0
A102: ='Mois 1'!P34 -> 0 | B102: ='Mois 1'!Q34 -> 0 | C102: ='Mois 1'!R34 -> 0 | D102: ='Mois 1'!S34 -> 0 | E102: ='Mois 1'!T34 -> 0 | F102: ='Mois 1'!U34 -> 0 | G102: ='Mois 1'!V34 -> 0 | H102: ='Mois 1'!P44 -> 0 | I102: ='Mois 1'!Q44 -> 0 | J102: ='Mois 1'!R44 -> 0 | K102: ='Mois 1'!S44 -> 0 | L102: ='Mois 1'!T44 -> 0 | M102: ='Mois 1'!U44 -> 0 | N102: ='Mois 1'!V44 -> 0 | O102: ='Mois 1'!P54 -> 0 | P102: ='Mois 1'!Q54 -> 0 | Q102: ='Mois 1'!R54 -> 0 | R102: ='Mois 1'!S54 -> 0 | S102: ='Mois 1'!T54 -> 0 | T102: ='Mois 1'!U54 -> 0 | U102: ='Mois 1'!V54 -> 0
A103: ='Mois 1'!P35 -> 0 | B103: ='Mois 1'!Q35 -> 0 | C103: ='Mois 1'!R35 -> 0 | D103: ='Mois 1'!S35 -> 0 | E103: ='Mois 1'!T35 -> 0 | F103: ='Mois 1'!U35 -> 0 | G103: ='Mois 1'!V35 -> 0 | H103: ='Mois 1'!P45 -> 0 | I103: ='Mois 1'!Q45 -> 0 | J103: ='Mois 1'!R45 -> 0 | K103: ='Mois 1'!S45 -> 0 | L103: ='Mois 1'!T45 -> 0 | M103: ='Mois 1'!U45 -> 0 | N103: ='Mois 1'!V45 -> 0 | O103: ='Mois 1'!P55 -> 0 | P103: ='Mois 1'!Q55 -> 0 | Q103: ='Mois 1'!R55 -> 0 | R103: ='Mois 1'!S55 -> 0 | S103: ='Mois 1'!T55 -> 0 | T103: ='Mois 1'!U55 -> 0 | U103: ='Mois 1'!V55 -> 0
A104: ='Mois 1'!P36 -> 0 | B104: ='Mois 1'!Q36 -> 0 | C104: ='Mois 1'!R36 -> 0 | D104: ='Mois 1'!S36 -> 0 | E104: ='Mois 1'!T36 -> 0 | F104: ='Mois 1'!U36 -> 0 | G104: ='Mois 1'!V36 -> 0 | H104: ='Mois 1'!P46 -> 0 | I104: ='Mois 1'!Q46 -> 0 | J104: ='Mois 1'!R46 -> 0 | K104: ='Mois 1'!S46 -> 0 | L104: ='Mois 1'!T46 -> 0 | M104: ='Mois 1'!U46 -> 0 | N104: ='Mois 1'!V46 -> 0 | O104: ='Mois 1'!P56 -> 0 | P104: ='Mois 1'!Q56 -> 0 | Q104: ='Mois 1'!R56 -> 0 | R104: ='Mois 1'!S56 -> 0 | S104: ='Mois 1'!T56 -> 0 | T104: ='Mois 1'!U56 -> 0 | U104: ='Mois 1'!V56 -> 0
A105: ='Mois 1'!P37 -> 0 | B105: ='Mois 1'!Q37 -> 0 | C105: ='Mois 1'!R37 -> 0 | D105: ='Mois 1'!S37 -> 0 | E105: ='Mois 1'!T37 -> 0 | F105: ='Mois 1'!U37 -> 0 | G105: ='Mois 1'!V37 -> 0 | H105: ='Mois 1'!P47 -> 0 | I105: ='Mois 1'!Q47 -> 0 | J105: ='Mois 1'!R47 -> 0 | K105: ='Mois 1'!S47 -> 0 | L105: ='Mois 1'!T47 -> 0 | M105: ='Mois 1'!U47 -> 0 | N105: ='Mois 1'!V47 -> 0 | O105: ='Mois 1'!P57 -> 0 | P105: ='Mois 1'!Q57 -> 0 | Q105: ='Mois 1'!R57 -> 0 | R105: ='Mois 1'!S57 -> 0 | S105: ='Mois 1'!T57 -> 0 | T105: ='Mois 1'!U57 -> 0 | U105: ='Mois 1'!V57 -> 0
A106: ='Mois 1'!P38 -> 0 | B106: ='Mois 1'!Q38 -> 0 | C106: ='Mois 1'!R38 -> 0 | D106: ='Mois 1'!S38 -> 0 | E106: ='Mois 1'!T38 -> 0 | F106: ='Mois 1'!U38 -> 0 | G106: ='Mois 1'!V38 -> 0 | H106: ='Mois 1'!P48 -> 0 | I106: ='Mois 1'!Q48 -> 0 | J106: ='Mois 1'!R48 -> 0 | K106: ='Mois 1'!S48 -> 0 | L106: ='Mois 1'!T48 -> 0 | M106: ='Mois 1'!U48 -> 0 | N106: ='Mois 1'!V48 -> 0 | O106: ='Mois 1'!P58 -> 0 | P106: ='Mois 1'!Q58 -> 0 | Q106: ='Mois 1'!R58 -> 0 | R106: ='Mois 1'!S58 -> 0 | S106: ='Mois 1'!T58 -> 0 | T106: ='Mois 1'!U58 -> 0 | U106: ='Mois 1'!V58 -> 0
A107: ='Mois 1'!P39 -> 0 | B107: ='Mois 1'!Q39 -> 0 | C107: ='Mois 1'!R39 -> 0 | D107: ='Mois 1'!S39 -> 0 | E107: ='Mois 1'!T39 -> 0 | F107: ='Mois 1'!U39 -> 0 | G107: ='Mois 1'!V39 -> 0 | H107: ='Mois 1'!P49 -> 0 | I107: ='Mois 1'!Q49 -> 0 | J107: ='Mois 1'!R49 -> 0 | K107: ='Mois 1'!S49 -> 0 | L107: ='Mois 1'!T49 -> 0 | M107: ='Mois 1'!U49 -> 0 | N107: ='Mois 1'!V49 -> 0 | O107: ='Mois 1'!P59 -> 0 | P107: ='Mois 1'!Q59 -> 0 | Q107: ='Mois 1'!R59 -> 0 | R107: ='Mois 1'!S59 -> 0 | S107: ='Mois 1'!T59 -> 0 | T107: ='Mois 1'!U59 -> 0 | U107: ='Mois 1'!V59 -> 0
A108: ='Mois 1'!P40 -> 0 | B108: ='Mois 1'!Q40 -> 0 | C108: ='Mois 1'!R40 -> 0 | D108: ='Mois 1'!S40 -> 0 | E108: ='Mois 1'!T40 -> 0 | F108: ='Mois 1'!U40 -> 0 | G108: ='Mois 1'!V40 -> 0 | H108: ='Mois 1'!P50 -> 0 | I108: ='Mois 1'!Q50 -> 0 | J108: ='Mois 1'!R50 -> 0 | K108: ='Mois 1'!S50 -> 0 | L108: ='Mois 1'!T50 -> 0 | M108: ='Mois 1'!U50 -> 0 | N108: ='Mois 1'!V50 -> 0 | O108: ='Mois 1'!P60 -> 0 | P108: ='Mois 1'!Q60 -> 0 | Q108: ='Mois 1'!R60 -> 0 | R108: ='Mois 1'!S60 -> 0 | S108: ='Mois 1'!T60 -> 0 | T108: ='Mois 1'!U60 -> 0 | U108: ='Mois 1'!V60 -> 0
A109: ='Mois 1'!P41 -> 0 | B109: ='Mois 1'!Q41 -> 0 | C109: ='Mois 1'!R41 -> 0 | D109: ='Mois 1'!S41 -> 0 | E109: ='Mois 1'!T41 -> 0 | F109: ='Mois 1'!U41 -> 0 | G109: ='Mois 1'!V41 -> 0 | H109: ='Mois 1'!P51 -> 0 | I109: ='Mois 1'!Q51 -> 0 | J109: ='Mois 1'!R51 -> 0 | K109: ='Mois 1'!S51 -> 0 | L109: ='Mois 1'!T51 -> 0 | M109: ='Mois 1'!U51 -> 0 | N109: ='Mois 1'!V51 -> 0 | O109: ='Mois 1'!P61 -> 0 | P109: ='Mois 1'!Q61 -> 0 | Q109: ='Mois 1'!R61 -> 0 | R109: ='Mois 1'!S61 -> 0 | S109: ='Mois 1'!T61 -> 0 | T109: ='Mois 1'!U61 -> 0 | U109: ='Mois 1'!V61 -> 0
A110: =A74 -> Nicolas | H110: =H74 -> Claudia | O110: =O74 -> Tamara
A111: =A99+7 -> 44760 | B111: =B99+7 -> 44761 | C111: =C99+7 -> 44762 | D111: =D99+7 -> 44763 | E111: =E99+7 -> 44764 | F111: =F99+7 -> 44765 | G111: =G99+7 -> 44766 | H111: =H99+7 -> 44760 | ... U111: =U99+7 -> 44766
...
