Workbook
Name _Feries: Tableau3[2023]
Name fériés: OFFSET(Paramètres!#REF!,,,COUNTA(Paramètres!#REF!)-1)

Sheet BDD_PRESTA_ESTIME&REEL
I1: estimé | J1: facturé | K1: estimé | L1: facturé | M1: estimé | N1: facturé | O1: estimé | P1: facturé | Q1: estimé | R1: facturé | S1: estimé | T1: facturé | U1: estimé | V1: facturé | W1: estimé | Z1: Total
B2: Projet | C2: PO | D2: Société | E2: Prestataires | F2: Début | G2: Fin | H2: Reliquat 2022 | I2: TJM | J2: janvier2 | K2: janvier | L2: février2 | M2: février | N2: mars2 | O2: mars | P2: avril2 | Q2: avril | R2: mai2 | S2: mai | T2: juin2 | U2: juin | V2: juillet2 | W2: juillet | X2: août | Y2: Total
B3: 11610356 | C3: 12345 | D3: ACT | E3: ET | F3: 44928 | G3: 44957 | H3: 0 | I3: 653 | J3: =PLANNING_PRESTA!$G2*PLANNING_PRESTA!N2 -> 2612 | K3: 14366 | L3: =PLANNING_PRESTA!$G2*PLANNING_PRESTA!P2 -> 0 | N3: =PLANNING_PRESTA!$G2*PLANNING_PRESTA!R2 -> 0 | P3: =PLANNING_PRESTA!$G2*PLANNING_PRESTA!T2 -> 0 | R3: =PLANNING_PRESTA!$G2*PLANNING_PRESTA!V2 -> 0 | T3: =PLANNING_PRESTA!$G2*PLANNING_PRESTA!X2 -> 0 | V3: =PLANNING_PRESTA!$G2*PLANNING_PRESTA!Z2 -> 0 | Y3: 14366
B4: 600716 | C4: 1398 | D4: ACT | E4: CM | F4: 44978 | G4: 45010 | H4: 22 | I4: 448 | J4: =PLANNING_PRESTA!$G3*PLANNING_PRESTA!N3 -> 0 | L4: =PLANNING_PRESTA!$G3*PLANNING_PRESTA!P3 -> 5824 | M4: 2688 | N4: =PLANNING_PRESTA!$G3*PLANNING_PRESTA!R3 -> 0 | O4: 8064 | P4: =PLANNING_PRESTA!$G3*PLANNING_PRESTA!T3 -> 0 | R4: =PLANNING_PRESTA!$G3*PLANNING_PRESTA!V3 -> 0 | T4: =PLANNING_PRESTA!$G3*PLANNING_PRESTA!X3 -> 0 | V4: =PLANNING_PRESTA!$G3*PLANNING_PRESTA!Z3 -> 0 | Y4: 10752
B5: 601000 | C5: 31443 | D5: ACT | E5: EP | F5: 45028 | G5: 45161 | H5: 0 | I5: 515 | J5: =PLANNING_PRESTA!$G4*PLANNING_PRESTA!N4 -> 0 | L5: =PLANNING_PRESTA!$G4*PLANNING_PRESTA!P4 -> 0 | N5: =PLANNING_PRESTA!$G4*PLANNING_PRESTA!R4 -> 0 | P5: =PLANNING_PRESTA!$G4*PLANNING_PRESTA!T4 -> 0 | Q5: 6695 | R5: =PLANNING_PRESTA!$G4*PLANNING_PRESTA!V4 -> 0 | S5: 9785 | T5: =PLANNING_PRESTA!$G4*PLANNING_PRESTA!X4 -> 0 | U5: 11330 | V5: =PLANNING_PRESTA!$G4*PLANNING_PRESTA!Z4 -> 0 | W5: 10300 | X5: 8240 | Y5: 46350
B6: 601006 | C6: 53337 | D6: ACT | E6: MU | F6: 45029 | G6: 45162 | H6: 0 | I6: 493 | J6: =PLANNING_PRESTA!$G5*PLANNING_PRESTA!N5 -> 0 | L6: =PLANNING_PRESTA!$G5*PLANNING_PRESTA!P5 -> 0 | N6: =PLANNING_PRESTA!$G5*PLANNING_PRESTA!R5 -> 0 | P6: =PLANNING_PRESTA!$G5*PLANNING_PRESTA!T5 -> 0 | Q6: 5916 | R6: =PLANNING_PRESTA!$G5*PLANNING_PRESTA!V5 -> 0 | S6: 9367 | T6: =PLANNING_PRESTA!$G5*PLANNING_PRESTA!X5 -> 0 | U6: 10846 | V6: =PLANNING_PRESTA!$G5*PLANNING_PRESTA!Z5 -> 0 | W6: 9860 | X6: 8381 | Y6: 44370
B7: 601006 | C7: 42390 | D7: ACT | E7: MU | F7: 44983 | G7: 45052 | H7: 24.5 | I7: 493 | J7: =PLANNING_PRESTA!$G7*PLANNING_PRESTA!N7 -> 0 | L7: =PLANNING_PRESTA!$G7*PLANNING_PRESTA!P7 -> 0 | M7: 986 | N7: =PLANNING_PRESTA!$G7*PLANNING_PRESTA!R7 -> 0 | O7: 11339 | P7: =PLANNING_PRESTA!$G7*PLANNING_PRESTA!T7 -> 0 | Q7: 9367 | R7: =PLANNING_PRESTA!$G7*PLANNING_PRESTA!V7 -> 0 | S7: 1725.5 | T7: =PLANNING_PRESTA!$G7*PLANNING_PRESTA!X7 -> 0 | V7: =PLANNING_PRESTA!$G7*PLANNING_PRESTA!Z7 -> 0 | Y7: 23417.5
B8: 601102 | C8: 9549 | D8: IOP | E8: CL | F8: 44952 | G8: 44988 | H8: 10 | I8: 474 | J8: =PLANNING_PRESTA!$G8*PLANNING_PRESTA!N8 -> 0 | K8: 1896 | L8: =PLANNING_PRESTA!$G8*PLANNING_PRESTA!P8 -> 0 | M8: 9480 | N8: =PLANNING_PRESTA!$G8*PLANNING_PRESTA!R8 -> 0 | O8: 1422 | P8: =PLANNING_PRESTA!$G8*PLANNING_PRESTA!T8 -> 0 | R8: =PLANNING_PRESTA!$G8*PLANNING_PRESTA!V8 -> 0 | T8: =PLANNING_PRESTA!$G8*PLANNING_PRESTA!X8 -> 0 | V8: =PLANNING_PRESTA!$G8*PLANNING_PRESTA!Z8 -> 0 | Y8: 12798
B9: 601000 | C9: 20496 | D9: OIOP | E9: EP | F9: 44961 | G9: 45042 | H9: 15 | I9: 515 | J9: =PLANNING_PRESTA!$G9*PLANNING_PRESTA!N9 -> 0 | L9: =PLANNING_PRESTA!$G9*PLANNING_PRESTA!P9 -> 0 | M9: 8755 | N9: =PLANNING_PRESTA!$G9*PLANNING_PRESTA!R9 -> 0 | O9: 11845 | P9: =PLANNING_PRESTA!$G9*PLANNING_PRESTA!T9 -> 0 | Q9: 8755 | R9: =PLANNING_PRESTA!$G9*PLANNING_PRESTA!V9 -> 0 | T9: =PLANNING_PRESTA!$G9*PLANNING_PRESTA!X9 -> 0 | V9: =PLANNING_PRESTA!$G9*PLANNING_PRESTA!Z9 -> 0 | Y9: 29355
B10: Total | K10: =SUBTOTAL(109,BDD_PRESTA_ESTIME3_2[janvier]) -> 16262 | M10: =SUBTOTAL(109,BDD_PRESTA_ESTIME3_2[février]) -> 21909 | O10: =SUBTOTAL(109,BDD_PRESTA_ESTIME3_2[mars]) -> 32670 | Q10: =SUBTOTAL(109,BDD_PRESTA_ESTIME3_2[avril]) -> 30733

Sheet PLANNING_PRESTA
A1: Projet | B1: PO | C1: Société | D1: Début | E1: Fin | F1: Prestataires | G1: TJM | H1: Jours prév | I1: Jours trav | J1: Jours rest | K1: Total | L1: Reliquat 2022 | M1: prév Janv | N1: Facturé Janv | O1: prév Fév | P1: Facturé Fév | Q1: Prév Mars | R1: Facturé Mars | S1: Prév Avr | T1: Facturé Avr | U1: Prév Mai | V1: Reçu Mai | W1: Prév Juin | X1: Reçu Juin | Y1: Prév Juil | Z1: Reçu Juil | AA1: Prév Août | AB1: Reçu Août | AC1: Prév Sept | AD1: Reçu Sept | AE1: Prév Oct | AF1: Reçu Oct | AG1: Prév Nov | AH1: Reçu Nov | AI1: Prév Déc | AJ1: Reçu Déc
A2: 11610356 | B2: 12345 | C2: ACT | D2: 44928 | E2: =WORKDAY.INTL(BDD_PRESTA_ESTIME3[[#This Row],[Début]]-1,BDD_PRESTA_ESTIME3[[#This Row],[Jours prév]],1,_Feries) -> 44957 | F2: ET | G2: 653 | H2: 22 | I2: =SUM(BDD_PRESTA_ESTIME3[[#This Row],[Facturé Janv]:[Prév Déc]]) -> 4 | J2: =BDD_PRESTA_ESTIME3[[#This Row],[Jours prév]]-BDD_PRESTA_ESTIME3[[#This Row],[Jours trav]] -> 18 | K2: =BDD_PRESTA_ESTIME3[[#This Row],[Jours prév]]*BDD_PRESTA_ESTIME3[[#This Row],[TJM]] -> 14366 | N2: 4
A3: 600716 | B3: 1398 | C3: ACT | D3: 44956 | E3: =WORKDAY.INTL(BDD_PRESTA_ESTIME3[[#This Row],[Début]]-1,BDD_PRESTA_ESTIME3[[#This Row],[Jours prév]],1,_Feries) -> 44988 | F3: CM | G3: 448 | H3: 25 | I3: =SUM(BDD_PRESTA_ESTIME3[[#This Row],[Facturé Janv]:[Prév Déc]]) -> 13 | J3: =BDD_PRESTA_ESTIME3[[#This Row],[Jours prév]]-BDD_PRESTA_ESTIME3[[#This Row],[Jours trav]] -> 12 | K3: =BDD_PRESTA_ESTIME3[[#This Row],[Jours prév]]*BDD_PRESTA_ESTIME3[[#This Row],[TJM]] -> 11200 | L3: 22 | P3: 13
A4: 601102 | B4: 9549 | C4: IOP | D4: 44942 | E4: =WORKDAY.INTL(BDD_PRESTA_ESTIME3[[#This Row],[Début]]-1,BDD_PRESTA_ESTIME3[[#This Row],[Jours prév]],1,_Feries) -> 44978 | F4: CL | G4: 474 | H4: 27 | I4: =SUM(BDD_PRESTA_ESTIME3[[#This Row],[Facturé Janv]:[Prév Déc]]) -> 0 | J4: =BDD_PRESTA_ESTIME3[[#This Row],[Jours prév]]-BDD_PRESTA_ESTIME3[[#This Row],[Jours trav]] -> 27 | K4: =BDD_PRESTA_ESTIME3[[#This Row],[Jours prév]]*BDD_PRESTA_ESTIME3[[#This Row],[TJM]] -> 12798 | L4: 10
A5: 601000 | B5: 20496 | C5: OIOP | D5: 44946 | E5: =WORKDAY.INTL(BDD_PRESTA_ESTIME3[[#This Row],[Début]]-1,BDD_PRESTA_ESTIME3[[#This Row],[Jours prév]],1,_Feries) -> 45027 | F5: EP | G5: 515 | H5: 57 | I5: =SUM(BDD_PRESTA_ESTIME3[[#This Row],[Facturé Janv]:[Prév Déc]]) -> 0 | J5: =BDD_PRESTA_ESTIME3[[#This Row],[Jours prév]]-BDD_PRESTA_ESTIME3[[#This Row],[Jours trav]] -> 57 | K5: =BDD_PRESTA_ESTIME3[[#This Row],[Jours prév]]*BDD_PRESTA_ESTIME3[[#This Row],[TJM]] -> 29355 | L5: 15
A6: 601000 | B6: 4444 | C6: ESSAI | D6: 44938 | E6: 45199 | F6: ESSAI | I6: =SUM(#REF!) -> #REF! | J6: =BDD_PRESTA_ESTIME3[[#This Row],[Jours prév]]-BDD_PRESTA_ESTIME3[[#This Row],[Jours trav]] -> #REF! | K6: 31240.37 | M6: 5355.74 | O6: 3124.04 | Q6: 3124.04 | S6: 3124.04 | U6: 3124.04 | W6: 3124.04 | AA6: 3124.04
A7: 601000 | B7: 31443 | C7: ACT | D7: 45028 | E7: =WORKDAY.INTL(BDD_PRESTA_ESTIME3[[#This Row],[Début]]-1,BDD_PRESTA_ESTIME3[[#This Row],[Jours prév]],1,_Feries) -> 45161 | F7: EP | G7: 515 | H7: 90 | I7: =SUM(BDD_PRESTA_ESTIME3[[#This Row],[Facturé Janv]:[Prév Déc]]) -> 0 | J7: =BDD_PRESTA_ESTIME3[[#This Row],[Jours prév]]-BDD_PRESTA_ESTIME3[[#This Row],[Jours trav]] -> 90 | K7: =BDD_PRESTA_ESTIME3[[#This Row],[Jours prév]]*BDD_PRESTA_ESTIME3[[#This Row],[TJM]] -> 46350
A8: 601006 | B8: 42390 | C8: ACT | D8: 44959 | E8: =WORKDAY.INTL(BDD_PRESTA_ESTIME3[[#This Row],[Début]]-1,BDD_PRESTA_ESTIME3[[#This Row],[Jours prév]],1,_Feries) -> 45028 | F8: MU | G8: 493 | H8: 49 | I8: =SUM(BDD_PRESTA_ESTIME3[[#This Row],[Facturé Janv]:[Prév Déc]]) -> 0 | J8: =BDD_PRESTA_ESTIME3[[#This Row],[Jours prév]]-BDD_PRESTA_ESTIME3[[#This Row],[Jours trav]] -> 49 | K8: =BDD_PRESTA_ESTIME3[[#This Row],[Jours prév]]*BDD_PRESTA_ESTIME3[[#This Row],[TJM]] -> 24157 | L8: 24.5
A9: 601006 | B9: 53337 | C9: ACT | D9: 45029 | E9: =WORKDAY.INTL(BDD_PRESTA_ESTIME3[[#This Row],[Début]]-1,BDD_PRESTA_ESTIME3[[#This Row],[Jours prév]],1,_Feries) -> 45162 | F9: MU | G9: 493 | H9: 90 | I9: =SUM(BDD_PRESTA_ESTIME3[[#This Row],[Facturé Janv]:[Prév Déc]]) -> 0 | J9: =BDD_PRESTA_ESTIME3[[#This Row],[Jours prév]]-BDD_PRESTA_ESTIME3[[#This Row],[Jours trav]] -> 90 | K9: =BDD_PRESTA_ESTIME3[[#This Row],[Jours prév]]*BDD_PRESTA_ESTIME3[[#This Row],[TJM]] -> 44370

Sheet PLANNING_MAT
A1: Projet | B1: PO | C1: Société | D1: Début | E1: Fin | F1: Prestation | G1: prév Janv | H1: Facturé Janv | I1: prév Fév | J1: Facturé Fév | K1: Prév Mars | L1: Facturé Mars | M1: Prév Avr | N1: Facturé Avr | O1: Prév Mai | P1: Reçu Mai | Q1: Prév Juin | R1: Reçu Juin | S1: Prév Juil | T1: Reçu Juil | U1: Prév Août | V1: Reçu Août | W1: Prév Sept | X1: Reçu Sept | Y1: Prév Oct | Z1: Reçu Oct | AA1: Prév Nov | AB1: Reçu Nov | AC1: Prév Déc | AD1: Reçu Déc
A2: 601000 | B2: 4444 | C2: ESSAI | D2: 44938 | E2: 45199 | F2: ESSAI | G2: 5355.74 | I2: 3124.04 | K2: 3124.04 | M2: 3124.04 | O2: 3124.04 | Q2: 3124.04 | U2: 3124.04

Sheet Paramètres
B2: Jours Fériés | C2: 2023
B3: Jour de l'An | C3: =DATE($C$2,1,1) -> 44927 | E3: https://forum.excel-pratique.com/excel/tcd-automatique-mois-par-mois-179744
B4: Pâques | C4: =FLOOR(DAY(MINUTE($C$2/38)/2+56)&"/5/"&$C$2,7)-34 -> 45025
B5: Lundi de Pâques | C5: =C4+1 -> 45026
B6: Fête du travail | C6: =DATE($C$2,5,1) -> 45047
B7: Armistice 1945 | C7: =DATE($C$2,5,8) -> 45054
B8: Ascension | C8: =C4+39 -> 45064
B9: Pentecôte | C9: =C4+49 -> 45074
B10: Lundi de Pentecôte | C10: =C4+50 -> 45075
B11: Fête nationale | C11: =DATE($C$2,7,14) -> 45121
B12: Assomption | C12: =DATE($C$2,8,15) -> 45153
B13: Toussaint | C13: =DATE($C$2,11,1) -> 45231
B14: Armistice 1918 | C14: =DATE($C$2,11,11) -> 45241
B15: Noël | C15: =DATE($C$2,12,25) -> 45285

Sheet Liste déroulante
A1: Colonne1
A2: 601004 - PAS-X
A3: 601000 - SAP 4 HANA
A4: 601079 - Modernisation B80 L2 - 2022
A5: 601005 - INFRA IT
A6: 601007 - GLIMS
A7: 601008 - EMPOWER
A8: 600716 - Equipement Production OFM
A9: 601072 - PILOTAGE
A10: 601006 - MASTER CONTROL
A11: 601009 - ONGUARD
A12: 601006 - MASTER CONTROL
A13: 601068 - PROCAL
