Workbook

Sheet onglet 1
A2: N° Projet | B2: N°Commande | C2: Société | D2: Début | E2: Fin | F2: Prestataires | G2: TJM | H2: Jours estimés | I2: Jours travaillés | J2: Jours restants | K2: Total | L2: Reliquat 2022 | M2: estimé Janvier | N2: Reçu Janvier2 | O2: estimée Février | P2: Reçu Février2 | Q2: Mars | R2: Avril | S2: Mai | T2: Juin | U2: Juillet | V2: Août | W2: Septembre | X2: Octobre | Y2: Novembre | Z2: Décembre
A3: 60001 | B3: 1161-01926 | C3: BIDULE | D3: 44928 | F3: ETU | G3: 637 | H3: 44 | I3: =SUM(BDD_PRESTA_ESTIME3[[#This Row],[estimé Janvier]:[Décembre]]) -> 37 | J3: =BDD_PRESTA_ESTIME3[[#This Row],[Jours estimés]]-BDD_PRESTA_ESTIME3[[#This Row],[Jours travaillés ]] -> 7 | K3: =BDD_PRESTA_ESTIME3[[#This Row],[Jours estimés]]*BDD_PRESTA_ESTIME3[[#This Row],[TJM]] -> 28028 | L3: 14 | M3: 15 | N3: 22
A4: 60004 | B4: 1161-01927 | C4: MACHIN | D4: 44958 | F4: CME | G4: 448 | H4: 25 | I4: =SUM(BDD_PRESTA_ESTIME3[[#This Row],[estimé Janvier]:[Décembre]]) -> 0 | J4: =BDD_PRESTA_ESTIME3[[#This Row],[Jours estimés]]-BDD_PRESTA_ESTIME3[[#This Row],[Jours travaillés ]] -> 25 | K4: =BDD_PRESTA_ESTIME3[[#This Row],[Jours estimés]]*BDD_PRESTA_ESTIME3[[#This Row],[TJM]] -> 11200 | L4: 22
A5: 60006 | B5: 1161-01928 | C5: CHOSE | D5: 44942 | F5: CLA | G5: 474 | H5: 27 | I5: =SUM(BDD_PRESTA_ESTIME3[[#This Row],[estimé Janvier]:[Décembre]]) -> 0 | J5: =BDD_PRESTA_ESTIME3[[#This Row],[Jours estimés]]-BDD_PRESTA_ESTIME3[[#This Row],[Jours travaillés ]] -> 27 | K5: =BDD_PRESTA_ESTIME3[[#This Row],[Jours estimés]]*BDD_PRESTA_ESTIME3[[#This Row],[TJM]] -> 12798 | L5: 10
A6: 60008 | B6: 1161-01929 | C6: TRUC | D6: 44942 | F6: EPE | G6: 515 | H6: 57 | I6: =SUM(BDD_PRESTA_ESTIME3[[#This Row],[estimé Janvier]:[Décembre]]) -> 0 | J6: =BDD_PRESTA_ESTIME3[[#This Row],[Jours estimés]]-BDD_PRESTA_ESTIME3[[#This Row],[Jours travaillés ]] -> 57 | K6: =BDD_PRESTA_ESTIME3[[#This Row],[Jours estimés]]*BDD_PRESTA_ESTIME3[[#This Row],[TJM]] -> 29355 | L6: 15
A7: 60011 | B7: 1161-01930 | C7: BIDULE | D7: 44942 | F7: MUN | G7: 493 | H7: 49 | I7: =SUM(BDD_PRESTA_ESTIME3[[#This Row],[estimé Janvier]:[Décembre]]) -> 0 | J7: =BDD_PRESTA_ESTIME3[[#This Row],[Jours estimés]]-BDD_PRESTA_ESTIME3[[#This Row],[Jours travaillés ]] -> 49 | K7: =BDD_PRESTA_ESTIME3[[#This Row],[Jours estimés]]*BDD_PRESTA_ESTIME3[[#This Row],[TJM]] -> 24157 | L7: 24.5
A8: 60013 | B8: 1161-01931 | C8: MACHIN | D8: 44942 | F8: NVE | G8: 468 | H8: 29 | I8: =SUM(BDD_PRESTA_ESTIME3[[#This Row],[estimé Janvier]:[Décembre]]) -> 0 | J8: =BDD_PRESTA_ESTIME3[[#This Row],[Jours estimés]]-BDD_PRESTA_ESTIME3[[#This Row],[Jours travaillés ]] -> 29 | K8: =BDD_PRESTA_ESTIME3[[#This Row],[Jours estimés]]*BDD_PRESTA_ESTIME3[[#This Row],[TJM]] -> 13572 | L8: 18
A9: 60006 | B9: 1161-01932 | C9: CHOSE | D9: 44928 | F9: SAL | G9: 558 | H9: 23 | I9: =SUM(BDD_PRESTA_ESTIME3[[#This Row],[estimé Janvier]:[Décembre]]) -> 0 | J9: =BDD_PRESTA_ESTIME3[[#This Row],[Jours estimés]]-BDD_PRESTA_ESTIME3[[#This Row],[Jours travaillés ]] -> 23 | L9: 11.5
A10: 60008 | B10: 1161-01933 | C10: BIDULE | D10: 44928 | F10: LDU | G10: 325 | H10: 43 | I10: =SUM(BDD_PRESTA_ESTIME3[[#This Row],[estimé Janvier]:[Décembre]]) -> 0 | J10: =BDD_PRESTA_ESTIME3[[#This Row],[Jours estimés]]-BDD_PRESTA_ESTIME3[[#This Row],[Jours travaillés ]] -> 43 | L10: 12
A11: 60011 | B11: 1161-01934 | C11: MACHIN | D11: 44928 | F11: ASA | G11: 490 | H11: 44 | I11: =SUM(BDD_PRESTA_ESTIME3[[#This Row],[estimé Janvier]:[Décembre]]) -> 0 | J11: =BDD_PRESTA_ESTIME3[[#This Row],[Jours estimés]]-BDD_PRESTA_ESTIME3[[#This Row],[Jours travaillés ]] -> 44 | K11: =BDD_PRESTA_ESTIME3[[#This Row],[Jours estimés]]*BDD_PRESTA_ESTIME3[[#This Row],[TJM]] -> 21560
A12: 60013 | B12: 1161-01935 | C12: CHOSE | D12: 44928 | F12: BRU | G12: 545 | H12: 56 | I12: =SUM(BDD_PRESTA_ESTIME3[[#This Row],[estimé Janvier]:[Décembre]]) -> 0 | J12: =BDD_PRESTA_ESTIME3[[#This Row],[Jours estimés]]-BDD_PRESTA_ESTIME3[[#This Row],[Jours travaillés ]] -> 56 | K12: =BDD_PRESTA_ESTIME3[[#This Row],[Jours restants]]*BDD_PRESTA_ESTIME3[[#This Row],[TJM]] -> 30520
A13: 60013 | B13: 1161-01936 | C13: BIDULE | D13: 44928 | F13: JLA | G13: 520 | H13: 22 | I13: =SUM(BDD_PRESTA_ESTIME3[[#This Row],[estimé Janvier]:[Décembre]]) -> 0 | J13: =BDD_PRESTA_ESTIME3[[#This Row],[Jours estimés]]-BDD_PRESTA_ESTIME3[[#This Row],[Jours travaillés ]] -> 22 | K13: 2730

Sheet Export données 
G2: Facturé
A3: N° Projet | B3: N°Commande | C3: Société | D3: Début | E3: Fin | F3: Prestataires | G3: Janvier | H3: Février | I3: Mars | J3: Avril | K3: Mai | L3: Juin | M3: Juillet | N3: Août | O3: Septembre | P3: Octobre | Q3: Novembre
A4: 60001 | B4: 1161-01926 | C4: BIDULE | D4: 44928 | F4: ETU
A5: 60004 | B5: 1161-01927 | C5: MACHIN | D5: 44958 | F5: CME
A6: 60006 | B6: 1161-01928 | C6: CHOSE | D6: 44942 | F6: CLA
A7: 60008 | B7: 1161-01929 | C7: TRUC | D7: 44942 | F7: EPE
A8: 60011 | B8: 1161-01930 | C8: BIDULE | D8: 44942 | F8: MUN
A9: 60013 | B9: 1161-01931 | C9: MACHIN | D9: 44942 | F9: NVE
A10: 60006 | B10: 1161-01932 | C10: CHOSE | D10: 44928 | F10: SAL
A11: 60008 | B11: 1161-01933 | C11: BIDULE | D11: 44928 | F11: LDU
A12: 60011 | B12: 1161-01934 | C12: MACHIN | D12: 44928 | F12: ASA
A13: 60013 | B13: 1161-01935 | C13: CHOSE | D13: 44928 | F13: BRU
A14: 60013 | B14: 1161-01936 | C14: BIDULE | D14: 44928 | F14: JLA

Sheet Jours fériés
C1: Jours Fériés | D1: Dates
C2: Jour de l'An | D2: 44927
C3: Lundi de Pâques | D3: 45026
C4: Fête du travail | D4: 45047
C5: Armistice 1945 | D5: 45054
C6: Ascension | D6: 45064
C7: Lundi de Pentecôte | D7: 45075
C8: Fête nationale | D8: 45121
C9: Assomption | D9: 45153
C10: Toussaint | D10: 45231
C11: Armistice 1918 | D11: 45241
C12: Noël | D12: 45285

Sheet Liste déroulante
A1: Colonne1
A2: 601004 - PAS-X
A3: 601000 - SAP 4 HANA
A4: 601079 - Modernisation B80 L2 - 2022
A5: 601005 - INFRA IT
A6: 601007 - GLIMS
A7: 601008 - EMPOWER
A8: 600716 - Equipement Production OFM
A9: 601072 - PILOTAGE
A10: 601006 - MASTER CONTROL
A11: 601009 - ONGUARD
A12: 601006 - MASTER CONTROL
A13: 601068 - PROCAL

Sheet Suivi Matériels 2022
A2: Budget | B2: PO | C2: Société | D2: Désignation | E2: Date création | F2: Date prévue | G2: Dernière Réc | H2: Total PO | I2: Fact PO | J2: Reste PO | K2: 44378 | L2: Aout 2021 | M2: 44440 | N2: 44470 | O2: 44501 | P2: 44531 | Q2: Janvier | R2: Février | S2: Mars | T2: Avril | U2: Mai | V2: Juin | W2: Juillet | X2: Août | Y2: Septembre | Z2: Octobre | AA2: Novembre | AB2: Décembre
A3: 601003 - STOCKWARE | B3: PO-21-1161-00047 | C3: ALSTEF | D3: Portage de la plateforme Stockware | E3: 44391 | F3: 44651 | G3: 44431 | H3: 161600 | I3: 64640 | J3: =H3-I3 -> 96960 | L3: 64640
A4: 601003 - STOCKWARE | B4: PO-22-1161-00162 | C4: ALSTEF | D4: Portage de la plateforme Stockware | E4: 44580 | F4: 44620 | H4: 34700
A5: 601006 - MASTER CONTROL | B5: 8103503267 | C5: APSALYS | D5: Formation MASTER CONTROL | E5: 44347 | F5: 44560 | G5: 44448 | H5: 5600 | I5: 5600 | J5: =H5-I5 -> 0
A6: 601006 - MASTER CONTROL | B6: PO-21-1161-00745 | C6: APSALYS | D6: Formation Processus et Gap Analysis | E6: 44506 | F6: 44565 | G6: 44554 | H6: 9374.5 | I6: 0 | J6: =H6-I6 -> 9374.5
A7: 601006 - MASTER CONTROL | B7: PO-21-1161-01103 | C7: APSALYS | D7: Initiation Reprise (réunion avec support et rédaction protocole) | E7: 44551 | F7: 44591 | H7: 3000 | I7: 0 | J7: =H7-I7 -> 3000 | Q7: 5111
A8: 601079 - Modernisation B80 L2 – 2022 | B8: PO-21-1161-01172 | C8: CEI2 | D8: Rédaction des IM SSC restants | E8: 44554 | F8: 44926 | G8: tout au long de l'année | H8: 25725 | I8: 0 | J8: =H8-I8 -> 25725
A9: 601079 - Modernisation B80 L2 – 2022 | B9: PO-21-1161-01171 | C9: CEI2 | D9: Suivi et surveillance des Galaxies | E9: 44554 | F9: 44926 | G9: tout au long de l'année | H9: 9135 | I9: 0 | J9: =H9-I9 -> 9135
A10: 601005 - INFRA IT | B10: 8103511932 | C10: CHEOPS | D10: Infrastructure de Sauvegarde V5 – HPE et VEEAM | E10: 44347 | F10: 44560 | G10: 44554 | H10: 111217 | I10: 111217 | J10: =H10-I10 -> 0
A11: 601005 - INFRA IT | B11: PO-21-1161-00832 | C11: CHEOPS | D11: Installation des upgrades mémoire sur les 4 serveurs en production | E11: 44519 | F11: 44550 | G11: 44554 | H11: 74142.72 | I11: 73242.72 | J11: =H11-I11 -> 900 | P11: 73242.72
A12: 601022 - B80: Sécurisation salle serveur | B12: PO-21-1161-00875 | C12: CF2C | D12: Climatisation réversible local info bâtiment 80 | E12: 44525 | F12: 44620 | G12: 44565 | H12: 5132.8 | I12: 5132.8 | J12: =H12-I12 -> 0 | P12: 5132.8
A13: 601004 - PAS-X | B13: PO-21-1161-00571 | C13: COURBON | D13: Portage de l'application MIRAIM (Suivi projet) | E13: 44482 | F13: 44834 | G13: 44494 | H13: 53900 | I13: 16170 | J13: =H13-I13 -> 37730 | N13: 16170
A14: 601009 - ONGUARD | B14: PO-21-1161-00039 | C14: DELTA SECURITE | D14: LICENCES LOGICIEL ONGUARD & MILESTONE | E14: 44390 | G14: 44564 | H14: 102300 | I14: 88600 | J14: =H14-I14 -> 13700 | K14: =33964.55+30690 -> 64654.55 | N14: 8145 | P14: 8145
A15: 600728 - BASEWARE | B15: 8103484676 | C15: DIMO SOFTWARE | D15: Mise enplace de BASWARE (demat compta fournisseur et remplacement SRM) | E15: 44316 | F15: 44560 | G15: 44554 | H15: 76740 | I15: 76740 | J15: =H15-I15 -> 0
A16: 600728 - BASEWARE | B16: PO-21-1161-00534 | C16: DIMO SOFTWARE | D16: Cadrage Migration SAP / Basware | E16: 44480 | F16: 44560 | G16: 44554 | H16: 4560 | I16: 4560 | J16: =H16-I16 -> 0 | M16: 250 | N16: 2560 | O16: 1250 | P16: 250
A17: 601000 - SAP 4 HANA | B17: PO-22-1161-00150 | C17: DIMO SOFTWARE | D17: Reprise interface BASWARE / SAP S4/HANA. | E17: 44580 | F17: 44681 | H17: 6095
A18: 601007 - GLIMS | B18: 8103472111 | C18: LABWARE | D18: Prestation Labware | E18: 44310 | F18: 44560 | G18: 44554 | H18: 4562 | I18: 4562 | J18: =H18-I18 -> 0
A19: 601007 - GLIMS | B19: PO-21-1161-00143 | C19: LABWARE | D19: FAREVA GLIMS installation | E19: 44407 | G19: 44554 | H19: 452610 | I19: 273922.5 | J19: =H19-I19 -> 178687.5 | K19: =234960+650+8500 -> 244110 | L19: 1687.5 | M19: 5325 | N19: 8300 | O19: 14687.5
A20: 601007 - GLIMS | B20: PO-21-1161-00722 | C20: LABWARE | D20: Prestation GLIMS | E20: 44533 | G20: 44519 | H20: 7500 | I20: 7500 | J20: =H20-I20 -> 0 | O20: 3750 | P20: 1500
A21: 601005 - INFRA IT | B21: 8103499922 | C21: ORACLE | D21: Licences Oracle Database Std Edition 2 | E21: 44310 | F21: 44560 | G21: 44390 | H21: 90505 | I21: 90504.77 | J21: =H21-I21 -> 0.23
A22: 601002 - PI | B22: 8103500571 | C22: OSISOFT | D22: Licences PI Software | E22: 44292 | F22: 44560 | G22: 44554 | H22: 240350 | I22: 240350 | J22: =H22-I22 -> 0
A23: 601068 - PROCAL | C23: PRIME TECHNOLOGIES | D23: ProCalV5 Single Concurrent User Licenses - Oracle or SQL Server Edition | E23: 44572 | G23: 44742 | H23: 59308 | I23: 39308 | J23: =H23-I23 -> 20000 | Q23: 39308
A24: 601005 - INFRA IT | B24: PO-21-1161-00954 | C24: SHI International SAS | D24: Minitab Statistical Software Annual Subscription 22 MONTH de décembre 2021 à novembre 2022 | E24: 44533 | F24: 44546 | G24: 44546 | H24: 19530 | I24: 19530 | J24: =H24-I24 -> 0 | P24: 19530
A25: 601005 - INFRA IT | B25: PO-21-1161-00683 | C25: SPIE ICS | D25: Matériels informatiques | E25: 44495 | F25: 44527 | G25: 44527 | H25: 17314.76 | I25: 17314.76 | J25: =H25-I25 -> 0 | O25: 17314.76
A26: 601005 - INFRA IT | B26: PO-21-1161-00832 | C26: CHEOPS | D26: Installation des upgrades mémoire sur les 4 serveurs en production | G26: 44536 | H26: 74142.72 | I26: 73242.72 | J26: =H26-I26 -> 900
A27: 601005 - INFRA IT | B27: PO-21-1161-01107 | C27: SPIE ICS | D27: CISCO ISR 4321 Bundle Licence | E27: 44551 | F27: 10/01/022 | G27: 44571 | H27: 1637.65 | J27: =H27-I27 -> 1637.65 | Q27: 1637.665
A28: 601004 - PAS-X | B28: PO-21-1161-00616 | C28: TEKLYNX | D28: Licence de test / Transition Codesoft MIRAIM | E28: 44487 | G28: 44545 | H28: 500 | I28: 500 | J28: =H28-I28 -> 0 | N28: 500
A29: 601008 - EMPOWER | B29: PO-22-1161-00190 | C29: AGILENT | D29: Kit LAN GC 6890 | E29: 44586 | H29: 2000
A30: 601008 - EMPOWER | B30: PO-22-1161-00149 | C30: WATERS | D30: prestation de migration de projets (jusqu’à 1 000 projets) | E30: 44573 | H30: 2688
A31: 601008 - EMPOWER | B31: PO-21-1161-00014 | C31: WATERS | D31: Empower Network | E31: 44384 | G31: 44538 | H31: 510407 | I31: 366666.4 | J31: =H31-I31 -> 143740.6 | K31: =62976.9+297307.4 -> 360284.3 | N31: 5262.4
A32: 601004 - PAS-X | B32: 8103451390 | C32: WERUM IT SOLUTIONS | D32: Pré-étude technique PAS-X | E32: 44292 | F32: 44560 | G32: 44554 | H32: 15995 | I32: 15995 | J32: =H32-I32 -> 0
A33: 601004 - PAS-X | B33: 8103497818 | C33: WERUM IT SOLUTIONS | D33: PAS-X Upgrade/Migration Fit Phase | E33: 44340 | F33: 44560 | G33: 44554 | H33: 46910 | I33: 46910 | J33: =H33-I33 -> 0
A34: 601004 - PAS-X | B34: PO-21-1161-00643 | C34: WERUM IT SOLUTIONS | D34: Upgrade PAS-X | E34: 44489 | G34: 44495 | H34: 7650 | I34: 7650 | J34: =H34-I34 -> 0 | N34: 7650
A35: 601004 - PAS-X | B35: PO-21-1161-00849 | C35: WERUM IT SOLUTIONS | D35: custo MSDCORE-1014 | E35: 44520 | F35: 44681 | G35: 44538 | H35: 132430 | I35: 29205 | J35: =H35-I35 -> 103225 | P35: 29205 | Q35: 34408.33

Sheet Engagés (Facturés) 2022
C1: 601004 - PAS-X | D1: 601000 - SAP 4 HANA | E1: 601005 - INFRA IT | F1: 601007 - GLIMS | G1: 601008 - EMPOWER | H1: 601072 - PILOTAGE | I1: 601006 - MASTER CONTROL | J1: 601009 - ONGUARD | K1: 601068 - PROCAL | L1: 601002 - PI | M1: 601003 - STOCKWARE
A2: engagées au 31/12/2021 | C2: 436510 | D2: 2420146 | E2: 1275306.7 | F2: 585263.66 | G2: 633341.6 | H2: 0 | I2: 407653.9 | J2: 182000 | K2: 0 | L2: 248150 | M2: 228210
A3: Enveloppe au 30/09/2021 | C3: =Enveloppes!B10 -> 523250 | D3: =Enveloppes!B5 -> 5517700 | E3: =Enveloppes!B21 -> 2300000 | F3: =Enveloppes!B15 -> 781750 | G3: =Enveloppes!B16 -> 775387 | H3: =Enveloppes!B24 -> 689900 | I3: =Enveloppes!B6 -> 367960 | J3: =Enveloppes!B17 -> 254300 | K3: =Enveloppes!B19 -> 152400 | L3: =Enveloppes!B12 -> 289750 | M3: =Enveloppes!B11 -> 220750
A4: Reste au 31/12/2021 | C4: {=C3-'Engagés (Facturés) 2022'!$C$2:$C$2} -> 86740 | D4: {=D3-'Engagés (Facturés) 2022'!$D$2:$D$2} -> 3097554 | E4: {=E3-'Engagés (Facturés) 2022'!$E$2:$E$2} -> 1024693.3 | F4: {=F3-'Engagés (Facturés) 2022'!$F$2:$F$2} -> 196486.34 | G4: {=G3-'Engagés (Facturés) 2022'!$G$2:$G$2} -> 142045.4 | H4: {=H3-'Engagés (Facturés) 2022'!$H$2:$H$2} -> 689900 | I4: {=I3-'Engagés (Facturés) 2022'!$I$2:$I$2} -> -39693.9 | J4: {=J3-'Engagés (Facturés) 2022'!$J$2:$J$2} -> 72300 | K4: {=K3-'Engagés (Facturés) 2022'!$K$2:$K$2} -> 152400 | L4: {=L3-'Engagés (Facturés) 2022'!$L$2:$L$2} -> 41600 | M4: {=M3-'Engagés (Facturés) 2022'!$M$2:$M$2} -> -7460
A5: Reste au 31/01/2022 | C5: =E16 -> 52331.67 | D5: =E17 -> 3097554 | E5: =E18 -> 1023055.7 | F5: =E19 -> 196486.34 | G5: =E20 -> 142045.4 | H5: =E21 -> 689900 | I5: =E22 -> -44804.9 | J5: =E23 -> 72300 | K5: =E24 -> 113092 | L5: =E25 -> 41600 | M5: =E26 -> -7460
A6: Reste au 28/02/2022 | C6: =H16 -> 0 | D6: =H17 -> 0 | E6: =H18 -> 0 | F6: =H19 -> 0 | G6: =H20 -> 0 | H6: =H21 -> 0 | I6: =H22 -> 0 | J6: =H23 -> 0 | K6: =H24 -> 0 | L6: =H25 -> 0 | M6: =H26 -> 0
A7: Reste au 31/03/2022 | C7: =K16 -> 0 | D7: =K17 -> 0 | E7: =K18 -> 0 | F7: =K19 -> 0 | G7: =K20 -> 0 | H7: =K21 -> 0 | I7: =K22 -> 0 | J7: =K23 -> 0 | K7: =K24 -> 0 | L7: =K25 -> 0 | M7: =K26 -> 0
A8: Reste au 30/04/2022 | C8: =N16 -> 0 | D8: =N17 -> 0 | E8: =N19 -> 0 | F8: =N19 -> 0 | G8: =N20 -> 0 | H8: =N21 -> 0 | I8: =N22 -> 0 | J8: =N23 -> 0 | K8: =N24 -> 0 | L8: =N25 -> 0 | M8: =N26 -> 0
A9: Reste au 31/05/2022
A10: Reste au 31/06/2022
A11: Reste au 30/07/2022
A12: Reste au 31/08/2022
A13: Reste au 30/09/2022
C14: Janvier | F14: Février | I14: Mars | L14: Avril | O14: Mai | R14: Juin | U14: Juillet | X14: Aout | AA14: Septembre | AE14: Total engagés | AF14: Reste | AG14: Total Septembre | AH14: Budget estimatif
A15: Projet Site | C15: engagés | D15: estimés | E15: restant | F15: engagés | G15: estimés | H15: restant | I15: engagés | J15: estimés | K15: restant | L15: engagés | M15: estimés | N15: restant | O15: engagés | P15: estimés | Q15: restant | R15: engagés | S15: estimés | T15: restant | U15: engagés | V15: estimés | W15: restant | X15: engagés | Y15: estimés | Z15: restant | AA15: engagés | AB15: estimés | AC15: restant
A16: 601004 - PAS-X | C16: {=SUMPRODUCT((BDD_PRESTA_ESTIME3[[N° Projet]:[N° Projet]]=$A16)*(BDD_PRESTA_ESTIME3[estimé Janvier])*(BDD_PRESTA_ESTIME3[[TJM]:[TJM]]))+SUMPRODUCT(('Suivi Matériels 2022'!$A$3:$A$54=$A16)*('Suivi Matériels 2022'!Q$3:Q$54))} -> 34408.33 | D16: =27930+36046 -> 63976 | E16: =C4-C16 -> 52331.67 | F16: {=SUMPRODUCT((BDD_PRESTA_ESTIME3[[N° Projet]:[N° Projet]]=$A16)*(BDD_PRESTA_ESTIME3[estimée Février])*(BDD_PRESTA_ESTIME3[[TJM]:[TJM]]))+SUMPRODUCT(('Suivi Matériels 2022'!$A$3:$A$54=$A16)*('Suivi Matériels 2022'!R$3:R$54))} -> 0 | G16: =27930+39124.58 -> 67054.58 | I16: {=SUMPRODUCT((BDD_PRESTA_ESTIME3[[N° Projet]:[N° Projet]]=$A16)*(BDD_PRESTA_ESTIME3[Mars])*(BDD_PRESTA_ESTIME3[[TJM]:[TJM]]))+SUMPRODUCT(('Suivi Matériels 2022'!$A$3:$A$54=$A16)*('Suivi Matériels 2022'!S$3:S$54))} -> 0 | J16: =27930+39124.58 -> 67054.58 | L16: {=SUMPRODUCT((BDD_PRESTA_ESTIME3[[N° Projet]:[N° Projet]]=$A16)*(BDD_PRESTA_ESTIME3[Avril])*(BDD_PRESTA_ESTIME3[[TJM]:[TJM]]))+SUMPRODUCT(('Suivi Matériels 2022'!$A$3:$A$54=$A16)*('Suivi Matériels 2022'!T$3:T$54))} -> 0 | M16: =4716.25+27930 -> 32646.25 | O16: {=SUMPRODUCT((BDD_PRESTA_ESTIME3[[N° Projet]:[N° Projet]]=$A16)*(BDD_PRESTA_ESTIME3[Mai])*(BDD_PRESTA_ESTIME3[[TJM]:[TJM]]))+SUMPRODUCT(('Suivi Matériels 2022'!$A$3:$A$54=$A16)*('Suivi Matériels 2022'!U$3:U$54))} -> 0 | P16: =4716.25+27930 -> 32646.25 | R16: {=SUMPRODUCT((BDD_PRESTA_ESTIME3[[N° Projet]:[N° Projet]]=$A16)*(BDD_PRESTA_ESTIME3[Juin])*(BDD_PRESTA_ESTIME3[[TJM]:[TJM]]))+SUMPRODUCT(('Suivi Matériels 2022'!$A$3:$A$54=$A16)*('Suivi Matériels 2022'!V$3:V$54))} -> 0 | S16: =4716.25+27930 -> 32646.25 | U16: {=SUMPRODUCT((BDD_PRESTA_ESTIME3[[N° Projet]:[N° Projet]]=$A16)*(BDD_PRESTA_ESTIME3[Juillet])*(BDD_PRESTA_ESTIME3[[TJM]:[TJM]]))+SUMPRODUCT(('Suivi Matériels 2022'!$A$3:$A$54=$A16)*('Suivi Matériels 2022'!W$3:W$54))} -> 0 | V16: =4716.25+27930 -> 32646.25 | X16: {=SUMPRODUCT((BDD_PRESTA_ESTIME3[[N° Projet]:[N° Projet]]=$A16)*(BDD_PRESTA_ESTIME3[Août])*(BDD_PRESTA_ESTIME3[[TJM]:[TJM]]))+SUMPRODUCT(('Suivi Matériels 2022'!$A$3:$A$54=$A16)*('Suivi Matériels 2022'!X$3:X$54))} -> 0 | Y16: =4716.25+27930 -> 32646.25 | AA16: {=SUMPRODUCT((BDD_PRESTA_ESTIME3[[N° Projet]:[N° Projet]]=$A16)*(BDD_PRESTA_ESTIME3[Septembre])*(BDD_PRESTA_ESTIME3[[TJM]:[TJM]]))+SUMPRODUCT(('Suivi Matériels 2022'!$A$3:$A$54=$A16)*('Suivi Matériels 2022'!Y$3:Y$54))} -> 0 | AB16: =4716.25+27930 -> 32646.25 | AC16: {=SUMPRODUCT((BDD_PRESTA_ESTIME3[[N° Projet]:[N° Projet]]=$A16)*(BDD_PRESTA_ESTIME3[Octobre])*(BDD_PRESTA_ESTIME3[[TJM]:[TJM]]))+SUMPRODUCT(('Suivi Matériels 2022'!$A$3:$A$54=$A16)*('Suivi Matériels 2022'!Z$3:Z$54))} -> 0 | AE16: =SUM(C16+F16+I16+L16+O16+R16+U16+X16+AA16) -> 34408.33 | AF16: =C4-AE16 -> 52331.67 | AG16: =SUM(D16+G16+J16+M16+P16+S16+V16+Y16+AB16) -> 393962.66 | AH16: =C4-AG16 -> -307222.66
A17: 601000 - SAP 4 HANA | C17: {=SUMPRODUCT((BDD_PRESTA_ESTIME3[[N° Projet]:[N° Projet]]=$A17)*(BDD_PRESTA_ESTIME3[estimé Janvier])*(BDD_PRESTA_ESTIME3[[TJM]:[TJM]]))+SUMPRODUCT(('Suivi Matériels 2022'!$A$3:$A$54=$A17)*('Suivi Matériels 2022'!Q$3:Q$54))} -> 0 | D17: 311110 | E17: =D4-C17 -> 3097554 | F17: {=SUMPRODUCT((BDD_PRESTA_ESTIME3[[N° Projet]:[N° Projet]]=$A17)*(BDD_PRESTA_ESTIME3[estimée Février])*(BDD_PRESTA_ESTIME3[[TJM]:[TJM]]))+SUMPRODUCT(('Suivi Matériels 2022'!$A$3:$A$54=$A17)*('Suivi Matériels 2022'!R$3:R$54))} -> 0 | G17: 308200 | I17: {=SUMPRODUCT((BDD_PRESTA_ESTIME3[[N° Projet]:[N° Projet]]=$A17)*(BDD_PRESTA_ESTIME3[Mars])*(BDD_PRESTA_ESTIME3[[TJM]:[TJM]]))+SUMPRODUCT(('Suivi Matériels 2022'!$A$3:$A$54=$A17)*('Suivi Matériels 2022'!S$3:S$54))} -> 0 | J17: 316930 | L17: {=SUMPRODUCT((BDD_PRESTA_ESTIME3[[N° Projet]:[N° Projet]]=$A17)*(BDD_PRESTA_ESTIME3[Avril])*(BDD_PRESTA_ESTIME3[[TJM]:[TJM]]))+SUMPRODUCT(('Suivi Matériels 2022'!$A$3:$A$54=$A17)*('Suivi Matériels 2022'!T$3:T$54))} -> 0 | M17: 305290 | O17: {=SUMPRODUCT((BDD_PRESTA_ESTIME3[[N° Projet]:[N° Projet]]=$A17)*(BDD_PRESTA_ESTIME3[Mai])*(BDD_PRESTA_ESTIME3[[TJM]:[TJM]]))+SUMPRODUCT(('Suivi Matériels 2022'!$A$3:$A$54=$A17)*('Suivi Matériels 2022'!U$3:U$54))} -> 0 | P17: 308200 | R17: {=SUMPRODUCT((BDD_PRESTA_ESTIME3[[N° Projet]:[N° Projet]]=$A17)*(BDD_PRESTA_ESTIME3[Juin])*(BDD_PRESTA_ESTIME3[[TJM]:[TJM]]))+SUMPRODUCT(('Suivi Matériels 2022'!$A$3:$A$54=$A17)*('Suivi Matériels 2022'!V$3:V$54))} -> 0 | S17: 311110 | U17: {=SUMPRODUCT((BDD_PRESTA_ESTIME3[[N° Projet]:[N° Projet]]=$A17)*(BDD_PRESTA_ESTIME3[Juillet])*(BDD_PRESTA_ESTIME3[[TJM]:[TJM]]))+SUMPRODUCT(('Suivi Matériels 2022'!$A$3:$A$54=$A17)*('Suivi Matériels 2022'!W$3:W$54))} -> 0 | V17: 305290 | X17: {=SUMPRODUCT((BDD_PRESTA_ESTIME3[[N° Projet]:[N° Projet]]=$A17)*(BDD_PRESTA_ESTIME3[Août])*(BDD_PRESTA_ESTIME3[[TJM]:[TJM]]))+SUMPRODUCT(('Suivi Matériels 2022'!$A$3:$A$54=$A17)*('Suivi Matériels 2022'!X$3:X$54))} -> 0 | Y17: 282010 | AA17: {=SUMPRODUCT((BDD_PRESTA_ESTIME3[[N° Projet]:[N° Projet]]=$A17)*(BDD_PRESTA_ESTIME3[Septembre])*(BDD_PRESTA_ESTIME3[[TJM]:[TJM]]))+SUMPRODUCT(('Suivi Matériels 2022'!$A$3:$A$54=$A17)*('Suivi Matériels 2022'!Y$3:Y$54))} -> 0 | AB17: 311110 | AC17: {=SUMPRODUCT((BDD_PRESTA_ESTIME3[[N° Projet]:[N° Projet]]=$A17)*(BDD_PRESTA_ESTIME3[Octobre])*(BDD_PRESTA_ESTIME3[[TJM]:[TJM]]))+SUMPRODUCT(('Suivi Matériels 2022'!$A$3:$A$54=$A17)*('Suivi Matériels 2022'!Z$3:Z$54))} -> 0 | AE17: =SUM(C17+F17+I17+L17+O17+R17+U17+X17+AA17) -> 0 | AF17: =D4-AE17 -> 3097554 | AG17: =SUM(D17+G17+J17+M17+P17+S17+V17+Y17+AB17) -> 2759250 | AH17: =D4-AG17 -> 338304
A18: 601005 - INFRA IT | C18: {=SUMPRODUCT((BDD_PRESTA_ESTIME3[[N° Projet]:[N° Projet]]=$A18)*(BDD_PRESTA_ESTIME3[estimé Janvier])*(BDD_PRESTA_ESTIME3[[TJM]:[TJM]]))+SUMPRODUCT(('Suivi Matériels 2022'!$A$3:$A$54=$A18)*('Suivi Matériels 2022'!Q$3:Q$54))} -> 1637.665 | D18: =53387 -> 53387 | E18: =E4-C18 -> 1023055.7 | F18: {=SUMPRODUCT((BDD_PRESTA_ESTIME3[[N° Projet]:[N° Projet]]=$A18)*(BDD_PRESTA_ESTIME3[estimée Février])*(BDD_PRESTA_ESTIME3[[TJM]:[TJM]]))+SUMPRODUCT(('Suivi Matériels 2022'!$A$3:$A$54=$A18)*('Suivi Matériels 2022'!R$3:R$54))} -> 0 | G18: =53387 -> 53387 | I18: {=SUMPRODUCT((BDD_PRESTA_ESTIME3[[N° Projet]:[N° Projet]]=$A18)*(BDD_PRESTA_ESTIME3[Mars])*(BDD_PRESTA_ESTIME3[[TJM]:[TJM]]))+SUMPRODUCT(('Suivi Matériels 2022'!$A$3:$A$54=$A18)*('Suivi Matériels 2022'!S$3:S$54))} -> 0 | J18: =53387 -> 53387 | L18: {=SUMPRODUCT((BDD_PRESTA_ESTIME3[[N° Projet]:[N° Projet]]=$A18)*(BDD_PRESTA_ESTIME3[Avril])*(BDD_PRESTA_ESTIME3[[TJM]:[TJM]]))+SUMPRODUCT(('Suivi Matériels 2022'!$A$3:$A$54=$A18)*('Suivi Matériels 2022'!T$3:T$54))} -> 0 | M18: =53387 -> 53387 | O18: {=SUMPRODUCT((BDD_PRESTA_ESTIME3[[N° Projet]:[N° Projet]]=$A18)*(BDD_PRESTA_ESTIME3[Mai])*(BDD_PRESTA_ESTIME3[[TJM]:[TJM]]))+SUMPRODUCT(('Suivi Matériels 2022'!$A$3:$A$54=$A18)*('Suivi Matériels 2022'!U$3:U$54))} -> 0 | P18: =53387 -> 53387 | R18: {=SUMPRODUCT((BDD_PRESTA_ESTIME3[[N° Projet]:[N° Projet]]=$A18)*(BDD_PRESTA_ESTIME3[Juin])*(BDD_PRESTA_ESTIME3[[TJM]:[TJM]]))+SUMPRODUCT(('Suivi Matériels 2022'!$A$3:$A$54=$A18)*('Suivi Matériels 2022'!V$3:V$54))} -> 0 | S18: =53387 -> 53387 | U18: {=SUMPRODUCT((BDD_PRESTA_ESTIME3[[N° Projet]:[N° Projet]]=$A18)*(BDD_PRESTA_ESTIME3[Juillet])*(BDD_PRESTA_ESTIME3[[TJM]:[TJM]]))+SUMPRODUCT(('Suivi Matériels 2022'!$A$3:$A$54=$A18)*('Suivi Matériels 2022'!W$3:W$54))} -> 0 | V18: =53387 -> 53387 | X18: {=SUMPRODUCT((BDD_PRESTA_ESTIME3[[N° Projet]:[N° Projet]]=$A18)*(BDD_PRESTA_ESTIME3[Août])*(BDD_PRESTA_ESTIME3[[TJM]:[TJM]]))+SUMPRODUCT(('Suivi Matériels 2022'!$A$3:$A$54=$A18)*('Suivi Matériels 2022'!X$3:X$54))} -> 0 | Y18: =53387 -> 53387 | AA18: {=SUMPRODUCT((BDD_PRESTA_ESTIME3[[N° Projet]:[N° Projet]]=$A18)*(BDD_PRESTA_ESTIME3[Septembre])*(BDD_PRESTA_ESTIME3[[TJM]:[TJM]]))+SUMPRODUCT(('Suivi Matériels 2022'!$A$3:$A$54=$A18)*('Suivi Matériels 2022'!Y$3:Y$54))} -> 0 | AB18: =53387 -> 53387 | AC18: {=SUMPRODUCT((BDD_PRESTA_ESTIME3[[N° Projet]:[N° Projet]]=$A18)*(BDD_PRESTA_ESTIME3[Octobre])*(BDD_PRESTA_ESTIME3[[TJM]:[TJM]]))+SUMPRODUCT(('Suivi Matériels 2022'!$A$3:$A$54=$A18)*('Suivi Matériels 2022'!Z$3:Z$54))} -> 0 | AE18: =SUM(C18+F18+I18+L18+O18+R18+U18+X18+AA18) -> 1637.665 | AF18: =E4-AE18 -> 1023055.7 | AG18: =SUM(D18+G18+J18+M18+P18+S18+V18+Y18+AB18) -> 480483 | AH18: =E4-AG18 -> 544210.32
A19: 601007 - GLIMS | C19: {=SUMPRODUCT((BDD_PRESTA_ESTIME3[[N° Projet]:[N° Projet]]=$A19)*(BDD_PRESTA_ESTIME3[estimé Janvier])*(BDD_PRESTA_ESTIME3[[TJM]:[TJM]]))+SUMPRODUCT(('Suivi Matériels 2022'!$A$3:$A$54=$A19)*('Suivi Matériels 2022'!Q$3:Q$54))} -> 0 | D19: =7963.2+20006 -> 27969.2 | E19: =F4-C19 -> 196486.34 | F19: {=SUMPRODUCT((BDD_PRESTA_ESTIME3[[N° Projet]:[N° Projet]]=$A19)*(BDD_PRESTA_ESTIME3[estimée Février])*(BDD_PRESTA_ESTIME3[[TJM]:[TJM]]))+SUMPRODUCT(('Suivi Matériels 2022'!$A$3:$A$54=$A19)*('Suivi Matériels 2022'!R$3:R$54))} -> 0 | G19: =7963.2+20006 -> 27969.2 | I19: {=SUMPRODUCT((BDD_PRESTA_ESTIME3[[N° Projet]:[N° Projet]]=$A19)*(BDD_PRESTA_ESTIME3[Mars])*(BDD_PRESTA_ESTIME3[[TJM]:[TJM]]))+SUMPRODUCT(('Suivi Matériels 2022'!$A$3:$A$54=$A19)*('Suivi Matériels 2022'!S$3:S$54))} -> 0 | J19: =7963.2+20006 -> 27969.2 | L19: {=SUMPRODUCT((BDD_PRESTA_ESTIME3[[N° Projet]:[N° Projet]]=$A19)*(BDD_PRESTA_ESTIME3[Avril])*(BDD_PRESTA_ESTIME3[[TJM]:[TJM]]))+SUMPRODUCT(('Suivi Matériels 2022'!$A$3:$A$54=$A19)*('Suivi Matériels 2022'!T$3:T$54))} -> 0 | M19: =7963.2+20006 -> 27969.2 | O19: {=SUMPRODUCT((BDD_PRESTA_ESTIME3[[N° Projet]:[N° Projet]]=$A19)*(BDD_PRESTA_ESTIME3[Mai])*(BDD_PRESTA_ESTIME3[[TJM]:[TJM]]))+SUMPRODUCT(('Suivi Matériels 2022'!$A$3:$A$54=$A19)*('Suivi Matériels 2022'!U$3:U$54))} -> 0 | P19: =7963.2+20006 -> 27969.2 | R19: {=SUMPRODUCT((BDD_PRESTA_ESTIME3[[N° Projet]:[N° Projet]]=$A19)*(BDD_PRESTA_ESTIME3[Juin])*(BDD_PRESTA_ESTIME3[[TJM]:[TJM]]))+SUMPRODUCT(('Suivi Matériels 2022'!$A$3:$A$54=$A19)*('Suivi Matériels 2022'!V$3:V$54))} -> 0 | S19: =7963.2+20006 -> 27969.2 | U19: {=SUMPRODUCT((BDD_PRESTA_ESTIME3[[N° Projet]:[N° Projet]]=$A19)*(BDD_PRESTA_ESTIME3[Juillet])*(BDD_PRESTA_ESTIME3[[TJM]:[TJM]]))+SUMPRODUCT(('Suivi Matériels 2022'!$A$3:$A$54=$A19)*('Suivi Matériels 2022'!W$3:W$54))} -> 0 | V19: =7963.2+20006 -> 27969.2 | X19: {=SUMPRODUCT((BDD_PRESTA_ESTIME3[[N° Projet]:[N° Projet]]=$A19)*(BDD_PRESTA_ESTIME3[Août])*(BDD_PRESTA_ESTIME3[[TJM]:[TJM]]))+SUMPRODUCT(('Suivi Matériels 2022'!$A$3:$A$54=$A19)*('Suivi Matériels 2022'!X$3:X$54))} -> 0 | Y19: =7963.2+20006 -> 27969.2 | AA19: {=SUMPRODUCT((BDD_PRESTA_ESTIME3[[N° Projet]:[N° Projet]]=$A19)*(BDD_PRESTA_ESTIME3[Septembre])*(BDD_PRESTA_ESTIME3[[TJM]:[TJM]]))+SUMPRODUCT(('Suivi Matériels 2022'!$A$3:$A$54=$A19)*('Suivi Matériels 2022'!Y$3:Y$54))} -> 0 | AB19: =7963.2+20006 -> 27969.2 | AC19: {=SUMPRODUCT((BDD_PRESTA_ESTIME3[[N° Projet]:[N° Projet]]=$A19)*(BDD_PRESTA_ESTIME3[Octobre])*(BDD_PRESTA_ESTIME3[[TJM]:[TJM]]))+SUMPRODUCT(('Suivi Matériels 2022'!$A$3:$A$54=$A19)*('Suivi Matériels 2022'!Z$3:Z$54))} -> 0 | AE19: =SUM(C19+F19+I19+L19+O19+R19+U19+X19+AA19) -> 0 | AF19: =F4-AE19 -> 196486.34 | AG19: =SUM(D19+G19+J19+M19+P19+S19+V19+Y19+AB19) -> 251722.8 | AH19: =F4-AG19 -> -55236.462
A20: 601008 - EMPOWER | C20: {=SUMPRODUCT((BDD_PRESTA_ESTIME3[[N° Projet]:[N° Projet]]=$A20)*(BDD_PRESTA_ESTIME3[estimé Janvier])*(BDD_PRESTA_ESTIME3[[TJM]:[TJM]]))+SUMPRODUCT(('Suivi Matériels 2022'!$A$3:$A$54=$A20)*('Suivi Matériels 2022'!Q$3:Q$54))} -> 0 | D20: =12370+17967 -> 30337 | E20: =G4-C20 -> 142045.4 | F20: {=SUMPRODUCT((BDD_PRESTA_ESTIME3[[N° Projet]:[N° Projet]]=$A20)*(BDD_PRESTA_ESTIME3[estimée Février])*(BDD_PRESTA_ESTIME3[[TJM]:[TJM]]))+SUMPRODUCT(('Suivi Matériels 2022'!$A$3:$A$54=$A20)*('Suivi Matériels 2022'!R$3:R$54))} -> 0 | G20: =12370+17967 -> 30337 | I20: {=SUMPRODUCT((BDD_PRESTA_ESTIME3[[N° Projet]:[N° Projet]]=$A20)*(BDD_PRESTA_ESTIME3[Mars])*(BDD_PRESTA_ESTIME3[[TJM]:[TJM]]))+SUMPRODUCT(('Suivi Matériels 2022'!$A$3:$A$54=$A20)*('Suivi Matériels 2022'!S$3:S$54))} -> 0 | J20: =12370+17967 -> 30337 | L20: {=SUMPRODUCT((BDD_PRESTA_ESTIME3[[N° Projet]:[N° Projet]]=$A20)*(BDD_PRESTA_ESTIME3[Avril])*(BDD_PRESTA_ESTIME3[[TJM]:[TJM]]))+SUMPRODUCT(('Suivi Matériels 2022'!$A$3:$A$54=$A20)*('Suivi Matériels 2022'!T$3:T$54))} -> 0 | M20: =12370+17967 -> 30337 | O20: {=SUMPRODUCT((BDD_PRESTA_ESTIME3[[N° Projet]:[N° Projet]]=$A20)*(BDD_PRESTA_ESTIME3[Mai])*(BDD_PRESTA_ESTIME3[[TJM]:[TJM]]))+SUMPRODUCT(('Suivi Matériels 2022'!$A$3:$A$54=$A20)*('Suivi Matériels 2022'!U$3:U$54))} -> 0 | P20: =12370+17967 -> 30337 | R20: {=SUMPRODUCT((BDD_PRESTA_ESTIME3[[N° Projet]:[N° Projet]]=$A20)*(BDD_PRESTA_ESTIME3[Juin])*(BDD_PRESTA_ESTIME3[[TJM]:[TJM]]))+SUMPRODUCT(('Suivi Matériels 2022'!$A$3:$A$54=$A20)*('Suivi Matériels 2022'!V$3:V$54))} -> 0 | S20: =12370+17967 -> 30337 | U20: {=SUMPRODUCT((BDD_PRESTA_ESTIME3[[N° Projet]:[N° Projet]]=$A20)*(BDD_PRESTA_ESTIME3[Juillet])*(BDD_PRESTA_ESTIME3[[TJM]:[TJM]]))+SUMPRODUCT(('Suivi Matériels 2022'!$A$3:$A$54=$A20)*('Suivi Matériels 2022'!W$3:W$54))} -> 0 | V20: =12370+17967 -> 30337 | X20: {=SUMPRODUCT((BDD_PRESTA_ESTIME3[[N° Projet]:[N° Projet]]=$A20)*(BDD_PRESTA_ESTIME3[Août])*(BDD_PRESTA_ESTIME3[[TJM]:[TJM]]))+SUMPRODUCT(('Suivi Matériels 2022'!$A$3:$A$54=$A20)*('Suivi Matériels 2022'!X$3:X$54))} -> 0 | Y20: =12370+17967 -> 30337 | AA20: {=SUMPRODUCT((BDD_PRESTA_ESTIME3[[N° Projet]:[N° Projet]]=$A20)*(BDD_PRESTA_ESTIME3[Septembre])*(BDD_PRESTA_ESTIME3[[TJM]:[TJM]]))+SUMPRODUCT(('Suivi Matériels 2022'!$A$3:$A$54=$A20)*('Suivi Matériels 2022'!Y$3:Y$54))} -> 0 | AB20: =12370+17967 -> 30337 | AC20: {=SUMPRODUCT((BDD_PRESTA_ESTIME3[[N° Projet]:[N° Projet]]=$A20)*(BDD_PRESTA_ESTIME3[Octobre])*(BDD_PRESTA_ESTIME3[[TJM]:[TJM]]))+SUMPRODUCT(('Suivi Matériels 2022'!$A$3:$A$54=$A20)*('Suivi Matériels 2022'!Z$3:Z$54))} -> 0 | AE20: =SUM(C20+F20+I20+L20+O20+R20+U20+X20+AA20) -> 0 | AF20: =G4-AE20 -> 142045.4 | AG20: =SUM(D20+G20+J20+M20+P20+S20+V20+Y20+AB20) -> 273033 | AH20: =G4-AG20 -> -130987.6
A21: 601072 - PILOTAGE | C21: {=SUMPRODUCT((BDD_PRESTA_ESTIME3[[N° Projet]:[N° Projet]]=$A21)*(BDD_PRESTA_ESTIME3[estimé Janvier])*(BDD_PRESTA_ESTIME3[[TJM]:[TJM]]))+SUMPRODUCT(('Suivi Matériels 2022'!$A$3:$A$54=$A21)*('Suivi Matériels 2022'!Q$3:Q$54))} -> 0 | D21: 62300 | E21: =H4-C21 -> 689900 | F21: {=SUMPRODUCT((BDD_PRESTA_ESTIME3[[N° Projet]:[N° Projet]]=$A21)*(BDD_PRESTA_ESTIME3[estimée Février])*(BDD_PRESTA_ESTIME3[[TJM]:[TJM]]))+SUMPRODUCT(('Suivi Matériels 2022'!$A$3:$A$54=$A21)*('Suivi Matériels 2022'!R$3:R$54))} -> 0 | G21: 62300 | I21: {=SUMPRODUCT((BDD_PRESTA_ESTIME3[[N° Projet]:[N° Projet]]=$A21)*(BDD_PRESTA_ESTIME3[Mars])*(BDD_PRESTA_ESTIME3[[TJM]:[TJM]]))+SUMPRODUCT(('Suivi Matériels 2022'!$A$3:$A$54=$A21)*('Suivi Matériels 2022'!S$3:S$54))} -> 0 | J21: 62300 | L21: {=SUMPRODUCT((BDD_PRESTA_ESTIME3[[N° Projet]:[N° Projet]]=$A21)*(BDD_PRESTA_ESTIME3[Avril])*(BDD_PRESTA_ESTIME3[[TJM]:[TJM]]))+SUMPRODUCT(('Suivi Matériels 2022'!$A$3:$A$54=$A21)*('Suivi Matériels 2022'!T$3:T$54))} -> 0 | M21: 62300 | O21: {=SUMPRODUCT((BDD_PRESTA_ESTIME3[[N° Projet]:[N° Projet]]=$A21)*(BDD_PRESTA_ESTIME3[Mai])*(BDD_PRESTA_ESTIME3[[TJM]:[TJM]]))+SUMPRODUCT(('Suivi Matériels 2022'!$A$3:$A$54=$A21)*('Suivi Matériels 2022'!U$3:U$54))} -> 0 | P21: 62300 | R21: {=SUMPRODUCT((BDD_PRESTA_ESTIME3[[N° Projet]:[N° Projet]]=$A21)*(BDD_PRESTA_ESTIME3[Juin])*(BDD_PRESTA_ESTIME3[[TJM]:[TJM]]))+SUMPRODUCT(('Suivi Matériels 2022'!$A$3:$A$54=$A21)*('Suivi Matériels 2022'!V$3:V$54))} -> 0 | S21: 62300 | U21: {=SUMPRODUCT((BDD_PRESTA_ESTIME3[[N° Projet]:[N° Projet]]=$A21)*(BDD_PRESTA_ESTIME3[Juillet])*(BDD_PRESTA_ESTIME3[[TJM]:[TJM]]))+SUMPRODUCT(('Suivi Matériels 2022'!$A$3:$A$54=$A21)*('Suivi Matériels 2022'!W$3:W$54))} -> 0 | V21: 62300 | X21: {=SUMPRODUCT((BDD_PRESTA_ESTIME3[[N° Projet]:[N° Projet]]=$A21)*(BDD_PRESTA_ESTIME3[Août])*(BDD_PRESTA_ESTIME3[[TJM]:[TJM]]))+SUMPRODUCT(('Suivi Matériels 2022'!$A$3:$A$54=$A21)*('Suivi Matériels 2022'!X$3:X$54))} -> 0 | Y21: 62300 | AA21: {=SUMPRODUCT((BDD_PRESTA_ESTIME3[[N° Projet]:[N° Projet]]=$A21)*(BDD_PRESTA_ESTIME3[Septembre])*(BDD_PRESTA_ESTIME3[[TJM]:[TJM]]))+SUMPRODUCT(('Suivi Matériels 2022'!$A$3:$A$54=$A21)*('Suivi Matériels 2022'!Y$3:Y$54))} -> 0 | AB21: 62300 | AC21: {=SUMPRODUCT((BDD_PRESTA_ESTIME3[[N° Projet]:[N° Projet]]=$A21)*(BDD_PRESTA_ESTIME3[Octobre])*(BDD_PRESTA_ESTIME3[[TJM]:[TJM]]))+SUMPRODUCT(('Suivi Matériels 2022'!$A$3:$A$54=$A21)*('Suivi Matériels 2022'!Z$3:Z$54))} -> 0 | AE21: =SUM(C21+F21+I21+L21+O21+R21+U21+X21+AA21) -> 0 | AF21: =H4-AE21 -> 689900 | AG21: =SUM(D21+G21+J21+M21+P21+S21+V21+Y21+AB21) -> 560700 | AH21: =H4-AG21 -> 129200
A22: 601006 - MASTER CONTROL | C22: {=SUMPRODUCT((BDD_PRESTA_ESTIME3[[N° Projet]:[N° Projet]]=$A22)*(BDD_PRESTA_ESTIME3[estimé Janvier])*(BDD_PRESTA_ESTIME3[[TJM]:[TJM]]))+SUMPRODUCT(('Suivi Matériels 2022'!$A$3:$A$54=$A22)*('Suivi Matériels 2022'!Q$3:Q$54))} -> 5111 | D22: 42685 | E22: =I4-C22 -> -44804.9 | F22: {=SUMPRODUCT((BDD_PRESTA_ESTIME3[[N° Projet]:[N° Projet]]=$A22)*(BDD_PRESTA_ESTIME3[estimée Février])*(BDD_PRESTA_ESTIME3[[TJM]:[TJM]]))+SUMPRODUCT(('Suivi Matériels 2022'!$A$3:$A$54=$A22)*('Suivi Matériels 2022'!R$3:R$54))} -> 0 | G22: =42685+8675 -> 51360 | I22: {=SUMPRODUCT((BDD_PRESTA_ESTIME3[[N° Projet]:[N° Projet]]=$A22)*(BDD_PRESTA_ESTIME3[Mars])*(BDD_PRESTA_ESTIME3[[TJM]:[TJM]]))+SUMPRODUCT(('Suivi Matériels 2022'!$A$3:$A$54=$A22)*('Suivi Matériels 2022'!S$3:S$54))} -> 0 | J22: =42685+8675 -> 51360 | L22: {=SUMPRODUCT((BDD_PRESTA_ESTIME3[[N° Projet]:[N° Projet]]=$A22)*(BDD_PRESTA_ESTIME3[Avril])*(BDD_PRESTA_ESTIME3[[TJM]:[TJM]]))+SUMPRODUCT(('Suivi Matériels 2022'!$A$3:$A$54=$A22)*('Suivi Matériels 2022'!T$3:T$54))} -> 0 | M22: =42685+8675 -> 51360 | O22: {=SUMPRODUCT((BDD_PRESTA_ESTIME3[[N° Projet]:[N° Projet]]=$A22)*(BDD_PRESTA_ESTIME3[Mai])*(BDD_PRESTA_ESTIME3[[TJM]:[TJM]]))+SUMPRODUCT(('Suivi Matériels 2022'!$A$3:$A$54=$A22)*('Suivi Matériels 2022'!U$3:U$54))} -> 0 | P22: =42685+8675 -> 51360 | R22: {=SUMPRODUCT((BDD_PRESTA_ESTIME3[[N° Projet]:[N° Projet]]=$A22)*(BDD_PRESTA_ESTIME3[Juin])*(BDD_PRESTA_ESTIME3[[TJM]:[TJM]]))+SUMPRODUCT(('Suivi Matériels 2022'!$A$3:$A$54=$A22)*('Suivi Matériels 2022'!V$3:V$54))} -> 0 | S22: =42685+8675 -> 51360 | U22: {=SUMPRODUCT((BDD_PRESTA_ESTIME3[[N° Projet]:[N° Projet]]=$A22)*(BDD_PRESTA_ESTIME3[Juillet])*(BDD_PRESTA_ESTIME3[[TJM]:[TJM]]))+SUMPRODUCT(('Suivi Matériels 2022'!$A$3:$A$54=$A22)*('Suivi Matériels 2022'!W$3:W$54))} -> 0 | V22: =42685+8675 -> 51360 | X22: {=SUMPRODUCT((BDD_PRESTA_ESTIME3[[N° Projet]:[N° Projet]]=$A22)*(BDD_PRESTA_ESTIME3[Août])*(BDD_PRESTA_ESTIME3[[TJM]:[TJM]]))+SUMPRODUCT(('Suivi Matériels 2022'!$A$3:$A$54=$A22)*('Suivi Matériels 2022'!X$3:X$54))} -> 0 | Y22: =42685+8675 -> 51360 | AA22: {=SUMPRODUCT((BDD_PRESTA_ESTIME3[[N° Projet]:[N° Projet]]=$A22)*(BDD_PRESTA_ESTIME3[Septembre])*(BDD_PRESTA_ESTIME3[[TJM]:[TJM]]))+SUMPRODUCT(('Suivi Matériels 2022'!$A$3:$A$54=$A22)*('Suivi Matériels 2022'!Y$3:Y$54))} -> 0 | AB22: =42685+8675 -> 51360 | AC22: {=SUMPRODUCT((BDD_PRESTA_ESTIME3[[N° Projet]:[N° Projet]]=$A22)*(BDD_PRESTA_ESTIME3[Octobre])*(BDD_PRESTA_ESTIME3[[TJM]:[TJM]]))+SUMPRODUCT(('Suivi Matériels 2022'!$A$3:$A$54=$A22)*('Suivi Matériels 2022'!Z$3:Z$54))} -> 0 | AE22: =SUM(C22+F22+I22+L22+O22+R22+U22+X22+AA22) -> 5111 | AF22: =I4-AE22 -> -44804.9 | AG22: =SUM(D22+G22+J22+M22+P22+S22+V22+Y22+AB22) -> 453565 | AH22: =I4-AG22 -> -493258.9
A23: 601009 - ONGUARD | C23: {=SUMPRODUCT((BDD_PRESTA_ESTIME3[[N° Projet]:[N° Projet]]=$A23)*(BDD_PRESTA_ESTIME3[estimé Janvier])*(BDD_PRESTA_ESTIME3[[TJM]:[TJM]]))+SUMPRODUCT(('Suivi Matériels 2022'!$A$3:$A$54=$A23)*('Suivi Matériels 2022'!Q$3:Q$54))} -> 0 | D23: =18550 -> 18550 | E23: =J4-C23 -> 72300 | F23: {=SUMPRODUCT((BDD_PRESTA_ESTIME3[[N° Projet]:[N° Projet]]=$A23)*(BDD_PRESTA_ESTIME3[estimée Février])*(BDD_PRESTA_ESTIME3[[TJM]:[TJM]]))+SUMPRODUCT(('Suivi Matériels 2022'!$A$3:$A$54=$A23)*('Suivi Matériels 2022'!R$3:R$54))} -> 0 | G23: =18550+2650 -> 21200 | I23: {=SUMPRODUCT((BDD_PRESTA_ESTIME3[[N° Projet]:[N° Projet]]=$A23)*(BDD_PRESTA_ESTIME3[Mars])*(BDD_PRESTA_ESTIME3[[TJM]:[TJM]]))+SUMPRODUCT(('Suivi Matériels 2022'!$A$3:$A$54=$A23)*('Suivi Matériels 2022'!S$3:S$54))} -> 0 | J23: =18550+2650 -> 21200 | L23: {=SUMPRODUCT((BDD_PRESTA_ESTIME3[[N° Projet]:[N° Projet]]=$A23)*(BDD_PRESTA_ESTIME3[Avril])*(BDD_PRESTA_ESTIME3[[TJM]:[TJM]]))+SUMPRODUCT(('Suivi Matériels 2022'!$A$3:$A$54=$A23)*('Suivi Matériels 2022'!T$3:T$54))} -> 0 | M23: =18550+2650 -> 21200 | O23: {=SUMPRODUCT((BDD_PRESTA_ESTIME3[[N° Projet]:[N° Projet]]=$A23)*(BDD_PRESTA_ESTIME3[Mai])*(BDD_PRESTA_ESTIME3[[TJM]:[TJM]]))+SUMPRODUCT(('Suivi Matériels 2022'!$A$3:$A$54=$A23)*('Suivi Matériels 2022'!U$3:U$54))} -> 0 | P23: =18550+2650 -> 21200 | R23: {=SUMPRODUCT((BDD_PRESTA_ESTIME3[[N° Projet]:[N° Projet]]=$A23)*(BDD_PRESTA_ESTIME3[Juin])*(BDD_PRESTA_ESTIME3[[TJM]:[TJM]]))+SUMPRODUCT(('Suivi Matériels 2022'!$A$3:$A$54=$A23)*('Suivi Matériels 2022'!V$3:V$54))} -> 0 | S23: =18550+2650 -> 21200 | U23: {=SUMPRODUCT((BDD_PRESTA_ESTIME3[[N° Projet]:[N° Projet]]=$A23)*(BDD_PRESTA_ESTIME3[Juillet])*(BDD_PRESTA_ESTIME3[[TJM]:[TJM]]))+SUMPRODUCT(('Suivi Matériels 2022'!$A$3:$A$54=$A23)*('Suivi Matériels 2022'!W$3:W$54))} -> 0 | V23: =18550+2650 -> 21200 | X23: {=SUMPRODUCT((BDD_PRESTA_ESTIME3[[N° Projet]:[N° Projet]]=$A23)*(BDD_PRESTA_ESTIME3[Août])*(BDD_PRESTA_ESTIME3[[TJM]:[TJM]]))+SUMPRODUCT(('Suivi Matériels 2022'!$A$3:$A$54=$A23)*('Suivi Matériels 2022'!X$3:X$54))} -> 0 | Y23: =18550+2650 -> 21200 | AA23: {=SUMPRODUCT((BDD_PRESTA_ESTIME3[[N° Projet]:[N° Projet]]=$A23)*(BDD_PRESTA_ESTIME3[Septembre])*(BDD_PRESTA_ESTIME3[[TJM]:[TJM]]))+SUMPRODUCT(('Suivi Matériels 2022'!$A$3:$A$54=$A23)*('Suivi Matériels 2022'!Y$3:Y$54))} -> 0 | AB23: 18550 | AC23: {=SUMPRODUCT((BDD_PRESTA_ESTIME3[[N° Projet]:[N° Projet]]=$A23)*(BDD_PRESTA_ESTIME3[Octobre])*(BDD_PRESTA_ESTIME3[[TJM]:[TJM]]))+SUMPRODUCT(('Suivi Matériels 2022'!$A$3:$A$54=$A23)*('Suivi Matériels 2022'!Z$3:Z$54))} -> 0 | AE23: =SUM(C23+F23+I23+L23+O23+R23+U23+X23+AA23) -> 0 | AF23: =J4-AE23 -> 72300 | AG23: =SUM(D23+G23+J23+M23+P23+S23+V23+Y23+AB23) -> 185500 | AH23: =J4-AG23 -> -113200
A24: 601068 - PROCAL | C24: {=SUMPRODUCT((BDD_PRESTA_ESTIME3[[N° Projet]:[N° Projet]]=$A24)*(BDD_PRESTA_ESTIME3[estimé Janvier])*(BDD_PRESTA_ESTIME3[[TJM]:[TJM]]))+SUMPRODUCT(('Suivi Matériels 2022'!$A$3:$A$54=$A24)*('Suivi Matériels 2022'!Q$3:Q$54))} -> 39308 | D24: 44808 | E24: =K4-C24 -> 113092 | F24: {=SUMPRODUCT((BDD_PRESTA_ESTIME3[[N° Projet]:[N° Projet]]=$A24)*(BDD_PRESTA_ESTIME3[estimée Février])*(BDD_PRESTA_ESTIME3[[TJM]:[TJM]]))+SUMPRODUCT(('Suivi Matériels 2022'!$A$3:$A$54=$A24)*('Suivi Matériels 2022'!R$3:R$54))} -> 0 | G24: =5500+20000 -> 25500 | I24: {=SUMPRODUCT((BDD_PRESTA_ESTIME3[[N° Projet]:[N° Projet]]=$A24)*(BDD_PRESTA_ESTIME3[Mars])*(BDD_PRESTA_ESTIME3[[TJM]:[TJM]]))+SUMPRODUCT(('Suivi Matériels 2022'!$A$3:$A$54=$A24)*('Suivi Matériels 2022'!S$3:S$54))} -> 0 | J24: 5500 | L24: {=SUMPRODUCT((BDD_PRESTA_ESTIME3[[N° Projet]:[N° Projet]]=$A24)*(BDD_PRESTA_ESTIME3[Avril])*(BDD_PRESTA_ESTIME3[[TJM]:[TJM]]))+SUMPRODUCT(('Suivi Matériels 2022'!$A$3:$A$54=$A24)*('Suivi Matériels 2022'!T$3:T$54))} -> 0 | M24: 5500 | O24: {=SUMPRODUCT((BDD_PRESTA_ESTIME3[[N° Projet]:[N° Projet]]=$A24)*(BDD_PRESTA_ESTIME3[Mai])*(BDD_PRESTA_ESTIME3[[TJM]:[TJM]]))+SUMPRODUCT(('Suivi Matériels 2022'!$A$3:$A$54=$A24)*('Suivi Matériels 2022'!U$3:U$54))} -> 0 | P24: 5500 | R24: {=SUMPRODUCT((BDD_PRESTA_ESTIME3[[N° Projet]:[N° Projet]]=$A24)*(BDD_PRESTA_ESTIME3[Juin])*(BDD_PRESTA_ESTIME3[[TJM]:[TJM]]))+SUMPRODUCT(('Suivi Matériels 2022'!$A$3:$A$54=$A24)*('Suivi Matériels 2022'!V$3:V$54))} -> 0 | S24: 5500 | U24: {=SUMPRODUCT((BDD_PRESTA_ESTIME3[[N° Projet]:[N° Projet]]=$A24)*(BDD_PRESTA_ESTIME3[Juillet])*(BDD_PRESTA_ESTIME3[[TJM]:[TJM]]))+SUMPRODUCT(('Suivi Matériels 2022'!$A$3:$A$54=$A24)*('Suivi Matériels 2022'!W$3:W$54))} -> 0 | V24: 5500 | X24: {=SUMPRODUCT((BDD_PRESTA_ESTIME3[[N° Projet]:[N° Projet]]=$A24)*(BDD_PRESTA_ESTIME3[Août])*(BDD_PRESTA_ESTIME3[[TJM]:[TJM]]))+SUMPRODUCT(('Suivi Matériels 2022'!$A$3:$A$54=$A24)*('Suivi Matériels 2022'!X$3:X$54))} -> 0 | Y24: 5500 | AA24: {=SUMPRODUCT((BDD_PRESTA_ESTIME3[[N° Projet]:[N° Projet]]=$A24)*(BDD_PRESTA_ESTIME3[Septembre])*(BDD_PRESTA_ESTIME3[[TJM]:[TJM]]))+SUMPRODUCT(('Suivi Matériels 2022'!$A$3:$A$54=$A24)*('Suivi Matériels 2022'!Y$3:Y$54))} -> 0 | AB24: 5500 | AC24: {=SUMPRODUCT((BDD_PRESTA_ESTIME3[[N° Projet]:[N° Projet]]=$A24)*(BDD_PRESTA_ESTIME3[Octobre])*(BDD_PRESTA_ESTIME3[[TJM]:[TJM]]))+SUMPRODUCT(('Suivi Matériels 2022'!$A$3:$A$54=$A24)*('Suivi Matériels 2022'!Z$3:Z$54))} -> 0 | AE24: =SUM(C24+F24+I24+L24+O24+R24+U24+X24+AA24) -> 39308 | AF24: =K4-AE24 -> 113092 | AG24: =SUM(D24+G24+J24+M24+P24+S24+V24+Y24+AB24) -> 108808 | AH24: =K4-AG24 -> 43592
A25: 601002 - PI | C25: {=SUMPRODUCT((BDD_PRESTA_ESTIME3[[N° Projet]:[N° Projet]]=$A25)*(BDD_PRESTA_ESTIME3[estimé Janvier])*(BDD_PRESTA_ESTIME3[[TJM]:[TJM]]))+SUMPRODUCT(('Suivi Matériels 2022'!$A$3:$A$54=$A25)*('Suivi Matériels 2022'!Q$3:Q$54))} -> 0 | E25: =L4-C25 -> 41600 | F25: {=SUMPRODUCT((BDD_PRESTA_ESTIME3[[N° Projet]:[N° Projet]]=$A25)*(BDD_PRESTA_ESTIME3[estimée Février])*(BDD_PRESTA_ESTIME3[[TJM]:[TJM]]))+SUMPRODUCT(('Suivi Matériels 2022'!$A$3:$A$54=$A25)*('Suivi Matériels 2022'!R$3:R$54))} -> 0 | I25: {=SUMPRODUCT((BDD_PRESTA_ESTIME3[[N° Projet]:[N° Projet]]=$A25)*(BDD_PRESTA_ESTIME3[Mars])*(BDD_PRESTA_ESTIME3[[TJM]:[TJM]]))+SUMPRODUCT(('Suivi Matériels 2022'!$A$3:$A$54=$A25)*('Suivi Matériels 2022'!S$3:S$54))} -> 0 | L25: {=SUMPRODUCT((BDD_PRESTA_ESTIME3[[N° Projet]:[N° Projet]]=$A25)*(BDD_PRESTA_ESTIME3[Avril])*(BDD_PRESTA_ESTIME3[[TJM]:[TJM]]))+SUMPRODUCT(('Suivi Matériels 2022'!$A$3:$A$54=$A25)*('Suivi Matériels 2022'!T$3:T$54))} -> 0 | O25: {=SUMPRODUCT((BDD_PRESTA_ESTIME3[[N° Projet]:[N° Projet]]=$A25)*(BDD_PRESTA_ESTIME3[Mai])*(BDD_PRESTA_ESTIME3[[TJM]:[TJM]]))+SUMPRODUCT(('Suivi Matériels 2022'!$A$3:$A$54=$A25)*('Suivi Matériels 2022'!U$3:U$54))} -> 0 | R25: {=SUMPRODUCT((BDD_PRESTA_ESTIME3[[N° Projet]:[N° Projet]]=$A25)*(BDD_PRESTA_ESTIME3[Juin])*(BDD_PRESTA_ESTIME3[[TJM]:[TJM]]))+SUMPRODUCT(('Suivi Matériels 2022'!$A$3:$A$54=$A25)*('Suivi Matériels 2022'!V$3:V$54))} -> 0 | U25: {=SUMPRODUCT((BDD_PRESTA_ESTIME3[[N° Projet]:[N° Projet]]=$A25)*(BDD_PRESTA_ESTIME3[Juillet])*(BDD_PRESTA_ESTIME3[[TJM]:[TJM]]))+SUMPRODUCT(('Suivi Matériels 2022'!$A$3:$A$54=$A25)*('Suivi Matériels 2022'!W$3:W$54))} -> 0 | X25: {=SUMPRODUCT((BDD_PRESTA_ESTIME3[[N° Projet]:[N° Projet]]=$A25)*(BDD_PRESTA_ESTIME3[Août])*(BDD_PRESTA_ESTIME3[[TJM]:[TJM]]))+SUMPRODUCT(('Suivi Matériels 2022'!$A$3:$A$54=$A25)*('Suivi Matériels 2022'!X$3:X$54))} -> 0 | AA25: {=SUMPRODUCT((BDD_PRESTA_ESTIME3[[N° Projet]:[N° Projet]]=$A25)*(BDD_PRESTA_ESTIME3[Septembre])*(BDD_PRESTA_ESTIME3[[TJM]:[TJM]]))+SUMPRODUCT(('Suivi Matériels 2022'!$A$3:$A$54=$A25)*('Suivi Matériels 2022'!Y$3:Y$54))} -> 0 | AC25: {=SUMPRODUCT((BDD_PRESTA_ESTIME3[[N° Projet]:[N° Projet]]=$A25)*(BDD_PRESTA_ESTIME3[Octobre])*(BDD_PRESTA_ESTIME3[[TJM]:[TJM]]))+SUMPRODUCT(('Suivi Matériels 2022'!$A$3:$A$54=$A25)*('Suivi Matériels 2022'!Z$3:Z$54))} -> 0 | AE25: =SUM(C25+F25+I25+L25+O25+R25+U25+X25+AA25) -> 0 | AF25: =L4-AE25 -> 41600 | AG25: =SUM(D25+G25+J25+M25+P25+S25+V25+Y25+AB25) -> 0 | AH25: =L4-AG25 -> 41600
A26: 601003 - STOCKWARE | C26: {=SUMPRODUCT((BDD_PRESTA_ESTIME3[[N° Projet]:[N° Projet]]=$A26)*(BDD_PRESTA_ESTIME3[estimé Janvier])*(BDD_PRESTA_ESTIME3[[TJM]:[TJM]]))+SUMPRODUCT(('Suivi Matériels 2022'!$A$3:$A$54=$A26)*('Suivi Matériels 2022'!Q$3:Q$54))} -> 0 | E26: =M4-C26 -> -7460 | F26: {=SUMPRODUCT((BDD_PRESTA_ESTIME3[[N° Projet]:[N° Projet]]=$A26)*(BDD_PRESTA_ESTIME3[estimée Février])*(BDD_PRESTA_ESTIME3[[TJM]:[TJM]]))+SUMPRODUCT(('Suivi Matériels 2022'!$A$3:$A$54=$A26)*('Suivi Matériels 2022'!R$3:R$54))} -> 0 | G26: ='Suivi Matériels 2022'!H4 -> 34700 | I26: {=SUMPRODUCT((BDD_PRESTA_ESTIME3[[N° Projet]:[N° Projet]]=$A26)*(BDD_PRESTA_ESTIME3[Mars])*(BDD_PRESTA_ESTIME3[[TJM]:[TJM]]))+SUMPRODUCT(('Suivi Matériels 2022'!$A$3:$A$54=$A26)*('Suivi Matériels 2022'!S$3:S$54))} -> 0 | J26: 32320 | L26: {=SUMPRODUCT((BDD_PRESTA_ESTIME3[[N° Projet]:[N° Projet]]=$A26)*(BDD_PRESTA_ESTIME3[Avril])*(BDD_PRESTA_ESTIME3[[TJM]:[TJM]]))+SUMPRODUCT(('Suivi Matériels 2022'!$A$3:$A$54=$A26)*('Suivi Matériels 2022'!T$3:T$54))} -> 0 | O26: {=SUMPRODUCT((BDD_PRESTA_ESTIME3[[N° Projet]:[N° Projet]]=$A26)*(BDD_PRESTA_ESTIME3[Mai])*(BDD_PRESTA_ESTIME3[[TJM]:[TJM]]))+SUMPRODUCT(('Suivi Matériels 2022'!$A$3:$A$54=$A26)*('Suivi Matériels 2022'!U$3:U$54))} -> 0 | R26: {=SUMPRODUCT((BDD_PRESTA_ESTIME3[[N° Projet]:[N° Projet]]=$A26)*(BDD_PRESTA_ESTIME3[Juin])*(BDD_PRESTA_ESTIME3[[TJM]:[TJM]]))+SUMPRODUCT(('Suivi Matériels 2022'!$A$3:$A$54=$A26)*('Suivi Matériels 2022'!V$3:V$54))} -> 0 | S26: 32320 | U26: {=SUMPRODUCT((BDD_PRESTA_ESTIME3[[N° Projet]:[N° Projet]]=$A26)*(BDD_PRESTA_ESTIME3[Juillet])*(BDD_PRESTA_ESTIME3[[TJM]:[TJM]]))+SUMPRODUCT(('Suivi Matériels 2022'!$A$3:$A$54=$A26)*('Suivi Matériels 2022'!W$3:W$54))} -> 0 | X26: {=SUMPRODUCT((BDD_PRESTA_ESTIME3[[N° Projet]:[N° Projet]]=$A26)*(BDD_PRESTA_ESTIME3[Août])*(BDD_PRESTA_ESTIME3[[TJM]:[TJM]]))+SUMPRODUCT(('Suivi Matériels 2022'!$A$3:$A$54=$A26)*('Suivi Matériels 2022'!X$3:X$54))} -> 0 | Y26: 24240 | AA26: {=SUMPRODUCT((BDD_PRESTA_ESTIME3[[N° Projet]:[N° Projet]]=$A26)*(BDD_PRESTA_ESTIME3[Septembre])*(BDD_PRESTA_ESTIME3[[TJM]:[TJM]]))+SUMPRODUCT(('Suivi Matériels 2022'!$A$3:$A$54=$A26)*('Suivi Matériels 2022'!Y$3:Y$54))} -> 0 | AB26: 8080 | AC26: {=SUMPRODUCT((BDD_PRESTA_ESTIME3[[N° Projet]:[N° Projet]]=$A26)*(BDD_PRESTA_ESTIME3[Octobre])*(BDD_PRESTA_ESTIME3[[TJM]:[TJM]]))+SUMPRODUCT(('Suivi Matériels 2022'!$A$3:$A$54=$A26)*('Suivi Matériels 2022'!Z$3:Z$54))} -> 0 | AE26: =SUM(C26+F26+I26+L26+O26+R26+U26+X26+AA26) -> 0 | AF26: =M4-AE26 -> -7460 | AG26: =SUM(D26+G26+J26+M26+P26+S26+V26+Y26+AB26) -> 131660 | AH26: =M4-AG26 -> -139120
K28: 2021
C29: engagés | E29: engagés | F29: engagés | H29: engagés | I29: engagés | K29: engagés | L29: engagés | N29: engagés | O29: engagés | Q29: engagés | R29: engagés
A30: Projet | C30: Janvier | E30: Février | F30: Mars | H30: Avril | I30: Mai | K30: Juin | L30: Juillet | N30: Août | O30: Septembre | Q30: Octobre | R30: Novembre | S30: Décembre | V30: Total :
A31: 601004 - PAS-X | C31: 24320 | E31: 0 | F31: 29205 | H31: 0 | I31: 0 | K31: 0 | L31: 0 | N31: 0 | O31: 12240 | Q31: 13600 | R31: 10880 | S31: 12240 | V31: 102485
A32: 601000 - SAP 4 HANA | C32: 0 | E32: 8450 | F32: 24590 | H32: 27865 | I32: 39715 | K32: 53585 | L32: 46325 | N32: 31170 | O32: 83367 | Q32: 98603 | R32: 92970 | S32: 86469 | V32: 593109
A33: 601079 - Modernisation B80 L2 - 2022 | C33: 0 | E33: 0 | F33: 0 | H33: 0 | I33: 0 | K33: 0 | L33: 0 | N33: 0 | O33: 0 | Q33: 0 | R33: 0 | S33: 0 | V33: 0
A34: 601005 - INFRA IT | C34: 0 | E34: 27343.01 | F34: 119990.97 | H34: 41198.55 | I34: 58342.75 | K34: 81927.75 | L34: 52437.5 | N34: 44164.125 | O34: 58411.14 | Q34: 70150.88 | R34: 74473.36 | S34: 71777.54 | V34: 700217.58
A35: 601007 - GLIMS | C35: 8300 | E35: 28465.75 | F35: 11528.25 | H35: 4503.55 | I35: 21645.5 | K35: 20860.5 | L35: 11347.5 | N35: 1750 | O35: 8220 | Q35: 2970 | R35: 6120 | S35: 4200 | V35: 129911.05
A36: 601008 - EMPOWER | C36: 5262.4 | E36: 6685.5 | F36: 6685.5 | H36: 4503.55 | I36: 20577.75 | K36: 17767.75 | L36: 8915 | N36: 3280 | O36: 2100 | Q36: 14510 | R36: 13515 | S36: 5200 | V36: 109002.45
A37: 600716 - Equipement Production OFM | C37: 0 | E37: 0 | F37: 0 | H37: 0 | I37: 0 | K37: 0 | L37: 0 | N37: 0 | O37: 5885 | Q37: 24500 | R37: 28143 | S37: 12893 | V37: 71421
A38: 601072 - PILOTAGE | C38: 0 | E38: 0 | F38: 0 | H38: 0 | I38: 0 | K38: 0 | L38: 0 | N38: 0 | O38: 0 | Q38: 0 | R38: 0 | S38: 18315 | V38: 18315
A39: 601006 - MASTER CONTROL | C39: 0 | E39: 0 | F39: 2874 | H39: 9722 | I39: 11682.5 | K39: 16038 | L39: 11061.5 | N39: 5748 | O39: 8622 | Q39: 0 | R39: 11080 | S39: 22570 | V39: 99398
A40: 601009 - ONGUARD | C40: 8145 | E40: 0 | F40: 8145 | H40: 0 | I40: 0 | K40: 0 | L40: 0 | N40: 500 | O40: 10750 | Q40: 10500 | R40: 2500 | S40: 8640 | V40: 49180
A41: 601068 - PROCAL | C41: 0 | E41: 0 | F41: 0 | H41: 0 | I41: 0 | K41: 0 | L41: 0 | N41: 0 | O41: 0 | Q41: 0 | R41: 0 | S41: 9000 | V41: 9000
A42: 601002 - PI | C42: 0 | E42: 0 | F42: 9250 | H42: 5750 | I42: 0 | K42: 0 | L42: 0 | N42: 0 | O42: 0 | Q42: 325 | R42: 0 | S42: 0 | V42: 15325
A43: 601003 - STOCKWARE | C43: 0 | E43: 0 | F43: 7680 | H43: 8160 | I43: 6000 | K43: 8640 | L43: 9840 | N43: 2400 | O43: 0 | Q43: 0 | R43: 0 | S43: 0 | V43: 42720
A44: Total | C44: 46027.4 | E44: 70944.26 | F44: 219948.72 | H44: 101702.65 | I44: 157963.5 | K44: 198819 | L44: 139926.5 | N44: 89012.125 | O44: 189595.14 | Q44: 235158.88 | R44: 239681.36 | S44: 251304.54

Sheet Enveloppes
A2: Budgétés (Enveloppe)
A3: Enveloppe | B3: Montants
A4: 600727 - SAP ECC6 | B4: 1825000
A5: 601000 - SAP 4 HANA | B5: 5517700
A6: 601006 - MASTER CONTROL | B6: 367960
A7: 600728 - BASEWARE | B7: 368640
A8: 600724 - DECIDIUM | B8: 92500
A9: 600723 - ETEMPTATION | B9: 83000
A10: 601004 - PAS-X | B10: 523250
A11: 601003 - STOCKWARE | B11: 220750
A12: 601002 - PI | B12: 289750
A13: XXX - GUARDIAN | B13: 119500
A14: XXX - TRACELINK | B14: 125700
A15: 601007 - GLIMS | B15: 781750
... A24: 601072 - PILOTAGE | B24: 689900
