Workbook
Name base_end: Gantt!$V1
Name base_start: Gantt!$U1
Name color_by: Gantt!$X$6
Name color_code: _xlfn.SWITCH(color_by,"Project Structure",Gantt!color_code_project_structure,"Team Roles",Gantt!color_code_team_roles,"Issues",Gantt!color_code_issues,Gantt!color_code_default)
Name color_code_default: IF(Gantt!type<>"",_xlfn.SWITCH(Gantt!type,"S",1,"T",2,"M",3),-1)
Name color_code_issues: IF(Gantt!issue="!",_xlfn.SWITCH(Gantt!type,"S",901,"T",901,"M",902),Gantt!color_code_default)
Name color_code_project_structure: IF(Gantt!stage_id=-1,-1,_xlfn.NUMBERVALUE(IF(MOD(Gantt!stage_id,8)=0,8,MOD(Gantt!stage_id,8))&_xlfn.SWITCH(Gantt!type,"S","01","T","02","M","03")))
Name color_code_team_roles: IF(Gantt!role_id=-1,Gantt!color_code_default,_xlfn.NUMBERVALUE(Gantt!role_id&_xlfn.SWITCH(Gantt!type,"T","01","M","04")))
Name d.conn: Gantt!$P1
Name d.id: Gantt!$M1
Name d.lag: Gantt!$Q1
Name d.name: INDEX(Gantt!$F:$F,Gantt!d.row)
Name d.row: MATCH(Gantt!d.id,Gantt!$B:$B,0)
Name d.type: INDEX(Gantt!$E:$E,Gantt!d.row)
Name date: Gantt!A$10
Name Display: Gantt!$AE$6
Name ff_calculation: WORKDAY(INDEX(Gantt!$T:$T,Gantt!d.row),Gantt!d.lag)
Name fs_calculation: WORKDAY(INDEX(Gantt!$T:$T,Gantt!d.row),1+Gantt!d.lag)
Name highlight: Gantt!$AS$6
Name id: Gantt!$B1
Name ind.end: Gantt!$L1
Name ind.start: Gantt!$K1
Name issue: Gantt!$J1
Name item_in_base: AND(Gantt!date>=Gantt!base_start,Gantt!date<=Gantt!base_end)
Name item_in_complete: AND(Gantt!date>=Gantt!plan_start,Gantt!date<=WORKDAY(Gantt!plan_start,Gantt!percentage_complete*Gantt!workdays-1))
Name item_in_plan: AND(Gantt!date>=Gantt!plan_start,Gantt!date<=Gantt!plan_end)
Name next_date: Gantt!B$10
Name percentage_complete: Gantt!$W1
Name plan_end: Gantt!$T1
Name plan_end_calculation: WORKDAY(Gantt!plan_start,Gantt!workdays-1)
Name plan_start: Gantt!$S1
Name plan_start_calculation: WORKDAY(Gantt!plan_end,(-1)*Gantt!workdays+1)
Name prev_col_range: Gantt!A$13:A1048576
Name project_base_start: MIN(Gantt!$U$13:$U$1000)
Name project_duration: NETWORKDAYS(Gantt!project_start,Gantt!project_end)
Name project_end: MAX(Gantt!$T$13:$T$1000)
Name project_start: MIN(Gantt!$S$13:$S$1000)
Name role: Gantt!$H1
Name role_id: Gantt!$D1
Name scroll: Gantt!$W$11
Name sf_calculation: WORKDAY(INDEX(Gantt!$S:$S,Gantt!d.row),(-1)+Gantt!d.lag)
Name show_progress: Gantt!$AL$6
Name ss_calculation: WORKDAY(INDEX(Gantt!$S:$S,Gantt!d.row),Gantt!d.lag)
Name stage_id: Gantt!$C1
Name team_member: Gantt!$I1
Name timeline_base_start: Gantt!project_base_start-WEEKDAY(Gantt!project_base_start,3)
Name timeline_plan_start: IF(Gantt!project_start=0,TODAY()-WEEKDAY(TODAY(),3),Gantt!project_start-WEEKDAY(Gantt!project_start,3))
Name timeline_start: IF(Display="Plan vs Base",IF(Gantt!timeline_base_start>0,MIN(Gantt!timeline_base_start,Gantt!timeline_plan_start),Gantt!timeline_plan_start),Gantt!timeline_plan_start)
Name type: Gantt!$E1
Name weekend: Settings!$U$8
Name workdays: MAX(Gantt!$R1,1)

Sheet Settings
X2: Gantt
B6: Project Details | G6: Project Role Types | M6: Project Role Types | S6: Weekend and Holidays
C8: Project Title : | D8: ST LOUKKOS | H8: Role | I8: Code | J8: # | N8: Name | O8: Role | P8: Code | T8: Weekend | U8: 0000001
H9: Travaux GC | I9: TGC | J9: =IF(H9<>"",COUNTIF($O$9:$O$38,H9),"") -> 1 | O9: Direction genérale | P9: =_xlfn.IFNA(INDEX($I$9:$I$16,MATCH(O9,$H$9:$H$16,0)),"") -> DG
C10: Project Manager : | H10: Montage | I10: M | J10: =IF(H10<>"",COUNTIF($O$9:$O$38,H10),"") -> 1 | O10: Travaux GC | P10: =_xlfn.IFNA(INDEX($I$9:$I$16,MATCH(O10,$H$9:$H$16,0)),"") -> TGC | T10: Holidays | U10: 44197
H11: Électricité | I11: E | J11: =IF(H11<>"",COUNTIF($O$9:$O$38,H11),"") -> 1 | O11: Montage | P11: =_xlfn.IFNA(INDEX($I$9:$I$16,MATCH(O11,$H$9:$H$16,0)),"") -> M | T11: Holidays | U11: 44572
C12: Project Priority : | D12: High | H12: Parc matériel | I12: PM | J12: =IF(H12<>"",COUNTIF($O$9:$O$38,H12),"") -> 1 | O12: Parc matériel | P12: =_xlfn.IFNA(INDEX($I$9:$I$16,MATCH(O12,$H$9:$H$16,0)),"") -> PM | T12: Holidays | U12: 44683
H13: Achat | I13: A | J13: =IF(H13<>"",COUNTIF($O$9:$O$38,H13),"") -> 1 | O13: Achat | P13: =_xlfn.IFNA(INDEX($I$9:$I$16,MATCH(O13,$H$9:$H$16,0)),"") -> A | T13: Holidays | U13: 44752
H14: Contabilité | I14: C | J14: =IF(H14<>"",COUNTIF($O$9:$O$38,H14),"") -> 1 | O14: Électricité | P14: =_xlfn.IFNA(INDEX($I$9:$I$16,MATCH(O14,$H$9:$H$16,0)),"") -> E | T14: Holidays | U14: 44772
H15: Client | I15: CL | J15: =IF(H15<>"",COUNTIF($O$9:$O$38,H15),"") -> 1 | O15: Contabilité | P15: =_xlfn.IFNA(INDEX($I$9:$I$16,MATCH(O15,$H$9:$H$16,0)),"") -> C | T15: Holidays | U15: 44787
H16: Direction genérale | I16: DG | J16: =IF(H16<>"",COUNTIF($O$9:$O$38,H16),"") -> 1 | O16: Client | P16: =_xlfn.IFNA(INDEX($I$9:$I$16,MATCH(O16,$H$9:$H$16,0)),"") -> CL | T16: Holidays | U16: 44793
P17: =_xlfn.IFNA(INDEX($I$9:$I$16,MATCH(O17,$H$9:$H$16,0)),"") | T17: Holidays | U17: 44794
P18: =_xlfn.IFNA(INDEX($I$9:$I$16,MATCH(O18,$H$9:$H$16,0)),"") | T18: Holidays | U18: 44843
P19: =_xlfn.IFNA(INDEX($I$9:$I$16,MATCH(O19,$H$9:$H$16,0)),"") | T19: Holidays | U19: 44871
P20: =_xlfn.IFNA(INDEX($I$9:$I$16,MATCH(O20,$H$9:$H$16,0)),"") | T20: Holidays | U20: 44883
P21: =_xlfn.IFNA(INDEX($I$9:$I$16,MATCH(O21,$H$9:$H$16,0)),"")
P22: =_xlfn.IFNA(INDEX($I$9:$I$16,MATCH(O22,$H$9:$H$16,0)),"")
P23: =_xlfn.IFNA(INDEX($I$9:$I$16,MATCH(O23,$H$9:$H$16,0)),"")
P24: =_xlfn.IFNA(INDEX($I$9:$I$16,MATCH(O24,$H$9:$H$16,0)),"")
P25: =_xlfn.IFNA(INDEX($I$9:$I$16,MATCH(O25,$H$9:$H$16,0)),"")
P26: =_xlfn.IFNA(INDEX($I$9:$I$16,MATCH(O26,$H$9:$H$16,0)),"")
P27: =_xlfn.IFNA(INDEX($I$9:$I$16,MATCH(O27,$H$9:$H$16,0)),"")
P28: =_xlfn.IFNA(INDEX($I$9:$I$16,MATCH(O28,$H$9:$H$16,0)),"")
P29: =_xlfn.IFNA(INDEX($I$9:$I$16,MATCH(O29,$H$9:$H$16,0)),"")
P30: =_xlfn.IFNA(INDEX($I$9:$I$16,MATCH(O30,$H$9:$H$16,0)),"")
P31: =_xlfn.IFNA(INDEX($I$9:$I$16,MATCH(O31,$H$9:$H$16,0)),"")
P32: =_xlfn.IFNA(INDEX($I$9:$I$16,MATCH(O32,$H$9:$H$16,0)),"")
... P38: =_xlfn.IFNA(INDEX($I$9:$I$16,MATCH(O38,$H$9:$H$16,0)),"")

Sheet Gantt
B2: =Settings!$D$8 -> ST LOUKKOS | X2: Project Timespan : | AF2: =project_start -> 44593 | AJ2: - | AK2: =project_end -> 44764 | AP2: ="("&project_duration&")" -> (124) | AT2: Project Manager : | BB2: =Settings!$D$10 -> 0 | BL2: Settings
X5: Color by | AE5: Display | AL5: Show progress | AS5: Highlight
X6: Project Structure | AE6: Plan | AL6: No | AS6: Aujourd'hui
X8: GANTT CHART AREA
K10: Actual plan | U10: Base plan | W10: Aujourd'hui | X10: {=WORKDAY(timeline_start,scroll)} -> 44662 | Y10: =X10+1 -> 44663 | Z10: =Y10+1 -> 44664 | AA10: =Z10+1 -> 44665 | AB10: =AA10+1 -> 44666 | AC10: =AB10+1 -> 44667 | AD10: =AC10+1 -> 44668 | AE10: =AD10+1 -> 44669 | AF10: =AE10+1 -> 44670 | ... CC10: =CB10+1 -> 44719
K11: Update on : | U11: Saved on : | W11: 50
B12: Ids | E12: Item details
B13: Id | C13: S.id | D13: R.id | E13: Type | F13: Description | H13: Roles | I13: Team member | J13: ! | K13: Ind. Start | L13: Ind. End | M13: D.id | N13: D.item | P13: D.conn | Q13: D.lag | R13: Work days | S13: Start | T13: End | U13: Start | V13: End | W13: % | X13: =LEFT(TEXT(X10,"jjj"),1) -> l | Y13: =LEFT(TEXT(Y10,"jjj"),1) -> m | Z13: =LEFT(TEXT(Z10,"jjj"),1) -> m | AA13: =LEFT(TEXT(AA10,"jjj"),1) -> j | AB13: =LEFT(TEXT(AB10,"jjj"),1) -> v | AC13: =LEFT(TEXT(AC10,"jjj"),1) -> s | AD13: =LEFT(TEXT(AD10,"jjj"),1) -> d | AE13: =LEFT(TEXT(AE10,"jjj"),1) -> l | ... CC13: =LEFT(TEXT(CC10,"jjj"),1) -> m
B15: =IF(ROW(id)=ROW($B$13)+2,1,MAX(prev_col_range)+1) -> 1 | C15: =IF(type<>"",IF(ROW(stage_id)=ROW($C$13)+2,1,IF(type="S",MAX(prev_col_range)+1,MAX(prev_col_range))),-1) -> 1 | D15: =_xlfn.IFNA(IF(OR(type="T",type="M"),MATCH(role,Settings!$I$9:$I$16,0),-1),-1) -> -1 | E15: S | F15: Réservoir eau traitée et d'eau filtrée | H15: =_xlfn.IFNA(INDEX(Settings!$P$9:$P$38,MATCH(team_member,Settings!$N$9:$N$38,0)),"") | K15: =MIN(S16) -> 44593 | N15: =IF(d.id<>"",IF(d.id<id,"↖",IF(d.id>id,"↙","")),"") | O15: =IFERROR("("&d.type&")"&IF(LEN(d.name)>20,LEFT(d.name,20)&"….",d.name),"") | R15: =NETWORKDAYS(plan_start,MAX(T16)) -> 10 | S15: =IFERROR(IF(ind.start<>"",ind.start,IF(ind.end<>"",plan_start_calculation,IF(d.id<>"",IF(OR(d.conn="FS",d.conn=""),fs_calculation,IF(d.conn="SS",ss_calculation,plan_start_calculation)),""))),"") -> 44593 | T15: =IFERROR(IF(ind.start<>"",plan_end_calculation,IF(ind.end<>"",ind.end,IF(d.id<>"",IF(d.conn="SF",sf_calculation,IF(d.conn="FF",ff_calculation,plan_end_calculation)),""))),"") -> 44606 | W15: =W16*R16/R16 -> 1 | X15: 0 | Y15: 0 | Z15: 0 | AA15: 0 | AB15: 0 | AC15: 0 | AD15: 0 | AE15: 0 | AF15: 0 | AG15: 0 | AH15: 0 | AI15: 0 | AJ15: 0 | AK15: 0 | AL15: 0 | AM15: 0 | AN15: 0 | AO15: 0 | AP15: 0 | AQ15: 0 | AR15: 0 | AS15: 0 | AT15: 0 | AU15: 0 | AV15: 0 | AW15: 0 | AX15: 0 | AY15: 0 | AZ15: 0 | BA15: 0 | BB15: 0 | BC15: 0 | BD15: 0 | BE15: 0 | BF15: 0 | BG15: 0 | BH15: 0 | BI15: 0 | BJ15: 0 | BK15: 0 | BL15: 0 | BM15: 0 | BN15: 0 | BO15: 0 | BP15: 0 | BQ15: 0 | BR15: 0 | BS15: 0 | BT15: 0 | BU15: 0 | BV15: 0 | BW15: 0 | BX15: 0 | BY15: 0 | BZ15: 0 | CA15: 0 | CB15: 0 | CC15: 0
B16: =IF(ROW(id)=ROW($B$13)+2,1,MAX(prev_col_range)+1) -> 2 | C16: =IF(type<>"",IF(ROW(stage_id)=ROW($C$13)+2,1,IF(type="S",MAX(prev_col_range)+1,MAX(prev_col_range))),-1) -> 1 | D16: =_xlfn.IFNA(IF(OR(type="T",type="M"),MATCH(role,Settings!$I$9:$I$16,0),-1),-1) -> -1 | E16: T | F16: Nettoyage et finitions | H16: =_xlfn.IFNA(INDEX(Settings!$P$9:$P$38,MATCH(team_member,Settings!$N$9:$N$38,0)),"") | K16: 44593 | N16: =IF(d.id<>"",IF(d.id<id,"↖",IF(d.id>id,"↙","")),"") | O16: =IFERROR("("&d.type&")"&IF(LEN(d.name)>20,LEFT(d.name,20)&"….",d.name),"") | P16: SS | R16: 10 | S16: =IFERROR(IF(ind.start<>"",ind.start,IF(ind.end<>"",plan_start_calculation,IF(d.id<>"",IF(OR(d.conn="FS",d.conn=""),fs_calculation,IF(d.conn="SS",ss_calculation,plan_start_calculation)),""))),"") -> 44593 | T16: =IFERROR(IF(ind.start<>"",plan_end_calculation,IF(ind.end<>"",ind.end,IF(d.id<>"",IF(d.conn="SF",sf_calculation,IF(d.conn="FF",ff_calculation,plan_end_calculation)),""))),"") -> 44606 | W16: 1 | X16: 0 | Y16: 0 | Z16: 0 | AA16: 0 | AB16: 0 | AC16: 0 | AD16: 0 | AE16: 0 | AF16: 0 | AG16: 0 | AH16: 0 | AI16: 0 | AJ16: 0 | AK16: 0 | AL16: 0 | AM16: 0 | AN16: 0 | AO16: 0 | AP16: 0 | AQ16: 0 | AR16: 0 | AS16: 0 | AT16: 0 | AU16: 0 | AV16: 0 | AW16: 0 | AX16: 0 | AY16: 0 | AZ16: 0 | BA16: 0 | BB16: 0 | BC16: 0 | BD16: 0 | BE16: 0 | BF16: 0 | BG16: 0 | BH16: 0 | BI16: 0 | BJ16: 0 | BK16: 0 | BL16: 0 | BM16: 0 | BN16: 0 | BO16: 0 | BP16: 0 | BQ16: 0 | BR16: 0 | BS16: 0 | BT16: 0 | BU16: 0 | BV16: 0 | BW16: 0 | BX16: 0 | BY16: 0 | BZ16: 0 | CA16: 0 | CB16: 0 | CC16: 0
B17: =IF(ROW(id)=ROW($B$13)+2,1,MAX(prev_col_range)+1) -> 3 | C17: =IF(type<>"",IF(ROW(stage_id)=ROW($C$13)+2,1,IF(type="S",MAX(prev_col_range)+1,MAX(prev_col_range))),-1) -> 2 | D17: =_xlfn.IFNA(IF(OR(type="T",type="M"),MATCH(role,Settings!$I$9:$I$16,0),-1),-1) -> -1 | E17: S | F17: Salle des pompes et Filtres | H17: =_xlfn.IFNA(INDEX(Settings!$P$9:$P$38,MATCH(team_member,Settings!$N$9:$N$38,0)),"") | K17: =MIN(S18:S26) -> 44651 | N17: =IF(d.id<>"",IF(d.id<id,"↖",IF(d.id>id,"↙","")),"") | O17: =IFERROR("("&d.type&")"&IF(LEN(d.name)>20,LEFT(d.name,20)&"….",d.name),"") | R17: =NETWORKDAYS(plan_start,MAX(T18:T26)) -> 56 | S17: =IFERROR(IF(ind.start<>"",ind.start,IF(ind.end<>"",plan_start_calculation,IF(d.id<>"",IF(OR(d.conn="FS",d.conn=""),fs_calculation,IF(d.conn="SS",ss_calculation,plan_start_calculation)),""))),"") -> 44651 | T17: =IFERROR(IF(ind.start<>"",plan_end_calculation,IF(ind.end<>"",ind.end,IF(d.id<>"",IF(d.conn="SF",sf_calculation,IF(d.conn="FF",ff_calculation,plan_end_calculation)),""))),"") -> 44728 | W17: {=SUM(W18:W26*R18:R26)/SUM(R18:R26)} -> 0.39385965 | X17: 0 | Y17: 0 | Z17: 0 | AA17: 0 | AB17: 0 | AC17: 0 | AD17: 0 | AE17: 0 | AF17: 0 | AG17: 0 | AH17: 0 | AI17: 0 | AJ17: 0 | AK17: 0 | AL17: 0 | AM17: 0 | AN17: 0 | AO17: 0 | AP17: 0 | AQ17: 0 | AR17: 0 | AS17: 0 | AT17: 0 | AU17: 0 | AV17: 0 | AW17: 0 | AX17: 0 | AY17: 0 | AZ17: 0 | BA17: 0 | BB17: 0 | BC17: 0 | BD17: 0 | BE17: 0 | BF17: 0 | BG17: 0 | BH17: 0 | BI17: 0 | BJ17: 0 | BK17: 0 | BL17: 0 | BM17: 0 | BN17: 0 | BO17: 0 | BP17: 0 | BQ17: 0 | BR17: 0 | BS17: 0 | BT17: 0 | BU17: 0 | BV17: 0 | BW17: 0 | BX17: 0 | BY17: 0 | BZ17: 0 | CA17: 0 | CB17: 0 | CC17: 0
B18: =IF(ROW(id)=ROW($B$13)+2,1,MAX(prev_col_range)+1) -> 4 | C18: =IF(type<>"",IF(ROW(stage_id)=ROW($C$13)+2,1,IF(type="S",MAX(prev_col_range)+1,MAX(prev_col_range))),-1) -> 2 | D18: =_xlfn.IFNA(IF(OR(type="T",type="M"),MATCH(role,Settings!$I$9:$I$16,0),-1),-1) -> -1 | E18: T | F18: Maçonnerie en agglos | H18: =_xlfn.IFNA(INDEX(Settings!$P$9:$P$38,MATCH(team_member,Settings!$N$9:$N$38,0)),"") | K18: 44652 | N18: =IF(d.id<>"",IF(d.id<id,"↖",IF(d.id>id,"↙","")),"") | O18: =IFERROR("("&d.type&")"&IF(LEN(d.name)>20,LEFT(d.name,20)&"….",d.name),"") | Q18: 1 | R18: 14 | S18: =IFERROR(IF(ind.start<>"",ind.start,IF(ind.end<>"",plan_start_calculation,IF(d.id<>"",IF(OR(d.conn="FS",d.conn=""),fs_calculation,IF(d.conn="SS",ss_calculation,plan_start_calculation)),""))),"") -> 44652 | T18: =IFERROR(IF(ind.start<>"",plan_end_calculation,IF(ind.end<>"",ind.end,IF(d.id<>"",IF(d.conn="SF",sf_calculation,IF(d.conn="FF",ff_calculation,plan_end_calculation)),""))),"") -> 44671 | W18: 0.6 | X18: 0 | Y18: 0 | Z18: 0 | AA18: 0 | AB18: 0 | AC18: 0 | AD18: 0 | AE18: 0 | AF18: 0 | AG18: 0 | AH18: 0 | AI18: 0 | AJ18: 0 | AK18: 0 | AL18: 0 | AM18: 0 | AN18: 0 | AO18: 0 | AP18: 0 | AQ18: 0 | AR18: 0 | AS18: 0 | AT18: 0 | AU18: 0 | AV18: 0 | AW18: 0 | AX18: 0 | AY18: 0 | AZ18: 0 | BA18: 0 | BB18: 0 | BC18: 0 | BD18: 0 | BE18: 0 | BF18: 0 | BG18: 0 | BH18: 0 | BI18: 0 | BJ18: 0 | BK18: 0 | BL18: 0 | BM18: 0 | BN18: 0 | BO18: 0 | BP18: 0 | BQ18: 0 | BR18: 0 | BS18: 0 | BT18: 0 | BU18: 0 | BV18: 0 | BW18: 0 | BX18: 0 | BY18: 0 | BZ18: 0 | CA18: 0 | CB18: 0 | CC18: 0
B19: =IF(ROW(id)=ROW($B$13)+2,1,MAX(prev_col_range)+1) -> 5 | C19: =IF(type<>"",IF(ROW(stage_id)=ROW($C$13)+2,1,IF(type="S",MAX(prev_col_range)+1,MAX(prev_col_range))),-1) -> 2 | D19: =_xlfn.IFNA(IF(OR(type="T",type="M"),MATCH(role,Settings!$I$9:$I$16,0),-1),-1) -> -1 | E19: T | F19: Enduits intérieur& extérieur | H19: =_xlfn.IFNA(INDEX(Settings!$P$9:$P$38,MATCH(team_member,Settings!$N$9:$N$38,0)),"") | M19: =B18 -> 4 | N19: =IF(d.id<>"",IF(d.id<id,"↖",IF(d.id>id,"↙","")),"") -> ↖ | O19: =IFERROR("("&d.type&")"&IF(LEN(d.name)>20,LEFT(d.name,20)&"….",d.name),"") -> (T)Maçonnerie en agglos | P19: FS | Q19: -6 | R19: 30 | S19: =IFERROR(IF(ind.start<>"",ind.start,IF(ind.end<>"",plan_start_calculation,IF(d.id<>"",IF(OR(d.conn="FS",d.conn=""),fs_calculation,IF(d.conn="SS",ss_calculation,plan_start_calculation)),""))),"") -> 44664 | T19: =IFERROR(IF(ind.start<>"",plan_end_calculation,IF(ind.end<>"",ind.end,IF(d.id<>"",IF(d.conn="SF",sf_calculation,IF(d.conn="FF",ff_calculation,plan_end_calculation)),""))),"") -> 44705 | W19: 0.6 | X19: 0 | Y19: 0 | Z19: 0 | AA19: 0 | AB19: 0 | AC19: 0 | AD19: 0 | AE19: 0 | AF19: 0 | AG19: 0 | AH19: 0 | AI19: 0 | AJ19: 0 | AK19: 0 | AL19: 0 | AM19: 0 | AN19: 0 | AO19: 0 | AP19: 0 | AQ19: 0 | AR19: 0 | AS19: 0 | AT19: 0 | AU19: 0 | AV19: 0 | AW19: 0 | AX19: 0 | AY19: 0 | AZ19: 0 | BA19: 0 | BB19: 0 | BC19: 0 | BD19: 0 | BE19: 0 | BF19: 0 | BG19: 0 | BH19: 0 | BI19: 0 | BJ19: 0 | BK19: 0 | BL19: 0 | BM19: 0 | BN19: 0 | BO19: 0 | BP19: 0 | BQ19: 0 | BR19: 0 | BS19: 0 | BT19: 0 | BU19: 0 | BV19: 0 | BW19: 0 | BX19: 0 | BY19: 0 | BZ19: 0 | CA19: 0 | CB19: 0 | CC19: 0
B20: =IF(ROW(id)=ROW($B$13)+2,1,MAX(prev_col_range)+1) -> 6 | C20: =IF(type<>"",IF(ROW(stage_id)=ROW($C$13)+2,1,IF(type="S",MAX(prev_col_range)+1,MAX(prev_col_range))),-1) -> 2 | D20: =_xlfn.IFNA(IF(OR(type="T",type="M"),MATCH(role,Settings!$I$9:$I$16,0),-1),-1) -> -1 | E20: T | F20: Peinture extérieur& intérieure | H20: =_xlfn.IFNA(INDEX(Settings!$P$9:$P$38,MATCH(team_member,Settings!$N$9:$N$38,0)),"") | M20: =+B105 -> 91 | N20: =IF(d.id<>"",IF(d.id<id,"↖",IF(d.id>id,"↙","")),"") -> ↙ | O20: =IFERROR("("&d.type&")"&IF(LEN(d.name)>20,LEFT(d.name,20)&"….",d.name),"") -> (T)Espaces Verts | P20: SS | Q20: 2 | R20: 10 | S20: =IFERROR(IF(ind.start<>"",ind.start,IF(ind.end<>"",plan_start_calculation,IF(d.id<>"",IF(OR(d.conn="FS",d.conn=""),fs_calculation,IF(d.conn="SS",ss_calculation,plan_start_calculation)),""))),"") -> 44715 | T20: =IFERROR(IF(ind.start<>"",plan_end_calculation,IF(ind.end<>"",ind.end,IF(d.id<>"",IF(d.conn="SF",sf_calculation,IF(d.conn="FF",ff_calculation,plan_end_calculation)),""))),"") -> 44728 | W20: 0 | X20: 0 | Y20: 0 | Z20: 0 | AA20: 0 | AB20: 0 | AC20: 0 | AD20: 0 | AE20: 0 | AF20: 0 | AG20: 0 | AH20: 0 | AI20: 0 | AJ20: 0 | AK20: 0 | AL20: 0 | AM20: 0 | AN20: 0 | AO20: 0 | AP20: 0 | AQ20: 0 | AR20: 0 | AS20: 0 | AT20: 0 | AU20: 0 | AV20: 0 | AW20: 0 | AX20: 0 | AY20: 0 | AZ20: 0 | BA20: 0 | BB20: 0 | BC20: 0 | BD20: 0 | BE20: 0 | BF20: 0 | BG20: 0 | BH20: 0 | BI20: 0 | BJ20: 0 | BK20: 0 | BL20: 0 | BM20: 0 | BN20: 0 | BO20: 0 | BP20: 0 | BQ20: 0 | BR20: 0 | BS20: 0 | BT20: 0 | BU20: 0 | BV20: 0 | BW20: 0 | BX20: 0 | BY20: 0 | BZ20: 0 | CA20: 0 | CB20: 0 | CC20: 0
B21: =IF(ROW(id)=ROW($B$13)+2,1,MAX(prev_col_range)+1) -> 7 | C21: =IF(type<>"",IF(ROW(stage_id)=ROW($C$13)+2,1,IF(type="S",MAX(prev_col_range)+1,MAX(prev_col_range))),-1) -> 2 | D21: =_xlfn.IFNA(IF(OR(type="T",type="M"),MATCH(role,Settings!$I$9:$I$16,0),-1),-1) -> -1 | E21: T | F21: Menuiserie métallique | H21: =_xlfn.IFNA(INDEX(Settings!$P$9:$P$38,MATCH(team_member,Settings!$N$9:$N$38,0)),"") | M21: =B18 -> 4 | N21: =IF(d.id<>"",IF(d.id<id,"↖",IF(d.id>id,"↙","")),"") -> ↖ | O21: =IFERROR("("&d.type&")"&IF(LEN(d.name)>20,LEFT(d.name,20)&"….",d.name),"") -> (T)Maçonnerie en agglos | P21: FS | Q21: 2 | R21: 3 | S21: =IFERROR(IF(ind.start<>"",ind.start,IF(ind.end<>"",plan_start_calculation,IF(d.id<>"",IF(OR(d.conn="FS",d.conn=""),fs_calculation,IF(d.conn="SS",ss_calculation,plan_start_calculation)),""))),"") -> 44676 | T21: =IFERROR(IF(ind.start<>"",plan_end_calculation,IF(ind.end<>"",ind.end,IF(d.id<>"",IF(d.conn="SF",sf_calculation,IF(d.conn="FF",ff_calculation,plan_end_calculation)),""))),"") -> 44678 | W21: 0 | X21: 0 | Y21: 0 | Z21: 0 | AA21: 0 | AB21: 0 | AC21: 0 | AD21: 0 | AE21: 0 | AF21: 0 | AG21: 0 | AH21: 0 | AI21: 0 | AJ21: 0 | AK21: 0 | AL21: 0 | AM21: 0 | AN21: 0 | AO21: 0 | AP21: 0 | AQ21: 0 | AR21: 0 | AS21: 0 | AT21: 0 | AU21: 0 | AV21: 0 | AW21: 0 | AX21: 0 | AY21: 0 | AZ21: 0 | BA21: 0 | BB21: 0 | BC21: 0 | BD21: 0 | BE21: 0 | BF21: 0 | BG21: 0 | BH21: 0 | BI21: 0 | BJ21: 0 | BK21: 0 | BL21: 0 | BM21: 0 | BN21: 0 | BO21: 0 | BP21: 0 | BQ21: 0 | BR21: 0 | BS21: 0 | BT21: 0 | BU21: 0 | BV21: 0 | BW21: 0 | BX21: 0 | BY21: 0 | BZ21: 0 | CA21: 0 | CB21: 0 | CC21: 0
B22: =IF(ROW(id)=ROW($B$13)+2,1,MAX(prev_col_range)+1) -> 8 | C22: =IF(type<>"",IF(ROW(stage_id)=ROW($C$13)+2,1,IF(type="S",MAX(prev_col_range)+1,MAX(prev_col_range))),-1) -> 2 | D22: =_xlfn.IFNA(IF(OR(type="T",type="M"),MATCH(role,Settings!$I$9:$I$16,0),-1),-1) -> -1 | E22: T | F22: Complexe d'étanchéité de terrasse | H22: =_xlfn.IFNA(INDEX(Settings!$P$9:$P$38,MATCH(team_member,Settings!$N$9:$N$38,0)),"") | M22: =B18 -> 4 | N22: =IF(d.id<>"",IF(d.id<id,"↖",IF(d.id>id,"↙","")),"") -> ↖ | O22: =IFERROR("("&d.type&")"&IF(LEN(d.name)>20,LEFT(d.name,20)&"….",d.name),"") -> (T)Maçonnerie en agglos | P22: FF | Q22: 7 | R22: 7 | S22: =IFERROR(IF(ind.start<>"",ind.start,IF(ind.end<>"",plan_start_calculation,IF(d.id<>"",IF(OR(d.conn="FS",d.conn=""),fs_calculation,IF(d.conn="SS",ss_calculation,plan_start_calculation)),""))),"") -> 44672 | T22: =IFERROR(IF(ind.start<>"",plan_end_calculation,IF(ind.end<>"",ind.end,IF(d.id<>"",IF(d.conn="SF",sf_calculation,IF(d.conn="FF",ff_calculation,plan_end_calculation)),""))),"") -> 44680 | W22: 0 | X22: 0 | Y22: 0 | Z22: 0 | AA22: 0 | AB22: 0 | AC22: 0 | AD22: 0 | AE22: 0 | AF22: 0 | AG22: 0 | AH22: 0 | AI22: 0 | AJ22: 0 | AK22: 0 | AL22: 0 | AM22: 0 | AN22: 0 | AO22: 0 | AP22: 0 | AQ22: 0 | AR22: 0 | AS22: 0 | AT22: 0 | AU22: 0 | AV22: 0 | AW22: 0 | AX22: 0 | AY22: 0 | AZ22: 0 | BA22: 0 | BB22: 0 | BC22: 0 | BD22: 0 | BE22: 0 | BF22: 0 | BG22: 0 | BH22: 0 | BI22: 0 | BJ22: 0 | BK22: 0 | BL22: 0 | BM22: 0 | BN22: 0 | BO22: 0 | BP22: 0 | BQ22: 0 | BR22: 0 | BS22: 0 | BT22: 0 | BU22: 0 | BV22: 0 | BW22: 0 | BX22: 0 | BY22: 0 | BZ22: 0 | CA22: 0 | CB22: 0 | CC22: 0
B23: =IF(ROW(id)=ROW($B$13)+2,1,MAX(prev_col_range)+1) -> 9 | C23: =IF(type<>"",IF(ROW(stage_id)=ROW($C$13)+2,1,IF(type="S",MAX(prev_col_range)+1,MAX(prev_col_range))),-1) -> 2 | D23: =_xlfn.IFNA(IF(OR(type="T",type="M"),MATCH(role,Settings!$I$9:$I$16,0),-1),-1) -> -1 | E23: T | F23: Revêtement des sols | H23: =_xlfn.IFNA(INDEX(Settings!$P$9:$P$38,MATCH(team_member,Settings!$N$9:$N$38,0)),"") | M23: =+B21 -> 7 | N23: =IF(d.id<>"",IF(d.id<id,"↖",IF(d.id>id,"↙","")),"") -> ↖ | O23: =IFERROR("("&d.type&")"&IF(LEN(d.name)>20,LEFT(d.name,20)&"….",d.name),"") -> (T)Menuiserie métalliqu…. | P23: FS | R23: 7 | S23: =IFERROR(IF(ind.start<>"",ind.start,IF(ind.end<>"",plan_start_calculation,IF(d.id<>"",IF(OR(d.conn="FS",d.conn=""),fs_calculation,IF(d.conn="SS",ss_calculation,plan_start_calculation)),""))),"") -> 44679 | T23: =IFERROR(IF(ind.start<>"",plan_end_calculation,IF(ind.end<>"",ind.end,IF(d.id<>"",IF(d.conn="SF",sf_calculation,IF(d.conn="FF",ff_calculation,plan_end_calculation)),""))),"") -> 44687 | W23: 0 | X23: 0 | Y23: 0 | Z23: 0 | AA23: 0 | AB23: 0 | AC23: 0 | AD23: 0 | AE23: 0 | AF23: 0 | AG23: 0 | AH23: 0 | AI23: 0 | AJ23: 0 | AK23: 0 | AL23: 0 | AM23: 0 | AN23: 0 | AO23: 0 | AP23: 0 | AQ23: 0 | AR23: 0 | AS23: 0 | AT23: 0 | AU23: 0 | AV23: 0 | AW23: 0 | AX23: 0 | AY23: 0 | AZ23: 0 | BA23: 0 | BB23: 0 | BC23: 0 | BD23: 0 | BE23: 0 | BF23: 0 | BG23: 0 | BH23: 0 | BI23: 0 | BJ23: 0 | BK23: 0 | BL23: 0 | BM23: 0 | BN23: 0 | BO23: 0 | BP23: 0 | BQ23: 0 | BR23: 0 | BS23: 0 | BT23: 0 | BU23: 0 | BV23: 0 | BW23: 0 | BX23: 0 | BY23: 0 | BZ23: 0 | CA23: 0 | CB23: 0 | CC23: 0
B24: =IF(ROW(id)=ROW($B$13)+2,1,MAX(prev_col_range)+1) -> 10 | C24: =IF(type<>"",IF(ROW(stage_id)=ROW($C$13)+2,1,IF(type="S",MAX(prev_col_range)+1,MAX(prev_col_range))),-1) -> 2 | D24: =_xlfn.IFNA(IF(OR(type="T",type="M"),MATCH(role,Settings!$I$9:$I$16,0),-1),-1) -> -1 | E24: T | F24: Pose des dallettes | H24: =_xlfn.IFNA(INDEX(Settings!$P$9:$P$38,MATCH(team_member,Settings!$N$9:$N$38,0)),"") | M24: =B19 -> 5 | N24: =IF(d.id<>"",IF(d.id<id,"↖",IF(d.id>id,"↙","")),"") -> ↖ | O24: =IFERROR("("&d.type&")"&IF(LEN(d.name)>20,LEFT(d.name,20)&"….",d.name),"") -> (T)Enduits intérieur& e…. | P24: SF | R24: 7 | S24: =IFERROR(IF(ind.start<>"",ind.start,IF(ind.end<>"",plan_start_calculation,IF(d.id<>"",IF(OR(d.conn="FS",d.conn=""),fs_calculation,IF(d.conn="SS",ss_calculation,plan_start_calculation)),""))),"") -> 44655 | T24: =IFERROR(IF(ind.start<>"",plan_end_calculation,IF(ind.end<>"",ind.end,IF(d.id<>"",IF(d.conn="SF",sf_calculation,IF(d.conn="FF",ff_calculation,plan_end_calculation)),""))),"") -> 44663 | W24: 0.5 | X24: 0 | Y24: 0 | Z24: 0 | AA24: 0 | AB24: 0 | AC24: 0 | AD24: 0 | AE24: 0 | AF24: 0 | AG24: 0 | AH24: 0 | AI24: 0 | AJ24: 0 | AK24: 0 | AL24: 0 | AM24: 0 | AN24: 0 | AO24: 0 | AP24: 0 | AQ24: 0 | AR24: 0 | AS24: 0 | AT24: 0 | AU24: 0 | AV24: 0 | AW24: 0 | AX24: 0 | AY24: 0 | AZ24: 0 | BA24: 0 | BB24: 0 | BC24: 0 | BD24: 0 | BE24: 0 | BF24: 0 | BG24: 0 | BH24: 0 | BI24: 0 | BJ24: 0 | BK24: 0 | BL24: 0 | BM24: 0 | BN24: 0 | BO24: 0 | BP24: 0 | BQ24: 0 | BR24: 0 | BS24: 0 | BT24: 0 | BU24: 0 | BV24: 0 | BW24: 0 | BX24: 0 | BY24: 0 | BZ24: 0 | CA24: 0 | CB24: 0 | CC24: 0
B25: =IF(ROW(id)=ROW($B$13)+2,1,MAX(prev_col_range)+1) -> 11 | C25: =IF(type<>"",IF(ROW(stage_id)=ROW($C$13)+2,1,IF(type="S",MAX(prev_col_range)+1,MAX(prev_col_range))),-1) -> 2 | D25: =_xlfn.IFNA(IF(OR(type="T",type="M"),MATCH(role,Settings!$I$9:$I$16,0),-1),-1) -> -1 | E25: T | F25: Essais d'étanchéité | H25: =_xlfn.IFNA(INDEX(Settings!$P$9:$P$38,MATCH(team_member,Settings!$N$9:$N$38,0)),"") | M25: =+B18 -> 4 | N25: =IF(d.id<>"",IF(d.id<id,"↖",IF(d.id>id,"↙","")),"") -> ↖ | O25: =IFERROR("("&d.type&")"&IF(LEN(d.name)>20,LEFT(d.name,20)&"….",d.name),"") -> (T)Maçonnerie en agglos | P25: SS | Q25: -1 | R25: 30 | S25: =IFERROR(IF(ind.start<>"",ind.start,IF(ind.end<>"",plan_start_calculation,IF(d.id<>"",IF(OR(d.conn="FS",d.conn=""),fs_calculation,IF(d.conn="SS",ss_calculation,plan_start_calculation)),""))),"") -> 44651 | T25: =IFERROR(IF(ind.start<>"",plan_end_calculation,IF(ind.end<>"",ind.end,IF(d.id<>"",IF(d.conn="SF",sf_calculation,IF(d.conn="FF",ff_calculation,plan_end_calculation)),""))),"") -> 44692 | W25: 0.5 | X25: 0 | Y25: 0 | Z25: 0 | AA25: 0 | AB25: 0 | AC25: 0 | AD25: 0 | AE25: 0 | AF25: 0 | AG25: 0 | AH25: 0 | AI25: 0 | AJ25: 0 | AK25: 0 | AL25: 0 | AM25: 0 | AN25: 0 | AO25: 0 | AP25: 0 | AQ25: 0 | AR25: 0 | AS25: 0 | AT25: 0 | AU25: 0 | AV25: 0 | AW25: 0 | AX25: 0 | AY25: 0 | AZ25: 0 | BA25: 0 | BB25: 0 | BC25: 0 | BD25: 0 | BE25: 0 | BF25: 0 | BG25: 0 | BH25: 0 | BI25: 0 | BJ25: 0 | BK25: 0 | BL25: 0 | BM25: 0 | BN25: 0 | BO25: 0 | BP25: 0 | BQ25: 0 | BR25: 0 | BS25: 0 | BT25: 0 | BU25: 0 | BV25: 0 | BW25: 0 | BX25: 0 | BY25: 0 | BZ25: 0 | CA25: 0 | CB25: 0 | CC25: 0
B26: =IF(ROW(id)=ROW($B$13)+2,1,MAX(prev_col_range)+1) -> 12 | C26: =IF(type<>"",IF(ROW(stage_id)=ROW($C$13)+2,1,IF(type="S",MAX(prev_col_range)+1,MAX(prev_col_range))),-1) -> 2 | D26: =_xlfn.IFNA(IF(OR(type="T",type="M"),MATCH(role,Settings!$I$9:$I$16,0),-1),-1) -> -1 | E26: T | F26: Mise en place du sable | H26: =_xlfn.IFNA(INDEX(Settings!$P$9:$P$38,MATCH(team_member,Settings!$N$9:$N$38,0)),"") | M26: =+B24 -> 10 | N26: =IF(d.id<>"",IF(d.id<id,"↖",IF(d.id>id,"↙","")),"") -> ↖ | O26: =IFERROR("("&d.type&")"&IF(LEN(d.name)>20,LEFT(d.name,20)&"….",d.name),"") -> (T)Pose des dallettes | P26: FS | Q26: -2 | R26: 6 | S26: =IFERROR(IF(ind.start<>"",ind.start,IF(ind.end<>"",plan_start_calculation,IF(d.id<>"",IF(OR(d.conn="FS",d.conn=""),fs_calculation,IF(d.conn="SS",ss_calculation,plan_start_calculation)),""))),"") -> 44662 | T26: =IFERROR(IF(ind.start<>"",plan_end_calculation,IF(ind.end<>"",ind.end,IF(d.id<>"",IF(d.conn="SF",sf_calculation,IF(d.conn="FF",ff_calculation,plan_end_calculation)),""))),"") -> 44669 | W26: 0 | X26: 0 | Y26: 0 | Z26: 0 | AA26: 0 | AB26: 0 | AC26: 0 | AD26: 0 | AE26: 0 | AF26: 0 | AG26: 0 | AH26: 0 | AI26: 0 | AJ26: 0 | AK26: 0 | AL26: 0 | AM26: 0 | AN26: 0 | AO26: 0 | AP26: 0 | AQ26: 0 | AR26: 0 | AS26: 0 | AT26: 0 | AU26: 0 | AV26: 0 | AW26: 0 | AX26: 0 | AY26: 0 | AZ26: 0 | BA26: 0 | BB26: 0 | BC26: 0 | BD26: 0 | BE26: 0 | BF26: 0 | BG26: 0 | BH26: 0 | BI26: 0 | BJ26: 0 | BK26: 0 | BL26: 0 | BM26: 0 | BN26: 0 | BO26: 0 | BP26: 0 | BQ26: 0 | BR26: 0 | BS26: 0 | BT26: 0 | BU26: 0 | BV26: 0 | BW26: 0 | BX26: 0 | BY26: 0 | BZ26: 0 | CA26: 0 | CB26: 0 | CC26: 0
B27: =IF(ROW(id)=ROW($B$13)+2,1,MAX(prev_col_range)+1) -> 13 | C27: =IF(type<>"",IF(ROW(stage_id)=ROW($C$13)+2,1,IF(type="S",MAX(prev_col_range)+1,MAX(prev_col_range))),-1) -> 3 | D27: =_xlfn.IFNA(IF(OR(type="T",type="M"),MATCH(role,Settings!$I$9:$I$16,0),-1),-1) -> -1 | E27: S | F27: Bassin de Préchloration | H27: =_xlfn.IFNA(INDEX(Settings!$P$9:$P$38,MATCH(team_member,Settings!$N$9:$N$38,0)),"") | K27: =MIN(S28:S29) -> 44621 | N27: =IF(d.id<>"",IF(d.id<id,"↖",IF(d.id>id,"↙","")),"") | O27: =IFERROR("("&d.type&")"&IF(LEN(d.name)>20,LEFT(d.name,20)&"….",d.name),"") | R27: =NETWORKDAYS(plan_start,MAX(T28:T29)) -> 85 | S27: =IFERROR(IF(ind.start<>"",ind.start,IF(ind.end<>"",plan_start_calculation,IF(d.id<>"",IF(OR(d.conn="FS",d.conn=""),fs_calculation,IF(d.conn="SS",ss_calculation,plan_start_calculation)),""))),"") -> 44621 | T27: =IFERROR(IF(ind.start<>"",plan_end_calculation,IF(ind.end<>"",ind.end,IF(d.id<>"",IF(d.conn="SF",sf_calculation,IF(d.conn="FF",ff_calculation,plan_end_calculation)),""))),"") -> 44739 | W27: {=SUM(W28:W29*R28:R29)/SUM(R28:R29)} -> 0.62222222 | X27: 0 | Y27: 0 | Z27: 0 | AA27: 0 | AB27: 0 | AC27: 0 | AD27: 0 | AE27: 0 | AF27: 0 | AG27: 0 | AH27: 0 | AI27: 0 | AJ27: 0 | AK27: 0 | AL27: 0 | AM27: 0 | AN27: 0 | AO27: 0 | AP27: 0 | AQ27: 0 | AR27: 0 | AS27: 0 | AT27: 0 | AU27: 0 | AV27: 0 | AW27: 0 | AX27: 0 | AY27: 0 | AZ27: 0 | BA27: 0 | BB27: 0 | BC27: 0 | BD27: 0 | BE27: 0 | BF27: 0 | BG27: 0 | BH27: 0 | BI27: 0 | BJ27: 0 | BK27: 0 | BL27: 0 | BM27: 0 | BN27: 0 | BO27: 0 | BP27: 0 | BQ27: 0 | BR27: 0 | BS27: 0 | BT27: 0 | BU27: 0 | BV27: 0 | BW27: 0 | BX27: 0 | BY27: 0 | BZ27: 0 | CA27: 0 | CB27: 0 | CC27: 0
B28: =IF(ROW(id)=ROW($B$13)+2,1,MAX(prev_col_range)+1) -> 14 | C28: =IF(type<>"",IF(ROW(stage_id)=ROW($C$13)+2,1,IF(type="S",MAX(prev_col_range)+1,MAX(prev_col_range))),-1) -> 3 | D28: =_xlfn.IFNA(IF(OR(type="T",type="M"),MATCH(role,Settings!$I$9:$I$16,0),-1),-1) -> -1 | E28: T | F28: Scellement et pose de manchette de traversée | H28: =_xlfn.IFNA(INDEX(Settings!$P$9:$P$38,MATCH(team_member,Settings!$N$9:$N$38,0)),"") | K28: 44621 | M28: =B16 -> 2 | N28: =IF(d.id<>"",IF(d.id<id,"↖",IF(d.id>id,"↙","")),"") -> ↖ | O28: =IFERROR("("&d.type&")"&IF(LEN(d.name)>20,LEFT(d.name,20)&"….",d.name),"") -> (T)Nettoyage et finitio…. | Q28: 1 | R28: 40 | S28: =IFERROR(IF(ind.start<>"",ind.start,IF(ind.end<>"",plan_start_calculation,IF(d.id<>"",IF(OR(d.conn="FS",d.conn=""),fs_calculation,IF(d.conn="SS",ss_calculation,plan_start_calculation)),""))),"") -> 44621 | T28: =IFERROR(IF(ind.start<>"",plan_end_calculation,IF(ind.end<>"",ind.end,IF(d.id<>"",IF(d.conn="SF",sf_calculation,IF(d.conn="FF",ff_calculation,plan_end_calculation)),""))),"") -> 44676 | W28: 0.6 | X28: 0 | Y28: 0 | Z28: 0 | AA28: 0 | AB28: 0 | AC28: 0 | AD28: 0 | AE28: 0 | AF28: 0 | AG28: 0 | AH28: 0 | AI28: 0 | AJ28: 0 | AK28: 0 | AL28: 0 | AM28: 0 | AN28: 0 | AO28: 0 | AP28: 0 | AQ28: 0 | AR28: 0 | AS28: 0 | AT28: 0 | AU28: 0 | AV28: 0 | AW28: 0 | AX28: 0 | AY28: 0 | AZ28: 0 | BA28: 0 | BB28: 0 | BC28: 0 | BD28: 0 | BE28: 0 | BF28: 0 | BG28: 0 | BH28: 0 | BI28: 0 | BJ28: 0 | BK28: 0 | BL28: 0 | BM28: 0 | BN28: 0 | BO28: 0 | BP28: 0 | BQ28: 0 | BR28: 0 | BS28: 0 | BT28: 0 | BU28: 0 | BV28: 0 | BW28: 0 | BX28: 0 | BY28: 0 | BZ28: 0 | CA28: 0 | CB28: 0 | CC28: 0
B29: =IF(ROW(id)=ROW($B$13)+2,1,MAX(prev_col_range)+1) -> 15 | C29: =IF(type<>"",IF(ROW(stage_id)=ROW($C$13)+2,1,IF(type="S",MAX(prev_col_range)+1,MAX(prev_col_range))),-1) -> 3 | D29: =_xlfn.IFNA(IF(OR(type="T",type="M"),MATCH(role,Settings!$I$9:$I$16,0),-1),-1) -> -1 | E29: T | F29: Pose des gards-corps et menuiserie métallique | H29: =_xlfn.IFNA(INDEX(Settings!$P$9:$P$38,MATCH(team_member,Settings!$N$9:$N$38,0)),"") | M29: =B20 -> 6 | N29: =IF(d.id<>"",IF(d.id<id,"↖",IF(d.id>id,"↙","")),"") -> ↖ | O29: =IFERROR("("&d.type&")"&IF(LEN(d.name)>20,LEFT(d.name,20)&"….",d.name),"") -> (T)Peinture extérieur& …. | Q29: 2 | R29: 5 | S29: =IFERROR(IF(ind.start<>"",ind.start,IF(ind.end<>"",plan_start_calculation,IF(d.id<>"",IF(OR(d.conn="FS",d.conn=""),fs_calculation,IF(d.conn="SS",ss_calculation,plan_start_calculation)),""))),"") -> 44733 | T29: =IFERROR(IF(ind.start<>"",plan_end_calculation,IF(ind.end<>"",ind.end,IF(d.id<>"",IF(d.conn="SF",sf_calculation,IF(d.conn="FF",ff_calculation,plan_end_calculation)),""))),"") -> 44739 | W29: 0.8 | X29: 0 | Y29: 0 | Z29: 0 | AA29: 0 | AB29: 0 | AC29: 0 | AD29: 0 | AE29: 0 | AF29: 0 | AG29: 0 | AH29: 0 | AI29: 0 | AJ29: 0 | AK29: 0 | AL29: 0 | AM29: 0 | AN29: 0 | AO29: 0 | AP29: 0 | AQ29: 0 | AR29: 0 | AS29: 0 | AT29: 0 | AU29: 0 | AV29: 0 | AW29: 0 | AX29: 0 | AY29: 0 | AZ29: 0 | BA29: 0 | BB29: 0 | BC29: 0 | BD29: 0 | BE29: 0 | BF29: 0 | BG29: 0 | BH29: 0 | BI29: 0 | BJ29: 0 | BK29: 0 | BL29: 0 | BM29: 0 | BN29: 0 | BO29: 0 | BP29: 0 | BQ29: 0 | BR29: 0 | BS29: 0 | BT29: 0 | BU29: 0 | BV29: 0 | BW29: 0 | BX29: 0 | BY29: 0 | BZ29: 0 | CA29: 0 | CB29: 0 | CC29: 0
B30: =IF(ROW(id)=ROW($B$13)+2,1,MAX(prev_col_range)+1) -> 16 | C30: =IF(type<>"",IF(ROW(stage_id)=ROW($C$13)+2,1,IF(type="S",MAX(prev_col_range)+1,MAX(prev_col_range))),-1) -> 4 | D30: =_xlfn.IFNA(IF(OR(type="T",type="M"),MATCH(role,Settings!$I$9:$I$16,0),-1),-1) -> -1 | E30: S | F30: Décanteur et chambre de floculation | H30: =_xlfn.IFNA(INDEX(Settings!$P$9:$P$38,MATCH(team_member,Settings!$N$9:$N$38,0)),"") | K30: =MIN(S31:S38) -> 44676 | N30: =IF(d.id<>"",IF(d.id<id,"↖",IF(d.id>id,"↙","")),"") | O30: =IFERROR("("&d.type&")"&IF(LEN(d.name)>20,LEFT(d.name,20)&"….",d.name),"") | R30: =NETWORKDAYS(plan_start,MAX(T31:T38)) -> 62 | S30: =IFERROR(IF(ind.start<>"",ind.start,IF(ind.end<>"",plan_start_calculation,IF(d.id<>"",IF(OR(d.conn="FS",d.conn=""),fs_calculation,IF(d.conn="SS",ss_calculation,plan_start_calculation)),""))),"") -> 44676 | T30: =IFERROR(IF(ind.start<>"",plan_end_calculation,IF(ind.end<>"",ind.end,IF(d.id<>"",IF(d.conn="SF",sf_calculation,IF(d.conn="FF",ff_calculation,plan_end_calculation)),""))),"") -> 44761 | W30: {=SUM(W31:W33*R31:R33)/SUM(R31:R33)} -> 0 | X30: 0 | Y30: 0 | Z30: 0 | AA30: 0 | AB30: 0 | AC30: 0 | AD30: 0 | AE30: 0 | AF30: 0 | AG30: 0 | AH30: 0 | AI30: 0 | AJ30: 0 | AK30: 0 | AL30: 0 | AM30: 0 | AN30: 0 | AO30: 0 | AP30: 0 | AQ30: 0 | AR30: 0 | AS30: 0 | AT30: 0 | AU30: 0 | AV30: 0 | AW30: 0 | AX30: 0 | AY30: 0 | AZ30: 0 | BA30: 0 | BB30: 0 | BC30: 0 | BD30: 0 | BE30: 0 | BF30: 0 | BG30: 0 | BH30: 0 | BI30: 0 | BJ30: 0 | BK30: 0 | BL30: 0 | BM30: 0 | BN30: 0 | BO30: 0 | BP30: 0 | BQ30: 0 | BR30: 0 | BS30: 0 | BT30: 0 | BU30: 0 | BV30: 0 | BW30: 0 | BX30: 0 | BY30: 0 | BZ30: 0 | CA30: 0 | CB30: 0 | CC30: 0
B31: =IF(ROW(id)=ROW($B$13)+2,1,MAX(prev_col_range)+1) -> 17 | C31: =IF(type<>"",IF(ROW(stage_id)=ROW($C$13)+2,1,IF(type="S",MAX(prev_col_range)+1,MAX(prev_col_range))),-1) -> 4 | D31: =_xlfn.IFNA(IF(OR(type="T",type="M"),MATCH(role,Settings!$I$9:$I$16,0),-1),-1) -> -1 | E31: T | F31: Peinture extérieur& intérieure | H31: =_xlfn.IFNA(INDEX(Settings!$P$9:$P$38,MATCH(team_member,Settings!$N$9:$N$38,0)),"") | K31: 44682 | M31: =B105 -> 91 | N31: =IF(d.id<>"",IF(d.id<id,"↖",IF(d.id>id,"↙","")),"") -> ↙ | O31: =IFERROR("("&d.type&")"&IF(LEN(d.name)>20,LEFT(d.name,20)&"….",d.name),"") -> (T)Espaces Verts | P31: SS | Q31: 2 | R31: 10 | S31: =IFERROR(IF(ind.start<>"",ind.start,IF(ind.end<>"",plan_start_calculation,IF(d.id<>"",IF(OR(d.conn="FS",d.conn=""),fs_calculation,IF(d.conn="SS",ss_calculation,plan_start_calculation)),""))),"") -> 44682 | T31: =IFERROR(IF(ind.start<>"",plan_end_calculation,IF(ind.end<>"",ind.end,IF(d.id<>"",IF(d.conn="SF",sf_calculation,IF(d.conn="FF",ff_calculation,plan_end_calculation)),""))),"") -> 44693 | W31: 0 | X31: 0 | Y31: 0 | Z31: 0 | AA31: 0 | AB31: 0 | AC31: 0 | AD31: 0 | AE31: 0 | AF31: 0 | AG31: 0 | AH31: 0 | AI31: 0 | AJ31: 0 | AK31: 0 | AL31: 0 | AM31: 0 | AN31: 0 | AO31: 0 | AP31: 0 | AQ31: 0 | AR31: 0 | AS31: 0 | AT31: 0 | AU31: 0 | AV31: 0 | AW31: 0 | AX31: 0 | AY31: 0 | AZ31: 0 | BA31: 0 | BB31: 0 | BC31: 0 | BD31: 0 | BE31: 0 | BF31: 0 | BG31: 0 | BH31: 0 | BI31: 0 | BJ31: 0 | BK31: 0 | BL31: 0 | BM31: 0 | BN31: 0 | BO31: 0 | BP31: 0 | BQ31: 0 | BR31: 0 | BS31: 0 | BT31: 0 | BU31: 0 | BV31: 0 | BW31: 0 | BX31: 0 | BY31: 0 | BZ31: 0 | CA31: 0 | CB31: 0 | CC31: 0
B32: =IF(ROW(id)=ROW($B$13)+2,1,MAX(prev_col_range)+1) -> 18 | C32: =IF(type<>"",IF(ROW(stage_id)=ROW($C$13)+2,1,IF(type="S",MAX(prev_col_range)+1,MAX(prev_col_range))),-1) -> 4 | D32: =_xlfn.IFNA(IF(OR(type="T",type="M"),MATCH(role,Settings!$I$9:$I$16,0),-1),-1) -> -1 | E32: T | F32: Complexe d'étanchéité de terrasse | H32: =_xlfn.IFNA(INDEX(Settings!$P$9:$P$38,MATCH(team_member,Settings!$N$9:$N$38,0)),"") | M32: =+B22 -> 8 | N32: =IF(d.id<>"",IF(d.id<id,"↖",IF(d.id>id,"↙","")),"") -> ↖ | O32: =IFERROR("("&d.type&")"&IF(LEN(d.name)>20,LEFT(d.name,20)&"….",d.name),"") -> (T)Complexe d'étanchéit…. | P32: SS | Q32: 2 | R32: 5 | S32: =IFERROR(IF(ind.start<>"",ind.start,IF(ind.end<>"",plan_start_calculation,IF(d.id<>"",IF(OR(d.conn="FS",d.conn=""),fs_calculation,IF(d.conn="SS",ss_calculation,plan_start_calculation)),""))),"") -> 44676 | T32: =IFERROR(IF(ind.start<>"",plan_end_calculation,IF(ind.end<>"",ind.end,IF(d.id<>"",IF(d.conn="SF",sf_calculation,IF(d.conn="FF",ff_calculation,plan_end_calculation)),""))),"") -> 44680 | W32: 0 | X32: 0 | Y32: 0 | Z32: 0 | AA32: 0 | AB32: 0 | AC32: 0 | AD32: 0 | AE32: 0 | AF32: 0 | AG32: 0 | AH32: 0 | AI32: 0 | AJ32: 0 | AK32: 0 | AL32: 0 | AM32: 0 | AN32: 0 | AO32: 0 | AP32: 0 | AQ32: 0 | AR32: 0 | AS32: 0 | AT32: 0 | AU32: 0 | AV32: 0 | AW32: 0 | AX32: 0 | AY32: 0 | AZ32: 0 | BA32: 0 | BB32: 0 | BC32: 0 | BD32: 0 | BE32: 0 | BF32: 0 | BG32: 0 | BH32: 0 | BI32: 0 | BJ32: 0 | BK32: 0 | BL32: 0 | BM32: 0 | BN32: 0 | BO32: 0 | BP32: 0 | BQ32: 0 | BR32: 0 | BS32: 0 | BT32: 0 | BU32: 0 | BV32: 0 | BW32: 0 | BX32: 0 | BY32: 0 | BZ32: 0 | CA32: 0 | CB32: 0 | CC32: 0
B33: =IF(ROW(id)=ROW($B$13)+2,1,MAX(prev_col_range)+1) -> 19 | C33: =IF(type<>"",IF(ROW(stage_id)=ROW($C$13)+2,1,IF(type="S",MAX(prev_col_range)+1,MAX(prev_col_range))),-1) -> 4 | D33: =_xlfn.IFNA(IF(OR(type="T",type="M"),MATCH(role,Settings!$I$9:$I$16,0),-1),-1) -> -1 | E33: T | F33: Nettoyage et finitions | H33: =_xlfn.IFNA(INDEX(Settings!$P$9:$P$38,MATCH(team_member,Settings!$N$9:$N$38,0)),"") | M33: =+B32 -> 18 | N33: =IF(d.id<>"",IF(d.id<id,"↖",IF(d.id>id,"↙","")),"") -> ↖ | O33: =IFERROR("("&d.type&")"&IF(LEN(d.name)>20,LEFT(d.name,20)&"….",d.name),"") -> (T)Complexe d'étanchéit…. | P33: FS | Q33: 1 | R33: 2 | S33: =IFERROR(IF(ind.start<>"",ind.start,IF(ind.end<>"",plan_start_calculation,IF(d.id<>"",IF(OR(d.conn="FS",d.conn=""),fs_calculation,IF(d.conn="SS",ss_calculation,plan_start_calculation)),""))),"") -> 44684 | T33: =IFERROR(IF(ind.start<>"",plan_end_calculation,IF(ind.end<>"",ind.end,IF(d.id<>"",IF(d.conn="SF",sf_calculation,IF(d.conn="FF",ff_calculation,plan_end_calculation)),""))),"") -> 44685 | W33: 0 | X33: 0 | Y33: 0 | Z33: 0 | AA33: 0 | AB33: 0 | AC33: 0 | AD33: 0 | AE33: 0 | AF33: 0 | AG33: 0 | AH33: 0 | AI33: 0 | AJ33: 0 | AK33: 0 | AL33: 0 | AM33: 0 | AN33: 0 | AO33: 0 | AP33: 0 | AQ33: 0 | AR33: 0 | AS33: 0 | AT33: 0 | AU33: 0 | AV33: 0 | AW33: 0 | AX33: 0 | AY33: 0 | AZ33: 0 | BA33: 0 | BB33: 0 | BC33: 0 | BD33: 0 | BE33: 0 | BF33: 0 | BG33: 0 | BH33: 0 | BI33: 0 | BJ33: 0 | BK33: 0 | BL33: 0 | BM33: 0 | BN33: 0 | BO33: 0 | BP33: 0 | BQ33: 0 | BR33: 0 | BS33: 0 | BT33: 0 | BU33: 0 | BV33: 0 | BW33: 0 | BX33: 0 | BY33: 0 | BZ33: 0 | CA33: 0 | CB33: 0 | CC33: 0
B34: =IF(ROW(id)=ROW($B$13)+2,1,MAX(prev_col_range)+1) -> 20 | C34: =IF(type<>"",IF(ROW(stage_id)=ROW($C$13)+2,1,IF(type="S",MAX(prev_col_range)+1,MAX(prev_col_range))),-1) -> 5 | D34: =_xlfn.IFNA(IF(OR(type="T",type="M"),MATCH(role,Settings!$I$9:$I$16,0),-1),-1) -> -1 | E34: S | F34: Décanteur d'eau salle de lavage des filtres | H34: =_xlfn.IFNA(INDEX(Settings!$P$9:$P$38,MATCH(team_member,Settings!$N$9:$N$38,0)),"") | N34: =IF(d.id<>"",IF(d.id<id,"↖",IF(d.id>id,"↙","")),"") | O34: =IFERROR("("&d.type&")"&IF(LEN(d.name)>20,LEFT(d.name,20)&"….",d.name),"") | S34: =IFERROR(IF(ind.start<>"",ind.start,IF(ind.end<>"",plan_start_calculation,IF(d.id<>"",IF(OR(d.conn="FS",d.conn=""),fs_calculation,IF(d.conn="SS",ss_calculation,plan_start_calculation)),""))),"") | T34: =IFERROR(IF(ind.start<>"",plan_end_calculation,IF(ind.end<>"",ind.end,IF(d.id<>"",IF(d.conn="SF",sf_calculation,IF(d.conn="FF",ff_calculation,plan_end_calculation)),""))),"") | W34: {=SUM(W35:W38*R35:R38)/SUM(R35:R38)} -> 0.11538462 | X34: 0 | Y34: 0 | Z34: 0 | AA34: 0 | AB34: 0 | AC34: 0 | AD34: 0 | AE34: 0 | AF34: 0 | AG34: 0 | AH34: 0 | AI34: 0 | AJ34: 0 | AK34: 0 | AL34: 0 | AM34: 0 | AN34: 0 | AO34: 0 | AP34: 0 | AQ34: 0 | AR34: 0 | AS34: 0 | AT34: 0 | AU34: 0 | AV34: 0 | AW34: 0 | AX34: 0 | AY34: 0 | AZ34: 0 | BA34: 0 | BB34: 0 | BC34: 0 | BD34: 0 | BE34: 0 | BF34: 0 | BG34: 0 | BH34: 0 | BI34: 0 | BJ34: 0 | BK34: 0 | BL34: 0 | BM34: 0 | BN34: 0 | BO34: 0 | BP34: 0 | BQ34: 0 | BR34: 0 | BS34: 0 | BT34: 0 | BU34: 0 | BV34: 0 | BW34: 0 | BX34: 0 | BY34: 0 | BZ34: 0 | CA34: 0 | CB34: 0 | CC34: 0
B35: =IF(ROW(id)=ROW($B$13)+2,1,MAX(prev_col_range)+1) -> 21 | C35: =IF(type<>"",IF(ROW(stage_id)=ROW($C$13)+2,1,IF(type="S",MAX(prev_col_range)+1,MAX(prev_col_range))),-1) -> 5 | D35: =_xlfn.IFNA(IF(OR(type="T",type="M"),MATCH(role,Settings!$I$9:$I$16,0),-1),-1) -> -1 | E35: T | F35: Menuiserie métallique et gardecorps | H35: =_xlfn.IFNA(INDEX(Settings!$P$9:$P$38,MATCH(team_member,Settings!$N$9:$N$38,0)),"") | M35: =+B21 -> 7 | N35: =IF(d.id<>"",IF(d.id<id,"↖",IF(d.id>id,"↙","")),"") -> ↖ | O35: =IFERROR("("&d.type&")"&IF(LEN(d.name)>20,LEFT(d.name,20)&"….",d.name),"") -> (T)Menuiserie métalliqu…. | R35: 3 | S35: =IFERROR(IF(ind.start<>"",ind.start,IF(ind.end<>"",plan_start_calculation,IF(d.id<>"",IF(OR(d.conn="FS",d.conn=""),fs_calculation,IF(d.conn="SS",ss_calculation,plan_start_calculation)),""))),"") -> 44679 | T35: =IFERROR(IF(ind.start<>"",plan_end_calculation,IF(ind.end<>"",ind.end,IF(d.id<>"",IF(d.conn="SF",sf_calculation,IF(d.conn="FF",ff_calculation,plan_end_calculation)),""))),"") -> 44683 | W35: 0.5 | X35: 0 | Y35: 0 | Z35: 0 | AA35: 0 | AB35: 0 | AC35: 0 | AD35: 0 | AE35: 0 | AF35: 0 | AG35: 0 | AH35: 0 | AI35: 0 | AJ35: 0 | AK35: 0 | AL35: 0 | AM35: 0 | AN35: 0 | AO35: 0 | AP35: 0 | AQ35: 0 | AR35: 0 | AS35: 0 | AT35: 0 | AU35: 0 | AV35: 0 | AW35: 0 | AX35: 0 | AY35: 0 | AZ35: 0 | BA35: 0 | BB35: 0 | BC35: 0 | BD35: 0 | BE35: 0 | BF35: 0 | BG35: 0 | BH35: 0 | BI35: 0 | BJ35: 0 | BK35: 0 | BL35: 0 | BM35: 0 | BN35: 0 | BO35: 0 | BP35: 0 | BQ35: 0 | BR35: 0 | BS35: 0 | BT35: 0 | BU35: 0 | BV35: 0 | BW35: 0 | BX35: 0 | BY35: 0 | BZ35: 0 | CA35: 0 | CB35: 0 | CC35: 0
B36: =IF(ROW(id)=ROW($B$13)+2,1,MAX(prev_col_range)+1) -> 22 | C36: =IF(type<>"",IF(ROW(stage_id)=ROW($C$13)+2,1,IF(type="S",MAX(prev_col_range)+1,MAX(prev_col_range))),-1) -> 5 | D36: =_xlfn.IFNA(IF(OR(type="T",type="M"),MATCH(role,Settings!$I$9:$I$16,0),-1),-1) -> -1 | E36: T | F36: Peinture extérieur& intérieure | H36: =_xlfn.IFNA(INDEX(Settings!$P$9:$P$38,MATCH(team_member,Settings!$N$9:$N$38,0)),"") | M36: =B105 -> 91 | N36: =IF(d.id<>"",IF(d.id<id,"↖",IF(d.id>id,"↙","")),"") -> ↙ | O36: =IFERROR("("&d.type&")"&IF(LEN(d.name)>20,LEFT(d.name,20)&"….",d.name),"") -> (T)Espaces Verts | R36: 5 | S36: =IFERROR(IF(ind.start<>"",ind.start,IF(ind.end<>"",plan_start_calculation,IF(d.id<>"",IF(OR(d.conn="FS",d.conn=""),fs_calculation,IF(d.conn="SS",ss_calculation,plan_start_calculation)),""))),"") -> 44755 | T36: =IFERROR(IF(ind.start<>"",plan_end_calculation,IF(ind.end<>"",ind.end,IF(d.id<>"",IF(d.conn="SF",sf_calculation,IF(d.conn="FF",ff_calculation,plan_end_calculation)),""))),"") -> 44761 | W36: 0 | X36: 0 | Y36: 0 | Z36: 0 | AA36: 0 | AB36: 0 | AC36: 0 | AD36: 0 | AE36: 0 | AF36: 0 | AG36: 0 | AH36: 0 | AI36: 0 | AJ36: 0 | AK36: 0 | AL36: 0 | AM36: 0 | AN36: 0 | AO36: 0 | AP36: 0 | AQ36: 0 | AR36: 0 | AS36: 0 | AT36: 0 | AU36: 0 | AV36: 0 | AW36: 0 | AX36: 0 | AY36: 0 | AZ36: 0 | BA36: 0 | BB36: 0 | BC36: 0 | BD36: 0 | BE36: 0 | BF36: 0 | BG36: 0 | BH36: 0 | BI36: 0 | BJ36: 0 | BK36: 0 | BL36: 0 | BM36: 0 | BN36: 0 | BO36: 0 | BP36: 0 | BQ36: 0 | BR36: 0 | BS36: 0 | BT36: 0 | BU36: 0 | BV36: 0 | BW36: 0 | BX36: 0 | BY36: 0 | BZ36: 0 | CA36: 0 | CB36: 0 | CC36: 0
B37: =IF(ROW(id)=ROW($B$13)+2,1,MAX(prev_col_range)+1) -> 23 | C37: =IF(type<>"",IF(ROW(stage_id)=ROW($C$13)+2,1,IF(type="S",MAX(prev_col_range)+1,MAX(prev_col_range))),-1) -> 5 | D37: =_xlfn.IFNA(IF(OR(type="T",type="M"),MATCH(role,Settings!$I$9:$I$16,0),-1),-1) -> -1 | E37: T | F37: Nettoyage et finitions | H37: =_xlfn.IFNA(INDEX(Settings!$P$9:$P$38,MATCH(team_member,Settings!$N$9:$N$38,0)),"") | M37: =+B38 -> 24 | N37: =IF(d.id<>"",IF(d.id<id,"↖",IF(d.id>id,"↙","")),"") -> ↙ | O37: =IFERROR("("&d.type&")"&IF(LEN(d.name)>20,LEFT(d.name,20)&"….",d.name),"") -> (T)Complexe d'étanchéit…. | R37: 2 | S37: =IFERROR(IF(ind.start<>"",ind.start,IF(ind.end<>"",plan_start_calculation,IF(d.id<>"",IF(OR(d.conn="FS",d.conn=""),fs_calculation,IF(d.conn="SS",ss_calculation,plan_start_calculation)),""))),"") -> 44686 | T37: =IFERROR(IF(ind.start<>"",plan_end_calculation,IF(ind.end<>"",ind.end,IF(d.id<>"",IF(d.conn="SF",sf_calculation,IF(d.conn="FF",ff_calculation,plan_end_calculation)),""))),"") -> 44687 | W37: 0 | X37: 0 | Y37: 0 | Z37: 0 | AA37: 0 | AB37: 0 | AC37: 0 | AD37: 0 | AE37: 0 | AF37: 0 | AG37: 0 | AH37: 0 | AI37: 0 | AJ37: 0 | AK37: 0 | AL37: 0 | AM37: 0 | AN37: 0 | AO37: 0 | AP37: 0 | AQ37: 0 | AR37: 0 | AS37: 0 | AT37: 0 | AU37: 0 | AV37: 0 | AW37: 0 | AX37: 0 | AY37: 0 | AZ37: 0 | BA37: 0 | BB37: 0 | BC37: 0 | BD37: 0 | BE37: 0 | BF37: 0 | BG37: 0 | BH37: 0 | BI37: 0 | BJ37: 0 | BK37: 0 | BL37: 0 | BM37: 0 | BN37: 0 | BO37: 0 | BP37: 0 | BQ37: 0 | BR37: 0 | BS37: 0 | BT37: 0 | BU37: 0 | BV37: 0 | BW37: 0 | BX37: 0 | BY37: 0 | BZ37: 0 | CA37: 0 | CB37: 0 | CC37: 0
B38: =IF(ROW(id)=ROW($B$13)+2,1,MAX(prev_col_range)+1) -> 24 | C38: =IF(type<>"",IF(ROW(stage_id)=ROW($C$13)+2,1,IF(type="S",MAX(prev_col_range)+1,MAX(prev_col_range))),-1) -> 5 | D38: =_xlfn.IFNA(IF(OR(type="T",type="M"),MATCH(role,Settings!$I$9:$I$16,0),-1),-1) -> -1 | E38: T | F38: Complexe d'étanchéité de terrasse | H38: =_xlfn.IFNA(INDEX(Settings!$P$9:$P$38,MATCH(team_member,Settings!$N$9:$N$38,0)),"") | M38: =+B22 -> 8 | N38: =IF(d.id<>"",IF(d.id<id,"↖",IF(d.id>id,"↙","")),"") -> ↖ | O38: =IFERROR("("&d.type&")"&IF(LEN(d.name)>20,LEFT(d.name,20)&"….",d.name),"") -> (T)Complexe d'étanchéit…. | R38: 3 | S38: =IFERROR(IF(ind.start<>"",ind.start,IF(ind.end<>"",plan_start_calculation,IF(d.id<>"",IF(OR(d.conn="FS",d.conn=""),fs_calculation,IF(d.conn="SS",ss_calculation,plan_start_calculation)),""))),"") -> 44683 | T38: =IFERROR(IF(ind.start<>"",plan_end_calculation,IF(ind.end<>"",ind.end,IF(d.id<>"",IF(d.conn="SF",sf_calculation,IF(d.conn="FF",ff_calculation,plan_end_calculation)),""))),"") -> 44685 | W38: 0 | X38: 0 | Y38: 0 | Z38: 0 | AA38: 0 | AB38: 0 | AC38: 0 | AD38: 0 | AE38: 0 | AF38: 0 | AG38: 0 | AH38: 0 | AI38: 0 | AJ38: 0 | AK38: 0 | AL38: 0 | AM38: 0 | AN38: 0 | AO38: 0 | AP38: 0 | AQ38: 0 | AR38: 0 | AS38: 0 | AT38: 0 | AU38: 0 | AV38: 0 | AW38: 0 | AX38: 0 | AY38: 0 | AZ38: 0 | BA38: 0 | BB38: 0 | BC38: 0 | BD38: 0 | BE38: 0 | BF38: 0 | BG38: 0 | BH38: 0 | BI38: 0 | BJ38: 0 | BK38: 0 | BL38: 0 | BM38: 0 | BN38: 0 | BO38: 0 | BP38: 0 | BQ38: 0 | BR38: 0 | BS38: 0 | BT38: 0 | BU38: 0 | BV38: 0 | BW38: 0 | BX38: 0 | BY38: 0 | BZ38: 0 | CA38: 0 | CB38: 0 | CC38: 0
B39: =IF(ROW(id)=ROW($B$13)+2,1,MAX(prev_col_range)+1) -> 25 | C39: =IF(type<>"",IF(ROW(stage_id)=ROW($C$13)+2,1,IF(type="S",MAX(prev_col_range)+1,MAX(prev_col_range))),-1) -> 6 | D39: =_xlfn.IFNA(IF(OR(type="T",type="M"),MATCH(role,Settings!$I$9:$I$16,0),-1),-1) -> -1 | E39: S | F39: Regard de Mesure de débit | H39: =_xlfn.IFNA(INDEX(Settings!$P$9:$P$38,MATCH(team_member,Settings!$N$9:$N$38,0)),"") | K39: =MIN(S40) -> 44682 | N39: =IF(d.id<>"",IF(d.id<id,"↖",IF(d.id>id,"↙","")),"") | O39: =IFERROR("("&d.type&")"&IF(LEN(d.name)>20,LEFT(d.name,20)&"….",d.name),"") | R39: =NETWORKDAYS(plan_start,MAX(T40)) -> 2 | S39: =IFERROR(IF(ind.start<>"",ind.start,IF(ind.end<>"",plan_start_calculation,IF(d.id<>"",IF(OR(d.conn="FS",d.conn=""),fs_calculation,IF(d.conn="SS",ss_calculation,plan_start_calculation)),""))),"") -> 44682 | T39: =IFERROR(IF(ind.start<>"",plan_end_calculation,IF(ind.end<>"",ind.end,IF(d.id<>"",IF(d.conn="SF",sf_calculation,IF(d.conn="FF",ff_calculation,plan_end_calculation)),""))),"") -> 44683 | W39: =SUM(W40*R40)/SUM(R40) -> 0 | X39: 0 | Y39: 0 | Z39: 0 | AA39: 0 | AB39: 0 | AC39: 0 | AD39: 0 | AE39: 0 | AF39: 0 | AG39: 0 | AH39: 0 | AI39: 0 | AJ39: 0 | AK39: 0 | AL39: 0 | AM39: 0 | AN39: 0 | AO39: 0 | AP39: 0 | AQ39: 0 | AR39: 0 | AS39: 0 | AT39: 0 | AU39: 0 | AV39: 0 | AW39: 0 | AX39: 0 | AY39: 0 | AZ39: 0 | BA39: 0 | BB39: 0 | BC39: 0 | BD39: 0 | BE39: 0 | BF39: 0 | BG39: 0 | BH39: 0 | BI39: 0 | BJ39: 0 | BK39: 0 | BL39: 0 | BM39: 0 | BN39: 0 | BO39: 0 | BP39: 0 | BQ39: 0 | BR39: 0 | BS39: 0 | BT39: 0 | BU39: 0 | BV39: 0 | BW39: 0 | BX39: 0 | BY39: 0 | BZ39: 0 | CA39: 0 | CB39: 0 | CC39: 0
B40: =IF(ROW(id)=ROW($B$13)+2,1,MAX(prev_col_range)+1) -> 26 | C40: =IF(type<>"",IF(ROW(stage_id)=ROW($C$13)+2,1,IF(type="S",MAX(prev_col_range)+1,MAX(prev_col_range))),-1) -> 6 | D40: =_xlfn.IFNA(IF(OR(type="T",type="M"),MATCH(role,Settings!$I$9:$I$16,0),-1),-1) -> -1 | E40: T | F40: Mise en place des echellons et trappes | H40: =_xlfn.IFNA(INDEX(Settings!$P$9:$P$38,MATCH(team_member,Settings!$N$9:$N$38,0)),"") | K40: 44682 | N40: =IF(d.id<>"",IF(d.id<id,"↖",IF(d.id>id,"↙","")),"") | O40: =IFERROR("("&d.type&")"&IF(LEN(d.name)>20,LEFT(d.name,20)&"….",d.name),"") | R40: 3 | S40: =IFERROR(IF(ind.start<>"",ind.start,IF(ind.end<>"",plan_start_calculation,IF(d.id<>"",IF(OR(d.conn="FS",d.conn=""),fs_calculation,IF(d.conn="SS",ss_calculation,plan_start_calculation)),""))),"") -> 44682 | T40: =IFERROR(IF(ind.start<>"",plan_end_calculation,IF(ind.end<>"",ind.end,IF(d.id<>"",IF(d.conn="SF",sf_calculation,IF(d.conn="FF",ff_calculation,plan_end_calculation)),""))),"") -> 44684 | W40: 0 | X40: 0 | Y40: 0 | Z40: 0 | AA40: 0 | AB40: 0 | AC40: 0 | AD40: 0 | AE40: 0 | AF40: 0 | AG40: 0 | AH40: 0 | AI40: 0 | AJ40: 0 | AK40: 0 | AL40: 0 | AM40: 0 | AN40: 0 | AO40: 0 | AP40: 0 | AQ40: 0 | AR40: 0 | AS40: 0 | AT40: 0 | AU40: 0 | AV40: 0 | AW40: 0 | AX40: 0 | AY40: 0 | AZ40: 0 | BA40: 0 | BB40: 0 | BC40: 0 | BD40: 0 | BE40: 0 | BF40: 0 | BG40: 0 | BH40: 0 | BI40: 0 | BJ40: 0 | BK40: 0 | BL40: 0 | BM40: 0 | BN40: 0 | BO40: 0 | BP40: 0 | BQ40: 0 | BR40: 0 | BS40: 0 | BT40: 0 | BU40: 0 | BV40: 0 | BW40: 0 | BX40: 0 | BY40: 0 | BZ40: 0 | CA40: 0 | CB40: 0 | CC40: 0
B41: =IF(ROW(id)=ROW($B$13)+2,1,MAX(prev_col_range)+1) -> 27 | C41: =IF(type<>"",IF(ROW(stage_id)=ROW($C$13)+2,1,IF(type="S",MAX(prev_col_range)+1,MAX(prev_col_range))),-1) -> 7 | D41: =_xlfn.IFNA(IF(OR(type="T",type="M"),MATCH(role,Settings!$I$9:$I$16,0),-1),-1) -> -1 | E41: S | F41: Réhabilitation Regard Monovar | H41: =_xlfn.IFNA(INDEX(Settings!$P$9:$P$38,MATCH(team_member,Settings!$N$9:$N$38,0)),"") | K41: =MIN(S42:S44) -> 44682 | N41: =IF(d.id<>"",IF(d.id<id,"↖",IF(d.id>id,"↙","")),"") | O41: =IFERROR("("&d.type&")"&IF(LEN(d.name)>20,LEFT(d.name,20)&"….",d.name),"") | R41: =NETWORKDAYS(plan_start,MAX(T42:T44)) -> 0 | S41: =IFERROR(IF(ind.start<>"",ind.start,IF(ind.end<>"",plan_start_calculation,IF(d.id<>"",IF(OR(d.conn="FS",d.conn=""),fs_calculation,IF(d.conn="SS",ss_calculation,plan_start_calculation)),""))),"") -> 44682 | T41: =IFERROR(IF(ind.start<>"",plan_end_calculation,IF(ind.end<>"",ind.end,IF(d.id<>"",IF(d.conn="SF",sf_calculation,IF(d.conn="FF",ff_calculation,plan_end_calculation)),""))),"") -> 44682 | W41: {=SUM(W42:W44*R42:R44)/SUM(R42:R44)} -> 0.5 | X41: 0 | Y41: 0 | Z41: 0 | AA41: 0 | AB41: 0 | AC41: 0 | AD41: 0 | AE41: 0 | AF41: 0 | AG41: 0 | AH41: 0 | AI41: 0 | AJ41: 0 | AK41: 0 | AL41: 0 | AM41: 0 | AN41: 0 | AO41: 0 | AP41: 0 | AQ41: 0 | AR41: 0 | AS41: 0 | AT41: 0 | AU41: 0 | AV41: 0 | AW41: 0 | AX41: 0 | AY41: 0 | AZ41: 0 | BA41: 0 | BB41: 0 | BC41: 0 | BD41: 0 | BE41: 0 | BF41: 0 | BG41: 0 | BH41: 0 | BI41: 0 | BJ41: 0 | BK41: 0 | BL41: 0 | BM41: 0 | BN41: 0 | BO41: 0 | BP41: 0 | BQ41: 0 | BR41: 0 | BS41: 0 | BT41: 0 | BU41: 0 | BV41: 0 | BW41: 0 | BX41: 0 | BY41: 0 | BZ41: 0 | CA41: 0 | CB41: 0 | CC41: 0
B42: =IF(ROW(id)=ROW($B$13)+2,1,MAX(prev_col_range)+1) -> 28 | C42: =IF(type<>"",IF(ROW(stage_id)=ROW($C$13)+2,1,IF(type="S",MAX(prev_col_range)+1,MAX(prev_col_range))),-1) -> 7 | D42: =_xlfn.IFNA(IF(OR(type="T",type="M"),MATCH(role,Settings!$I$9:$I$16,0),-1),-1) -> -1 | E42: T | F42: Fabrication vanne monovar | H42: =_xlfn.IFNA(INDEX(Settings!$P$9:$P$38,MATCH(team_member,Settings!$N$9:$N$38,0)),"") | K42: 44682 | N42: =IF(d.id<>"",IF(d.id<id,"↖",IF(d.id>id,"↙","")),"") | O42: =IFERROR("("&d.type&")"&IF(LEN(d.name)>20,LEFT(d.name,20)&"….",d.name),"") | R42: 1 | S42: =IFERROR(IF(ind.start<>"",ind.start,IF(ind.end<>"",plan_start_calculation,IF(d.id<>"",IF(OR(d.conn="FS",d.conn=""),fs_calculation,IF(d.conn="SS",ss_calculation,plan_start_calculation)),""))),"") -> 44682 | T42: =IFERROR(IF(ind.start<>"",plan_end_calculation,IF(ind.end<>"",ind.end,IF(d.id<>"",IF(d.conn="SF",sf_calculation,IF(d.conn="FF",ff_calculation,plan_end_calculation)),""))),"") -> 44682 | W42: 1 | X42: 0 | Y42: 0 | Z42: 0 | AA42: 0 | AB42: 0 | AC42: 0 | AD42: 0 | AE42: 0 | AF42: 0 | AG42: 0 | AH42: 0 | AI42: 0 | AJ42: 0 | AK42: 0 | AL42: 0 | AM42: 0 | AN42: 0 | AO42: 0 | AP42: 0 | AQ42: 0 | AR42: 0 | AS42: 0 | AT42: 0 | AU42: 0 | AV42: 0 | AW42: 0 | AX42: 0 | AY42: 0 | AZ42: 0 | BA42: 0 | BB42: 0 | BC42: 0 | BD42: 0 | BE42: 0 | BF42: 0 | BG42: 0 | BH42: 0 | BI42: 0 | BJ42: 0 | BK42: 0 | BL42: 0 | BM42: 0 | BN42: 0 | BO42: 0 | BP42: 0 | BQ42: 0 | BR42: 0 | BS42: 0 | BT42: 0 | BU42: 0 | BV42: 0 | BW42: 0 | BX42: 0 | BY42: 0 | BZ42: 0 | CA42: 0 | CB42: 0 | CC42: 0
B43: =IF(ROW(id)=ROW($B$13)+2,1,MAX(prev_col_range)+1) -> 29 | C43: =IF(type<>"",IF(ROW(stage_id)=ROW($C$13)+2,1,IF(type="S",MAX(prev_col_range)+1,MAX(prev_col_range))),-1) -> 7 | D43: =_xlfn.IFNA(IF(OR(type="T",type="M"),MATCH(role,Settings!$I$9:$I$16,0),-1),-1) -> -1 | E43: T | F43: Livraison vanne monovar | H43: =_xlfn.IFNA(INDEX(Settings!$P$9:$P$38,MATCH(team_member,Settings!$N$9:$N$38,0)),"") | N43: =IF(d.id<>"",IF(d.id<id,"↖",IF(d.id>id,"↙","")),"") | O43: =IFERROR("("&d.type&")"&IF(LEN(d.name)>20,LEFT(d.name,20)&"….",d.name),"") | R43: 1 | S43: =IFERROR(IF(ind.start<>"",ind.start,IF(ind.end<>"",plan_start_calculation,IF(d.id<>"",IF(OR(d.conn="FS",d.conn=""),fs_calculation,IF(d.conn="SS",ss_calculation,plan_start_calculation)),""))),"") | T43: =IFERROR(IF(ind.start<>"",plan_end_calculation,IF(ind.end<>"",ind.end,IF(d.id<>"",IF(d.conn="SF",sf_calculation,IF(d.conn="FF",ff_calculation,plan_end_calculation)),""))),"") | W43: 1 | X43: 0 | Y43: 0 | Z43: 0 | AA43: 0 | AB43: 0 | AC43: 0 | AD43: 0 | AE43: 0 | AF43: 0 | AG43: 0 | AH43: 0 | AI43: 0 | AJ43: 0 | AK43: 0 | AL43: 0 | AM43: 0 | AN43: 0 | AO43: 0 | AP43: 0 | AQ43: 0 | AR43: 0 | AS43: 0 | AT43: 0 | AU43: 0 | AV43: 0 | AW43: 0 | AX43: 0 | AY43: 0 | AZ43: 0 | BA43: 0 | BB43: 0 | BC43: 0 | BD43: 0 | BE43: 0 | BF43: 0 | BG43: 0 | BH43: 0 | BI43: 0 | BJ43: 0 | BK43: 0 | BL43: 0 | BM43: 0 | BN43: 0 | BO43: 0 | BP43: 0 | BQ43: 0 | BR43: 0 | BS43: 0 | BT43: 0 | BU43: 0 | BV43: 0 | BW43: 0 | BX43: 0 | BY43: 0 | BZ43: 0 | CA43: 0 | CB43: 0 | CC43: 0
B44: =IF(ROW(id)=ROW($B$13)+2,1,MAX(prev_col_range)+1) -> 30 | C44: =IF(type<>"",IF(ROW(stage_id)=ROW($C$13)+2,1,IF(type="S",MAX(prev_col_range)+1,MAX(prev_col_range))),-1) -> 7 | D44: =_xlfn.IFNA(IF(OR(type="T",type="M"),MATCH(role,Settings!$I$9:$I$16,0),-1),-1) -> -1 | E44: T | F44: Installation de la vanne | H44: =_xlfn.IFNA(INDEX(Settings!$P$9:$P$38,MATCH(team_member,Settings!$N$9:$N$38,0)),"") | J44: ! | N44: =IF(d.id<>"",IF(d.id<id,"↖",IF(d.id>id,"↙","")),"") | O44: =IFERROR("("&d.type&")"&IF(LEN(d.name)>20,LEFT(d.name,20)&"….",d.name),"") | R44: 2 | S44: =IFERROR(IF(ind.start<>"",ind.start,IF(ind.end<>"",plan_start_calculation,IF(d.id<>"",IF(OR(d.conn="FS",d.conn=""),fs_calculation,IF(d.conn="SS",ss_calculation,plan_start_calculation)),""))),"") | T44: =IFERROR(IF(ind.start<>"",plan_end_calculation,IF(ind.end<>"",ind.end,IF(d.id<>"",IF(d.conn="SF",sf_calculation,IF(d.conn="FF",ff_calculation,plan_end_calculation)),""))),"") | W44: 0 | X44: 0 | Y44: 0 | Z44: 0 | AA44: 0 | AB44: 0 | AC44: 0 | AD44: 0 | AE44: 0 | AF44: 0 | AG44: 0 | AH44: 0 | AI44: 0 | AJ44: 0 | AK44: 0 | AL44: 0 | AM44: 0 | AN44: 0 | AO44: 0 | AP44: 0 | AQ44: 0 | AR44: 0 | AS44: 0 | AT44: 0 | AU44: 0 | AV44: 0 | AW44: 0 | AX44: 0 | AY44: 0 | AZ44: 0 | BA44: 0 | BB44: 0 | BC44: 0 | BD44: 0 | BE44: 0 | BF44: 0 | BG44: 0 | BH44: 0 | BI44: 0 | BJ44: 0 | BK44: 0 | BL44: 0 | BM44: 0 | BN44: 0 | BO44: 0 | BP44: 0 | BQ44: 0 | BR44: 0 | BS44: 0 | BT44: 0 | BU44: 0 | BV44: 0 | BW44: 0 | BX44: 0 | BY44: 0 | BZ44: 0 | CA44: 0 | CB44: 0 | CC44: 0
B45: =IF(ROW(id)=ROW($B$13)+2,1,MAX(prev_col_range)+1) -> 31 | C45: =IF(type<>"",IF(ROW(stage_id)=ROW($C$13)+2,1,IF(type="S",MAX(prev_col_range)+1,MAX(prev_col_range))),-1) -> 8 | D45: =_xlfn.IFNA(IF(OR(type="T",type="M"),MATCH(role,Settings!$I$9:$I$16,0),-1),-1) -> -1 | E45: S | F45: Réhabilitation réservoir d'eau salles de lavage | H45: =_xlfn.IFNA(INDEX(Settings!$P$9:$P$38,MATCH(team_member,Settings!$N$9:$N$38,0)),"") | K45: =MIN(S46:S48) -> 44682 | N45: =IF(d.id<>"",IF(d.id<id,"↖",IF(d.id>id,"↙","")),"") | O45: =IFERROR("("&d.type&")"&IF(LEN(d.name)>20,LEFT(d.name,20)&"….",d.name),"") | R45: =NETWORKDAYS(plan_start,MAX(T46:T48)) -> 54 | S45: =IFERROR(IF(ind.start<>"",ind.start,IF(ind.end<>"",plan_start_calculation,IF(d.id<>"",IF(OR(d.conn="FS",d.conn=""),fs_calculation,IF(d.conn="SS",ss_calculation,plan_start_calculation)),""))),"") -> 44682 | T45: =IFERROR(IF(ind.start<>"",plan_end_calculation,IF(ind.end<>"",ind.end,IF(d.id<>"",IF(d.conn="SF",sf_calculation,IF(d.conn="FF",ff_calculation,plan_end_calculation)),""))),"") -> 44755 | W45: {=SUM(W46:W48*R46:R48)/SUM(R46:R48)} -> 0 | X45: 0 | Y45: 0 | Z45: 0 | AA45: 0 | AB45: 0 | AC45: 0 | AD45: 0 | AE45: 0 | AF45: 0 | AG45: 0 | AH45: 0 | AI45: 0 | AJ45: 0 | AK45: 0 | AL45: 0 | AM45: 0 | AN45: 0 | AO45: 0 | AP45: 0 | AQ45: 0 | AR45: 0 | AS45: 0 | AT45: 0 | AU45: 0 | AV45: 0 | AW45: 0 | AX45: 0 | AY45: 0 | AZ45: 0 | BA45: 0 | BB45: 0 | BC45: 0 | BD45: 0 | BE45: 0 | BF45: 0 | BG45: 0 | BH45: 0 | BI45: 0 | BJ45: 0 | BK45: 0 | BL45: 0 | BM45: 0 | BN45: 0 | BO45: 0 | BP45: 0 | BQ45: 0 | BR45: 0 | BS45: 0 | BT45: 0 | BU45: 0 | BV45: 0 | BW45: 0 | BX45: 0 | BY45: 0 | BZ45: 0 | CA45: 0 | CB45: 0 | CC45: 0
B46: =IF(ROW(id)=ROW($B$13)+2,1,MAX(prev_col_range)+1) -> 32 | C46: =IF(type<>"",IF(ROW(stage_id)=ROW($C$13)+2,1,IF(type="S",MAX(prev_col_range)+1,MAX(prev_col_range))),-1) -> 8 | D46: =_xlfn.IFNA(IF(OR(type="T",type="M"),MATCH(role,Settings!$I$9:$I$16,0),-1),-1) -> -1 | E46: T | F46: Démontage | H46: =_xlfn.IFNA(INDEX(Settings!$P$9:$P$38,MATCH(team_member,Settings!$N$9:$N$38,0)),"") | K46: 44682 | M46: =+B44 -> 30 | N46: =IF(d.id<>"",IF(d.id<id,"↖",IF(d.id>id,"↙","")),"") -> ↖ | O46: =IFERROR("("&d.type&")"&IF(LEN(d.name)>20,LEFT(d.name,20)&"….",d.name),"") -> (T)Installation de la v…. | R46: 1 | S46: =IFERROR(IF(ind.start<>"",ind.start,IF(ind.end<>"",plan_start_calculation,IF(d.id<>"",IF(OR(d.conn="FS",d.conn=""),fs_calculation,IF(d.conn="SS",ss_calculation,plan_start_calculation)),""))),"") -> 44682 | T46: =IFERROR(IF(ind.start<>"",plan_end_calculation,IF(ind.end<>"",ind.end,IF(d.id<>"",IF(d.conn="SF",sf_calculation,IF(d.conn="FF",ff_calculation,plan_end_calculation)),""))),"") -> 44682 | W46: 0 | X46: 0 | Y46: 0 | Z46: 0 | AA46: 0 | AB46: 0 | AC46: 0 | AD46: 0 | AE46: 0 | AF46: 0 | AG46: 0 | AH46: 0 | AI46: 0 | AJ46: 0 | AK46: 0 | AL46: 0 | AM46: 0 | AN46: 0 | AO46: 0 | AP46: 0 | AQ46: 0 | AR46: 0 | AS46: 0 | AT46: 0 | AU46: 0 | AV46: 0 | AW46: 0 | AX46: 0 | AY46: 0 | AZ46: 0 | BA46: 0 | BB46: 0 | BC46: 0 | BD46: 0 | BE46: 0 | BF46: 0 | BG46: 0 | BH46: 0 | BI46: 0 | BJ46: 0 | BK46: 0 | BL46: 0 | BM46: 0 | BN46: 0 | BO46: 0 | BP46: 0 | BQ46: 0 | BR46: 0 | BS46: 0 | BT46: 0 | BU46: 0 | BV46: 0 | BW46: 0 | BX46: 0 | BY46: 0 | BZ46: 0 | CA46: 0 | CB46: 0 | CC46: 0
...
