Workbook
Name base_end: Gantt!$V1
Name base_start: Gantt!$U1
Name color_by: Gantt!$X$6
Name color_code: _xlfn.SWITCH(color_by,"Project Structure",Gantt!color_code_project_structure,"Team Roles",Gantt!color_code_team_roles,"Issues",Gantt!color_code_issues,Gantt!color_code_default)
Name color_code_default: IF(Gantt!type<>"",_xlfn.SWITCH(Gantt!type,"S",1,"T",2,"M",3),-1)
Name color_code_issues: IF(Gantt!issue="!",_xlfn.SWITCH(Gantt!type,"S",901,"T",901,"M",902),Gantt!color_code_default)
Name color_code_project_structure: IF(Gantt!stage_id=-1,-1,_xlfn.NUMBERVALUE(IF(MOD(Gantt!stage_id,8)=0,8,MOD(Gantt!stage_id,8))&_xlfn.SWITCH(Gantt!type,"S","01","T","02","M","03")))
Name color_code_team_roles: IF(Gantt!role_id=-1,Gantt!color_code_default,_xlfn.NUMBERVALUE(Gantt!role_id&_xlfn.SWITCH(Gantt!type,"T","01","M","04")))
Name d.conn: Gantt!$P1
Name d.id: Gantt!$M1
Name d.lag: Gantt!$Q1
Name d.name: INDEX(Gantt!$F:$F,Gantt!d.row)
Name d.row: MATCH(Gantt!d.id,Gantt!$B:$B,0)
Name d.type: INDEX(Gantt!$E:$E,Gantt!d.row)
Name date: Gantt!A$10
Name Display: Gantt!$AE$6
Name ff_calculation: WORKDAY(INDEX(Gantt!$T:$T,Gantt!d.row),Gantt!d.lag)
Name fs_calculation: WORKDAY(INDEX(Gantt!$T:$T,Gantt!d.row),1+Gantt!d.lag)
Name highlight: Gantt!$AS$6
Name id: Gantt!$B1
Name ind.end: Gantt!$L1
Name ind.start: Gantt!$K1
Name issue: Gantt!$J1
Name item_in_base: AND(Gantt!date>=Gantt!base_start,Gantt!date<=Gantt!base_end)
Name item_in_complete: AND(Gantt!date>=Gantt!plan_start,Gantt!date<=WORKDAY(Gantt!plan_start,Gantt!percentage_complete*Gantt!workdays-1))
Name item_in_plan: AND(Gantt!date>=Gantt!plan_start,Gantt!date<=Gantt!plan_end)
Name next_date: Gantt!B$10
Name percentage_complete: Gantt!$W1
Name plan_end: Gantt!$T1
Name plan_end_calculation: WORKDAY(Gantt!plan_start,Gantt!workdays-1)
Name plan_start: Gantt!$S1
Name plan_start_calculation: WORKDAY(Gantt!plan_end,(-1)*Gantt!workdays+1)
Name prev_col_range: Gantt!A$13:A1048576
Name project_base_start: MIN(Gantt!$U$13:$U$1000)
Name project_duration: NETWORKDAYS(Gantt!project_start,Gantt!project_end)
Name project_end: MAX(Gantt!$T$13:$T$1000)
Name project_start: MIN(Gantt!$S$13:$S$1000)
Name role: Gantt!$H1
Name role_id: Gantt!$D1
Name scroll: Gantt!$W$11
Name sf_calculation: WORKDAY(INDEX(Gantt!$S:$S,Gantt!d.row),(-1)+Gantt!d.lag)
Name show_progress: Gantt!$AL$6
Name ss_calculation: WORKDAY(INDEX(Gantt!$S:$S,Gantt!d.row),Gantt!d.lag)
Name stage_id: Gantt!$C1
Name team_member: Gantt!$I1
Name timeline_base_start: Gantt!project_base_start-WEEKDAY(Gantt!project_base_start,3)
Name timeline_plan_start: IF(Gantt!project_start=0,TODAY()-WEEKDAY(TODAY(),3),Gantt!project_start-WEEKDAY(Gantt!project_start,3))
Name timeline_start: IF(Display="Plan vs Base",IF(Gantt!timeline_base_start>0,MIN(Gantt!timeline_base_start,Gantt!timeline_plan_start),Gantt!timeline_plan_start),Gantt!timeline_plan_start)
Name type: Gantt!$E1
Name weekend: Settings!$U$8
Name workdays: MAX(Gantt!$R1,1)

Sheet Settings
X2: Gantt
B6: Project Details | G6: Project Role Types | M6: Project Role Types | S6: Weekend and Holidays
C8: Project Title : | D8: ST LOUKKOS | H8: Role | I8: Code | J8: # | N8: Name | O8: Role | P8: Code | T8: Weekend | U8: 0000001
H9: Travaux GC | I9: TGC | J9: =IF(H9<>"",COUNTIF($O$9:$O$38,H9),"") -> 1 | O9: Direction genérale | P9: =_xlfn.IFNA(INDEX($I$9:$I$16,MATCH(O9,$H$9:$H$16,0)),"") -> DG
C10: Project Manager : | H10: Montage | I10: M | J10: =IF(H10<>"",COUNTIF($O$9:$O$38,H10),"") -> 1 | O10: Travaux GC | P10: =_xlfn.IFNA(INDEX($I$9:$I$16,MATCH(O10,$H$9:$H$16,0)),"") -> TGC | T10: Holidays | U10: 44197
H11: Électricité | I11: E | J11: =IF(H11<>"",COUNTIF($O$9:$O$38,H11),"") -> 1 | O11: Montage | P11: =_xlfn.IFNA(INDEX($I$9:$I$16,MATCH(O11,$H$9:$H$16,0)),"") -> M | T11: Holidays | U11: 44572
C12: Project Priority : | D12: High | H12: Parc matériel | I12: PM | J12: =IF(H12<>"",COUNTIF($O$9:$O$38,H12),"") -> 1 | O12: Parc matériel | P12: =_xlfn.IFNA(INDEX($I$9:$I$16,MATCH(O12,$H$9:$H$16,0)),"") -> PM | T12: Holidays | U12: 44683
H13: Achat | I13: A | J13: =IF(H13<>"",COUNTIF($O$9:$O$38,H13),"") -> 1 | O13: Achat | P13: =_xlfn.IFNA(INDEX($I$9:$I$16,MATCH(O13,$H$9:$H$16,0)),"") -> A | T13: Holidays | U13: 44752
H14: Contabilité | I14: C | J14: =IF(H14<>"",COUNTIF($O$9:$O$38,H14),"") -> 1 | O14: Électricité | P14: =_xlfn.IFNA(INDEX($I$9:$I$16,MATCH(O14,$H$9:$H$16,0)),"") -> E | T14: Holidays | U14: 44772
H15: Client | I15: CL | J15: =IF(H15<>"",COUNTIF($O$9:$O$38,H15),"") -> 1 | O15: Contabilité | P15: =_xlfn.IFNA(INDEX($I$9:$I$16,MATCH(O15,$H$9:$H$16,0)),"") -> C | T15: Holidays | U15: 44787
H16: Direction genérale | I16: DG | J16: =IF(H16<>"",COUNTIF($O$9:$O$38,H16),"") -> 1 | O16: Client | P16: =_xlfn.IFNA(INDEX($I$9:$I$16,MATCH(O16,$H$9:$H$16,0)),"") -> CL | T16: Holidays | U16: 44793
P17: =_xlfn.IFNA(INDEX($I$9:$I$16,MATCH(O17,$H$9:$H$16,0)),"") | T17: Holidays | U17: 44794
P18: =_xlfn.IFNA(INDEX($I$9:$I$16,MATCH(O18,$H$9:$H$16,0)),"") | T18: Holidays | U18: 44843
P19: =_xlfn.IFNA(INDEX($I$9:$I$16,MATCH(O19,$H$9:$H$16,0)),"") | T19: Holidays | U19: 44871
P20: =_xlfn.IFNA(INDEX($I$9:$I$16,MATCH(O20,$H$9:$H$16,0)),"") | T20: Holidays | U20: 44883
P21: =_xlfn.IFNA(INDEX($I$9:$I$16,MATCH(O21,$H$9:$H$16,0)),"")
P22: =_xlfn.IFNA(INDEX($I$9:$I$16,MATCH(O22,$H$9:$H$16,0)),"")
P23: =_xlfn.IFNA(INDEX($I$9:$I$16,MATCH(O23,$H$9:$H$16,0)),"")
P24: =_xlfn.IFNA(INDEX($I$9:$I$16,MATCH(O24,$H$9:$H$16,0)),"")
P25: =_xlfn.IFNA(INDEX($I$9:$I$16,MATCH(O25,$H$9:$H$16,0)),"")
P26: =_xlfn.IFNA(INDEX($I$9:$I$16,MATCH(O26,$H$9:$H$16,0)),"")
P27: =_xlfn.IFNA(INDEX($I$9:$I$16,MATCH(O27,$H$9:$H$16,0)),"")
P28: =_xlfn.IFNA(INDEX($I$9:$I$16,MATCH(O28,$H$9:$H$16,0)),"")
P29: =_xlfn.IFNA(INDEX($I$9:$I$16,MATCH(O29,$H$9:$H$16,0)),"")
P30: =_xlfn.IFNA(INDEX($I$9:$I$16,MATCH(O30,$H$9:$H$16,0)),"")
P31: =_xlfn.IFNA(INDEX($I$9:$I$16,MATCH(O31,$H$9:$H$16,0)),"")
P32: =_xlfn.IFNA(INDEX($I$9:$I$16,MATCH(O32,$H$9:$H$16,0)),"")
... P38: =_xlfn.IFNA(INDEX($I$9:$I$16,MATCH(O38,$H$9:$H$16,0)),"")

Sheet Gantt
B2: =Settings!$D$8 -> ST LOUKKOS | X2: Project Timespan : | AF2: =project_start -> 44593 | AJ2: - | AK2: =project_end -> 44764 | AP2: ="("&project_duration&")" -> (124) | AT2: Project Manager : | BB2: =Settings!$D$10 -> 0 | BL2: Settings
X5: Color by | AE5: Display | AL5: Show progress | AS5: Highlight
X6: Project Structure | AE6: Plan | AL6: No | AS6: Aujourd'hui
X8: GANTT CHART AREA
K10: Actual plan | U10: Base plan | W10: Aujourd'hui | X10: {=WORKDAY(timeline_start,scroll)} -> 44662 | Y10: =X10+1 -> 44663 | Z10: =Y10+1 -> 44664 | AA10: =Z10+1 -> 44665 | AB10: =AA10+1 -> 44666 | AC10: =AB10+1 -> 44667 | AD10: =AC10+1 -> 44668 | AE10: =AD10+1 -> 44669 | AF10: =AE10+1 -> 44670 | ... CC10: =CB10+1 -> 44719
K11: Update on : | U11: Saved on : | W11: 50
B12: Ids | E12: Item details
B13: Id | C13: S.id | D13: R.id | E13: Type | F13: Description | H13: Roles | I13: Team member | J13: ! | K13: Ind. Start | L13: Ind. End | M13: D.id | N13: D.item | P13: D.conn | Q13: D.lag | R13: Work days | S13: Start | T13: End | U13: Start | V13: End | W13: % | X13: =LEFT(TEXT(X10,"jjj"),1) -> l | Y13: =LEFT(TEXT(Y10,"jjj"),1) -> m | Z13: =LEFT(TEXT(Z10,"jjj"),1) -> m | AA13: =LEFT(TEXT(AA10,"jjj"),1) -> j | AB13: =LEFT(TEXT(AB10,"jjj"),1) -> v | AC13: =LEFT(TEXT(AC10,"jjj"),1) -> s | AD13: =LEFT(TEXT(AD10,"jjj"),1) -> d | AE13: =LEFT(TEXT(AE10,"jjj"),1) -> l | ... CC13: =LEFT(TEXT(CC10,"jjj"),1) -> m
B15: =IF(ROW(id)=ROW($B$13)+2,1,MAX(prev_col_range)+1) -> 1 | C15: =IF(type<>"",IF(ROW(stage_id)=ROW($C$13)+2,1,IF(type="S",MAX(prev_col_range)+1,MAX(prev_col_range))),-1) -> 1 | D15: =_xlfn.IFNA(IF(OR(type="T",type="M"),MATCH(role,Settings!$I$9:$I$16,0),-1),-1) -> -1 | E15: S | F15: Réservoir eau traitée et d'eau filtrée | H15: =_xlfn.IFNA(INDEX(Settings!$P$9:$P$38,MATCH(team_member,Settings!$N$9:$N$38,0)),"") | K15: =MIN(S16) -> 44593 | N15: =IF(d.id<>"",IF(d.id<id,"↖",IF(d.id>id,"↙","")),"") | O15: =IFERROR("("&d.type&")"&IF(LEN(d.name)>20,LEFT(d.name,20)&"….",d.name),"") | R15: =NETWORKDAYS(plan_start,MAX(T16)) -> 10 | S15: =IFERROR(IF(ind.start<>"",ind.start,IF(ind.end<>"",plan_start_calculation,IF(d.id<>"",IF(OR(d.conn="FS",d.conn=""),fs_calculation,IF(d.conn="SS",ss_calculation,plan_start_calculation)),""))),"") -> 44593 | T15: =IFERROR(IF(ind.start<>"",plan_end_calculation,IF(ind.end<>"",ind.end,IF(d.id<>"",IF(d.conn="SF",sf_calculation,IF(d.conn="FF",ff_calculation,plan_end_calculation)),""))),"") -> 44606 | W15: =W16*R16/R16 -> 1 | X15: 0 | Y15: 0 | Z15: 0 | AA15: 0 | AB15: 0 | AC15: 0 | AD15: 0 | AE15: 0 | AF15: 0 | AG15: 0 | AH15: 0 | AI15: 0 | AJ15: 0 | AK15: 0 | AL15: 0 | AM15: 0 | AN15: 0 | AO15: 0 | AP15: 0 | AQ15: 0 | AR15: 0 | AS15: 0 | AT15: 0 | AU15: 0 | AV15: 0 | AW15: 0 | AX15: 0 | AY15: 0 | AZ15: 0 | BA15: 0 | BB15: 0 | BC15: 0 | BD15: 0 | BE15: 0 | BF15: 0 | BG15: 0 | BH15: 0 | BI15: 0 | BJ15: 0 | BK15: 0 | BL15: 0 | BM15: 0 | BN15: 0 | BO15: 0 | BP15: 0 | BQ15: 0 | BR15: 0 | BS15: 0 | BT15: 0 | BU15: 0 | BV15: 0 | BW15: 0 | BX15: 0 | BY15: 0 | BZ15: 0 | CA15: 0 | CB15: 0 | CC15: 0
B16: =IF(ROW(id)=ROW($B$13)+2,1,MAX(prev_col_range)+1) -> 2 | C16: =IF(type<>"",IF(ROW(stage_id)=ROW($C$13)+2,1,IF(type="S",MAX(prev_col_range)+1,MAX(prev_col_range))),-1) -> 1 | D16: =_xlfn.IFNA(IF(OR(type="T",type="M"),MATCH(role,Settings!$I$9:$I$16,0),-1),-1) -> -1 | E16: T | F16: Nettoyage et finitions | H16: =_xlfn.IFNA(INDEX(Settings!$P$9:$P$38,MATCH(team_member,Settings!$N$9:$N$38,0)),"") | K16: 44593 | N16: =IF(d.id<>"",IF(d.id<id,"↖",IF(d.id>id,"↙","")),"") | O16: =IFERROR("("&d.type&")"&IF(LEN(d.name)>20,LEFT(d.name,20)&"….",d.name),"") | P16: SS | R16: 10 | S16: =IFERROR(IF(ind.start<>"",ind.start,IF(ind.end<>"",plan_start_calculation,IF(d.id<>"",IF(OR(d.conn="FS",d.conn=""),fs_calculation,IF(d.conn="SS",ss_calculation,plan_start_calculation)),""))),"") -> 44593 | T16: =IFERROR(IF(ind.start<>"",plan_end_calculation,IF(ind.end<>"",ind.end,IF(d.id<>"",IF(d.conn="SF",sf_calculation,IF(d.conn="FF",ff_calculation,plan_end_calculation)),""))),"") -> 44606 | W16: 1 | X16: 0 | Y16: 0 | Z16: 0 | AA16: 0 | AB16: 0 | AC16: 0 | AD16: 0 | AE16: 0 | AF16: 0 | AG16: 0 | AH16: 0 | AI16: 0 | AJ16: 0 | AK16: 0 | AL16: 0 | AM16: 0 | AN16: 0 | AO16: 0 | AP16: 0 | AQ16: 0 | AR16: 0 | AS16: 0 | AT16: 0 | AU16: 0 | AV16: 0 | AW16: 0 | AX16: 0 | AY16: 0 | AZ16: 0 | BA16: 0 | BB16: 0 | BC16: 0 | BD16: 0 | BE16: 0 | BF16: 0 | BG16: 0 | BH16: 0 | BI16: 0 | BJ16: 0 | BK16: 0 | BL16: 0 | BM16: 0 | BN16: 0 | BO16: 0 | BP16: 0 | BQ16: 0 | BR16: 0 | BS16: 0 | BT16: 0 | BU16: 0 | BV16: 0 | BW16: 0 | BX16: 0 | BY16: 0 | BZ16: 0 | CA16: 0 | CB16: 0 | CC16: 0
B17: =IF(ROW(id)=ROW($B$13)+2,1,MAX(prev_col_range)+1) -> 3 | C17: =IF(type<>"",IF(ROW(stage_id)=ROW($C$13)+2,1,IF(type="S",MAX(prev_col_range)+1,MAX(prev_col_range))),-1) -> 2 | D17: =_xlfn.IFNA(IF(OR(type="T",type="M"),MATCH(role,Settings!$I$9:$I$16,0),-1),-1) -> -1 | E17: S | F17: Salle des pompes et Filtres | H17: =_xlfn.IFNA(INDEX(Settings!$P$9:$P$38,MATCH(team_member,Settings!$N$9:$N$38,0)),"") | K17: =MIN(S18:S26) -> 44651 | N17: =IF(d.id<>"",IF(d.id<id,"↖",IF(d.id>id,"↙","")),"") | O17: =IFERROR("("&d.type&")"&IF(LEN(d.name)>20,LEFT(d.name,20)&"….",d.name),"") | R17: =NETWORKDAYS(plan_start,MAX(T18:T26)) -> 56 | S17: =IFERROR(IF(ind.start<>"",ind.start,IF(ind.end<>"",plan_start_calculation,IF(d.id<>"",IF(OR(d.conn="FS",d.conn=""),fs_calculation,IF(d.conn="SS",ss_calculation,plan_start_calculation)),""))),"") -> 44651 | T17: =IFERROR(IF(ind.start<>"",plan_end_calculation,IF(ind.end<>"",ind.end,IF(d.id<>"",IF(d.conn="SF",sf_calculation,IF(d.conn="FF",ff_calculation,plan_end_calculation)),""))),"") -> 44728 | W17: {=SUM(W18:W26*R18:R26)/SUM(R18:R26)} -> 0.39385965 | X17: 0 | Y17: 0 | Z17: 0 | AA17: 0 | AB17: 0 | AC17: 0 | AD17: 0 | AE17: 0 | AF17: 0 | AG17: 0 | AH17: 0 | AI17: 0 | AJ17: 0 | AK17: 0 | AL17: 0 | AM17: 0 | AN17: 0 | AO17: 0 | AP17: 0 | AQ17: 0 | AR17: 0 | AS17: 0 | AT17: 0 | AU17: 0 | AV17: 0 | AW17: 0 | AX17: 0 | AY17: 0 | AZ17: 0 | BA17: 0 | BB17: 0 | BC17: 0 | BD17: 0 | BE17: 0 | BF17: 0 | BG17: 0 | BH17: 0 | BI17: 0 | BJ17: 0 | BK17: 0 | BL17: 0 | BM17: 0 | BN17: 0 | BO17: 0 | BP17: 0 | BQ17: 0 | BR17: 0 | BS17: 0 | BT17: 0 | BU17: 0 | BV17: 0 | BW17: 0 | BX17: 0 | BY17: 0 | BZ17: 0 | CA17: 0 | CB17: 0 | CC17: 0
B18: =IF(ROW(id)=ROW($B$13)+2,1,MAX(prev_col_range)+1) -> 4 | C18: =IF(type<>"",IF(ROW(stage_id)=ROW($C$13)+2,1,IF(type="S",MAX(prev_col_range)+1,MAX(prev_col_range))),-1) -> 2 | D18: =_xlfn.IFNA(IF(OR(type="T",type="M"),MATCH(role,Settings!$I$9:$I$16,0),-1),-1) -> -1 | E18: T | F18: Maçonnerie en agglos | H18: =_xlfn.IFNA(INDEX(Settings!$P$9:$P$38,MATCH(team_member,Settings!$N$9:$N$38,0)),"") | K18: 44652 | N18: =IF(d.id<>"",IF(d.id<id,"↖",IF(d.id>id,"↙","")),"") | O18: =IFERROR("("&d.type&")"&IF(LEN(d.name)>20,LEFT(d.name,20)&"….",d.name),"") | Q18: 1 | R18: 14 | S18: =IFERROR(IF(ind.start<>"",ind.start,IF(ind.end<>"",plan_start_calculation,IF(d.id<>"",IF(OR(d.conn="FS",d.conn=""),fs_calculation,IF(d.conn="SS",ss_calculation,plan_start_calculation)),""))),"") -> 44652 | T18: =IFERROR(IF(ind.start<>"",plan_end_calculation,IF(ind.end<>"",ind.end,IF(d.id<>"",IF(d.conn="SF",sf_calculation,IF(d.conn="FF",ff_calculation,plan_end_calculation)),""))),"") -> 44671 | W18: 0.6 | X18: 0 | Y18: 0 | Z18: 0 | AA18: 0 | AB18: 0 | AC18: 0 | AD18: 0 | AE18: 0 | AF18: 0 | AG18: 0 | AH18: 0 | AI18: 0 | AJ18: 0 | AK18: 0 | AL18: 0 | AM18: 0 | AN18: 0 | AO18: 0 | AP18: 0 | AQ18: 0 | AR18: 0 | AS18: 0 | AT18: 0 | AU18: 0 | AV18: 0 | AW18: 0 | AX18: 0 | AY18: 0 | AZ18: 0 | BA18: 0 | BB18: 0 | BC18: 0 | BD18: 0 | BE18: 0 | BF18: 0 | BG18: 0 | BH18: 0 | BI18: 0 | BJ18: 0 | BK18: 0 | BL18: 0 | BM18: 0 | BN18: 0 | BO18: 0 | BP18: 0 | BQ18: 0 | BR18: 0 | BS18: 0 | BT18: 0 | BU18: 0 | BV18: 0 | BW18: 0 | BX18: 0 | BY18: 0 | BZ18: 0 | CA18: 0 | CB18: 0 | CC18: 0
B19: =IF(ROW(id)=ROW($B$13)+2,1,MAX(prev_col_range)+1) -> 5 | C19: =IF(type<>"",IF(ROW(stage_id)=ROW($C$13)+2,1,IF(type="S",MAX(prev_col_range)+1,MAX(prev_col_range))),-1) -> 2 | D19: =_xlfn.IFNA(IF(OR(type="T",type="M"),MATCH(role,Settings!$I$9:$I$16,0),-1),-1) -> -1 | E19: T | F19: Enduits intérieur& extérieur | H19: =_xlfn.IFNA(INDEX(Settings!$P$9:$P$38,MATCH(team_member,Settings!$N$9:$N$38,0)),"") | M19: =B18 -> 4 | N19: =IF(d.id<>"",IF(d.id<id,"↖",IF(d.id>id,"↙","")),"") -> ↖ | O19: =IFERROR("("&d.type&")"&IF(LEN(d.name)>20,LEFT(d.name,20)&"….",d.name),"") -> (T)Maçonnerie en agglos | P19: FS | Q19: -6 | R19: 30 | S19: =IFERROR(IF(ind.start<>"",ind.start,IF(ind.end<>"",plan_start_calculation,IF(d.id<>"",IF(OR(d.conn="FS",d.conn=""),fs_calculation,IF(d.conn="SS",ss_calculation,plan_start_calculation)),""))),"") -> 44664 | T19: =IFERROR(IF(ind.start<>"",plan_end_calculation,IF(ind.end<>"",ind.end,IF(d.id<>"",IF(d.conn="SF",sf_calculation,IF(d.conn="FF",ff_calculation,plan_end_calculation)),""))),"") -> 44705 | W19: 0.6 | X19: 0 | Y19: 0 | Z19: 0 | AA19: 0 | AB19: 0 | AC19: 0 | AD19: 0 | AE19: 0 | AF19: 0 | AG19: 0 | AH19: 0 | AI19: 0 | AJ19: 0 | AK19: 0 | AL19: 0 | AM19: 0 | AN19: 0 | AO19: 0 | AP19: 0 | AQ19: 0 | AR19: 0 | AS19: 0 | AT19: 0 | AU19: 0 | AV19: 0 | AW19: 0 | AX19: 0 | AY19: 0 | AZ19: 0 | BA19: 0 | BB19: 0 | BC19: 0 | BD19: 0 | BE19: 0 | BF19: 0 | BG19: 0 | BH19: 0 | BI19: 0 | BJ19: 0 | BK19: 0 | BL19: 0 | BM19: 0 | BN19: 0 | BO19: 0 | BP19: 0 | BQ19: 0 | BR19: 0 | BS19: 0 | BT19: 0 | BU19: 0 | BV19: 0 | BW19: 0 | BX19: 0 | BY19: 0 | BZ19: 0 | CA19: 0 | CB19: 0 | CC19: 0
B20: =IF(ROW(id)=ROW($B$13)+2,1,MAX(prev_col_range)+1) -> 6 | C20: =IF(type<>"",IF(ROW(stage_id)=ROW($C$13)+2,1,IF(type="S",MAX(prev_col_range)+1,MAX(prev_col_range))),-1) -> 2 | D20: =_xlfn.IFNA(IF(OR(type="T",type="M"),MATCH(role,Settings!$I$9:$I$16,0),-1),-1) -> -1 | E20: T | F20: Peinture extérieur& intérieure | H20: =_xlfn.IFNA(INDEX(Settings!$P$9:$P$38,MATCH(team_member,Settings!$N$9:$N$38,0)),"") | M20: =+B105 -> 91 | N20: =IF(d.id<>"",IF(d.id<id,"↖",IF(d.id>id,"↙","")),"") -> ↙ | O20: =IFERROR("("&d.type&")"&IF(LEN(d.name)>20,LEFT(d.name,20)&"….",d.name),"") -> (T)Espaces Verts | P20: SS | Q20: 2 | R20: 10 | S20: =IFERROR(IF(ind.start<>"",ind.start,IF(ind.end<>"",plan_start_calculation,IF(d.id<>"",IF(OR(d.conn="FS",d.conn=""),fs_calculation,IF(d.conn="SS",ss_calculation,plan_start_calculation)),""))),"") -> 44715 | T20: =IFERROR(IF(ind.start<>"",plan_end_calculation,IF(ind.end<>"",ind.end,IF(d.id<>"",IF(d.conn="SF",sf_calculation,IF(d.conn="FF",ff_calculation,plan_end_calculation)),""))),"") -> 44728 | W20: 0 | X20: 0 | Y20: 0 | Z20: 0 | AA20: 0 | AB20: 0 | AC20: 0 | AD20: 0 | AE20: 0 | AF20: 0 | AG20: 0 | AH20: 0 | AI20: 0 | AJ20: 0 | AK20: 0 | AL20: 0 | AM20: 0 | AN20: 0 | AO20: 0 | AP20: 0 | AQ20: 0 | AR20: 0 | AS20: 0 | AT20: 0 | AU20: 0 | AV20: 0 | AW20: 0 | AX20: 0 | AY20: 0 | AZ20: 0 | BA20: 0 | BB20: 0 | BC20: 0 | BD20: 0 | BE20: 0 | BF20: 0 | BG20: 0 | BH20: 0 | BI20: 0 | BJ20: 0 | BK20: 0 | BL20: 0 | BM20: 0 | BN20: 0 | BO20: 0 | BP20: 0 | BQ20: 0 | BR20: 0 | BS20: 0 | BT20: 0 | BU20: 0 | BV20: 0 | BW20: 0 | BX20: 0 | BY20: 0 | BZ20: 0 | CA20: 0 | CB20: 0 | CC20: 0
B21: =IF(ROW(id)=ROW($B$13)+2,1,MAX(prev_col_range)+1) -> 7 | C21: =IF(type<>"",IF(ROW(stage_id)=ROW($C$13)+2,1,IF(type="S",MAX(prev_col_range)+1,MAX(prev_col_range))),-1) -> 2 | D21: =_xlfn.IFNA(IF(OR(type="T",type="M"),MATCH(role,Settings!$I$9:$I$16,0),-1),-1) -> -1 | E21: T | F21: Menuiserie métallique | H21: =_xlfn.IFNA(INDEX(Settings!$P$9:$P$38,MATCH(team_member,Settings!$N$9:$N$38,0)),"") | M21: =B18 -> 4 | N21: =IF(d.id<>"",IF(d.id<id,"↖",IF(d.id>id,"↙","")),"") -> ↖ | O21: =IFERROR("("&d.type&")"&IF(LEN(d.name)>20,LEFT(d.name,20)&"….",d.name),"") -> (T)Maçonnerie en agglos | P21: FS | Q21: 2 | R21: 3 | S21: =IFERROR(IF(ind.start<>"",ind.start,IF(ind.end<>"",plan_start_calculation,IF(d.id<>"",IF(OR(d.conn="FS",d.conn=""),fs_calculation,IF(d.conn="SS",ss_calculation,plan_start_calculation)),""))),"") -> 44676 | T21: =IFERROR(IF(ind.start<>"",plan_end_calculation,IF(ind.end<>"",ind.end,IF(d.id<>"",IF(d.conn="SF",sf_calculation,IF(d.conn="FF",ff_calculation,plan_end_calculation)),""))),"") -> 44678 | W21: 0 | X21: 0 | Y21: 0 | Z21: 0 | AA21: 0 | AB21: 0 | AC21: 0 | AD21: 0 | AE21: 0 | AF21: 0 | AG21: 0 | AH21: 0 | AI21: 0 | AJ21: 0 | AK21: 0 | AL21: 0 | AM21: 0 | AN21: 0 | AO21: 0 | AP21: 0 | AQ21: 0 | AR21: 0 | AS21: 0 | AT21: 0 | AU21: 0 | AV21: 0 | AW21: 0 | AX21: 0 | AY21: 0 | AZ21: 0 | BA21: 0 | BB21: 0 | BC21: 0 | BD21: 0 | BE21: 0 | BF21: 0 | BG21: 0 | BH21: 0 | BI21: 0 | BJ21: 0 | BK21: 0 | BL21: 0 | BM21: 0 | BN21: 0 | BO21: 0 | BP21: 0 | BQ21: 0 | BR21: 0 | BS21: 0 | BT21: 0 | BU21: 0 | BV21: 0 | BW21: 0 | BX21: 0 | BY21: 0 | BZ21: 0 | CA21: 0 | CB21: 0 | CC21: 0
B22: =IF(ROW(id)=ROW($B$13)+2,1,MAX(prev_col_range)+1) -> 8 | C22: =IF(type<>"",IF(ROW(stage_id)=ROW($C$13)+2,1,IF(type="S",MAX(prev_col_range)+1,MAX(prev_col_range))),-1) -> 2 | D22: =_xlfn.IFNA(IF(OR(type="T",type="M"),MATCH(role,Settings!$I$9:$I$16,0),-1),-1) -> -1 | E22: T | F22: Complexe d'étanchéité de terrasse | H22: =_xlfn.IFNA(INDEX(Settings!$P$9:$P$38,MATCH(team_member,Settings!$N$9:$N$38,0)),"") | M22: =B18 -> 4 | N22: =IF(d.id<>"",IF(d.id<id,"↖",IF(d.id>id,"↙","")),"") -> ↖ | O22: =IFERROR("("&d.type&")"&IF(LEN(d.name)>20,LEFT(d.name,20)&"….",d.name),"") -> (T)Maçonnerie en agglos | P22: FF | Q22: 7 | R22: 7 | S22: =IFERROR(IF(ind.start<>"",ind.start,IF(ind.end<>"",plan_start_calculation,IF(d.id<>"",IF(OR(d.conn="FS",d.conn=""),fs_calculation,IF(d.conn="SS",ss_calculation,plan_start_calculation)),""))),"") -> 44672 | T22: =IFERROR(IF(ind.start<>"",plan_end_calculation,IF(ind.end<>"",ind.end,IF(d.id<>"",IF(d.conn="SF",sf_calculation,IF(d.conn="FF",ff_calculation,plan_end_calculation)),""))),"") -> 44680 | W22: 0 | X22: 0 | Y22: 0 | Z22: 0 | AA22: 0 | AB22: 0 | AC22: 0 | AD22: 0 | AE22: 0 | AF22: 0 | AG22: 0 | AH22: 0 | AI22: 0 | AJ22: 0 | AK22: 0 | AL22: 0 | AM22: 0 | AN22: 0 | AO22: 0 | AP22: 0 | AQ22: 0 | AR22: 0 | AS22: 0 | AT22: 0 | AU22: 0 | AV22: 0 | AW22: 0 | AX22: 0 | AY22: 0 | AZ22: 0 | BA22: 0 | BB22: 0 | BC22: 0 | BD22: 0 | BE22: 0 | BF22: 0 | BG22: 0 | BH22: 0 | BI22: 0 | BJ22: 0 | BK22: 0 | BL22: 0 | BM22: 0 | BN22: 0 | BO22: 0 | BP22: 0 | BQ22: 0 | BR22: 0 | BS22: 0 | BT22: 0 | BU22: 0 | BV22: 0 | BW22: 0 | BX22: 0 | BY22: 0 | BZ22: 0 | CA22: 0 | CB22: 0 | CC22: 0
B23: =IF(ROW(id)=ROW($B$13)+2,1,MAX(prev_col_range)+1) -> 9 | C23: =IF(type<>"",IF(ROW(stage_id)=ROW($C$13)+2,1,IF(type="S",MAX(prev_col_range)+1,MAX(prev_col_range))),-1) -> 2 | D23: =_xlfn.IFNA(IF(OR(type="T",type="M"),MATCH(role,Settings!$I$9:$I$16,0),-1),-1) -> -1 | E23: T | F23: Revêtement des sols | H23: =_xlfn.IFNA(INDEX(Settings!$P$9:$P$38,MATCH(team_member,Settings!$N$9:$N$38,0)),"") | M23: =+B21 -> 7 | N23: =IF(d.id<>"",IF(d.id<id,"↖",IF(d.id>id,"↙","")),"") -> ↖ | O23: =IFERROR("("&d.type&")"&IF(LEN(d.name)>20,LEFT(d.name,20)&"….",d.name),"") -> (T)Menuiserie métalliqu…. | P23: FS | R23: 7 | S23: =IFERROR(IF(ind.start<>"",ind.start,IF(ind.end<>"",plan_start_calculation,IF(d.id<>"",IF(OR(d.conn="FS",d.conn=""),fs_calculation,IF(d.conn="SS",ss_calculation,plan_start_calculation)),""))),"") -> 44679 | T23: =IFERROR(IF(ind.start<>"",plan_end_calculation,IF(ind.end<>"",ind.end,IF(d.id<>"",IF(d.conn="SF",sf_calculation,IF(d.conn="FF",ff_calculation,plan_end_calculation)),""))),"") -> 44687 | W23: 0 | X23: 0 | Y23: 0 | Z23: 0 | AA23: 0 | AB23: 0 | AC23: 0 | AD23: 0 | AE23: 0 | AF23: 0 | AG23: 0 | AH23: 0 | AI23: 0 | AJ23: 0 | AK23: 0 | AL23: 0 | AM23: 0 | AN23: 0 | AO23: 0 | AP23: 0 | AQ23: 0 | AR23: 0 | AS23: 0 | AT23: 0 | AU23: 0 | AV23: 0 | AW23: 0 | AX23: 0 | AY23: 0 | AZ23: 0 | BA23: 0 | BB23: 0 | BC23: 0 | BD23: 0 | BE23: 0 | BF23: 0 | BG23: 0 | BH23: 0 | BI23: 0 | BJ23: 0 | BK23: 0 | BL23: 0 | BM23: 0 | BN23: 0 | BO23: 0 | BP23: 0 | BQ23: 0 | BR23: 0 | BS23: 0 | BT23: 0 | BU23: 0 | BV23: 0 | BW23: 0 | BX23: 0 | BY23: 0 | BZ23: 0 | CA23: 0 | CB23: 0 | CC23: 0
B24: =IF(ROW(id)=ROW($B$13)+2,1,MAX(prev_col_range)+1) -> 10 | C24: =IF(type<>"",IF(ROW(stage_id)=ROW($C$13)+2,1,IF(type="S",MAX(prev_col_range)+1,MAX(prev_col_range))),-1) -> 2 | D24: =_xlfn.IFNA(IF(OR(type="T",type="M"),MATCH(role,Settings!$I$9:$I$16,0),-1),-1) -> -1 | E24: T | F24: Pose des dallettes | H24: =_xlfn.IFNA(INDEX(Settings!$P$9:$P$38,MATCH(team_member,Settings!$N$9:$N$38,0)),"") | M24: =B19 -> 5 | N24: =IF(d.id<>"",IF(d.id<id,"↖",IF(d.id>id,"↙","")),"") -> ↖ | O24: =IFERROR("("&d.type&")"&IF(LEN(d.name)>20,LEFT(d.name,20)&"….",d.name),"") -> (T)Enduits intérieur& e…. | P24: SF | R24: 7 | S24: =IFERROR(IF(ind.start<>"",ind.start,IF(ind.end<>"",plan_start_calculation,IF(d.id<>"",IF(OR(d.conn="FS",d.conn=""),fs_calculation,IF(d.conn="SS",ss_calculation,plan_start_calculation)),""))),"") -> 44655 | T24: =IFERROR(IF(ind.start<>"",plan_end_calculation,IF(ind.end<>"",ind.end,IF(d.id<>"",IF(d.conn="SF",sf_calculation,IF(d.conn="FF",ff_calculation,plan_end_calculation)),""))),"") -> 44663 | W24: 0.5 | X24: 0 | Y24: 0 | Z24: 0 | AA24: 0 | AB24: 0 | AC24: 0 | AD24: 0 | AE24: 0 | AF24: 0 | AG24: 0 | AH24: 0 | AI24: 0 | AJ24: 0 | AK24: 0 | AL24: 0 | AM24: 0 | AN24: 0 | AO24: 0 | AP24: 0 | AQ24: 0 | AR24: 0 | AS24: 0 | AT24: 0 | AU24: 0 | AV24: 0 | AW24: 0 | AX24: 0 | AY24: 0 | AZ24: 0 | BA24: 0 | BB24: 0 | BC24: 0 | BD24: 0 | BE24: 0 | BF24: 0 | BG24: 0 | BH24: 0 | BI24: 0 | BJ24: 0 | BK24: 0 | BL24: 0 | BM24: 0 | BN24: 0 | BO24: 0 | BP24: 0 | BQ24: 0 | BR24: 0 | BS24: 0 | BT24: 0 | BU24: 0 | BV24: 0 | BW24: 0 | BX24: 0 | BY24: 0 | BZ24: 0 | CA24: 0 | CB24: 0 | CC24: 0
B25: =IF(ROW(id)=ROW($B$13)+2,1,MAX(prev_col_range)+1) -> 11 | C25: =IF(type<>"",IF(ROW(stage_id)=ROW($C$13)+2,1,IF(type="S",MAX(prev_col_range)+1,MAX(prev_col_range))),-1) -> 2 | D25: =_xlfn.IFNA(IF(OR(type="T",type="M"),MATCH(role,Settings!$I$9:$I$16,0),-1),-1) -> -1 | E25: T | F25: Essais d'étanchéité | H25: =_xlfn.IFNA(INDEX(Settings!$P$9:$P$38,MATCH(team_member,Settings!$N$9:$N$38,0)),"") | M25: =+B18 -> 4 | N25: =IF(d.id<>"",IF(d.id<id,"↖",IF(d.id>id,"↙","")),"") -> ↖ | O25: =IFERROR("("&d.type&")"&IF(LEN(d.name)>20,LEFT(d.name,20)&"….",d.name),"") -> (T)Maçonnerie en agglos | P25: SS | Q25: -1 | R25: 30 | S25: =IFERROR(IF(ind.start<>"",ind.start,IF(ind.end<>"",plan_start_calculation,IF(d.id<>"",IF(OR(d.conn="FS",d.conn=""),fs_calculation,IF(d.conn="SS",ss_calculation,plan_start_calculation)),""))),"") -> 44651 | T25: =IFERROR(IF(ind.start<>"",plan_end_calculation,IF(ind.end<>"",ind.end,IF(d.id<>"",IF(d.conn="SF",sf_calculation,IF(d.conn="FF",ff_calculation,plan_end_calculation)),""))),"") -> 44692 | W25: 0.5 | X25: 0 | Y25: 0 | Z25: 0 | AA25: 0 | AB25: 0 | AC25: 0 | AD25: 0 | AE25: 0 | AF25: 0 | AG25: 0 | AH25: 0 | AI25: 0 | AJ25: 0 | AK25: 0 | AL25: 0 | AM25: 0 | AN25: 0 | AO25: 0 | AP25: 0 | AQ25: 0 | AR25: 0 | AS25: 0 | AT25: 0 | AU25: 0 | AV25: 0 | AW25: 0 | AX25: 0 | AY25: 0 | AZ25: 0 | BA25: 0 | BB25: 0 | BC25: 0 | BD25: 0 | BE25: 0 | BF25: 0 | BG25: 0 | BH25: 0 | BI25: 0 | BJ25: 0 | BK25: 0 | BL25: 0 | BM25: 0 | BN25: 0 | BO25: 0 | BP25: 0 | BQ25: 0 | BR25: 0 | BS25: 0 | BT25: 0 | BU25: 0 | BV25: 0 | BW25: 0 | BX25: 0 | BY25: 0 | BZ25: 0 | CA25: 0 | CB25: 0 | CC25: 0
B26: =IF(ROW(id)=ROW($B$13)+2,1,MAX(prev_col_range)+1) -> 12 | C26: =IF(type<>"",IF(ROW(stage_id)=ROW($C$13)+2,1,IF(type="S",MAX(prev_col_range)+1,MAX(prev_col_range))),-1) -> 2 | D26: =_xlfn.IFNA(IF(OR(type="T",type="M"),MATCH(role,Settings!$I$9:$I$16,0),-1),-1) -> -1 | E26: T | F26: Mise en place du sable | H26: =_xlfn.IFNA(INDEX(Settings!$P$9:$P$38,MATCH(team_member,Settings!$N$9:$N$38,0)),"") | M26: =+B24 -> 10 | N26: =IF(d.id<>"",IF(d.id<id,"↖",IF(d.id>id,"↙","")),"") -> ↖ | O26: =IFERROR("("&d.type&")"&IF(LEN(d.name)>20,LEFT(d.name,20)&"….",d.name),"") -> (T)Pose des dallettes | P26: FS | Q26: -2 | R26: 6 | S26: =IFERROR(IF(ind.start<>"",ind.start,IF(ind.end<>"",plan_start_calculation,IF(d.id<>"",IF(OR(d.conn="FS",d.conn=""),fs_calculation,IF(d.conn="SS",ss_calculation,plan_start_calculation)),""))),"") -> 44662 | T26: =IFERROR(IF(ind.start<>"",plan_end_calculation,IF(ind.end<>"",ind.end,IF(d.id<>"",IF(d.conn="SF",sf_calculation,IF(d.conn="FF",ff_calculation,plan_end_calculation)),""))),"") -> 44669 | W26: 0 | X26: 0 | Y26: 0 | Z26: 0 | AA26: 0 | AB26: 0 | AC26: 0 | AD26: 0 | AE26: 0 | AF26: 0 | AG26: 0 | AH26: 0 | AI26: 0 | AJ26: 0 | AK26: 0 | AL26: 0 | AM26: 0 | AN26: 0 | AO26: 0 | AP26: 0 | AQ26: 0 | AR26: 0 | AS26: 0 | AT26: 0 | AU26: 0 | AV26: 0 | AW26: 0 | AX26: 0 | AY26: 0 | AZ26: 0 | BA26: 0 | BB26: 0 | BC26: 0 | BD26: 0 | BE26: 0 | BF26: 0 | BG26: 0 | BH26: 0 | BI26: 0 | BJ26: 0 | BK26: 0 | BL26: 0 | BM26: 0 | BN26: 0 | BO26: 0 | BP26: 0 | BQ26: 0 | BR26: 0 | BS26: 0 | BT26: 0 | BU26: 0 | BV26: 0 | BW26: 0 | BX26: 0 | BY26: 0 | BZ26: 0 | CA26: 0 | CB26: 0 | CC26: 0
B27: =IF(ROW(id)=ROW($B$13)+2,1,MAX(prev_col_range)+1) -> 13 | C27: =IF(type<>"",IF(ROW(stage_id)=ROW($C$13)+2,1,IF(type="S",MAX(prev_col_range)+1,MAX(prev_col_range))),-1) -> 3 | D27: =_xlfn.IFNA(IF(OR(type="T",type="M"),MATCH(role,Settings!$I$9:$I$16,0),-1),-1) -> -1 | E27: S | F27: Bassin de Préchloration | H27: =_xlfn.IFNA(INDEX(Settings!$P$9:$P$38,MATCH(team_member,Settings!$N$9:$N$38,0)),"") | K27: =MIN(S28:S29) -> 44621 | N27: =IF(d.id<>"",IF(d.id<id,"↖",IF(d.id>id,"↙","")),"") | O27: =IFERROR("("&d.type&")"&IF(LEN(d.name)>20,LEFT(d.name,20)&"….",d.name),"") | R27: =NETWORKDAYS(plan_start,MAX(T28:T29)) -> 85 | S27: =IFERROR(IF(ind.start<>"",ind.start,IF(ind.end<>"",plan_start_calculation,IF(d.id<>"",IF(OR(d.conn="FS",d.conn=""),fs_calculation,IF(d.conn="SS",ss_calculation,plan_start_calculation)),""))),"") -> 44621 | T27: =IFERROR(IF(ind.start<>"",plan_end_calculation,IF(ind.end<>"",ind.end,IF(d.id<>"",IF(d.conn="SF",sf_calculation,IF(d.conn="FF",ff_calculation,plan_end_calculation)),""))),"") -> 44739 | W27: {=SUM(W28:W29*R28:R29)/SUM(R28:R29)} -> 0.62222222 | X27: 0 | Y27: 0 | Z27: 0 | AA27: 0 | AB27: 0 | AC27: 0 | AD27: 0 | AE27: 0 | AF27: 0 | AG27: 0 | AH27: 0 | AI27: 0 | AJ27: 0 | AK27: 0 | AL27: 0 | AM27: 0 | AN27: 0 | AO27: 0 | AP27: 0 | AQ27: 0 | AR27: 0 | AS27: 0 | AT27: 0 | AU27: 0 | AV27: 0 | AW27: 0 | AX27: 0 | AY27: 0 | AZ27: 0 | BA27: 0 | BB27: 0 | BC27: 0 | BD27: 0 | BE27: 0 | BF27: 0 | BG27: 0 | BH27: 0 | BI27: 0 | BJ27: 0 | BK27: 0 | BL27: 0 | BM27: 0 | BN27: 0 | BO27: 0 | BP27: 0 | BQ27: 0 | BR27: 0 | BS27: 0 | BT27: 0 | BU27: 0 | BV27: 0 | BW27: 0 | BX27: 0 | BY27: 0 | BZ27: 0 | CA27: 0 | CB27: 0 | CC27: 0
B28: =IF(ROW(id)=ROW($B$13)+2,1,MAX(prev_col_range)+1) -> 14 | C28: =IF(type<>"",IF(ROW(stage_id)=ROW($C$13)+2,1,IF(type="S",MAX(prev_col_range)+1,MAX(prev_col_range))),-1) -> 3 | D28: =_xlfn.IFNA(IF(OR(type="T",type="M"),MATCH(role,Settings!$I$9:$I$16,0),-1),-1) -> -1 | E28: T | F28: Scellement et pose de manchette de traversée | H28: =_xlfn.IFNA(INDEX(Settings!$P$9:$P$38,MATCH(team_member,Settings!$N$9:$N$38,0)),"") | K28: 44621 | M28: =B16 -> 2 | N28: =IF(d.id<>"",IF(d.id<id,"↖",IF(d.id>id,"↙","")),"") -> ↖ | O28: =IFERROR("("&d.type&")"&IF(LEN(d.name)>20,LEFT(d.name,20)&"….",d.name),"") -> (T)Nettoyage et finitio…. | Q28: 1 | R28: 40 | S28: =IFERROR(IF(ind.start<>"",ind.start,IF(ind.end<>"",plan_start_calculation,IF(d.id<>"",IF(OR(d.conn="FS",d.conn=""),fs_calculation,IF(d.conn="SS",ss_calculation,plan_start_calculation)),""))),"") -> 44621 | T28: =IFERROR(IF(ind.start<>"",plan_end_calculation,IF(ind.end<>"",ind.end,IF(d.id<>"",IF(d.conn="SF",sf_calculation,IF(d.conn="FF",ff_calculation,plan_end_calculation)),""))),"") -> 44676 | W28: 0.6 | X28: 0 | Y28: 0 | Z28: 0 | AA28: 0 | AB28: 0 | AC28: 0 | AD28: 0 | AE28: 0 | AF28: 0 | AG28: 0 | AH28: 0 | AI28: 0 | AJ28: 0 | AK28: 0 | AL28: 0 | AM28: 0 | AN28: 0 | AO28: 0 | AP28: 0 | AQ28: 0 | AR28: 0 | AS28: 0 | AT28: 0 | AU28: 0 | AV28: 0 | AW28: 0 | AX28: 0 | AY28: 0 | AZ28: 0 | BA28: 0 | BB28: 0 | BC28: 0 | BD28: 0 | BE28: 0 | BF28: 0 | BG28: 0 | BH28: 0 | BI28: 0 | BJ28: 0 | BK28: 0 | BL28: 0 | BM28: 0 | BN28: 0 | BO28: 0 | BP28: 0 | BQ28: 0 | BR28: 0 | BS28: 0 | BT28: 0 | BU28: 0 | BV28: 0 | BW28: 0 | BX28: 0 | BY28: 0 | BZ28: 0 | CA28: 0 | CB28: 0 | CC28: 0
B29: =IF(ROW(id)=ROW($B$13)+2,1,MAX(prev_col_range)+1) -> 15 | C29: =IF(type<>"",IF(ROW(stage_id)=ROW($C$13)+2,1,IF(type="S",MAX(prev_col_range)+1,MAX(prev_col_range))),-1) -> 3 | D29: =_xlfn.IFNA(IF(OR(type="T",type="M"),MATCH(role,Settings!$I$9:$I$16,0),-1),-1) -> -1 | E29: T | F29: Pose des gards-corps et menuiserie métallique | H29: =_xlfn.IFNA(INDEX(Settings!$P$9:$P$38,MATCH(team_member,Settings!$N$9:$N$38,0)),"") | M29: =B20 -> 6 | N29: =IF(d.id<>"",IF(d.id<id,"↖",IF(d.id>id,"↙","")),"") -> ↖ | O29: =IFERROR("("&d.type&")"&IF(LEN(d.name)>20,LEFT(d.name,20)&"….",d.name),"") -> (T)Peinture extérieur& …. | Q29: 2 | R29: 5 | S29: =IFERROR(IF(ind.start<>"",ind.start,IF(ind.end<>"",plan_start_calculation,IF(d.id<>"",IF(OR(d.conn="FS",d.conn=""),fs_calculation,IF(d.conn="SS",ss_calculation,plan_start_calculation)),""))),"") -> 44733 | T29: =IFERROR(IF(ind.start<>"",plan_end_calculation,IF(ind.end<>"",ind.end,IF(d.id<>"",IF(d.conn="SF",sf_calculation,IF(d.conn="FF",ff_calculation,plan_end_calculation)),""))),"") -> 44739 | W29: 0.8 | X29: 0 | Y29: 0 | Z29: 0 | AA29: 0 | AB29: 0 | AC29: 0 | AD29: 0 | AE29: 0 | AF29: 0 | AG29: 0 | AH29: 0 | AI29: 0 | AJ29: 0 | AK29: 0 | AL29: 0 | AM29: 0 | AN29: 0 | AO29: 0 | AP29: 0 | AQ29: 0 | AR29: 0 | AS29: 0 | AT29: 0 | AU29: 0 | AV29: 0 | AW29: 0 | AX29: 0 | AY29: 0 | AZ29: 0 | BA29: 0 | BB29: 0 | BC29: 0 | BD29: 0 | BE29: 0 | BF29: 0 | BG29: 0 | BH29: 0 | BI29: 0 | BJ29: 0 | BK29: 0 | BL29: 0 | BM29: 0 | BN29: 0 | BO29: 0 | BP29: 0 | BQ29: 0 | BR29: 0 | BS29: 0 | BT29: 0 | BU29: 0 | BV29: 0 | BW29: 0 | BX29: 0 | BY29: 0 | BZ29: 0 | CA29: 0 | CB29: 0 | CC29: 0
B30: =IF(ROW(id)=ROW($B$13)+2,1,MAX(prev_col_range)+1) -> 16 | C30: =IF(type<>"",IF(ROW(stage_id)=ROW($C$13)+2,1,IF(type="S",MAX(prev_col_range)+1,MAX(prev_col_range))),-1) -> 4 | D30: =_xlfn.IFNA(IF(OR(type="T",type="M"),MATCH(role,Settings!$I$9:$I$16,0),-1),-1) -> -1 | E30: S | F30: Décanteur et chambre de floculation | H30: =_xlfn.IFNA(INDEX(Settings!$P$9:$P$38,MATCH(team_member,Settings!$N$9:$N$38,0)),"") | K30: =MIN(S31:S38) -> 44676 | N30: =IF(d.id<>"",IF(d.id<id,"↖",IF(d.id>id,"↙","")),"") | O30: =IFERROR("("&d.type&")"&IF(LEN(d.name)>20,LEFT(d.name,20)&"….",d.name),"") | R30: =NETWORKDAYS(plan_start,MAX(T31:T38)) -> 62 | S30: =IFERROR(IF(ind.start<>"",ind.start,IF(ind.end<>"",plan_start_calculation,IF(d.id<>"",IF(OR(d.conn="FS",d.conn=""),fs_calculation,IF(d.conn="SS",ss_calculation,plan_start_calculation)),""))),"") -> 44676 | T30: =IFERROR(IF(ind.start<>"",plan_end_calculation,IF(ind.end<>"",ind.end,IF(d.id<>"",IF(d.conn="SF",sf_calculation,IF(d.conn="FF",ff_calculation,plan_end_calculation)),""))),"") -> 44761 | W30: {=SUM(W31:W33*R31:R33)/SUM(R31:R33)} -> 0 | X30: 0 | Y30: 0 | Z30: 0 | AA30: 0 | AB30: 0 | AC30: 0 | AD30: 0 | AE30: 0 | AF30: 0 | AG30: 0 | AH30: 0 | AI30: 0 | AJ30: 0 | AK30: 0 | AL30: 0 | AM30: 0 | AN30: 0 | AO30: 0 | AP30: 0 | AQ30: 0 | AR30: 0 | AS30: 0 | AT30: 0 | AU30: 0 | AV30: 0 | AW30: 0 | AX30: 0 | AY30: 0 | AZ30: 0 | BA30: 0 | BB30: 0 | BC30: 0 | BD30: 0 | BE30: 0 | BF30: 0 | BG30: 0 | BH30: 0 | BI30: 0 | BJ30: 0 | BK30: 0 | BL30: 0 | BM30: 0 | BN30: 0 | BO30: 0 | BP30: 0 | BQ30: 0 | BR30: 0 | BS30: 0 | BT30: 0 | BU30: 0 | BV30: 0 | BW30: 0 | BX30: 0 | BY30: 0 | BZ30: 0 | CA30: 0 | CB30: 0 | CC30: 0
B31: =IF(ROW(id)=ROW($B$13)+2,1,MAX(prev_col_range)+1) -> 17 | C31: =IF(type<>"",IF(ROW(stage_id)=ROW($C$13)+2,1,IF(type="S",MAX(prev_col_range)+1,MAX(prev_col_range))),-1) -> 4 | D31: =_xlfn.IFNA(IF(OR(type="T",type="M"),MATCH(role,Settings!$I$9:$I$16,0),-1),-1) -> -1 | E31: T | F31: Peinture extérieur& intérieure | H31: =_xlfn.IFNA(INDEX(Settings!$P$9:$P$38,MATCH(team_member,Settings!$N$9:$N$38,0)),"") | K31: 44682 | M31: =B105 -> 91 | N31: =IF(d.id<>"",IF(d.id<id,"↖",IF(d.id>id,"↙","")),"") -> ↙ | O31: =IFERROR("("&d.type&")"&IF(LEN(d.name)>20,LEFT(d.name,20)&"….",d.name),"") -> (T)Espaces Verts | P31: SS | Q31: 2 | R31: 10 | S31: =IFERROR(IF(ind.start<>"",ind.start,IF(ind.end<>"",plan_start_calculation,IF(d.id<>"",IF(OR(d.conn="FS",d.conn=""),fs_calculation,IF(d.conn="SS",ss_calculation,plan_start_calculation)),""))),"") -> 44682 | T31: =IFERROR(IF(ind.start<>"",plan_end_calculation,IF(ind.end<>"",ind.end,IF(d.id<>"",IF(d.conn="SF",sf_calculation,IF(d.conn="FF",ff_calculation,plan_end_calculation)),""))),"") -> 44693 | W31: 0 | X31: 0 | Y31: 0 | Z31: 0 | AA31: 0 | AB31: 0 | AC31: 0 | AD31: 0 | AE31: 0 | AF31: 0 | AG31: 0 | AH31: 0 | AI31: 0 | AJ31: 0 | AK31: 0 | AL31: 0 | AM31: 0 | AN31: 0 | AO31: 0 | AP31: 0 | AQ31: 0 | AR31: 0 | AS31: 0 | AT31: 0 | AU31: 0 | AV31: 0 | AW31: 0 | AX31: 0 | AY31: 0 | AZ31: 0 | BA31: 0 | BB31: 0 | BC31: 0 | BD31: 0 | BE31: 0 | BF31: 0 | BG31: 0 | BH31: 0 | BI31: 0 | BJ31: 0 | BK31: 0 | BL31: 0 | BM31: 0 | BN31: 0 | BO31: 0 | BP31: 0 | BQ31: 0 | BR31: 0 | BS31: 0 | BT31: 0 | BU31: 0 | BV31: 0 | BW31: 0 | BX31: 0 | BY31: 0 | BZ31: 0 | CA31: 0 | CB31: 0 | CC31: 0
B32: =IF(ROW(id)=ROW($B$13)+2,1,MAX(prev_col_range)+1) -> 18 | C32: =IF(type<>"",IF(ROW(stage_id)=ROW($C$13)+2,1,IF(type="S",MAX(prev_col_range)+1,MAX(prev_col_range))),-1) -> 4 | D32: =_xlfn.IFNA(IF(OR(type="T",type="M"),MATCH(role,Settings!$I$9:$I$16,0),-1),-1) -> -1 | E32: T | F32: Complexe d'étanchéité de terrasse | H32: =_xlfn.IFNA(INDEX(Settings!$P$9:$P$38,MATCH(team_member,Settings!$N$9:$N$38,0)),"") | M32: =+B22 -> 8 | N32: =IF(d.id<>"",IF(d.id<id,"↖",IF(d.id>id,"↙","")),"") -> ↖ | O32: =IFERROR("("&d.type&")"&IF(LEN(d.name)>20,LEFT(d.name,20)&"….",d.name),"") -> (T)Complexe d'étanchéit…. | P32: SS | Q32: 2 | R32: 5 | S32: =IFERROR(IF(ind.start<>"",ind.start,IF(ind.end<>"",plan_start_calculation,IF(d.id<>"",IF(OR(d.conn="FS",d.conn=""),fs_calculation,IF(d.conn="SS",ss_calculation,plan_start_calculation)),""))),"") -> 44676 | T32: =IFERROR(IF(ind.start<>"",plan_end_calculation,IF(ind.end<>"",ind.end,IF(d.id<>"",IF(d.conn="SF",sf_calculation,IF(d.conn="FF",ff_calculation,plan_end_calculation)),""))),"") -> 44680 | W32: 0 | X32: 0 | Y32: 0 | Z32: 0 | AA32: 0 | AB32: 0 | AC32: 0 | AD32: 0 | AE32: 0 | AF32: 0 | AG32: 0 | AH32: 0 | AI32: 0 | AJ32: 0 | AK32: 0 | AL32: 0 | AM32: 0 | AN32: 0 | AO32: 0 | AP32: 0 | AQ32: 0 | AR32: 0 | AS32: 0 | AT32: 0 | AU32: 0 | AV32: 0 | AW32: 0 | AX32: 0 | AY32: 0 | AZ32: 0 | BA32: 0 | BB32: 0 | BC32: 0 | BD32: 0 | BE32: 0 | BF32: 0 | BG32: 0 | BH32: 0 | BI32: 0 | BJ32: 0 | BK32: 0 | BL32: 0 | BM32: 0 | BN32: 0 | BO32: 0 | BP32: 0 | BQ32: 0 | BR32: 0 | BS32: 0 | BT32: 0 | BU32: 0 | BV32: 0 | BW32: 0 | BX32: 0 | BY32: 0 | BZ32: 0 | CA32: 0 | CB32: 0 | CC32: 0
B33: =IF(ROW(id)=ROW($B$13)+2,1,MAX(prev_col_range)+1) -> 19 | C33: =IF(type<>"",IF(ROW(stage_id)=ROW($C$13)+2,1,IF(type="S",MAX(prev_col_range)+1,MAX(prev_col_range))),-1) -> 4 | D33: =_xlfn.IFNA(IF(OR(type="T",type="M"),MATCH(role,Settings!$I$9:$I$16,0),-1),-1) -> -1 | E33: T | F33: Nettoyage et finitions | H33: =_xlfn.IFNA(INDEX(Settings!$P$9:$P$38,MATCH(team_member,Settings!$N$9:$N$38,0)),"") | M33: =+B32 -> 18 | N33: =IF(d.id<>"",IF(d.id<id,"↖",IF(d.id>id,"↙","")),"") -> ↖ | O33: =IFERROR("("&d.type&")"&IF(LEN(d.name)>20,LEFT(d.name,20)&"….",d.name),"") -> (T)Complexe d'étanchéit…. | P33: FS | Q33: 1 | R33: 2 | S33: =IFERROR(IF(ind.start<>"",ind.start,IF(ind.end<>"",plan_start_calculation,IF(d.id<>"",IF(OR(d.conn="FS",d.conn=""),fs_calculation,IF(d.conn="SS",ss_calculation,plan_start_calculation)),""))),"") -> 44684 | T33: =IFERROR(IF(ind.start<>"",plan_end_calculation,IF(ind.end<>"",ind.end,IF(d.id<>"",IF(d.conn="SF",sf_calculation,IF(d.conn="FF",ff_calculation,plan_end_calculation)),""))),"") -> 44685 | W33: 0 | X33: 0 | Y33: 0 | Z33: 0 | AA33: 0 | AB33: 0 | AC33: 0 | AD33: 0 | AE33: 0 | AF33: 0 | AG33: 0 | AH33: 0 | AI33: 0 | AJ33: 0 | AK33: 0 | AL33: 0 | AM33: 0 | AN33: 0 | AO33: 0 | AP33: 0 | AQ33: 0 | AR33: 0 | AS33: 0 | AT33: 0 | AU33: 0 | AV33: 0 | AW33: 0 | AX33: 0 | AY33: 0 | AZ33: 0 | BA33: 0 | BB33: 0 | BC33: 0 | BD33: 0 | BE33: 0 | BF33: 0 | BG33: 0 | BH33: 0 | BI33: 0 | BJ33: 0 | BK33: 0 | BL33: 0 | BM33: 0 | BN33: 0 | BO33: 0 | BP33: 0 | BQ33: 0 | BR33: 0 | BS33: 0 | BT33: 0 | BU33: 0 | BV33: 0 | BW33: 0 | BX33: 0 | BY33: 0 | BZ33: 0 | CA33: 0 | CB33: 0 | CC33: 0
B34: =IF(ROW(id)=ROW($B$13)+2,1,MAX(prev_col_range)+1) -> 20 | C34: =IF(type<>"",IF(ROW(stage_id)=ROW($C$13)+2,1,IF(type="S",MAX(prev_col_range)+1,MAX(prev_col_range))),-1) -> 5 | D34: =_xlfn.IFNA(IF(OR(type="T",type="M"),MATCH(role,Settings!$I$9:$I$16,0),-1),-1) -> -1 | E34: S | F34: Décanteur d'eau salle de lavage des filtres | H34: =_xlfn.IFNA(INDEX(Settings!$P$9:$P$38,MATCH(team_member,Settings!$N$9:$N$38,0)),"") | N34: =IF(d.id<>"",IF(d.id<id,"↖",IF(d.id>id,"↙","")),"") | O34: =IFERROR("("&d.type&")"&IF(LEN(d.name)>20,LEFT(d.name,20)&"….",d.name),"") | S34: =IFERROR(IF(ind.start<>"",ind.start,IF(ind.end<>"",plan_start_calculation,IF(d.id<>"",IF(OR(d.conn="FS",d.conn=""),fs_calculation,IF(d.conn="SS",ss_calculation,plan_start_calculation)),""))),"") | T34: =IFERROR(IF(ind.start<>"",plan_end_calculation,IF(ind.end<>"",ind.end,IF(d.id<>"",IF(d.conn="SF",sf_calculation,IF(d.conn="FF",ff_calculation,plan_end_calculation)),""))),"") | W34: {=SUM(W35:W38*R35:R38)/SUM(R35:R38)} -> 0.11538462 | X34: 0 | Y34: 0 | Z34: 0 | AA34: 0 | AB34: 0 | AC34: 0 | AD34: 0 | AE34: 0 | AF34: 0 | AG34: 0 | AH34: 0 | AI34: 0 | AJ34: 0 | AK34: 0 | AL34: 0 | AM34: 0 | AN34: 0 | AO34: 0 | AP34: 0 | AQ34: 0 | AR34: 0 | AS34: 0 | AT34: 0 | AU34: 0 | AV34: 0 | AW34: 0 | AX34: 0 | AY34: 0 | AZ34: 0 | BA34: 0 | BB34: 0 | BC34: 0 | BD34: 0 | BE34: 0 | BF34: 0 | BG34: 0 | BH34: 0 | BI34: 0 | BJ34: 0 | BK34: 0 | BL34: 0 | BM34: 0 | BN34: 0 | BO34: 0 | BP34: 0 | BQ34: 0 | BR34: 0 | BS34: 0 | BT34: 0 | BU34: 0 | BV34: 0 | BW34: 0 | BX34: 0 | BY34: 0 | BZ34: 0 | CA34: 0 | CB34: 0 | CC34: 0
B35: =IF(ROW(id)=ROW($B$13)+2,1,MAX(prev_col_range)+1) -> 21 | C35: =IF(type<>"",IF(ROW(stage_id)=ROW($C$13)+2,1,IF(type="S",MAX(prev_col_range)+1,MAX(prev_col_range))),-1) -> 5 | D35: =_xlfn.IFNA(IF(OR(type="T",type="M"),MATCH(role,Settings!$I$9:$I$16,0),-1),-1) -> -1 | E35: T | F35: Menuiserie métallique et gardecorps | H35: =_xlfn.IFNA(INDEX(Settings!$P$9:$P$38,MATCH(team_member,Settings!$N$9:$N$38,0)),"") | M35: =+B21 -> 7 | N35: =IF(d.id<>"",IF(d.id<id,"↖",IF(d.id>id,"↙","")),"") -> ↖ | O35: =IFERROR("("&d.type&")"&IF(LEN(d.name)>20,LEFT(d.name,20)&"….",d.name),"") -> (T)Menuiserie métalliqu…. | R35: 3 | S35: =IFERROR(IF(ind.start<>"",ind.start,IF(ind.end<>"",plan_start_calculation,IF(d.id<>"",IF(OR(d.conn="FS",d.conn=""),fs_calculation,IF(d.conn="SS",ss_calculation,plan_start_calculation)),""))),"") -> 44679 | T35: =IFERROR(IF(ind.start<>"",plan_end_calculation,IF(ind.end<>"",ind.end,IF(d.id<>"",IF(d.conn="SF",sf_calculation,IF(d.conn="FF",ff_calculation,plan_end_calculation)),""))),"") -> 44683 | W35: 0.5 | X35: 0 | Y35: 0 | Z35: 0 | AA35: 0 | AB35: 0 | AC35: 0 | AD35: 0 | AE35: 0 | AF35: 0 | AG35: 0 | AH35: 0 | AI35: 0 | AJ35: 0 | AK35: 0 | AL35: 0 | AM35: 0 | AN35: 0 | AO35: 0 | AP35: 0 | AQ35: 0 | AR35: 0 | AS35: 0 | AT35: 0 | AU35: 0 | AV35: 0 | AW35: 0 | AX35: 0 | AY35: 0 | AZ35: 0 | BA35: 0 | BB35: 0 | BC35: 0 | BD35: 0 | BE35: 0 | BF35: 0 | BG35: 0 | BH35: 0 | BI35: 0 | BJ35: 0 | BK35: 0 | BL35: 0 | BM35: 0 | BN35: 0 | BO35: 0 | BP35: 0 | BQ35: 0 | BR35: 0 | BS35: 0 | BT35: 0 | BU35: 0 | BV35: 0 | BW35: 0 | BX35: 0 | BY35: 0 | BZ35: 0 | CA35: 0 | CB35: 0 | CC35: 0
B36: =IF(ROW(id)=ROW($B$13)+2,1,MAX(prev_col_range)+1) -> 22 | C36: =IF(type<>"",IF(ROW(stage_id)=ROW($C$13)+2,1,IF(type="S",MAX(prev_col_range)+1,MAX(prev_col_range))),-1) -> 5 | D36: =_xlfn.IFNA(IF(OR(type="T",type="M"),MATCH(role,Settings!$I$9:$I$16,0),-1),-1) -> -1 | E36: T | F36: Peinture extérieur& intérieure | H36: =_xlfn.IFNA(INDEX(Settings!$P$9:$P$38,MATCH(team_member,Settings!$N$9:$N$38,0)),"") | M36: =B105 -> 91 | N36: =IF(d.id<>"",IF(d.id<id,"↖",IF(d.id>id,"↙","")),"") -> ↙ | O36: =IFERROR("("&d.type&")"&IF(LEN(d.name)>20,LEFT(d.name,20)&"….",d.name),"") -> (T)Espaces Verts | R36: 5 | S36: =IFERROR(IF(ind.start<>"",ind.start,IF(ind.end<>"",plan_start_calculation,IF(d.id<>"",IF(OR(d.conn="FS",d.conn=""),fs_calculation,IF(d.conn="SS",ss_calculation,plan_start_calculation)),""))),"") -> 44755 | T36: =IFERROR(IF(ind.start<>"",plan_end_calculation,IF(ind.end<>"",ind.end,IF(d.id<>"",IF(d.conn="SF",sf_calculation,IF(d.conn="FF",ff_calculation,plan_end_calculation)),""))),"") -> 44761 | W36: 0 | X36: 0 | Y36: 0 | Z36: 0 | AA36: 0 | AB36: 0 | AC36: 0 | AD36: 0 | AE36: 0 | AF36: 0 | AG36: 0 | AH36: 0 | AI36: 0 | AJ36: 0 | AK36: 0 | AL36: 0 | AM36: 0 | AN36: 0 | AO36: 0 | AP36: 0 | AQ36: 0 | AR36: 0 | AS36: 0 | AT36: 0 | AU36: 0 | AV36: 0 | AW36: 0 | AX36: 0 | AY36: 0 | AZ36: 0 | BA36: 0 | BB36: 0 | BC36: 0 | BD36: 0 | BE36: 0 | BF36: 0 | BG36: 0 | BH36: 0 | BI36: 0 | BJ36: 0 | BK36: 0 | BL36: 0 | BM36: 0 | BN36: 0 | BO36: 0 | BP36: 0 | BQ36: 0 | BR36: 0 | BS36: 0 | BT36: 0 | BU36: 0 | BV36: 0 | BW36: 0 | BX36: 0 | BY36: 0 | BZ36: 0 | CA36: 0 | CB36: 0 | CC36: 0
B37: =IF(ROW(id)=ROW($B$13)+2,1,MAX(prev_col_range)+1) -> 23 | C37: =IF(type<>"",IF(ROW(stage_id)=ROW($C$13)+2,1,IF(type="S",MAX(prev_col_range)+1,MAX(prev_col_range))),-1) -> 5 | D37: =_xlfn.IFNA(IF(OR(type="T",type="M"),MATCH(role,Settings!$I$9:$I$16,0),-1),-1) -> -1 | E37: T | F37: Nettoyage et finitions | H37: =_xlfn.IFNA(INDEX(Settings!$P$9:$P$38,MATCH(team_member,Settings!$N$9:$N$38,0)),"") | M37: =+B38 -> 24 | N37: =IF(d.id<>"",IF(d.id<id,"↖",IF(d.id>id,"↙","")),"") -> ↙ | O37: =IFERROR("("&d.type&")"&IF(LEN(d.name)>20,LEFT(d.name,20)&"….",d.name),"") -> (T)Complexe d'étanchéit…. | R37: 2 | S37: =IFERROR(IF(ind.start<>"",ind.start,IF(ind.end<>"",plan_start_calculation,IF(d.id<>"",IF(OR(d.conn="FS",d.conn=""),fs_calculation,IF(d.conn="SS",ss_calculation,plan_start_calculation)),""))),"") -> 44686 | T37: =IFERROR(IF(ind.start<>"",plan_end_calculation,IF(ind.end<>"",ind.end,IF(d.id<>"",IF(d.conn="SF",sf_calculation,IF(d.conn="FF",ff_calculation,plan_end_calculation)),""))),"") -> 44687 | W37: 0 | X37: 0 | Y37: 0 | Z37: 0 | AA37: 0 | AB37: 0 | AC37: 0 | AD37: 0 | AE37: 0 | AF37: 0 | AG37: 0 | AH37: 0 | AI37: 0 | AJ37: 0 | AK37: 0 | AL37: 0 | AM37: 0 | AN37: 0 | AO37: 0 | AP37: 0 | AQ37: 0 | AR37: 0 | AS37: 0 | AT37: 0 | AU37: 0 | AV37: 0 | AW37: 0 | AX37: 0 | AY37: 0 | AZ37: 0 | BA37: 0 | BB37: 0 | BC37: 0 | BD37: 0 | BE37: 0 | BF37: 0 | BG37: 0 | BH37: 0 | BI37: 0 | BJ37: 0 | BK37: 0 | BL37: 0 | BM37: 0 | BN37: 0 | BO37: 0 | BP37: 0 | BQ37: 0 | BR37: 0 | BS37: 0 | BT37: 0 | BU37: 0 | BV37: 0 | BW37: 0 | BX37: 0 | BY37: 0 | BZ37: 0 | CA37: 0 | CB37: 0 | CC37: 0
B38: =IF(ROW(id)=ROW($B$13)+2,1,MAX(prev_col_range)+1) -> 24 | C38: =IF(type<>"",IF(ROW(stage_id)=ROW($C$13)+2,1,IF(type="S",MAX(prev_col_range)+1,MAX(prev_col_range))),-1) -> 5 | D38: =_xlfn.IFNA(IF(OR(type="T",type="M"),MATCH(role,Settings!$I$9:$I$16,0),-1),-1) -> -1 | E38: T | F38: Complexe d'étanchéité de terrasse | H38: =_xlfn.IFNA(INDEX(Settings!$P$9:$P$38,MATCH(team_member,Settings!$N$9:$N$38,0)),"") | M38: =+B22 -> 8 | N38: =IF(d.id<>"",IF(d.id<id,"↖",IF(d.id>id,"↙","")),"") -> ↖ | O38: =IFERROR("("&d.type&")"&IF(LEN(d.name)>20,LEFT(d.name,20)&"….",d.name),"") -> (T)Complexe d'étanchéit…. | R38: 3 | S38: =IFERROR(IF(ind.start<>"",ind.start,IF(ind.end<>"",plan_start_calculation,IF(d.id<>"",IF(OR(d.conn="FS",d.conn=""),fs_calculation,IF(d.conn="SS",ss_calculation,plan_start_calculation)),""))),"") -> 44683 | T38: =IFERROR(IF(ind.start<>"",plan_end_calculation,IF(ind.end<>"",ind.end,IF(d.id<>"",IF(d.conn="SF",sf_calculation,IF(d.conn="FF",ff_calculation,plan_end_calculation)),""))),"") -> 44685 | W38: 0 | X38: 0 | Y38: 0 | Z38: 0 | AA38: 0 | AB38: 0 | AC38: 0 | AD38: 0 | AE38: 0 | AF38: 0 | AG38: 0 | AH38: 0 | AI38: 0 | AJ38: 0 | AK38: 0 | AL38: 0 | AM38: 0 | AN38: 0 | AO38: 0 | AP38: 0 | AQ38: 0 | AR38: 0 | AS38: 0 | AT38: 0 | AU38: 0 | AV38: 0 | AW38: 0 | AX38: 0 | AY38: 0 | AZ38: 0 | BA38: 0 | BB38: 0 | BC38: 0 | BD38: 0 | BE38: 0 | BF38: 0 | BG38: 0 | BH38: 0 | BI38: 0 | BJ38: 0 | BK38: 0 | BL38: 0 | BM38: 0 | BN38: 0 | BO38: 0 | BP38: 0 | BQ38: 0 | BR38: 0 | BS38: 0 | BT38: 0 | BU38: 0 | BV38: 0 | BW38: 0 | BX38: 0 | BY38: 0 | BZ38: 0 | CA38: 0 | CB38: 0 | CC38: 0
B39: =IF(ROW(id)=ROW($B$13)+2,1,MAX(prev_col_range)+1) -> 25 | C39: =IF(type<>"",IF(ROW(stage_id)=ROW($C$13)+2,1,IF(type="S",MAX(prev_col_range)+1,MAX(prev_col_range))),-1) -> 6 | D39: =_xlfn.IFNA(IF(OR(type="T",type="M"),MATCH(role,Settings!$I$9:$I$16,0),-1),-1) -> -1 | E39: S | F39: Regard de Mesure de débit | H39: =_xlfn.IFNA(INDEX(Settings!$P$9:$P$38,MATCH(team_member,Settings!$N$9:$N$38,0)),"") | K39: =MIN(S40) -> 44682 | N39: =IF(d.id<>"",IF(d.id<id,"↖",IF(d.id>id,"↙","")),"") | O39: =IFERROR("("&d.type&")"&IF(LEN(d.name)>20,LEFT(d.name,20)&"….",d.name),"") | R39: =NETWORKDAYS(plan_start,MAX(T40)) -> 2 | S39: =IFERROR(IF(ind.start<>"",ind.start,IF(ind.end<>"",plan_start_calculation,IF(d.id<>"",IF(OR(d.conn="FS",d.conn=""),fs_calculation,IF(d.conn="SS",ss_calculation,plan_start_calculation)),""))),"") -> 44682 | T39: =IFERROR(IF(ind.start<>"",plan_end_calculation,IF(ind.end<>"",ind.end,IF(d.id<>"",IF(d.conn="SF",sf_calculation,IF(d.conn="FF",ff_calculation,plan_end_calculation)),""))),"") -> 44683 | W39: =SUM(W40*R40)/SUM(R40) -> 0 | X39: 0 | Y39: 0 | Z39: 0 | AA39: 0 | AB39: 0 | AC39: 0 | AD39: 0 | AE39: 0 | AF39: 0 | AG39: 0 | AH39: 0 | AI39: 0 | AJ39: 0 | AK39: 0 | AL39: 0 | AM39: 0 | AN39: 0 | AO39: 0 | AP39: 0 | AQ39: 0 | AR39: 0 | AS39: 0 | AT39: 0 | AU39: 0 | AV39: 0 | AW39: 0 | AX39: 0 | AY39: 0 | AZ39: 0 | BA39: 0 | BB39: 0 | BC39: 0 | BD39: 0 | BE39: 0 | BF39: 0 | BG39: 0 | BH39: 0 | BI39: 0 | BJ39: 0 | BK39: 0 | BL39: 0 | BM39: 0 | BN39: 0 | BO39: 0 | BP39: 0 | BQ39: 0 | BR39: 0 | BS39: 0 | BT39: 0 | BU39: 0 | BV39: 0 | BW39: 0 | BX39: 0 | BY39: 0 | BZ39: 0 | CA39: 0 | CB39: 0 | CC39: 0
B40: =IF(ROW(id)=ROW($B$13)+2,1,MAX(prev_col_range)+1) -> 26 | C40: =IF(type<>"",IF(ROW(stage_id)=ROW($C$13)+2,1,IF(type="S",MAX(prev_col_range)+1,MAX(prev_col_range))),-1) -> 6 | D40: =_xlfn.IFNA(IF(OR(type="T",type="M"),MATCH(role,Settings!$I$9:$I$16,0),-1),-1) -> -1 | E40: T | F40: Mise en place des echellons et trappes | H40: =_xlfn.IFNA(INDEX(Settings!$P$9:$P$38,MATCH(team_member,Settings!$N$9:$N$38,0)),"") | K40: 44682 | N40: =IF(d.id<>"",IF(d.id<id,"↖",IF(d.id>id,"↙","")),"") | O40: =IFERROR("("&d.type&")"&IF(LEN(d.name)>20,LEFT(d.name,20)&"….",d.name),"") | R40: 3 | S40: =IFERROR(IF(ind.start<>"",ind.start,IF(ind.end<>"",plan_start_calculation,IF(d.id<>"",IF(OR(d.conn="FS",d.conn=""),fs_calculation,IF(d.conn="SS",ss_calculation,plan_start_calculation)),""))),"") -> 44682 | T40: =IFERROR(IF(ind.start<>"",plan_end_calculation,IF(ind.end<>"",ind.end,IF(d.id<>"",IF(d.conn="SF",sf_calculation,IF(d.conn="FF",ff_calculation,plan_end_calculation)),""))),"") -> 44684 | W40: 0 | X40: 0 | Y40: 0 | Z40: 0 | AA40: 0 | AB40: 0 | AC40: 0 | AD40: 0 | AE40: 0 | AF40: 0 | AG40: 0 | AH40: 0 | AI40: 0 | AJ40: 0 | AK40: 0 | AL40: 0 | AM40: 0 | AN40: 0 | AO40: 0 | AP40: 0 | AQ40: 0 | AR40: 0 | AS40: 0 | AT40: 0 | AU40: 0 | AV40: 0 | AW40: 0 | AX40: 0 | AY40: 0 | AZ40: 0 | BA40: 0 | BB40: 0 | BC40: 0 | BD40: 0 | BE40: 0 | BF40: 0 | BG40: 0 | BH40: 0 | BI40: 0 | BJ40: 0 | BK40: 0 | BL40: 0 | BM40: 0 | BN40: 0 | BO40: 0 | BP40: 0 | BQ40: 0 | BR40: 0 | BS40: 0 | BT40: 0 | BU40: 0 | BV40: 0 | BW40: 0 | BX40: 0 | BY40: 0 | BZ40: 0 | CA40: 0 | CB40: 0 | CC40: 0
B41: =IF(ROW(id)=ROW($B$13)+2,1,MAX(prev_col_range)+1) -> 27 | C41: =IF(type<>"",IF(ROW(stage_id)=ROW($C$13)+2,1,IF(type="S",MAX(prev_col_range)+1,MAX(prev_col_range))),-1) -> 7 | D41: =_xlfn.IFNA(IF(OR(type="T",type="M"),MATCH(role,Settings!$I$9:$I$16,0),-1),-1) -> -1 | E41: S | F41: Réhabilitation Regard Monovar | H41: =_xlfn.IFNA(INDEX(Settings!$P$9:$P$38,MATCH(team_member,Settings!$N$9:$N$38,0)),"") | K41: =MIN(S42:S44) -> 44682 | N41: =IF(d.id<>"",IF(d.id<id,"↖",IF(d.id>id,"↙","")),"") | O41: =IFERROR("("&d.type&")"&IF(LEN(d.name)>20,LEFT(d.name,20)&"….",d.name),"") | R41: =NETWORKDAYS(plan_start,MAX(T42:T44)) -> 0 | S41: =IFERROR(IF(ind.start<>"",ind.start,IF(ind.end<>"",plan_start_calculation,IF(d.id<>"",IF(OR(d.conn="FS",d.conn=""),fs_calculation,IF(d.conn="SS",ss_calculation,plan_start_calculation)),""))),"") -> 44682 | T41: =IFERROR(IF(ind.start<>"",plan_end_calculation,IF(ind.end<>"",ind.end,IF(d.id<>"",IF(d.conn="SF",sf_calculation,IF(d.conn="FF",ff_calculation,plan_end_calculation)),""))),"") -> 44682 | W41: {=SUM(W42:W44*R42:R44)/SUM(R42:R44)} -> 0.5 | X41: 0 | Y41: 0 | Z41: 0 | AA41: 0 | AB41: 0 | AC41: 0 | AD41: 0 | AE41: 0 | AF41: 0 | AG41: 0 | AH41: 0 | AI41: 0 | AJ41: 0 | AK41: 0 | AL41: 0 | AM41: 0 | AN41: 0 | AO41: 0 | AP41: 0 | AQ41: 0 | AR41: 0 | AS41: 0 | AT41: 0 | AU41: 0 | AV41: 0 | AW41: 0 | AX41: 0 | AY41: 0 | AZ41: 0 | BA41: 0 | BB41: 0 | BC41: 0 | BD41: 0 | BE41: 0 | BF41: 0 | BG41: 0 | BH41: 0 | BI41: 0 | BJ41: 0 | BK41: 0 | BL41: 0 | BM41: 0 | BN41: 0 | BO41: 0 | BP41: 0 | BQ41: 0 | BR41: 0 | BS41: 0 | BT41: 0 | BU41: 0 | BV41: 0 | BW41: 0 | BX41: 0 | BY41: 0 | BZ41: 0 | CA41: 0 | CB41: 0 | CC41: 0
B42: =IF(ROW(id)=ROW($B$13)+2,1,MAX(prev_col_range)+1) -> 28 | C42: =IF(type<>"",IF(ROW(stage_id)=ROW($C$13)+2,1,IF(type="S",MAX(prev_col_range)+1,MAX(prev_col_range))),-1) -> 7 | D42: =_xlfn.IFNA(IF(OR(type="T",type="M"),MATCH(role,Settings!$I$9:$I$16,0),-1),-1) -> -1 | E42: T | F42: Fabrication vanne monovar | H42: =_xlfn.IFNA(INDEX(Settings!$P$9:$P$38,MATCH(team_member,Settings!$N$9:$N$38,0)),"") | K42: 44682 | N42: =IF(d.id<>"",IF(d.id<id,"↖",IF(d.id>id,"↙","")),"") | O42: =IFERROR("("&d.type&")"&IF(LEN(d.name)>20,LEFT(d.name,20)&"….",d.name),"") | R42: 1 | S42: =IFERROR(IF(ind.start<>"",ind.start,IF(ind.end<>"",plan_start_calculation,IF(d.id<>"",IF(OR(d.conn="FS",d.conn=""),fs_calculation,IF(d.conn="SS",ss_calculation,plan_start_calculation)),""))),"") -> 44682 | T42: =IFERROR(IF(ind.start<>"",plan_end_calculation,IF(ind.end<>"",ind.end,IF(d.id<>"",IF(d.conn="SF",sf_calculation,IF(d.conn="FF",ff_calculation,plan_end_calculation)),""))),"") -> 44682 | W42: 1 | X42: 0 | Y42: 0 | Z42: 0 | AA42: 0 | AB42: 0 | AC42: 0 | AD42: 0 | AE42: 0 | AF42: 0 | AG42: 0 | AH42: 0 | AI42: 0 | AJ42: 0 | AK42: 0 | AL42: 0 | AM42: 0 | AN42: 0 | AO42: 0 | AP42: 0 | AQ42: 0 | AR42: 0 | AS42: 0 | AT42: 0 | AU42: 0 | AV42: 0 | AW42: 0 | AX42: 0 | AY42: 0 | AZ42: 0 | BA42: 0 | BB42: 0 | BC42: 0 | BD42: 0 | BE42: 0 | BF42: 0 | BG42: 0 | BH42: 0 | BI42: 0 | BJ42: 0 | BK42: 0 | BL42: 0 | BM42: 0 | BN42: 0 | BO42: 0 | BP42: 0 | BQ42: 0 | BR42: 0 | BS42: 0 | BT42: 0 | BU42: 0 | BV42: 0 | BW42: 0 | BX42: 0 | BY42: 0 | BZ42: 0 | CA42: 0 | CB42: 0 | CC42: 0
B43: =IF(ROW(id)=ROW($B$13)+2,1,MAX(prev_col_range)+1) -> 29 | C43: =IF(type<>"",IF(ROW(stage_id)=ROW($C$13)+2,1,IF(type="S",MAX(prev_col_range)+1,MAX(prev_col_range))),-1) -> 7 | D43: =_xlfn.IFNA(IF(OR(type="T",type="M"),MATCH(role,Settings!$I$9:$I$16,0),-1),-1) -> -1 | E43: T | F43: Livraison vanne monovar | H43: =_xlfn.IFNA(INDEX(Settings!$P$9:$P$38,MATCH(team_member,Settings!$N$9:$N$38,0)),"") | N43: =IF(d.id<>"",IF(d.id<id,"↖",IF(d.id>id,"↙","")),"") | O43: =IFERROR("("&d.type&")"&IF(LEN(d.name)>20,LEFT(d.name,20)&"….",d.name),"") | R43: 1 | S43: =IFERROR(IF(ind.start<>"",ind.start,IF(ind.end<>"",plan_start_calculation,IF(d.id<>"",IF(OR(d.conn="FS",d.conn=""),fs_calculation,IF(d.conn="SS",ss_calculation,plan_start_calculation)),""))),"") | T43: =IFERROR(IF(ind.start<>"",plan_end_calculation,IF(ind.end<>"",ind.end,IF(d.id<>"",IF(d.conn="SF",sf_calculation,IF(d.conn="FF",ff_calculation,plan_end_calculation)),""))),"") | W43: 1 | X43: 0 | Y43: 0 | Z43: 0 | AA43: 0 | AB43: 0 | AC43: 0 | AD43: 0 | AE43: 0 | AF43: 0 | AG43: 0 | AH43: 0 | AI43: 0 | AJ43: 0 | AK43: 0 | AL43: 0 | AM43: 0 | AN43: 0 | AO43: 0 | AP43: 0 | AQ43: 0 | AR43: 0 | AS43: 0 | AT43: 0 | AU43: 0 | AV43: 0 | AW43: 0 | AX43: 0 | AY43: 0 | AZ43: 0 | BA43: 0 | BB43: 0 | BC43: 0 | BD43: 0 | BE43: 0 | BF43: 0 | BG43: 0 | BH43: 0 | BI43: 0 | BJ43: 0 | BK43: 0 | BL43: 0 | BM43: 0 | BN43: 0 | BO43: 0 | BP43: 0 | BQ43: 0 | BR43: 0 | BS43: 0 | BT43: 0 | BU43: 0 | BV43: 0 | BW43: 0 | BX43: 0 | BY43: 0 | BZ43: 0 | CA43: 0 | CB43: 0 | CC43: 0
B44: =IF(ROW(id)=ROW($B$13)+2,1,MAX(prev_col_range)+1) -> 30 | C44: =IF(type<>"",IF(ROW(stage_id)=ROW($C$13)+2,1,IF(type="S",MAX(prev_col_range)+1,MAX(prev_col_range))),-1) -> 7 | D44: =_xlfn.IFNA(IF(OR(type="T",type="M"),MATCH(role,Settings!$I$9:$I$16,0),-1),-1) -> -1 | E44: T | F44: Installation de la vanne | H44: =_xlfn.IFNA(INDEX(Settings!$P$9:$P$38,MATCH(team_member,Settings!$N$9:$N$38,0)),"") | J44: ! | N44: =IF(d.id<>"",IF(d.id<id,"↖",IF(d.id>id,"↙","")),"") | O44: =IFERROR("("&d.type&")"&IF(LEN(d.name)>20,LEFT(d.name,20)&"….",d.name),"") | R44: 2 | S44: =IFERROR(IF(ind.start<>"",ind.start,IF(ind.end<>"",plan_start_calculation,IF(d.id<>"",IF(OR(d.conn="FS",d.conn=""),fs_calculation,IF(d.conn="SS",ss_calculation,plan_start_calculation)),""))),"") | T44: =IFERROR(IF(ind.start<>"",plan_end_calculation,IF(ind.end<>"",ind.end,IF(d.id<>"",IF(d.conn="SF",sf_calculation,IF(d.conn="FF",ff_calculation,plan_end_calculation)),""))),"") | W44: 0 | X44: 0 | Y44: 0 | Z44: 0 | AA44: 0 | AB44: 0 | AC44: 0 | AD44: 0 | AE44: 0 | AF44: 0 | AG44: 0 | AH44: 0 | AI44: 0 | AJ44: 0 | AK44: 0 | AL44: 0 | AM44: 0 | AN44: 0 | AO44: 0 | AP44: 0 | AQ44: 0 | AR44: 0 | AS44: 0 | AT44: 0 | AU44: 0 | AV44: 0 | AW44: 0 | AX44: 0 | AY44: 0 | AZ44: 0 | BA44: 0 | BB44: 0 | BC44: 0 | BD44: 0 | BE44: 0 | BF44: 0 | BG44: 0 | BH44: 0 | BI44: 0 | BJ44: 0 | BK44: 0 | BL44: 0 | BM44: 0 | BN44: 0 | BO44: 0 | BP44: 0 | BQ44: 0 | BR44: 0 | BS44: 0 | BT44: 0 | BU44: 0 | BV44: 0 | BW44: 0 | BX44: 0 | BY44: 0 | BZ44: 0 | CA44: 0 | CB44: 0 | CC44: 0
B45: =IF(ROW(id)=ROW($B$13)+2,1,MAX(prev_col_range)+1) -> 31 | C45: =IF(type<>"",IF(ROW(stage_id)=ROW($C$13)+2,1,IF(type="S",MAX(prev_col_range)+1,MAX(prev_col_range))),-1) -> 8 | D45: =_xlfn.IFNA(IF(OR(type="T",type="M"),MATCH(role,Settings!$I$9:$I$16,0),-1),-1) -> -1 | E45: S | F45: Réhabilitation réservoir d'eau salles de lavage | H45: =_xlfn.IFNA(INDEX(Settings!$P$9:$P$38,MATCH(team_member,Settings!$N$9:$N$38,0)),"") | K45: =MIN(S46:S48) -> 44682 | N45: =IF(d.id<>"",IF(d.id<id,"↖",IF(d.id>id,"↙","")),"") | O45: =IFERROR("("&d.type&")"&IF(LEN(d.name)>20,LEFT(d.name,20)&"….",d.name),"") | R45: =NETWORKDAYS(plan_start,MAX(T46:T48)) -> 54 | S45: =IFERROR(IF(ind.start<>"",ind.start,IF(ind.end<>"",plan_start_calculation,IF(d.id<>"",IF(OR(d.conn="FS",d.conn=""),fs_calculation,IF(d.conn="SS",ss_calculation,plan_start_calculation)),""))),"") -> 44682 | T45: =IFERROR(IF(ind.start<>"",plan_end_calculation,IF(ind.end<>"",ind.end,IF(d.id<>"",IF(d.conn="SF",sf_calculation,IF(d.conn="FF",ff_calculation,plan_end_calculation)),""))),"") -> 44755 | W45: {=SUM(W46:W48*R46:R48)/SUM(R46:R48)} -> 0 | X45: 0 | Y45: 0 | Z45: 0 | AA45: 0 | AB45: 0 | AC45: 0 | AD45: 0 | AE45: 0 | AF45: 0 | AG45: 0 | AH45: 0 | AI45: 0 | AJ45: 0 | AK45: 0 | AL45: 0 | AM45: 0 | AN45: 0 | AO45: 0 | AP45: 0 | AQ45: 0 | AR45: 0 | AS45: 0 | AT45: 0 | AU45: 0 | AV45: 0 | AW45: 0 | AX45: 0 | AY45: 0 | AZ45: 0 | BA45: 0 | BB45: 0 | BC45: 0 | BD45: 0 | BE45: 0 | BF45: 0 | BG45: 0 | BH45: 0 | BI45: 0 | BJ45: 0 | BK45: 0 | BL45: 0 | BM45: 0 | BN45: 0 | BO45: 0 | BP45: 0 | BQ45: 0 | BR45: 0 | BS45: 0 | BT45: 0 | BU45: 0 | BV45: 0 | BW45: 0 | BX45: 0 | BY45: 0 | BZ45: 0 | CA45: 0 | CB45: 0 | CC45: 0
B46: =IF(ROW(id)=ROW($B$13)+2,1,MAX(prev_col_range)+1) -> 32 | C46: =IF(type<>"",IF(ROW(stage_id)=ROW($C$13)+2,1,IF(type="S",MAX(prev_col_range)+1,MAX(prev_col_range))),-1) -> 8 | D46: =_xlfn.IFNA(IF(OR(type="T",type="M"),MATCH(role,Settings!$I$9:$I$16,0),-1),-1) -> -1 | E46: T | F46: Démontage | H46: =_xlfn.IFNA(INDEX(Settings!$P$9:$P$38,MATCH(team_member,Settings!$N$9:$N$38,0)),"") | K46: 44682 | M46: =+B44 -> 30 | N46: =IF(d.id<>"",IF(d.id<id,"↖",IF(d.id>id,"↙","")),"") -> ↖ | O46: =IFERROR("("&d.type&")"&IF(LEN(d.name)>20,LEFT(d.name,20)&"….",d.name),"") -> (T)Installation de la v…. | R46: 1 | S46: =IFERROR(IF(ind.start<>"",ind.start,IF(ind.end<>"",plan_start_calculation,IF(d.id<>"",IF(OR(d.conn="FS",d.conn=""),fs_calculation,IF(d.conn="SS",ss_calculation,plan_start_calculation)),""))),"") -> 44682 | T46: =IFERROR(IF(ind.start<>"",plan_end_calculation,IF(ind.end<>"",ind.end,IF(d.id<>"",IF(d.conn="SF",sf_calculation,IF(d.conn="FF",ff_calculation,plan_end_calculation)),""))),"") -> 44682 | W46: 0 | X46: 0 | Y46: 0 | Z46: 0 | AA46: 0 | AB46: 0 | AC46: 0 | AD46: 0 | AE46: 0 | AF46: 0 | AG46: 0 | AH46: 0 | AI46: 0 | AJ46: 0 | AK46: 0 | AL46: 0 | AM46: 0 | AN46: 0 | AO46: 0 | AP46: 0 | AQ46: 0 | AR46: 0 | AS46: 0 | AT46: 0 | AU46: 0 | AV46: 0 | AW46: 0 | AX46: 0 | AY46: 0 | AZ46: 0 | BA46: 0 | BB46: 0 | BC46: 0 | BD46: 0 | BE46: 0 | BF46: 0 | BG46: 0 | BH46: 0 | BI46: 0 | BJ46: 0 | BK46: 0 | BL46: 0 | BM46: 0 | BN46: 0 | BO46: 0 | BP46: 0 | BQ46: 0 | BR46: 0 | BS46: 0 | BT46: 0 | BU46: 0 | BV46: 0 | BW46: 0 | BX46: 0 | BY46: 0 | BZ46: 0 | CA46: 0 | CB46: 0 | CC46: 0
B47: =IF(ROW(id)=ROW($B$13)+2,1,MAX(prev_col_range)+1) -> 33 | C47: =IF(type<>"",IF(ROW(stage_id)=ROW($C$13)+2,1,IF(type="S",MAX(prev_col_range)+1,MAX(prev_col_range))),-1) -> 8 | D47: =_xlfn.IFNA(IF(OR(type="T",type="M"),MATCH(role,Settings!$I$9:$I$16,0),-1),-1) -> -1 | E47: T | F47: Montage | H47: =_xlfn.IFNA(INDEX(Settings!$P$9:$P$38,MATCH(team_member,Settings!$N$9:$N$38,0)),"") | M47: =+B46 -> 32 | N47: =IF(d.id<>"",IF(d.id<id,"↖",IF(d.id>id,"↙","")),"") -> ↖ | O47: =IFERROR("("&d.type&")"&IF(LEN(d.name)>20,LEFT(d.name,20)&"….",d.name),"") -> (T)Démontage | R47: 1 | S47: =IFERROR(IF(ind.start<>"",ind.start,IF(ind.end<>"",plan_start_calculation,IF(d.id<>"",IF(OR(d.conn="FS",d.conn=""),fs_calculation,IF(d.conn="SS",ss_calculation,plan_start_calculation)),""))),"") -> 44683 | T47: =IFERROR(IF(ind.start<>"",plan_end_calculation,IF(ind.end<>"",ind.end,IF(d.id<>"",IF(d.conn="SF",sf_calculation,IF(d.conn="FF",ff_calculation,plan_end_calculation)),""))),"") -> 44683 | W47: 0 | X47: 0 | Y47: 0 | Z47: 0 | AA47: 0 | AB47: 0 | AC47: 0 | AD47: 0 | AE47: 0 | AF47: 0 | AG47: 0 | AH47: 0 | AI47: 0 | AJ47: 0 | AK47: 0 | AL47: 0 | AM47: 0 | AN47: 0 | AO47: 0 | AP47: 0 | AQ47: 0 | AR47: 0 | AS47: 0 | AT47: 0 | AU47: 0 | AV47: 0 | AW47: 0 | AX47: 0 | AY47: 0 | AZ47: 0 | BA47: 0 | BB47: 0 | BC47: 0 | BD47: 0 | BE47: 0 | BF47: 0 | BG47: 0 | BH47: 0 | BI47: 0 | BJ47: 0 | BK47: 0 | BL47: 0 | BM47: 0 | BN47: 0 | BO47: 0 | BP47: 0 | BQ47: 0 | BR47: 0 | BS47: 0 | BT47: 0 | BU47: 0 | BV47: 0 | BW47: 0 | BX47: 0 | BY47: 0 | BZ47: 0 | CA47: 0 | CB47: 0 | CC47: 0
B48: =IF(ROW(id)=ROW($B$13)+2,1,MAX(prev_col_range)+1) -> 34 | C48: =IF(type<>"",IF(ROW(stage_id)=ROW($C$13)+2,1,IF(type="S",MAX(prev_col_range)+1,MAX(prev_col_range))),-1) -> 8 | D48: =_xlfn.IFNA(IF(OR(type="T",type="M"),MATCH(role,Settings!$I$9:$I$16,0),-1),-1) -> -1 | E48: T | F48: Peinture sur surfaces extérieures | H48: =_xlfn.IFNA(INDEX(Settings!$P$9:$P$38,MATCH(team_member,Settings!$N$9:$N$38,0)),"") | M48: =B105 -> 91 | N48: =IF(d.id<>"",IF(d.id<id,"↖",IF(d.id>id,"↙","")),"") -> ↙ | O48: =IFERROR("("&d.type&")"&IF(LEN(d.name)>20,LEFT(d.name,20)&"….",d.name),"") -> (T)Espaces Verts | R48: 2 | S48: =IFERROR(IF(ind.start<>"",ind.start,IF(ind.end<>"",plan_start_calculation,IF(d.id<>"",IF(OR(d.conn="FS",d.conn=""),fs_calculation,IF(d.conn="SS",ss_calculation,plan_start_calculation)),""))),"") -> 44755 | T48: =IFERROR(IF(ind.start<>"",plan_end_calculation,IF(ind.end<>"",ind.end,IF(d.id<>"",IF(d.conn="SF",sf_calculation,IF(d.conn="FF",ff_calculation,plan_end_calculation)),""))),"") -> 44756 | W48: 0 | X48: 0 | Y48: 0 | Z48: 0 | AA48: 0 | AB48: 0 | AC48: 0 | AD48: 0 | AE48: 0 | AF48: 0 | AG48: 0 | AH48: 0 | AI48: 0 | AJ48: 0 | AK48: 0 | AL48: 0 | AM48: 0 | AN48: 0 | AO48: 0 | AP48: 0 | AQ48: 0 | AR48: 0 | AS48: 0 | AT48: 0 | AU48: 0 | AV48: 0 | AW48: 0 | AX48: 0 | AY48: 0 | AZ48: 0 | BA48: 0 | BB48: 0 | BC48: 0 | BD48: 0 | BE48: 0 | BF48: 0 | BG48: 0 | BH48: 0 | BI48: 0 | BJ48: 0 | BK48: 0 | BL48: 0 | BM48: 0 | BN48: 0 | BO48: 0 | BP48: 0 | BQ48: 0 | BR48: 0 | BS48: 0 | BT48: 0 | BU48: 0 | BV48: 0 | BW48: 0 | BX48: 0 | BY48: 0 | BZ48: 0 | CA48: 0 | CB48: 0 | CC48: 0
B49: =IF(ROW(id)=ROW($B$13)+2,1,MAX(prev_col_range)+1) -> 35 | C49: =IF(type<>"",IF(ROW(stage_id)=ROW($C$13)+2,1,IF(type="S",MAX(prev_col_range)+1,MAX(prev_col_range))),-1) -> 9 | D49: =_xlfn.IFNA(IF(OR(type="T",type="M"),MATCH(role,Settings!$I$9:$I$16,0),-1),-1) -> -1 | E49: S | F49: Réhabilitation Réservoir des boues | H49: =_xlfn.IFNA(INDEX(Settings!$P$9:$P$38,MATCH(team_member,Settings!$N$9:$N$38,0)),"") | K49: =MIN(S50:S52) -> 44682 | N49: =IF(d.id<>"",IF(d.id<id,"↖",IF(d.id>id,"↙","")),"") | O49: =IFERROR("("&d.type&")"&IF(LEN(d.name)>20,LEFT(d.name,20)&"….",d.name),"") | R49: =NETWORKDAYS(plan_start,MAX(T50:T52)) -> 54 | S49: =IFERROR(IF(ind.start<>"",ind.start,IF(ind.end<>"",plan_start_calculation,IF(d.id<>"",IF(OR(d.conn="FS",d.conn=""),fs_calculation,IF(d.conn="SS",ss_calculation,plan_start_calculation)),""))),"") -> 44682 | T49: =IFERROR(IF(ind.start<>"",plan_end_calculation,IF(ind.end<>"",ind.end,IF(d.id<>"",IF(d.conn="SF",sf_calculation,IF(d.conn="FF",ff_calculation,plan_end_calculation)),""))),"") -> 44755 | W49: {=SUM(W50:W52*R50:R52)/SUM(R50:R52)} -> 0 | X49: 0 | Y49: 0 | Z49: 0 | AA49: 0 | AB49: 0 | AC49: 0 | AD49: 0 | AE49: 0 | AF49: 0 | AG49: 0 | AH49: 0 | AI49: 0 | AJ49: 0 | AK49: 0 | AL49: 0 | AM49: 0 | AN49: 0 | AO49: 0 | AP49: 0 | AQ49: 0 | AR49: 0 | AS49: 0 | AT49: 0 | AU49: 0 | AV49: 0 | AW49: 0 | AX49: 0 | AY49: 0 | AZ49: 0 | BA49: 0 | BB49: 0 | BC49: 0 | BD49: 0 | BE49: 0 | BF49: 0 | BG49: 0 | BH49: 0 | BI49: 0 | BJ49: 0 | BK49: 0 | BL49: 0 | BM49: 0 | BN49: 0 | BO49: 0 | BP49: 0 | BQ49: 0 | BR49: 0 | BS49: 0 | BT49: 0 | BU49: 0 | BV49: 0 | BW49: 0 | BX49: 0 | BY49: 0 | BZ49: 0 | CA49: 0 | CB49: 0 | CC49: 0
B50: =IF(ROW(id)=ROW($B$13)+2,1,MAX(prev_col_range)+1) -> 36 | C50: =IF(type<>"",IF(ROW(stage_id)=ROW($C$13)+2,1,IF(type="S",MAX(prev_col_range)+1,MAX(prev_col_range))),-1) -> 9 | D50: =_xlfn.IFNA(IF(OR(type="T",type="M"),MATCH(role,Settings!$I$9:$I$16,0),-1),-1) -> -1 | E50: T | F50: Démontage | H50: =_xlfn.IFNA(INDEX(Settings!$P$9:$P$38,MATCH(team_member,Settings!$N$9:$N$38,0)),"") | K50: 44682 | M50: =+B46 -> 32 | N50: =IF(d.id<>"",IF(d.id<id,"↖",IF(d.id>id,"↙","")),"") -> ↖ | O50: =IFERROR("("&d.type&")"&IF(LEN(d.name)>20,LEFT(d.name,20)&"….",d.name),"") -> (T)Démontage | R50: 1 | S50: =IFERROR(IF(ind.start<>"",ind.start,IF(ind.end<>"",plan_start_calculation,IF(d.id<>"",IF(OR(d.conn="FS",d.conn=""),fs_calculation,IF(d.conn="SS",ss_calculation,plan_start_calculation)),""))),"") -> 44682 | T50: =IFERROR(IF(ind.start<>"",plan_end_calculation,IF(ind.end<>"",ind.end,IF(d.id<>"",IF(d.conn="SF",sf_calculation,IF(d.conn="FF",ff_calculation,plan_end_calculation)),""))),"") -> 44682 | W50: 0 | X50: 0 | Y50: 0 | Z50: 0 | AA50: 0 | AB50: 0 | AC50: 0 | AD50: 0 | AE50: 0 | AF50: 0 | AG50: 0 | AH50: 0 | AI50: 0 | AJ50: 0 | AK50: 0 | AL50: 0 | AM50: 0 | AN50: 0 | AO50: 0 | AP50: 0 | AQ50: 0 | AR50: 0 | AS50: 0 | AT50: 0 | AU50: 0 | AV50: 0 | AW50: 0 | AX50: 0 | AY50: 0 | AZ50: 0 | BA50: 0 | BB50: 0 | BC50: 0 | BD50: 0 | BE50: 0 | BF50: 0 | BG50: 0 | BH50: 0 | BI50: 0 | BJ50: 0 | BK50: 0 | BL50: 0 | BM50: 0 | BN50: 0 | BO50: 0 | BP50: 0 | BQ50: 0 | BR50: 0 | BS50: 0 | BT50: 0 | BU50: 0 | BV50: 0 | BW50: 0 | BX50: 0 | BY50: 0 | BZ50: 0 | CA50: 0 | CB50: 0 | CC50: 0
B51: =IF(ROW(id)=ROW($B$13)+2,1,MAX(prev_col_range)+1) -> 37 | C51: =IF(type<>"",IF(ROW(stage_id)=ROW($C$13)+2,1,IF(type="S",MAX(prev_col_range)+1,MAX(prev_col_range))),-1) -> 9 | D51: =_xlfn.IFNA(IF(OR(type="T",type="M"),MATCH(role,Settings!$I$9:$I$16,0),-1),-1) -> -1 | E51: T | F51: Montage | H51: =_xlfn.IFNA(INDEX(Settings!$P$9:$P$38,MATCH(team_member,Settings!$N$9:$N$38,0)),"") | M51: =+B60 -> 46 | N51: =IF(d.id<>"",IF(d.id<id,"↖",IF(d.id>id,"↙","")),"") -> ↙ | O51: =IFERROR("("&d.type&")"&IF(LEN(d.name)>20,LEFT(d.name,20)&"….",d.name),"") -> (T)Démontage | R51: 1 | S51: =IFERROR(IF(ind.start<>"",ind.start,IF(ind.end<>"",plan_start_calculation,IF(d.id<>"",IF(OR(d.conn="FS",d.conn=""),fs_calculation,IF(d.conn="SS",ss_calculation,plan_start_calculation)),""))),"") -> 44683 | T51: =IFERROR(IF(ind.start<>"",plan_end_calculation,IF(ind.end<>"",ind.end,IF(d.id<>"",IF(d.conn="SF",sf_calculation,IF(d.conn="FF",ff_calculation,plan_end_calculation)),""))),"") -> 44683 | W51: 0 | X51: 0 | Y51: 0 | Z51: 0 | AA51: 0 | AB51: 0 | AC51: 0 | AD51: 0 | AE51: 0 | AF51: 0 | AG51: 0 | AH51: 0 | AI51: 0 | AJ51: 0 | AK51: 0 | AL51: 0 | AM51: 0 | AN51: 0 | AO51: 0 | AP51: 0 | AQ51: 0 | AR51: 0 | AS51: 0 | AT51: 0 | AU51: 0 | AV51: 0 | AW51: 0 | AX51: 0 | AY51: 0 | AZ51: 0 | BA51: 0 | BB51: 0 | BC51: 0 | BD51: 0 | BE51: 0 | BF51: 0 | BG51: 0 | BH51: 0 | BI51: 0 | BJ51: 0 | BK51: 0 | BL51: 0 | BM51: 0 | BN51: 0 | BO51: 0 | BP51: 0 | BQ51: 0 | BR51: 0 | BS51: 0 | BT51: 0 | BU51: 0 | BV51: 0 | BW51: 0 | BX51: 0 | BY51: 0 | BZ51: 0 | CA51: 0 | CB51: 0 | CC51: 0
B52: =IF(ROW(id)=ROW($B$13)+2,1,MAX(prev_col_range)+1) -> 38 | C52: =IF(type<>"",IF(ROW(stage_id)=ROW($C$13)+2,1,IF(type="S",MAX(prev_col_range)+1,MAX(prev_col_range))),-1) -> 9 | D52: =_xlfn.IFNA(IF(OR(type="T",type="M"),MATCH(role,Settings!$I$9:$I$16,0),-1),-1) -> -1 | E52: T | F52: Peinture sur surfaces extérieures | H52: =_xlfn.IFNA(INDEX(Settings!$P$9:$P$38,MATCH(team_member,Settings!$N$9:$N$38,0)),"") | M52: =+B105 -> 91 | N52: =IF(d.id<>"",IF(d.id<id,"↖",IF(d.id>id,"↙","")),"") -> ↙ | O52: =IFERROR("("&d.type&")"&IF(LEN(d.name)>20,LEFT(d.name,20)&"….",d.name),"") -> (T)Espaces Verts | R52: 2 | S52: =IFERROR(IF(ind.start<>"",ind.start,IF(ind.end<>"",plan_start_calculation,IF(d.id<>"",IF(OR(d.conn="FS",d.conn=""),fs_calculation,IF(d.conn="SS",ss_calculation,plan_start_calculation)),""))),"") -> 44755 | T52: =IFERROR(IF(ind.start<>"",plan_end_calculation,IF(ind.end<>"",ind.end,IF(d.id<>"",IF(d.conn="SF",sf_calculation,IF(d.conn="FF",ff_calculation,plan_end_calculation)),""))),"") -> 44756 | W52: 0 | X52: 0 | Y52: 0 | Z52: 0 | AA52: 0 | AB52: 0 | AC52: 0 | AD52: 0 | AE52: 0 | AF52: 0 | AG52: 0 | AH52: 0 | AI52: 0 | AJ52: 0 | AK52: 0 | AL52: 0 | AM52: 0 | AN52: 0 | AO52: 0 | AP52: 0 | AQ52: 0 | AR52: 0 | AS52: 0 | AT52: 0 | AU52: 0 | AV52: 0 | AW52: 0 | AX52: 0 | AY52: 0 | AZ52: 0 | BA52: 0 | BB52: 0 | BC52: 0 | BD52: 0 | BE52: 0 | BF52: 0 | BG52: 0 | BH52: 0 | BI52: 0 | BJ52: 0 | BK52: 0 | BL52: 0 | BM52: 0 | BN52: 0 | BO52: 0 | BP52: 0 | BQ52: 0 | BR52: 0 | BS52: 0 | BT52: 0 | BU52: 0 | BV52: 0 | BW52: 0 | BX52: 0 | BY52: 0 | BZ52: 0 | CA52: 0 | CB52: 0 | CC52: 0
B53: =IF(ROW(id)=ROW($B$13)+2,1,MAX(prev_col_range)+1) -> 39 | C53: =IF(type<>"",IF(ROW(stage_id)=ROW($C$13)+2,1,IF(type="S",MAX(prev_col_range)+1,MAX(prev_col_range))),-1) -> 10 | D53: =_xlfn.IFNA(IF(OR(type="T",type="M"),MATCH(role,Settings!$I$9:$I$16,0),-1),-1) -> -1 | E53: S | F53: Réhabilitation Epaississeur des boues | H53: =_xlfn.IFNA(INDEX(Settings!$P$9:$P$38,MATCH(team_member,Settings!$N$9:$N$38,0)),"") | K53: =MIN(S54:S58) -> 44682 | N53: =IF(d.id<>"",IF(d.id<id,"↖",IF(d.id>id,"↙","")),"") | O53: =IFERROR("("&d.type&")"&IF(LEN(d.name)>20,LEFT(d.name,20)&"….",d.name),"") | R53: =NETWORKDAYS(plan_start,MAX(T54:T58)) -> 54 | S53: =IFERROR(IF(ind.start<>"",ind.start,IF(ind.end<>"",plan_start_calculation,IF(d.id<>"",IF(OR(d.conn="FS",d.conn=""),fs_calculation,IF(d.conn="SS",ss_calculation,plan_start_calculation)),""))),"") -> 44682 | T53: =IFERROR(IF(ind.start<>"",plan_end_calculation,IF(ind.end<>"",ind.end,IF(d.id<>"",IF(d.conn="SF",sf_calculation,IF(d.conn="FF",ff_calculation,plan_end_calculation)),""))),"") -> 44755 | W53: {=SUM(W54:W58*R54:R58)/SUM(R54:R58)} -> 0 | X53: 0 | Y53: 0 | Z53: 0 | AA53: 0 | AB53: 0 | AC53: 0 | AD53: 0 | AE53: 0 | AF53: 0 | AG53: 0 | AH53: 0 | AI53: 0 | AJ53: 0 | AK53: 0 | AL53: 0 | AM53: 0 | AN53: 0 | AO53: 0 | AP53: 0 | AQ53: 0 | AR53: 0 | AS53: 0 | AT53: 0 | AU53: 0 | AV53: 0 | AW53: 0 | AX53: 0 | AY53: 0 | AZ53: 0 | BA53: 0 | BB53: 0 | BC53: 0 | BD53: 0 | BE53: 0 | BF53: 0 | BG53: 0 | BH53: 0 | BI53: 0 | BJ53: 0 | BK53: 0 | BL53: 0 | BM53: 0 | BN53: 0 | BO53: 0 | BP53: 0 | BQ53: 0 | BR53: 0 | BS53: 0 | BT53: 0 | BU53: 0 | BV53: 0 | BW53: 0 | BX53: 0 | BY53: 0 | BZ53: 0 | CA53: 0 | CB53: 0 | CC53: 0
B54: =IF(ROW(id)=ROW($B$13)+2,1,MAX(prev_col_range)+1) -> 40 | C54: =IF(type<>"",IF(ROW(stage_id)=ROW($C$13)+2,1,IF(type="S",MAX(prev_col_range)+1,MAX(prev_col_range))),-1) -> 10 | D54: =_xlfn.IFNA(IF(OR(type="T",type="M"),MATCH(role,Settings!$I$9:$I$16,0),-1),-1) -> -1 | E54: T | F54: Démontage | H54: =_xlfn.IFNA(INDEX(Settings!$P$9:$P$38,MATCH(team_member,Settings!$N$9:$N$38,0)),"") | K54: 44682 | M54: =+B50 -> 36 | N54: =IF(d.id<>"",IF(d.id<id,"↖",IF(d.id>id,"↙","")),"") -> ↖ | O54: =IFERROR("("&d.type&")"&IF(LEN(d.name)>20,LEFT(d.name,20)&"….",d.name),"") -> (T)Démontage | R54: 1 | S54: =IFERROR(IF(ind.start<>"",ind.start,IF(ind.end<>"",plan_start_calculation,IF(d.id<>"",IF(OR(d.conn="FS",d.conn=""),fs_calculation,IF(d.conn="SS",ss_calculation,plan_start_calculation)),""))),"") -> 44682 | T54: =IFERROR(IF(ind.start<>"",plan_end_calculation,IF(ind.end<>"",ind.end,IF(d.id<>"",IF(d.conn="SF",sf_calculation,IF(d.conn="FF",ff_calculation,plan_end_calculation)),""))),"") -> 44682 | W54: 0 | X54: 0 | Y54: 0 | Z54: 0 | AA54: 0 | AB54: 0 | AC54: 0 | AD54: 0 | AE54: 0 | AF54: 0 | AG54: 0 | AH54: 0 | AI54: 0 | AJ54: 0 | AK54: 0 | AL54: 0 | AM54: 0 | AN54: 0 | AO54: 0 | AP54: 0 | AQ54: 0 | AR54: 0 | AS54: 0 | AT54: 0 | AU54: 0 | AV54: 0 | AW54: 0 | AX54: 0 | AY54: 0 | AZ54: 0 | BA54: 0 | BB54: 0 | BC54: 0 | BD54: 0 | BE54: 0 | BF54: 0 | BG54: 0 | BH54: 0 | BI54: 0 | BJ54: 0 | BK54: 0 | BL54: 0 | BM54: 0 | BN54: 0 | BO54: 0 | BP54: 0 | BQ54: 0 | BR54: 0 | BS54: 0 | BT54: 0 | BU54: 0 | BV54: 0 | BW54: 0 | BX54: 0 | BY54: 0 | BZ54: 0 | CA54: 0 | CB54: 0 | CC54: 0
B55: =IF(ROW(id)=ROW($B$13)+2,1,MAX(prev_col_range)+1) -> 41 | C55: =IF(type<>"",IF(ROW(stage_id)=ROW($C$13)+2,1,IF(type="S",MAX(prev_col_range)+1,MAX(prev_col_range))),-1) -> 10 | D55: =_xlfn.IFNA(IF(OR(type="T",type="M"),MATCH(role,Settings!$I$9:$I$16,0),-1),-1) -> -1 | E55: T | F55: Montage | H55: =_xlfn.IFNA(INDEX(Settings!$P$9:$P$38,MATCH(team_member,Settings!$N$9:$N$38,0)),"") | M55: =+B54 -> 40 | N55: =IF(d.id<>"",IF(d.id<id,"↖",IF(d.id>id,"↙","")),"") -> ↖ | O55: =IFERROR("("&d.type&")"&IF(LEN(d.name)>20,LEFT(d.name,20)&"….",d.name),"") -> (T)Démontage | R55: 1 | S55: =IFERROR(IF(ind.start<>"",ind.start,IF(ind.end<>"",plan_start_calculation,IF(d.id<>"",IF(OR(d.conn="FS",d.conn=""),fs_calculation,IF(d.conn="SS",ss_calculation,plan_start_calculation)),""))),"") -> 44683 | T55: =IFERROR(IF(ind.start<>"",plan_end_calculation,IF(ind.end<>"",ind.end,IF(d.id<>"",IF(d.conn="SF",sf_calculation,IF(d.conn="FF",ff_calculation,plan_end_calculation)),""))),"") -> 44683 | W55: 0 | X55: 0 | Y55: 0 | Z55: 0 | AA55: 0 | AB55: 0 | AC55: 0 | AD55: 0 | AE55: 0 | AF55: 0 | AG55: 0 | AH55: 0 | AI55: 0 | AJ55: 0 | AK55: 0 | AL55: 0 | AM55: 0 | AN55: 0 | AO55: 0 | AP55: 0 | AQ55: 0 | AR55: 0 | AS55: 0 | AT55: 0 | AU55: 0 | AV55: 0 | AW55: 0 | AX55: 0 | AY55: 0 | AZ55: 0 | BA55: 0 | BB55: 0 | BC55: 0 | BD55: 0 | BE55: 0 | BF55: 0 | BG55: 0 | BH55: 0 | BI55: 0 | BJ55: 0 | BK55: 0 | BL55: 0 | BM55: 0 | BN55: 0 | BO55: 0 | BP55: 0 | BQ55: 0 | BR55: 0 | BS55: 0 | BT55: 0 | BU55: 0 | BV55: 0 | BW55: 0 | BX55: 0 | BY55: 0 | BZ55: 0 | CA55: 0 | CB55: 0 | CC55: 0
B56: =IF(ROW(id)=ROW($B$13)+2,1,MAX(prev_col_range)+1) -> 42 | C56: =IF(type<>"",IF(ROW(stage_id)=ROW($C$13)+2,1,IF(type="S",MAX(prev_col_range)+1,MAX(prev_col_range))),-1) -> 10 | D56: =_xlfn.IFNA(IF(OR(type="T",type="M"),MATCH(role,Settings!$I$9:$I$16,0),-1),-1) -> -1 | E56: T | F56: Peinture sur surfaces extérieures | H56: =_xlfn.IFNA(INDEX(Settings!$P$9:$P$38,MATCH(team_member,Settings!$N$9:$N$38,0)),"") | M56: =+B105 -> 91 | N56: =IF(d.id<>"",IF(d.id<id,"↖",IF(d.id>id,"↙","")),"") -> ↙ | O56: =IFERROR("("&d.type&")"&IF(LEN(d.name)>20,LEFT(d.name,20)&"….",d.name),"") -> (T)Espaces Verts | R56: 2 | S56: =IFERROR(IF(ind.start<>"",ind.start,IF(ind.end<>"",plan_start_calculation,IF(d.id<>"",IF(OR(d.conn="FS",d.conn=""),fs_calculation,IF(d.conn="SS",ss_calculation,plan_start_calculation)),""))),"") -> 44755 | T56: =IFERROR(IF(ind.start<>"",plan_end_calculation,IF(ind.end<>"",ind.end,IF(d.id<>"",IF(d.conn="SF",sf_calculation,IF(d.conn="FF",ff_calculation,plan_end_calculation)),""))),"") -> 44756 | W56: 0 | X56: 0 | Y56: 0 | Z56: 0 | AA56: 0 | AB56: 0 | AC56: 0 | AD56: 0 | AE56: 0 | AF56: 0 | AG56: 0 | AH56: 0 | AI56: 0 | AJ56: 0 | AK56: 0 | AL56: 0 | AM56: 0 | AN56: 0 | AO56: 0 | AP56: 0 | AQ56: 0 | AR56: 0 | AS56: 0 | AT56: 0 | AU56: 0 | AV56: 0 | AW56: 0 | AX56: 0 | AY56: 0 | AZ56: 0 | BA56: 0 | BB56: 0 | BC56: 0 | BD56: 0 | BE56: 0 | BF56: 0 | BG56: 0 | BH56: 0 | BI56: 0 | BJ56: 0 | BK56: 0 | BL56: 0 | BM56: 0 | BN56: 0 | BO56: 0 | BP56: 0 | BQ56: 0 | BR56: 0 | BS56: 0 | BT56: 0 | BU56: 0 | BV56: 0 | BW56: 0 | BX56: 0 | BY56: 0 | BZ56: 0 | CA56: 0 | CB56: 0 | CC56: 0
B57: =IF(ROW(id)=ROW($B$13)+2,1,MAX(prev_col_range)+1) -> 43 | C57: =IF(type<>"",IF(ROW(stage_id)=ROW($C$13)+2,1,IF(type="S",MAX(prev_col_range)+1,MAX(prev_col_range))),-1) -> 10 | D57: =_xlfn.IFNA(IF(OR(type="T",type="M"),MATCH(role,Settings!$I$9:$I$16,0),-1),-1) -> -1 | E57: T | F57: Pourtour en béton 10 cm et 1,0 m de largeur | H57: =_xlfn.IFNA(INDEX(Settings!$P$9:$P$38,MATCH(team_member,Settings!$N$9:$N$38,0)),"") | M57: =+B55 -> 41 | N57: =IF(d.id<>"",IF(d.id<id,"↖",IF(d.id>id,"↙","")),"") -> ↖ | O57: =IFERROR("("&d.type&")"&IF(LEN(d.name)>20,LEFT(d.name,20)&"….",d.name),"") -> (T)Montage | R57: 2 | S57: =IFERROR(IF(ind.start<>"",ind.start,IF(ind.end<>"",plan_start_calculation,IF(d.id<>"",IF(OR(d.conn="FS",d.conn=""),fs_calculation,IF(d.conn="SS",ss_calculation,plan_start_calculation)),""))),"") -> 44684 | T57: =IFERROR(IF(ind.start<>"",plan_end_calculation,IF(ind.end<>"",ind.end,IF(d.id<>"",IF(d.conn="SF",sf_calculation,IF(d.conn="FF",ff_calculation,plan_end_calculation)),""))),"") -> 44685 | W57: 0 | X57: 0 | Y57: 0 | Z57: 0 | AA57: 0 | AB57: 0 | AC57: 0 | AD57: 0 | AE57: 0 | AF57: 0 | AG57: 0 | AH57: 0 | AI57: 0 | AJ57: 0 | AK57: 0 | AL57: 0 | AM57: 0 | AN57: 0 | AO57: 0 | AP57: 0 | AQ57: 0 | AR57: 0 | AS57: 0 | AT57: 0 | AU57: 0 | AV57: 0 | AW57: 0 | AX57: 0 | AY57: 0 | AZ57: 0 | BA57: 0 | BB57: 0 | BC57: 0 | BD57: 0 | BE57: 0 | BF57: 0 | BG57: 0 | BH57: 0 | BI57: 0 | BJ57: 0 | BK57: 0 | BL57: 0 | BM57: 0 | BN57: 0 | BO57: 0 | BP57: 0 | BQ57: 0 | BR57: 0 | BS57: 0 | BT57: 0 | BU57: 0 | BV57: 0 | BW57: 0 | BX57: 0 | BY57: 0 | BZ57: 0 | CA57: 0 | CB57: 0 | CC57: 0
B58: =IF(ROW(id)=ROW($B$13)+2,1,MAX(prev_col_range)+1) -> 44 | C58: =IF(type<>"",IF(ROW(stage_id)=ROW($C$13)+2,1,IF(type="S",MAX(prev_col_range)+1,MAX(prev_col_range))),-1) -> 10 | D58: =_xlfn.IFNA(IF(OR(type="T",type="M"),MATCH(role,Settings!$I$9:$I$16,0),-1),-1) -> -1 | E58: T | F58: Regard de visite | H58: =_xlfn.IFNA(INDEX(Settings!$P$9:$P$38,MATCH(team_member,Settings!$N$9:$N$38,0)),"") | M58: =+B57 -> 43 | N58: =IF(d.id<>"",IF(d.id<id,"↖",IF(d.id>id,"↙","")),"") -> ↖ | O58: =IFERROR("("&d.type&")"&IF(LEN(d.name)>20,LEFT(d.name,20)&"….",d.name),"") -> (T)Pourtour en béton 10…. | R58: 3 | S58: =IFERROR(IF(ind.start<>"",ind.start,IF(ind.end<>"",plan_start_calculation,IF(d.id<>"",IF(OR(d.conn="FS",d.conn=""),fs_calculation,IF(d.conn="SS",ss_calculation,plan_start_calculation)),""))),"") -> 44686 | T58: =IFERROR(IF(ind.start<>"",plan_end_calculation,IF(ind.end<>"",ind.end,IF(d.id<>"",IF(d.conn="SF",sf_calculation,IF(d.conn="FF",ff_calculation,plan_end_calculation)),""))),"") -> 44690 | W58: 0 | X58: 0 | Y58: 0 | Z58: 0 | AA58: 0 | AB58: 0 | AC58: 0 | AD58: 0 | AE58: 0 | AF58: 0 | AG58: 0 | AH58: 0 | AI58: 0 | AJ58: 0 | AK58: 0 | AL58: 0 | AM58: 0 | AN58: 0 | AO58: 0 | AP58: 0 | AQ58: 0 | AR58: 0 | AS58: 0 | AT58: 0 | AU58: 0 | AV58: 0 | AW58: 0 | AX58: 0 | AY58: 0 | AZ58: 0 | BA58: 0 | BB58: 0 | BC58: 0 | BD58: 0 | BE58: 0 | BF58: 0 | BG58: 0 | BH58: 0 | BI58: 0 | BJ58: 0 | BK58: 0 | BL58: 0 | BM58: 0 | BN58: 0 | BO58: 0 | BP58: 0 | BQ58: 0 | BR58: 0 | BS58: 0 | BT58: 0 | BU58: 0 | BV58: 0 | BW58: 0 | BX58: 0 | BY58: 0 | BZ58: 0 | CA58: 0 | CB58: 0 | CC58: 0
B59: =IF(ROW(id)=ROW($B$13)+2,1,MAX(prev_col_range)+1) -> 45 | C59: =IF(type<>"",IF(ROW(stage_id)=ROW($C$13)+2,1,IF(type="S",MAX(prev_col_range)+1,MAX(prev_col_range))),-1) -> 11 | D59: =_xlfn.IFNA(IF(OR(type="T",type="M"),MATCH(role,Settings!$I$9:$I$16,0),-1),-1) -> -1 | E59: S | F59: Réhabilitation Deshydratation des boues | H59: =_xlfn.IFNA(INDEX(Settings!$P$9:$P$38,MATCH(team_member,Settings!$N$9:$N$38,0)),"") | K59: =MIN(S60:S66) -> 44679 | N59: =IF(d.id<>"",IF(d.id<id,"↖",IF(d.id>id,"↙","")),"") | O59: =IFERROR("("&d.type&")"&IF(LEN(d.name)>20,LEFT(d.name,20)&"….",d.name),"") | R59: =NETWORKDAYS(plan_start,MAX(T60:T66)) -> 62 | S59: =IFERROR(IF(ind.start<>"",ind.start,IF(ind.end<>"",plan_start_calculation,IF(d.id<>"",IF(OR(d.conn="FS",d.conn=""),fs_calculation,IF(d.conn="SS",ss_calculation,plan_start_calculation)),""))),"") -> 44679 | T59: =IFERROR(IF(ind.start<>"",plan_end_calculation,IF(ind.end<>"",ind.end,IF(d.id<>"",IF(d.conn="SF",sf_calculation,IF(d.conn="FF",ff_calculation,plan_end_calculation)),""))),"") -> 44764 | W59: {=SUM(W60:W61*R60:R61)/SUM(R60:R61)} -> 0 | X59: 0 | Y59: 0 | Z59: 0 | AA59: 0 | AB59: 0 | AC59: 0 | AD59: 0 | AE59: 0 | AF59: 0 | AG59: 0 | AH59: 0 | AI59: 0 | AJ59: 0 | AK59: 0 | AL59: 0 | AM59: 0 | AN59: 0 | AO59: 0 | AP59: 0 | AQ59: 0 | AR59: 0 | AS59: 0 | AT59: 0 | AU59: 0 | AV59: 0 | AW59: 0 | AX59: 0 | AY59: 0 | AZ59: 0 | BA59: 0 | BB59: 0 | BC59: 0 | BD59: 0 | BE59: 0 | BF59: 0 | BG59: 0 | BH59: 0 | BI59: 0 | BJ59: 0 | BK59: 0 | BL59: 0 | BM59: 0 | BN59: 0 | BO59: 0 | BP59: 0 | BQ59: 0 | BR59: 0 | BS59: 0 | BT59: 0 | BU59: 0 | BV59: 0 | BW59: 0 | BX59: 0 | BY59: 0 | BZ59: 0 | CA59: 0 | CB59: 0 | CC59: 0
B60: =IF(ROW(id)=ROW($B$13)+2,1,MAX(prev_col_range)+1) -> 46 | C60: =IF(type<>"",IF(ROW(stage_id)=ROW($C$13)+2,1,IF(type="S",MAX(prev_col_range)+1,MAX(prev_col_range))),-1) -> 11 | D60: =_xlfn.IFNA(IF(OR(type="T",type="M"),MATCH(role,Settings!$I$9:$I$16,0),-1),-1) -> -1 | E60: T | F60: Démontage | H60: =_xlfn.IFNA(INDEX(Settings!$P$9:$P$38,MATCH(team_member,Settings!$N$9:$N$38,0)),"") | K60: 44682 | M60: =+B54 -> 40 | N60: =IF(d.id<>"",IF(d.id<id,"↖",IF(d.id>id,"↙","")),"") -> ↖ | O60: =IFERROR("("&d.type&")"&IF(LEN(d.name)>20,LEFT(d.name,20)&"….",d.name),"") -> (T)Démontage | R60: 1 | S60: =IFERROR(IF(ind.start<>"",ind.start,IF(ind.end<>"",plan_start_calculation,IF(d.id<>"",IF(OR(d.conn="FS",d.conn=""),fs_calculation,IF(d.conn="SS",ss_calculation,plan_start_calculation)),""))),"") -> 44682 | T60: =IFERROR(IF(ind.start<>"",plan_end_calculation,IF(ind.end<>"",ind.end,IF(d.id<>"",IF(d.conn="SF",sf_calculation,IF(d.conn="FF",ff_calculation,plan_end_calculation)),""))),"") -> 44682 | W60: 0 | X60: 0 | Y60: 0 | Z60: 0 | AA60: 0 | AB60: 0 | AC60: 0 | AD60: 0 | AE60: 0 | AF60: 0 | AG60: 0 | AH60: 0 | AI60: 0 | AJ60: 0 | AK60: 0 | AL60: 0 | AM60: 0 | AN60: 0 | AO60: 0 | AP60: 0 | AQ60: 0 | AR60: 0 | AS60: 0 | AT60: 0 | AU60: 0 | AV60: 0 | AW60: 0 | AX60: 0 | AY60: 0 | AZ60: 0 | BA60: 0 | BB60: 0 | BC60: 0 | BD60: 0 | BE60: 0 | BF60: 0 | BG60: 0 | BH60: 0 | BI60: 0 | BJ60: 0 | BK60: 0 | BL60: 0 | BM60: 0 | BN60: 0 | BO60: 0 | BP60: 0 | BQ60: 0 | BR60: 0 | BS60: 0 | BT60: 0 | BU60: 0 | BV60: 0 | BW60: 0 | BX60: 0 | BY60: 0 | BZ60: 0 | CA60: 0 | CB60: 0 | CC60: 0
B61: =IF(ROW(id)=ROW($B$13)+2,1,MAX(prev_col_range)+1) -> 47 | C61: =IF(type<>"",IF(ROW(stage_id)=ROW($C$13)+2,1,IF(type="S",MAX(prev_col_range)+1,MAX(prev_col_range))),-1) -> 11 | D61: =_xlfn.IFNA(IF(OR(type="T",type="M"),MATCH(role,Settings!$I$9:$I$16,0),-1),-1) -> -1 | E61: T | F61: Montage | H61: =_xlfn.IFNA(INDEX(Settings!$P$9:$P$38,MATCH(team_member,Settings!$N$9:$N$38,0)),"") | M61: =B60 -> 46 | N61: =IF(d.id<>"",IF(d.id<id,"↖",IF(d.id>id,"↙","")),"") -> ↖ | O61: =IFERROR("("&d.type&")"&IF(LEN(d.name)>20,LEFT(d.name,20)&"….",d.name),"") -> (T)Démontage | R61: 2 | S61: =IFERROR(IF(ind.start<>"",ind.start,IF(ind.end<>"",plan_start_calculation,IF(d.id<>"",IF(OR(d.conn="FS",d.conn=""),fs_calculation,IF(d.conn="SS",ss_calculation,plan_start_calculation)),""))),"") -> 44683 | T61: =IFERROR(IF(ind.start<>"",plan_end_calculation,IF(ind.end<>"",ind.end,IF(d.id<>"",IF(d.conn="SF",sf_calculation,IF(d.conn="FF",ff_calculation,plan_end_calculation)),""))),"") -> 44684 | W61: 0 | X61: 0 | Y61: 0 | Z61: 0 | AA61: 0 | AB61: 0 | AC61: 0 | AD61: 0 | AE61: 0 | AF61: 0 | AG61: 0 | AH61: 0 | AI61: 0 | AJ61: 0 | AK61: 0 | AL61: 0 | AM61: 0 | AN61: 0 | AO61: 0 | AP61: 0 | AQ61: 0 | AR61: 0 | AS61: 0 | AT61: 0 | AU61: 0 | AV61: 0 | AW61: 0 | AX61: 0 | AY61: 0 | AZ61: 0 | BA61: 0 | BB61: 0 | BC61: 0 | BD61: 0 | BE61: 0 | BF61: 0 | BG61: 0 | BH61: 0 | BI61: 0 | BJ61: 0 | BK61: 0 | BL61: 0 | BM61: 0 | BN61: 0 | BO61: 0 | BP61: 0 | BQ61: 0 | BR61: 0 | BS61: 0 | BT61: 0 | BU61: 0 | BV61: 0 | BW61: 0 | BX61: 0 | BY61: 0 | BZ61: 0 | CA61: 0 | CB61: 0 | CC61: 0
B62: =IF(ROW(id)=ROW($B$13)+2,1,MAX(prev_col_range)+1) -> 48 | C62: =IF(type<>"",IF(ROW(stage_id)=ROW($C$13)+2,1,IF(type="S",MAX(prev_col_range)+1,MAX(prev_col_range))),-1) -> 12 | D62: =_xlfn.IFNA(IF(OR(type="T",type="M"),MATCH(role,Settings!$I$9:$I$16,0),-1),-1) -> -1 | E62: S | F62: Poste de transformation | H62: =_xlfn.IFNA(INDEX(Settings!$P$9:$P$38,MATCH(team_member,Settings!$N$9:$N$38,0)),"") | N62: =IF(d.id<>"",IF(d.id<id,"↖",IF(d.id>id,"↙","")),"") | O62: =IFERROR("("&d.type&")"&IF(LEN(d.name)>20,LEFT(d.name,20)&"….",d.name),"") | S62: =IFERROR(IF(ind.start<>"",ind.start,IF(ind.end<>"",plan_start_calculation,IF(d.id<>"",IF(OR(d.conn="FS",d.conn=""),fs_calculation,IF(d.conn="SS",ss_calculation,plan_start_calculation)),""))),"") | T62: =IFERROR(IF(ind.start<>"",plan_end_calculation,IF(ind.end<>"",ind.end,IF(d.id<>"",IF(d.conn="SF",sf_calculation,IF(d.conn="FF",ff_calculation,plan_end_calculation)),""))),"") | W62: {=SUM(W63:W66*R63:R66)/SUM(R63:R66)} -> 0.16 | X62: 0 | Y62: 0 | Z62: 0 | AA62: 0 | AB62: 0 | AC62: 0 | AD62: 0 | AE62: 0 | AF62: 0 | AG62: 0 | AH62: 0 | AI62: 0 | AJ62: 0 | AK62: 0 | AL62: 0 | AM62: 0 | AN62: 0 | AO62: 0 | AP62: 0 | AQ62: 0 | AR62: 0 | AS62: 0 | AT62: 0 | AU62: 0 | AV62: 0 | AW62: 0 | AX62: 0 | AY62: 0 | AZ62: 0 | BA62: 0 | BB62: 0 | BC62: 0 | BD62: 0 | BE62: 0 | BF62: 0 | BG62: 0 | BH62: 0 | BI62: 0 | BJ62: 0 | BK62: 0 | BL62: 0 | BM62: 0 | BN62: 0 | BO62: 0 | BP62: 0 | BQ62: 0 | BR62: 0 | BS62: 0 | BT62: 0 | BU62: 0 | BV62: 0 | BW62: 0 | BX62: 0 | BY62: 0 | BZ62: 0 | CA62: 0 | CB62: 0 | CC62: 0
B63: =IF(ROW(id)=ROW($B$13)+2,1,MAX(prev_col_range)+1) -> 49 | C63: =IF(type<>"",IF(ROW(stage_id)=ROW($C$13)+2,1,IF(type="S",MAX(prev_col_range)+1,MAX(prev_col_range))),-1) -> 12 | D63: =_xlfn.IFNA(IF(OR(type="T",type="M"),MATCH(role,Settings!$I$9:$I$16,0),-1),-1) -> -1 | E63: T | F63: installation électrique | H63: =_xlfn.IFNA(INDEX(Settings!$P$9:$P$38,MATCH(team_member,Settings!$N$9:$N$38,0)),"") | M63: =+B110 -> 96 | N63: =IF(d.id<>"",IF(d.id<id,"↖",IF(d.id>id,"↙","")),"") -> ↙ | O63: =IFERROR("("&d.type&")"&IF(LEN(d.name)>20,LEFT(d.name,20)&"….",d.name),"") -> (T)Installation des Pos…. | R63: 15 | S63: =IFERROR(IF(ind.start<>"",ind.start,IF(ind.end<>"",plan_start_calculation,IF(d.id<>"",IF(OR(d.conn="FS",d.conn=""),fs_calculation,IF(d.conn="SS",ss_calculation,plan_start_calculation)),""))),"") -> 44680 | T63: =IFERROR(IF(ind.start<>"",plan_end_calculation,IF(ind.end<>"",ind.end,IF(d.id<>"",IF(d.conn="SF",sf_calculation,IF(d.conn="FF",ff_calculation,plan_end_calculation)),""))),"") -> 44700 | W63: 0 | X63: 0 | Y63: 0 | Z63: 0 | AA63: 0 | AB63: 0 | AC63: 0 | AD63: 0 | AE63: 0 | AF63: 0 | AG63: 0 | AH63: 0 | AI63: 0 | AJ63: 0 | AK63: 0 | AL63: 0 | AM63: 0 | AN63: 0 | AO63: 0 | AP63: 0 | AQ63: 0 | AR63: 0 | AS63: 0 | AT63: 0 | AU63: 0 | AV63: 0 | AW63: 0 | AX63: 0 | AY63: 0 | AZ63: 0 | BA63: 0 | BB63: 0 | BC63: 0 | BD63: 0 | BE63: 0 | BF63: 0 | BG63: 0 | BH63: 0 | BI63: 0 | BJ63: 0 | BK63: 0 | BL63: 0 | BM63: 0 | BN63: 0 | BO63: 0 | BP63: 0 | BQ63: 0 | BR63: 0 | BS63: 0 | BT63: 0 | BU63: 0 | BV63: 0 | BW63: 0 | BX63: 0 | BY63: 0 | BZ63: 0 | CA63: 0 | CB63: 0 | CC63: 0
B64: =IF(ROW(id)=ROW($B$13)+2,1,MAX(prev_col_range)+1) -> 50 | C64: =IF(type<>"",IF(ROW(stage_id)=ROW($C$13)+2,1,IF(type="S",MAX(prev_col_range)+1,MAX(prev_col_range))),-1) -> 12 | D64: =_xlfn.IFNA(IF(OR(type="T",type="M"),MATCH(role,Settings!$I$9:$I$16,0),-1),-1) -> -1 | E64: T | F64: Complexe d'étanchéité de terrasse | H64: =_xlfn.IFNA(INDEX(Settings!$P$9:$P$38,MATCH(team_member,Settings!$N$9:$N$38,0)),"") | M64: =+B22 -> 8 | N64: =IF(d.id<>"",IF(d.id<id,"↖",IF(d.id>id,"↙","")),"") -> ↖ | O64: =IFERROR("("&d.type&")"&IF(LEN(d.name)>20,LEFT(d.name,20)&"….",d.name),"") -> (T)Complexe d'étanchéit…. | R64: 4 | S64: =IFERROR(IF(ind.start<>"",ind.start,IF(ind.end<>"",plan_start_calculation,IF(d.id<>"",IF(OR(d.conn="FS",d.conn=""),fs_calculation,IF(d.conn="SS",ss_calculation,plan_start_calculation)),""))),"") -> 44683 | T64: =IFERROR(IF(ind.start<>"",plan_end_calculation,IF(ind.end<>"",ind.end,IF(d.id<>"",IF(d.conn="SF",sf_calculation,IF(d.conn="FF",ff_calculation,plan_end_calculation)),""))),"") -> 44686 | W64: 0 | X64: 0 | Y64: 0 | Z64: 0 | AA64: 0 | AB64: 0 | AC64: 0 | AD64: 0 | AE64: 0 | AF64: 0 | AG64: 0 | AH64: 0 | AI64: 0 | AJ64: 0 | AK64: 0 | AL64: 0 | AM64: 0 | AN64: 0 | AO64: 0 | AP64: 0 | AQ64: 0 | AR64: 0 | AS64: 0 | AT64: 0 | AU64: 0 | AV64: 0 | AW64: 0 | AX64: 0 | AY64: 0 | AZ64: 0 | BA64: 0 | BB64: 0 | BC64: 0 | BD64: 0 | BE64: 0 | BF64: 0 | BG64: 0 | BH64: 0 | BI64: 0 | BJ64: 0 | BK64: 0 | BL64: 0 | BM64: 0 | BN64: 0 | BO64: 0 | BP64: 0 | BQ64: 0 | BR64: 0 | BS64: 0 | BT64: 0 | BU64: 0 | BV64: 0 | BW64: 0 | BX64: 0 | BY64: 0 | BZ64: 0 | CA64: 0 | CB64: 0 | CC64: 0
B65: =IF(ROW(id)=ROW($B$13)+2,1,MAX(prev_col_range)+1) -> 51 | C65: =IF(type<>"",IF(ROW(stage_id)=ROW($C$13)+2,1,IF(type="S",MAX(prev_col_range)+1,MAX(prev_col_range))),-1) -> 12 | D65: =_xlfn.IFNA(IF(OR(type="T",type="M"),MATCH(role,Settings!$I$9:$I$16,0),-1),-1) -> -1 | E65: T | F65: Peinture extérieur& intérieure | H65: =_xlfn.IFNA(INDEX(Settings!$P$9:$P$38,MATCH(team_member,Settings!$N$9:$N$38,0)),"") | M65: =+B105 -> 91 | N65: =IF(d.id<>"",IF(d.id<id,"↖",IF(d.id>id,"↙","")),"") -> ↙ | O65: =IFERROR("("&d.type&")"&IF(LEN(d.name)>20,LEFT(d.name,20)&"….",d.name),"") -> (T)Espaces Verts | R65: 8 | S65: =IFERROR(IF(ind.start<>"",ind.start,IF(ind.end<>"",plan_start_calculation,IF(d.id<>"",IF(OR(d.conn="FS",d.conn=""),fs_calculation,IF(d.conn="SS",ss_calculation,plan_start_calculation)),""))),"") -> 44755 | T65: =IFERROR(IF(ind.start<>"",plan_end_calculation,IF(ind.end<>"",ind.end,IF(d.id<>"",IF(d.conn="SF",sf_calculation,IF(d.conn="FF",ff_calculation,plan_end_calculation)),""))),"") -> 44764 | W65: 0.6 | X65: 0 | Y65: 0 | Z65: 0 | AA65: 0 | AB65: 0 | AC65: 0 | AD65: 0 | AE65: 0 | AF65: 0 | AG65: 0 | AH65: 0 | AI65: 0 | AJ65: 0 | AK65: 0 | AL65: 0 | AM65: 0 | AN65: 0 | AO65: 0 | AP65: 0 | AQ65: 0 | AR65: 0 | AS65: 0 | AT65: 0 | AU65: 0 | AV65: 0 | AW65: 0 | AX65: 0 | AY65: 0 | AZ65: 0 | BA65: 0 | BB65: 0 | BC65: 0 | BD65: 0 | BE65: 0 | BF65: 0 | BG65: 0 | BH65: 0 | BI65: 0 | BJ65: 0 | BK65: 0 | BL65: 0 | BM65: 0 | BN65: 0 | BO65: 0 | BP65: 0 | BQ65: 0 | BR65: 0 | BS65: 0 | BT65: 0 | BU65: 0 | BV65: 0 | BW65: 0 | BX65: 0 | BY65: 0 | BZ65: 0 | CA65: 0 | CB65: 0 | CC65: 0
B66: =IF(ROW(id)=ROW($B$13)+2,1,MAX(prev_col_range)+1) -> 52 | C66: =IF(type<>"",IF(ROW(stage_id)=ROW($C$13)+2,1,IF(type="S",MAX(prev_col_range)+1,MAX(prev_col_range))),-1) -> 12 | D66: =_xlfn.IFNA(IF(OR(type="T",type="M"),MATCH(role,Settings!$I$9:$I$16,0),-1),-1) -> -1 | E66: T | F66: Menuiserie métallique et gardecorps | H66: =_xlfn.IFNA(INDEX(Settings!$P$9:$P$38,MATCH(team_member,Settings!$N$9:$N$38,0)),"") | M66: =+B21 -> 7 | N66: =IF(d.id<>"",IF(d.id<id,"↖",IF(d.id>id,"↙","")),"") -> ↖ | O66: =IFERROR("("&d.type&")"&IF(LEN(d.name)>20,LEFT(d.name,20)&"….",d.name),"") -> (T)Menuiserie métalliqu…. | R66: 3 | S66: =IFERROR(IF(ind.start<>"",ind.start,IF(ind.end<>"",plan_start_calculation,IF(d.id<>"",IF(OR(d.conn="FS",d.conn=""),fs_calculation,IF(d.conn="SS",ss_calculation,plan_start_calculation)),""))),"") -> 44679 | T66: =IFERROR(IF(ind.start<>"",plan_end_calculation,IF(ind.end<>"",ind.end,IF(d.id<>"",IF(d.conn="SF",sf_calculation,IF(d.conn="FF",ff_calculation,plan_end_calculation)),""))),"") -> 44683 | W66: 0 | X66: 0 | Y66: 0 | Z66: 0 | AA66: 0 | AB66: 0 | AC66: 0 | AD66: 0 | AE66: 0 | AF66: 0 | AG66: 0 | AH66: 0 | AI66: 0 | AJ66: 0 | AK66: 0 | AL66: 0 | AM66: 0 | AN66: 0 | AO66: 0 | AP66: 0 | AQ66: 0 | AR66: 0 | AS66: 0 | AT66: 0 | AU66: 0 | AV66: 0 | AW66: 0 | AX66: 0 | AY66: 0 | AZ66: 0 | BA66: 0 | BB66: 0 | BC66: 0 | BD66: 0 | BE66: 0 | BF66: 0 | BG66: 0 | BH66: 0 | BI66: 0 | BJ66: 0 | BK66: 0 | BL66: 0 | BM66: 0 | BN66: 0 | BO66: 0 | BP66: 0 | BQ66: 0 | BR66: 0 | BS66: 0 | BT66: 0 | BU66: 0 | BV66: 0 | BW66: 0 | BX66: 0 | BY66: 0 | BZ66: 0 | CA66: 0 | CB66: 0 | CC66: 0
B67: =IF(ROW(id)=ROW($B$13)+2,1,MAX(prev_col_range)+1) -> 53 | C67: =IF(type<>"",IF(ROW(stage_id)=ROW($C$13)+2,1,IF(type="S",MAX(prev_col_range)+1,MAX(prev_col_range))),-1) -> 13 | D67: =_xlfn.IFNA(IF(OR(type="T",type="M"),MATCH(role,Settings!$I$9:$I$16,0),-1),-1) -> -1 | E67: S | F67: Bâtiment de réactif | H67: =_xlfn.IFNA(INDEX(Settings!$P$9:$P$38,MATCH(team_member,Settings!$N$9:$N$38,0)),"") | K67: =MIN(S68:S72) -> 44664 | N67: =IF(d.id<>"",IF(d.id<id,"↖",IF(d.id>id,"↙","")),"") | O67: =IFERROR("("&d.type&")"&IF(LEN(d.name)>20,LEFT(d.name,20)&"….",d.name),"") | R67: =NETWORKDAYS(plan_start,MAX(T68:T72)) -> 20 | S67: =IFERROR(IF(ind.start<>"",ind.start,IF(ind.end<>"",plan_start_calculation,IF(d.id<>"",IF(OR(d.conn="FS",d.conn=""),fs_calculation,IF(d.conn="SS",ss_calculation,plan_start_calculation)),""))),"") -> 44664 | T67: =IFERROR(IF(ind.start<>"",plan_end_calculation,IF(ind.end<>"",ind.end,IF(d.id<>"",IF(d.conn="SF",sf_calculation,IF(d.conn="FF",ff_calculation,plan_end_calculation)),""))),"") -> 44691 | W67: {=SUM(W68:W72*R68:R72)/SUM(R68:R72)} -> 0 | X67: 0 | Y67: 0 | Z67: 0 | AA67: 0 | AB67: 0 | AC67: 0 | AD67: 0 | AE67: 0 | AF67: 0 | AG67: 0 | AH67: 0 | AI67: 0 | AJ67: 0 | AK67: 0 | AL67: 0 | AM67: 0 | AN67: 0 | AO67: 0 | AP67: 0 | AQ67: 0 | AR67: 0 | AS67: 0 | AT67: 0 | AU67: 0 | AV67: 0 | AW67: 0 | AX67: 0 | AY67: 0 | AZ67: 0 | BA67: 0 | BB67: 0 | BC67: 0 | BD67: 0 | BE67: 0 | BF67: 0 | BG67: 0 | BH67: 0 | BI67: 0 | BJ67: 0 | BK67: 0 | BL67: 0 | BM67: 0 | BN67: 0 | BO67: 0 | BP67: 0 | BQ67: 0 | BR67: 0 | BS67: 0 | BT67: 0 | BU67: 0 | BV67: 0 | BW67: 0 | BX67: 0 | BY67: 0 | BZ67: 0 | CA67: 0 | CB67: 0 | CC67: 0
B68: =IF(ROW(id)=ROW($B$13)+2,1,MAX(prev_col_range)+1) -> 54 | C68: =IF(type<>"",IF(ROW(stage_id)=ROW($C$13)+2,1,IF(type="S",MAX(prev_col_range)+1,MAX(prev_col_range))),-1) -> 13 | D68: =_xlfn.IFNA(IF(OR(type="T",type="M"),MATCH(role,Settings!$I$9:$I$16,0),-1),-1) -> -1 | E68: T | F68: Maçonnerie en agglos | H68: =_xlfn.IFNA(INDEX(Settings!$P$9:$P$38,MATCH(team_member,Settings!$N$9:$N$38,0)),"") | K68: 44664 | N68: =IF(d.id<>"",IF(d.id<id,"↖",IF(d.id>id,"↙","")),"") | O68: =IFERROR("("&d.type&")"&IF(LEN(d.name)>20,LEFT(d.name,20)&"….",d.name),"") | R68: 8 | S68: =IFERROR(IF(ind.start<>"",ind.start,IF(ind.end<>"",plan_start_calculation,IF(d.id<>"",IF(OR(d.conn="FS",d.conn=""),fs_calculation,IF(d.conn="SS",ss_calculation,plan_start_calculation)),""))),"") -> 44664 | T68: =IFERROR(IF(ind.start<>"",plan_end_calculation,IF(ind.end<>"",ind.end,IF(d.id<>"",IF(d.conn="SF",sf_calculation,IF(d.conn="FF",ff_calculation,plan_end_calculation)),""))),"") -> 44673 | W68: 0 | X68: 0 | Y68: 0 | Z68: 0 | AA68: 0 | AB68: 0 | AC68: 0 | AD68: 0 | AE68: 0 | AF68: 0 | AG68: 0 | AH68: 0 | AI68: 0 | AJ68: 0 | AK68: 0 | AL68: 0 | AM68: 0 | AN68: 0 | AO68: 0 | AP68: 0 | AQ68: 0 | AR68: 0 | AS68: 0 | AT68: 0 | AU68: 0 | AV68: 0 | AW68: 0 | AX68: 0 | AY68: 0 | AZ68: 0 | BA68: 0 | BB68: 0 | BC68: 0 | BD68: 0 | BE68: 0 | BF68: 0 | BG68: 0 | BH68: 0 | BI68: 0 | BJ68: 0 | BK68: 0 | BL68: 0 | BM68: 0 | BN68: 0 | BO68: 0 | BP68: 0 | BQ68: 0 | BR68: 0 | BS68: 0 | BT68: 0 | BU68: 0 | BV68: 0 | BW68: 0 | BX68: 0 | BY68: 0 | BZ68: 0 | CA68: 0 | CB68: 0 | CC68: 0
B69: =IF(ROW(id)=ROW($B$13)+2,1,MAX(prev_col_range)+1) -> 55 | C69: =IF(type<>"",IF(ROW(stage_id)=ROW($C$13)+2,1,IF(type="S",MAX(prev_col_range)+1,MAX(prev_col_range))),-1) -> 13 | D69: =_xlfn.IFNA(IF(OR(type="T",type="M"),MATCH(role,Settings!$I$9:$I$16,0),-1),-1) -> -1 | E69: T | F69: Enduits intérieur& extérieur | H69: =_xlfn.IFNA(INDEX(Settings!$P$9:$P$38,MATCH(team_member,Settings!$N$9:$N$38,0)),"") | M69: =B68 -> 54 | N69: =IF(d.id<>"",IF(d.id<id,"↖",IF(d.id>id,"↙","")),"") -> ↖ | O69: =IFERROR("("&d.type&")"&IF(LEN(d.name)>20,LEFT(d.name,20)&"….",d.name),"") -> (T)Maçonnerie en agglos | P69: FS | Q69: -2 | R69: 14 | S69: =IFERROR(IF(ind.start<>"",ind.start,IF(ind.end<>"",plan_start_calculation,IF(d.id<>"",IF(OR(d.conn="FS",d.conn=""),fs_calculation,IF(d.conn="SS",ss_calculation,plan_start_calculation)),""))),"") -> 44672 | T69: =IFERROR(IF(ind.start<>"",plan_end_calculation,IF(ind.end<>"",ind.end,IF(d.id<>"",IF(d.conn="SF",sf_calculation,IF(d.conn="FF",ff_calculation,plan_end_calculation)),""))),"") -> 44691 | W69: 0 | X69: 0 | Y69: 0 | Z69: 0 | AA69: 0 | AB69: 0 | AC69: 0 | AD69: 0 | AE69: 0 | AF69: 0 | AG69: 0 | AH69: 0 | AI69: 0 | AJ69: 0 | AK69: 0 | AL69: 0 | AM69: 0 | AN69: 0 | AO69: 0 | AP69: 0 | AQ69: 0 | AR69: 0 | AS69: 0 | AT69: 0 | AU69: 0 | AV69: 0 | AW69: 0 | AX69: 0 | AY69: 0 | AZ69: 0 | BA69: 0 | BB69: 0 | BC69: 0 | BD69: 0 | BE69: 0 | BF69: 0 | BG69: 0 | BH69: 0 | BI69: 0 | BJ69: 0 | BK69: 0 | BL69: 0 | BM69: 0 | BN69: 0 | BO69: 0 | BP69: 0 | BQ69: 0 | BR69: 0 | BS69: 0 | BT69: 0 | BU69: 0 | BV69: 0 | BW69: 0 | BX69: 0 | BY69: 0 | BZ69: 0 | CA69: 0 | CB69: 0 | CC69: 0
B70: =IF(ROW(id)=ROW($B$13)+2,1,MAX(prev_col_range)+1) -> 56 | C70: =IF(type<>"",IF(ROW(stage_id)=ROW($C$13)+2,1,IF(type="S",MAX(prev_col_range)+1,MAX(prev_col_range))),-1) -> 13 | D70: =_xlfn.IFNA(IF(OR(type="T",type="M"),MATCH(role,Settings!$I$9:$I$16,0),-1),-1) -> -1 | E70: T | F70: Complexe d'étanchéité de terrasse | H70: =_xlfn.IFNA(INDEX(Settings!$P$9:$P$38,MATCH(team_member,Settings!$N$9:$N$38,0)),"") | J70: ! | N70: =IF(d.id<>"",IF(d.id<id,"↖",IF(d.id>id,"↙","")),"") | O70: =IFERROR("("&d.type&")"&IF(LEN(d.name)>20,LEFT(d.name,20)&"….",d.name),"") | S70: =IFERROR(IF(ind.start<>"",ind.start,IF(ind.end<>"",plan_start_calculation,IF(d.id<>"",IF(OR(d.conn="FS",d.conn=""),fs_calculation,IF(d.conn="SS",ss_calculation,plan_start_calculation)),""))),"") | T70: =IFERROR(IF(ind.start<>"",plan_end_calculation,IF(ind.end<>"",ind.end,IF(d.id<>"",IF(d.conn="SF",sf_calculation,IF(d.conn="FF",ff_calculation,plan_end_calculation)),""))),"") | W70: 0 | X70: 0 | Y70: 0 | Z70: 0 | AA70: 0 | AB70: 0 | AC70: 0 | AD70: 0 | AE70: 0 | AF70: 0 | AG70: 0 | AH70: 0 | AI70: 0 | AJ70: 0 | AK70: 0 | AL70: 0 | AM70: 0 | AN70: 0 | AO70: 0 | AP70: 0 | AQ70: 0 | AR70: 0 | AS70: 0 | AT70: 0 | AU70: 0 | AV70: 0 | AW70: 0 | AX70: 0 | AY70: 0 | AZ70: 0 | BA70: 0 | BB70: 0 | BC70: 0 | BD70: 0 | BE70: 0 | BF70: 0 | BG70: 0 | BH70: 0 | BI70: 0 | BJ70: 0 | BK70: 0 | BL70: 0 | BM70: 0 | BN70: 0 | BO70: 0 | BP70: 0 | BQ70: 0 | BR70: 0 | BS70: 0 | BT70: 0 | BU70: 0 | BV70: 0 | BW70: 0 | BX70: 0 | BY70: 0 | BZ70: 0 | CA70: 0 | CB70: 0 | CC70: 0
B71: =IF(ROW(id)=ROW($B$13)+2,1,MAX(prev_col_range)+1) -> 57 | C71: =IF(type<>"",IF(ROW(stage_id)=ROW($C$13)+2,1,IF(type="S",MAX(prev_col_range)+1,MAX(prev_col_range))),-1) -> 13 | D71: =_xlfn.IFNA(IF(OR(type="T",type="M"),MATCH(role,Settings!$I$9:$I$16,0),-1),-1) -> -1 | E71: T | F71: Peinture extérieur& intérieure | H71: =_xlfn.IFNA(INDEX(Settings!$P$9:$P$38,MATCH(team_member,Settings!$N$9:$N$38,0)),"") | J71: ! | N71: =IF(d.id<>"",IF(d.id<id,"↖",IF(d.id>id,"↙","")),"") | O71: =IFERROR("("&d.type&")"&IF(LEN(d.name)>20,LEFT(d.name,20)&"….",d.name),"") | S71: =IFERROR(IF(ind.start<>"",ind.start,IF(ind.end<>"",plan_start_calculation,IF(d.id<>"",IF(OR(d.conn="FS",d.conn=""),fs_calculation,IF(d.conn="SS",ss_calculation,plan_start_calculation)),""))),"") | T71: =IFERROR(IF(ind.start<>"",plan_end_calculation,IF(ind.end<>"",ind.end,IF(d.id<>"",IF(d.conn="SF",sf_calculation,IF(d.conn="FF",ff_calculation,plan_end_calculation)),""))),"") | W71: 0 | X71: 0 | Y71: 0 | Z71: 0 | AA71: 0 | AB71: 0 | AC71: 0 | AD71: 0 | AE71: 0 | AF71: 0 | AG71: 0 | AH71: 0 | AI71: 0 | AJ71: 0 | AK71: 0 | AL71: 0 | AM71: 0 | AN71: 0 | AO71: 0 | AP71: 0 | AQ71: 0 | AR71: 0 | AS71: 0 | AT71: 0 | AU71: 0 | AV71: 0 | AW71: 0 | AX71: 0 | AY71: 0 | AZ71: 0 | BA71: 0 | BB71: 0 | BC71: 0 | BD71: 0 | BE71: 0 | BF71: 0 | BG71: 0 | BH71: 0 | BI71: 0 | BJ71: 0 | BK71: 0 | BL71: 0 | BM71: 0 | BN71: 0 | BO71: 0 | BP71: 0 | BQ71: 0 | BR71: 0 | BS71: 0 | BT71: 0 | BU71: 0 | BV71: 0 | BW71: 0 | BX71: 0 | BY71: 0 | BZ71: 0 | CA71: 0 | CB71: 0 | CC71: 0
B72: =IF(ROW(id)=ROW($B$13)+2,1,MAX(prev_col_range)+1) -> 58 | C72: =IF(type<>"",IF(ROW(stage_id)=ROW($C$13)+2,1,IF(type="S",MAX(prev_col_range)+1,MAX(prev_col_range))),-1) -> 13 | D72: =_xlfn.IFNA(IF(OR(type="T",type="M"),MATCH(role,Settings!$I$9:$I$16,0),-1),-1) -> -1 | E72: T | F72: Menuiserie métallique et gardecorps | H72: =_xlfn.IFNA(INDEX(Settings!$P$9:$P$38,MATCH(team_member,Settings!$N$9:$N$38,0)),"") | J72: ! | N72: =IF(d.id<>"",IF(d.id<id,"↖",IF(d.id>id,"↙","")),"") | O72: =IFERROR("("&d.type&")"&IF(LEN(d.name)>20,LEFT(d.name,20)&"….",d.name),"") | P72: SS | S72: =IFERROR(IF(ind.start<>"",ind.start,IF(ind.end<>"",plan_start_calculation,IF(d.id<>"",IF(OR(d.conn="FS",d.conn=""),fs_calculation,IF(d.conn="SS",ss_calculation,plan_start_calculation)),""))),"") | T72: =IFERROR(IF(ind.start<>"",plan_end_calculation,IF(ind.end<>"",ind.end,IF(d.id<>"",IF(d.conn="SF",sf_calculation,IF(d.conn="FF",ff_calculation,plan_end_calculation)),""))),"") | W72: 0 | X72: 0 | Y72: 0 | Z72: 0 | AA72: 0 | AB72: 0 | AC72: 0 | AD72: 0 | AE72: 0 | AF72: 0 | AG72: 0 | AH72: 0 | AI72: 0 | AJ72: 0 | AK72: 0 | AL72: 0 | AM72: 0 | AN72: 0 | AO72: 0 | AP72: 0 | AQ72: 0 | AR72: 0 | AS72: 0 | AT72: 0 | AU72: 0 | AV72: 0 | AW72: 0 | AX72: 0 | AY72: 0 | AZ72: 0 | BA72: 0 | BB72: 0 | BC72: 0 | BD72: 0 | BE72: 0 | BF72: 0 | BG72: 0 | BH72: 0 | BI72: 0 | BJ72: 0 | BK72: 0 | BL72: 0 | BM72: 0 | BN72: 0 | BO72: 0 | BP72: 0 | BQ72: 0 | BR72: 0 | BS72: 0 | BT72: 0 | BU72: 0 | BV72: 0 | BW72: 0 | BX72: 0 | BY72: 0 | BZ72: 0 | CA72: 0 | CB72: 0 | CC72: 0
B73: =IF(ROW(id)=ROW($B$13)+2,1,MAX(prev_col_range)+1) -> 59 | C73: =IF(type<>"",IF(ROW(stage_id)=ROW($C$13)+2,1,IF(type="S",MAX(prev_col_range)+1,MAX(prev_col_range))),-1) -> 14 | D73: =_xlfn.IFNA(IF(OR(type="T",type="M"),MATCH(role,Settings!$I$9:$I$16,0),-1),-1) -> -1 | E73: S | F73: Bâtiment de Chloration | H73: =_xlfn.IFNA(INDEX(Settings!$P$9:$P$38,MATCH(team_member,Settings!$N$9:$N$38,0)),"") | K73: =MIN(S74:S83) -> 44653 | N73: =IF(d.id<>"",IF(d.id<id,"↖",IF(d.id>id,"↙","")),"") | O73: =IFERROR("("&d.type&")"&IF(LEN(d.name)>20,LEFT(d.name,20)&"….",d.name),"") | R73: =NETWORKDAYS(plan_start,MAX(T74:T83)) -> 73 | S73: =IFERROR(IF(ind.start<>"",ind.start,IF(ind.end<>"",plan_start_calculation,IF(d.id<>"",IF(OR(d.conn="FS",d.conn=""),fs_calculation,IF(d.conn="SS",ss_calculation,plan_start_calculation)),""))),"") -> 44653 | T73: =IFERROR(IF(ind.start<>"",plan_end_calculation,IF(ind.end<>"",ind.end,IF(d.id<>"",IF(d.conn="SF",sf_calculation,IF(d.conn="FF",ff_calculation,plan_end_calculation)),""))),"") -> 44754 | W73: {=SUM(W74:W83*R74:R83)/SUM(R74:R83)} -> 0.15789474 | X73: 0 | Y73: 0 | Z73: 0 | AA73: 0 | AB73: 0 | AC73: 0 | AD73: 0 | AE73: 0 | AF73: 0 | AG73: 0 | AH73: 0 | AI73: 0 | AJ73: 0 | AK73: 0 | AL73: 0 | AM73: 0 | AN73: 0 | AO73: 0 | AP73: 0 | AQ73: 0 | AR73: 0 | AS73: 0 | AT73: 0 | AU73: 0 | AV73: 0 | AW73: 0 | AX73: 0 | AY73: 0 | AZ73: 0 | BA73: 0 | BB73: 0 | BC73: 0 | BD73: 0 | BE73: 0 | BF73: 0 | BG73: 0 | BH73: 0 | BI73: 0 | BJ73: 0 | BK73: 0 | BL73: 0 | BM73: 0 | BN73: 0 | BO73: 0 | BP73: 0 | BQ73: 0 | BR73: 0 | BS73: 0 | BT73: 0 | BU73: 0 | BV73: 0 | BW73: 0 | BX73: 0 | BY73: 0 | BZ73: 0 | CA73: 0 | CB73: 0 | CC73: 0
B74: =IF(ROW(id)=ROW($B$13)+2,1,MAX(prev_col_range)+1) -> 60 | C74: =IF(type<>"",IF(ROW(stage_id)=ROW($C$13)+2,1,IF(type="S",MAX(prev_col_range)+1,MAX(prev_col_range))),-1) -> 14 | D74: =_xlfn.IFNA(IF(OR(type="T",type="M"),MATCH(role,Settings!$I$9:$I$16,0),-1),-1) -> -1 | E74: T | F74: Terrassement | H74: =_xlfn.IFNA(INDEX(Settings!$P$9:$P$38,MATCH(team_member,Settings!$N$9:$N$38,0)),"") | K74: 44653 | N74: =IF(d.id<>"",IF(d.id<id,"↖",IF(d.id>id,"↙","")),"") | O74: =IFERROR("("&d.type&")"&IF(LEN(d.name)>20,LEFT(d.name,20)&"….",d.name),"") | R74: 2 | S74: =IFERROR(IF(ind.start<>"",ind.start,IF(ind.end<>"",plan_start_calculation,IF(d.id<>"",IF(OR(d.conn="FS",d.conn=""),fs_calculation,IF(d.conn="SS",ss_calculation,plan_start_calculation)),""))),"") -> 44653 | T74: =IFERROR(IF(ind.start<>"",plan_end_calculation,IF(ind.end<>"",ind.end,IF(d.id<>"",IF(d.conn="SF",sf_calculation,IF(d.conn="FF",ff_calculation,plan_end_calculation)),""))),"") -> 44655 | W74: 1 | X74: 0 | Y74: 0 | Z74: 0 | AA74: 0 | AB74: 0 | AC74: 0 | AD74: 0 | AE74: 0 | AF74: 0 | AG74: 0 | AH74: 0 | AI74: 0 | AJ74: 0 | AK74: 0 | AL74: 0 | AM74: 0 | AN74: 0 | AO74: 0 | AP74: 0 | AQ74: 0 | AR74: 0 | AS74: 0 | AT74: 0 | AU74: 0 | AV74: 0 | AW74: 0 | AX74: 0 | AY74: 0 | AZ74: 0 | BA74: 0 | BB74: 0 | BC74: 0 | BD74: 0 | BE74: 0 | BF74: 0 | BG74: 0 | BH74: 0 | BI74: 0 | BJ74: 0 | BK74: 0 | BL74: 0 | BM74: 0 | BN74: 0 | BO74: 0 | BP74: 0 | BQ74: 0 | BR74: 0 | BS74: 0 | BT74: 0 | BU74: 0 | BV74: 0 | BW74: 0 | BX74: 0 | BY74: 0 | BZ74: 0 | CA74: 0 | CB74: 0 | CC74: 0
B75: =IF(ROW(id)=ROW($B$13)+2,1,MAX(prev_col_range)+1) -> 61 | C75: =IF(type<>"",IF(ROW(stage_id)=ROW($C$13)+2,1,IF(type="S",MAX(prev_col_range)+1,MAX(prev_col_range))),-1) -> 14 | D75: =_xlfn.IFNA(IF(OR(type="T",type="M"),MATCH(role,Settings!$I$9:$I$16,0),-1),-1) -> -1 | E75: T | F75: Béton de propreté | H75: =_xlfn.IFNA(INDEX(Settings!$P$9:$P$38,MATCH(team_member,Settings!$N$9:$N$38,0)),"") | M75: =B74 -> 60 | N75: =IF(d.id<>"",IF(d.id<id,"↖",IF(d.id>id,"↙","")),"") -> ↖ | O75: =IFERROR("("&d.type&")"&IF(LEN(d.name)>20,LEFT(d.name,20)&"….",d.name),"") -> (T)Terrassement | P75: FS | R75: 1 | S75: =IFERROR(IF(ind.start<>"",ind.start,IF(ind.end<>"",plan_start_calculation,IF(d.id<>"",IF(OR(d.conn="FS",d.conn=""),fs_calculation,IF(d.conn="SS",ss_calculation,plan_start_calculation)),""))),"") -> 44656 | T75: =IFERROR(IF(ind.start<>"",plan_end_calculation,IF(ind.end<>"",ind.end,IF(d.id<>"",IF(d.conn="SF",sf_calculation,IF(d.conn="FF",ff_calculation,plan_end_calculation)),""))),"") -> 44656 | W75: 1 | X75: 0 | Y75: 0 | Z75: 0 | AA75: 0 | AB75: 0 | AC75: 0 | AD75: 0 | AE75: 0 | AF75: 0 | AG75: 0 | AH75: 0 | AI75: 0 | AJ75: 0 | AK75: 0 | AL75: 0 | AM75: 0 | AN75: 0 | AO75: 0 | AP75: 0 | AQ75: 0 | AR75: 0 | AS75: 0 | AT75: 0 | AU75: 0 | AV75: 0 | AW75: 0 | AX75: 0 | AY75: 0 | AZ75: 0 | BA75: 0 | BB75: 0 | BC75: 0 | BD75: 0 | BE75: 0 | BF75: 0 | BG75: 0 | BH75: 0 | BI75: 0 | BJ75: 0 | BK75: 0 | BL75: 0 | BM75: 0 | BN75: 0 | BO75: 0 | BP75: 0 | BQ75: 0 | BR75: 0 | BS75: 0 | BT75: 0 | BU75: 0 | BV75: 0 | BW75: 0 | BX75: 0 | BY75: 0 | BZ75: 0 | CA75: 0 | CB75: 0 | CC75: 0
B76: =IF(ROW(id)=ROW($B$13)+2,1,MAX(prev_col_range)+1) -> 62 | C76: =IF(type<>"",IF(ROW(stage_id)=ROW($C$13)+2,1,IF(type="S",MAX(prev_col_range)+1,MAX(prev_col_range))),-1) -> 14 | D76: =_xlfn.IFNA(IF(OR(type="T",type="M"),MATCH(role,Settings!$I$9:$I$16,0),-1),-1) -> -1 | E76: T | F76: Béton en dalle de fond | H76: =_xlfn.IFNA(INDEX(Settings!$P$9:$P$38,MATCH(team_member,Settings!$N$9:$N$38,0)),"") | J76: ! | M76: =B75 -> 61 | N76: =IF(d.id<>"",IF(d.id<id,"↖",IF(d.id>id,"↙","")),"") -> ↖ | O76: =IFERROR("("&d.type&")"&IF(LEN(d.name)>20,LEFT(d.name,20)&"….",d.name),"") -> (T)Béton de propreté | P76: FS | R76: 2 | S76: =IFERROR(IF(ind.start<>"",ind.start,IF(ind.end<>"",plan_start_calculation,IF(d.id<>"",IF(OR(d.conn="FS",d.conn=""),fs_calculation,IF(d.conn="SS",ss_calculation,plan_start_calculation)),""))),"") -> 44657 | T76: =IFERROR(IF(ind.start<>"",plan_end_calculation,IF(ind.end<>"",ind.end,IF(d.id<>"",IF(d.conn="SF",sf_calculation,IF(d.conn="FF",ff_calculation,plan_end_calculation)),""))),"") -> 44658 | W76: 0 | X76: 0 | Y76: 0 | Z76: 0 | AA76: 0 | AB76: 0 | AC76: 0 | AD76: 0 | AE76: 0 | AF76: 0 | AG76: 0 | AH76: 0 | AI76: 0 | AJ76: 0 | AK76: 0 | AL76: 0 | AM76: 0 | AN76: 0 | AO76: 0 | AP76: 0 | AQ76: 0 | AR76: 0 | AS76: 0 | AT76: 0 | AU76: 0 | AV76: 0 | AW76: 0 | AX76: 0 | AY76: 0 | AZ76: 0 | BA76: 0 | BB76: 0 | BC76: 0 | BD76: 0 | BE76: 0 | BF76: 0 | BG76: 0 | BH76: 0 | BI76: 0 | BJ76: 0 | BK76: 0 | BL76: 0 | BM76: 0 | BN76: 0 | BO76: 0 | BP76: 0 | BQ76: 0 | BR76: 0 | BS76: 0 | BT76: 0 | BU76: 0 | BV76: 0 | BW76: 0 | BX76: 0 | BY76: 0 | BZ76: 0 | CA76: 0 | CB76: 0 | CC76: 0
B77: =IF(ROW(id)=ROW($B$13)+2,1,MAX(prev_col_range)+1) -> 63 | C77: =IF(type<>"",IF(ROW(stage_id)=ROW($C$13)+2,1,IF(type="S",MAX(prev_col_range)+1,MAX(prev_col_range))),-1) -> 14 | D77: =_xlfn.IFNA(IF(OR(type="T",type="M"),MATCH(role,Settings!$I$9:$I$16,0),-1),-1) -> -1 | E77: T | F77: Béton en élèvation | H77: =_xlfn.IFNA(INDEX(Settings!$P$9:$P$38,MATCH(team_member,Settings!$N$9:$N$38,0)),"") | J77: ! | M77: =B76 -> 62 | N77: =IF(d.id<>"",IF(d.id<id,"↖",IF(d.id>id,"↙","")),"") -> ↖ | O77: =IFERROR("("&d.type&")"&IF(LEN(d.name)>20,LEFT(d.name,20)&"….",d.name),"") -> (T)Béton en dalle de fo…. | P77: FS | Q77: 3 | R77: 10 | S77: =IFERROR(IF(ind.start<>"",ind.start,IF(ind.end<>"",plan_start_calculation,IF(d.id<>"",IF(OR(d.conn="FS",d.conn=""),fs_calculation,IF(d.conn="SS",ss_calculation,plan_start_calculation)),""))),"") -> 44664 | T77: =IFERROR(IF(ind.start<>"",plan_end_calculation,IF(ind.end<>"",ind.end,IF(d.id<>"",IF(d.conn="SF",sf_calculation,IF(d.conn="FF",ff_calculation,plan_end_calculation)),""))),"") -> 44677 | W77: 0 | X77: 0 | Y77: 0 | Z77: 0 | AA77: 0 | AB77: 0 | AC77: 0 | AD77: 0 | AE77: 0 | AF77: 0 | AG77: 0 | AH77: 0 | AI77: 0 | AJ77: 0 | AK77: 0 | AL77: 0 | AM77: 0 | AN77: 0 | AO77: 0 | AP77: 0 | AQ77: 0 | AR77: 0 | AS77: 0 | AT77: 0 | AU77: 0 | AV77: 0 | AW77: 0 | AX77: 0 | AY77: 0 | AZ77: 0 | BA77: 0 | BB77: 0 | BC77: 0 | BD77: 0 | BE77: 0 | BF77: 0 | BG77: 0 | BH77: 0 | BI77: 0 | BJ77: 0 | BK77: 0 | BL77: 0 | BM77: 0 | BN77: 0 | BO77: 0 | BP77: 0 | BQ77: 0 | BR77: 0 | BS77: 0 | BT77: 0 | BU77: 0 | BV77: 0 | BW77: 0 | BX77: 0 | BY77: 0 | BZ77: 0 | CA77: 0 | CB77: 0 | CC77: 0
B78: =IF(ROW(id)=ROW($B$13)+2,1,MAX(prev_col_range)+1) -> 64 | C78: =IF(type<>"",IF(ROW(stage_id)=ROW($C$13)+2,1,IF(type="S",MAX(prev_col_range)+1,MAX(prev_col_range))),-1) -> 14 | D78: =_xlfn.IFNA(IF(OR(type="T",type="M"),MATCH(role,Settings!$I$9:$I$16,0),-1),-1) -> -1 | E78: T | F78: Plancher hourdis | H78: =_xlfn.IFNA(INDEX(Settings!$P$9:$P$38,MATCH(team_member,Settings!$N$9:$N$38,0)),"") | J78: ! | M78: =B77 -> 63 | N78: =IF(d.id<>"",IF(d.id<id,"↖",IF(d.id>id,"↙","")),"") -> ↖ | O78: =IFERROR("("&d.type&")"&IF(LEN(d.name)>20,LEFT(d.name,20)&"….",d.name),"") -> (T)Béton en élèvation | P78: FS | Q78: 7 | S78: =IFERROR(IF(ind.start<>"",ind.start,IF(ind.end<>"",plan_start_calculation,IF(d.id<>"",IF(OR(d.conn="FS",d.conn=""),fs_calculation,IF(d.conn="SS",ss_calculation,plan_start_calculation)),""))),"") -> 44687 | T78: =IFERROR(IF(ind.start<>"",plan_end_calculation,IF(ind.end<>"",ind.end,IF(d.id<>"",IF(d.conn="SF",sf_calculation,IF(d.conn="FF",ff_calculation,plan_end_calculation)),""))),"") -> 44687 | W78: 0 | X78: 0 | Y78: 0 | Z78: 0 | AA78: 0 | AB78: 0 | AC78: 0 | AD78: 0 | AE78: 0 | AF78: 0 | AG78: 0 | AH78: 0 | AI78: 0 | AJ78: 0 | AK78: 0 | AL78: 0 | AM78: 0 | AN78: 0 | AO78: 0 | AP78: 0 | AQ78: 0 | AR78: 0 | AS78: 0 | AT78: 0 | AU78: 0 | AV78: 0 | AW78: 0 | AX78: 0 | AY78: 0 | AZ78: 0 | BA78: 0 | BB78: 0 | BC78: 0 | BD78: 0 | BE78: 0 | BF78: 0 | BG78: 0 | BH78: 0 | BI78: 0 | BJ78: 0 | BK78: 0 | BL78: 0 | BM78: 0 | BN78: 0 | BO78: 0 | BP78: 0 | BQ78: 0 | BR78: 0 | BS78: 0 | BT78: 0 | BU78: 0 | BV78: 0 | BW78: 0 | BX78: 0 | BY78: 0 | BZ78: 0 | CA78: 0 | CB78: 0 | CC78: 0
B79: =IF(ROW(id)=ROW($B$13)+2,1,MAX(prev_col_range)+1) -> 65 | C79: =IF(type<>"",IF(ROW(stage_id)=ROW($C$13)+2,1,IF(type="S",MAX(prev_col_range)+1,MAX(prev_col_range))),-1) -> 14 | D79: =_xlfn.IFNA(IF(OR(type="T",type="M"),MATCH(role,Settings!$I$9:$I$16,0),-1),-1) -> -1 | E79: T | F79: Maçonnerie en agglos | H79: =_xlfn.IFNA(INDEX(Settings!$P$9:$P$38,MATCH(team_member,Settings!$N$9:$N$38,0)),"") | J79: ! | M79: =B78 -> 64 | N79: =IF(d.id<>"",IF(d.id<id,"↖",IF(d.id>id,"↙","")),"") -> ↖ | O79: =IFERROR("("&d.type&")"&IF(LEN(d.name)>20,LEFT(d.name,20)&"….",d.name),"") -> (T)Plancher hourdis | P79: FF | S79: =IFERROR(IF(ind.start<>"",ind.start,IF(ind.end<>"",plan_start_calculation,IF(d.id<>"",IF(OR(d.conn="FS",d.conn=""),fs_calculation,IF(d.conn="SS",ss_calculation,plan_start_calculation)),""))),"") -> 44687 | T79: =IFERROR(IF(ind.start<>"",plan_end_calculation,IF(ind.end<>"",ind.end,IF(d.id<>"",IF(d.conn="SF",sf_calculation,IF(d.conn="FF",ff_calculation,plan_end_calculation)),""))),"") -> 44687 | W79: 0 | X79: 0 | Y79: 0 | Z79: 0 | AA79: 0 | AB79: 0 | AC79: 0 | AD79: 0 | AE79: 0 | AF79: 0 | AG79: 0 | AH79: 0 | AI79: 0 | AJ79: 0 | AK79: 0 | AL79: 0 | AM79: 0 | AN79: 0 | AO79: 0 | AP79: 0 | AQ79: 0 | AR79: 0 | AS79: 0 | AT79: 0 | AU79: 0 | AV79: 0 | AW79: 0 | AX79: 0 | AY79: 0 | AZ79: 0 | BA79: 0 | BB79: 0 | BC79: 0 | BD79: 0 | BE79: 0 | BF79: 0 | BG79: 0 | BH79: 0 | BI79: 0 | BJ79: 0 | BK79: 0 | BL79: 0 | BM79: 0 | BN79: 0 | BO79: 0 | BP79: 0 | BQ79: 0 | BR79: 0 | BS79: 0 | BT79: 0 | BU79: 0 | BV79: 0 | BW79: 0 | BX79: 0 | BY79: 0 | BZ79: 0 | CA79: 0 | CB79: 0 | CC79: 0
B80: =IF(ROW(id)=ROW($B$13)+2,1,MAX(prev_col_range)+1) -> 66 | C80: =IF(type<>"",IF(ROW(stage_id)=ROW($C$13)+2,1,IF(type="S",MAX(prev_col_range)+1,MAX(prev_col_range))),-1) -> 14 | D80: =_xlfn.IFNA(IF(OR(type="T",type="M"),MATCH(role,Settings!$I$9:$I$16,0),-1),-1) -> -1 | E80: T | F80: Enduits intérieur& extérieur | H80: =_xlfn.IFNA(INDEX(Settings!$P$9:$P$38,MATCH(team_member,Settings!$N$9:$N$38,0)),"") | J80: ! | M80: =B79 -> 65 | N80: =IF(d.id<>"",IF(d.id<id,"↖",IF(d.id>id,"↙","")),"") -> ↖ | O80: =IFERROR("("&d.type&")"&IF(LEN(d.name)>20,LEFT(d.name,20)&"….",d.name),"") -> (T)Maçonnerie en agglos | S80: =IFERROR(IF(ind.start<>"",ind.start,IF(ind.end<>"",plan_start_calculation,IF(d.id<>"",IF(OR(d.conn="FS",d.conn=""),fs_calculation,IF(d.conn="SS",ss_calculation,plan_start_calculation)),""))),"") -> 44690 | T80: =IFERROR(IF(ind.start<>"",plan_end_calculation,IF(ind.end<>"",ind.end,IF(d.id<>"",IF(d.conn="SF",sf_calculation,IF(d.conn="FF",ff_calculation,plan_end_calculation)),""))),"") -> 44690 | W80: 0 | X80: 0 | Y80: 0 | Z80: 0 | AA80: 0 | AB80: 0 | AC80: 0 | AD80: 0 | AE80: 0 | AF80: 0 | AG80: 0 | AH80: 0 | AI80: 0 | AJ80: 0 | AK80: 0 | AL80: 0 | AM80: 0 | AN80: 0 | AO80: 0 | AP80: 0 | AQ80: 0 | AR80: 0 | AS80: 0 | AT80: 0 | AU80: 0 | AV80: 0 | AW80: 0 | AX80: 0 | AY80: 0 | AZ80: 0 | BA80: 0 | BB80: 0 | BC80: 0 | BD80: 0 | BE80: 0 | BF80: 0 | BG80: 0 | BH80: 0 | BI80: 0 | BJ80: 0 | BK80: 0 | BL80: 0 | BM80: 0 | BN80: 0 | BO80: 0 | BP80: 0 | BQ80: 0 | BR80: 0 | BS80: 0 | BT80: 0 | BU80: 0 | BV80: 0 | BW80: 0 | BX80: 0 | BY80: 0 | BZ80: 0 | CA80: 0 | CB80: 0 | CC80: 0
B81: =IF(ROW(id)=ROW($B$13)+2,1,MAX(prev_col_range)+1) -> 67 | C81: =IF(type<>"",IF(ROW(stage_id)=ROW($C$13)+2,1,IF(type="S",MAX(prev_col_range)+1,MAX(prev_col_range))),-1) -> 14 | D81: =_xlfn.IFNA(IF(OR(type="T",type="M"),MATCH(role,Settings!$I$9:$I$16,0),-1),-1) -> -1 | E81: T | F81: Complexe d'étanchéité de terrasse | H81: =_xlfn.IFNA(INDEX(Settings!$P$9:$P$38,MATCH(team_member,Settings!$N$9:$N$38,0)),"") | J81: ! | M81: =B78 -> 64 | N81: =IF(d.id<>"",IF(d.id<id,"↖",IF(d.id>id,"↙","")),"") -> ↖ | O81: =IFERROR("("&d.type&")"&IF(LEN(d.name)>20,LEFT(d.name,20)&"….",d.name),"") -> (T)Plancher hourdis | P81: SS | Q81: 1 | R81: 4 | S81: =IFERROR(IF(ind.start<>"",ind.start,IF(ind.end<>"",plan_start_calculation,IF(d.id<>"",IF(OR(d.conn="FS",d.conn=""),fs_calculation,IF(d.conn="SS",ss_calculation,plan_start_calculation)),""))),"") -> 44690 | T81: =IFERROR(IF(ind.start<>"",plan_end_calculation,IF(ind.end<>"",ind.end,IF(d.id<>"",IF(d.conn="SF",sf_calculation,IF(d.conn="FF",ff_calculation,plan_end_calculation)),""))),"") -> 44693 | W81: 0 | X81: 0 | Y81: 0 | Z81: 0 | AA81: 0 | AB81: 0 | AC81: 0 | AD81: 0 | AE81: 0 | AF81: 0 | AG81: 0 | AH81: 0 | AI81: 0 | AJ81: 0 | AK81: 0 | AL81: 0 | AM81: 0 | AN81: 0 | AO81: 0 | AP81: 0 | AQ81: 0 | AR81: 0 | AS81: 0 | AT81: 0 | AU81: 0 | AV81: 0 | AW81: 0 | AX81: 0 | AY81: 0 | AZ81: 0 | BA81: 0 | BB81: 0 | BC81: 0 | BD81: 0 | BE81: 0 | BF81: 0 | BG81: 0 | BH81: 0 | BI81: 0 | BJ81: 0 | BK81: 0 | BL81: 0 | BM81: 0 | BN81: 0 | BO81: 0 | BP81: 0 | BQ81: 0 | BR81: 0 | BS81: 0 | BT81: 0 | BU81: 0 | BV81: 0 | BW81: 0 | BX81: 0 | BY81: 0 | BZ81: 0 | CA81: 0 | CB81: 0 | CC81: 0
B82: =IF(ROW(id)=ROW($B$13)+2,1,MAX(prev_col_range)+1) -> 68 | C82: =IF(type<>"",IF(ROW(stage_id)=ROW($C$13)+2,1,IF(type="S",MAX(prev_col_range)+1,MAX(prev_col_range))),-1) -> 14 | D82: =_xlfn.IFNA(IF(OR(type="T",type="M"),MATCH(role,Settings!$I$9:$I$16,0),-1),-1) -> -1 | E82: T | F82: Peinture extérieur& intérieure | H82: =_xlfn.IFNA(INDEX(Settings!$P$9:$P$38,MATCH(team_member,Settings!$N$9:$N$38,0)),"") | J82: ! | M82: =B105 -> 91 | N82: =IF(d.id<>"",IF(d.id<id,"↖",IF(d.id>id,"↙","")),"") -> ↙ | O82: =IFERROR("("&d.type&")"&IF(LEN(d.name)>20,LEFT(d.name,20)&"….",d.name),"") -> (T)Espaces Verts | S82: =IFERROR(IF(ind.start<>"",ind.start,IF(ind.end<>"",plan_start_calculation,IF(d.id<>"",IF(OR(d.conn="FS",d.conn=""),fs_calculation,IF(d.conn="SS",ss_calculation,plan_start_calculation)),""))),"") -> 44755 | T82: =IFERROR(IF(ind.start<>"",plan_end_calculation,IF(ind.end<>"",ind.end,IF(d.id<>"",IF(d.conn="SF",sf_calculation,IF(d.conn="FF",ff_calculation,plan_end_calculation)),""))),"") -> 44755 | W82: 0 | X82: 0 | Y82: 0 | Z82: 0 | AA82: 0 | AB82: 0 | AC82: 0 | AD82: 0 | AE82: 0 | AF82: 0 | AG82: 0 | AH82: 0 | AI82: 0 | AJ82: 0 | AK82: 0 | AL82: 0 | AM82: 0 | AN82: 0 | AO82: 0 | AP82: 0 | AQ82: 0 | AR82: 0 | AS82: 0 | AT82: 0 | AU82: 0 | AV82: 0 | AW82: 0 | AX82: 0 | AY82: 0 | AZ82: 0 | BA82: 0 | BB82: 0 | BC82: 0 | BD82: 0 | BE82: 0 | BF82: 0 | BG82: 0 | BH82: 0 | BI82: 0 | BJ82: 0 | BK82: 0 | BL82: 0 | BM82: 0 | BN82: 0 | BO82: 0 | BP82: 0 | BQ82: 0 | BR82: 0 | BS82: 0 | BT82: 0 | BU82: 0 | BV82: 0 | BW82: 0 | BX82: 0 | BY82: 0 | BZ82: 0 | CA82: 0 | CB82: 0 | CC82: 0
B83: =IF(ROW(id)=ROW($B$13)+2,1,MAX(prev_col_range)+1) -> 69 | C83: =IF(type<>"",IF(ROW(stage_id)=ROW($C$13)+2,1,IF(type="S",MAX(prev_col_range)+1,MAX(prev_col_range))),-1) -> 14 | D83: =_xlfn.IFNA(IF(OR(type="T",type="M"),MATCH(role,Settings!$I$9:$I$16,0),-1),-1) -> -1 | E83: T | F83: Menuiserie métallique et gardecorps | H83: =_xlfn.IFNA(INDEX(Settings!$P$9:$P$38,MATCH(team_member,Settings!$N$9:$N$38,0)),"") | J83: ! | M83: =B21 -> 7 | N83: =IF(d.id<>"",IF(d.id<id,"↖",IF(d.id>id,"↙","")),"") -> ↖ | O83: =IFERROR("("&d.type&")"&IF(LEN(d.name)>20,LEFT(d.name,20)&"….",d.name),"") -> (T)Menuiserie métalliqu…. | P83: SS | S83: =IFERROR(IF(ind.start<>"",ind.start,IF(ind.end<>"",plan_start_calculation,IF(d.id<>"",IF(OR(d.conn="FS",d.conn=""),fs_calculation,IF(d.conn="SS",ss_calculation,plan_start_calculation)),""))),"") -> 44676 | T83: =IFERROR(IF(ind.start<>"",plan_end_calculation,IF(ind.end<>"",ind.end,IF(d.id<>"",IF(d.conn="SF",sf_calculation,IF(d.conn="FF",ff_calculation,plan_end_calculation)),""))),"") -> 44676 | W83: 0 | X83: 0 | Y83: 0 | Z83: 0 | AA83: 0 | AB83: 0 | AC83: 0 | AD83: 0 | AE83: 0 | AF83: 0 | AG83: 0 | AH83: 0 | AI83: 0 | AJ83: 0 | AK83: 0 | AL83: 0 | AM83: 0 | AN83: 0 | AO83: 0 | AP83: 0 | AQ83: 0 | AR83: 0 | AS83: 0 | AT83: 0 | AU83: 0 | AV83: 0 | AW83: 0 | AX83: 0 | AY83: 0 | AZ83: 0 | BA83: 0 | BB83: 0 | BC83: 0 | BD83: 0 | BE83: 0 | BF83: 0 | BG83: 0 | BH83: 0 | BI83: 0 | BJ83: 0 | BK83: 0 | BL83: 0 | BM83: 0 | BN83: 0 | BO83: 0 | BP83: 0 | BQ83: 0 | BR83: 0 | BS83: 0 | BT83: 0 | BU83: 0 | BV83: 0 | BW83: 0 | BX83: 0 | BY83: 0 | BZ83: 0 | CA83: 0 | CB83: 0 | CC83: 0
B84: =IF(ROW(id)=ROW($B$13)+2,1,MAX(prev_col_range)+1) -> 70 | C84: =IF(type<>"",IF(ROW(stage_id)=ROW($C$13)+2,1,IF(type="S",MAX(prev_col_range)+1,MAX(prev_col_range))),-1) -> 15 | D84: =_xlfn.IFNA(IF(OR(type="T",type="M"),MATCH(role,Settings!$I$9:$I$16,0),-1),-1) -> -1 | E84: S | F84: Bâtiment Atelier-Magasin | H84: =_xlfn.IFNA(INDEX(Settings!$P$9:$P$38,MATCH(team_member,Settings!$N$9:$N$38,0)),"") | K84: =MIN(S85:S94) -> 44621 | N84: =IF(d.id<>"",IF(d.id<id,"↖",IF(d.id>id,"↙","")),"") | O84: =IFERROR("("&d.type&")"&IF(LEN(d.name)>20,LEFT(d.name,20)&"….",d.name),"") | R84: =NETWORKDAYS(plan_start,MAX(T85:T94)) -> 1 | S84: =IFERROR(IF(ind.start<>"",ind.start,IF(ind.end<>"",plan_start_calculation,IF(d.id<>"",IF(OR(d.conn="FS",d.conn=""),fs_calculation,IF(d.conn="SS",ss_calculation,plan_start_calculation)),""))),"") -> 44621 | T84: =IFERROR(IF(ind.start<>"",plan_end_calculation,IF(ind.end<>"",ind.end,IF(d.id<>"",IF(d.conn="SF",sf_calculation,IF(d.conn="FF",ff_calculation,plan_end_calculation)),""))),"") -> 44621 | W84: {=SUM(W85:W94*R85:R94)/SUM(R85:R94)} -> #DIV/0! | X84: 0 | Y84: 0 | Z84: 0 | AA84: 0 | AB84: 0 | AC84: 0 | AD84: 0 | AE84: 0 | AF84: 0 | AG84: 0 | AH84: 0 | AI84: 0 | AJ84: 0 | AK84: 0 | AL84: 0 | AM84: 0 | AN84: 0 | AO84: 0 | AP84: 0 | AQ84: 0 | AR84: 0 | AS84: 0 | AT84: 0 | AU84: 0 | AV84: 0 | AW84: 0 | AX84: 0 | AY84: 0 | AZ84: 0 | BA84: 0 | BB84: 0 | BC84: 0 | BD84: 0 | BE84: 0 | BF84: 0 | BG84: 0 | BH84: 0 | BI84: 0 | BJ84: 0 | BK84: 0 | BL84: 0 | BM84: 0 | BN84: 0 | BO84: 0 | BP84: 0 | BQ84: 0 | BR84: 0 | BS84: 0 | BT84: 0 | BU84: 0 | BV84: 0 | BW84: 0 | BX84: 0 | BY84: 0 | BZ84: 0 | CA84: 0 | CB84: 0 | CC84: 0
B85: =IF(ROW(id)=ROW($B$13)+2,1,MAX(prev_col_range)+1) -> 71 | C85: =IF(type<>"",IF(ROW(stage_id)=ROW($C$13)+2,1,IF(type="S",MAX(prev_col_range)+1,MAX(prev_col_range))),-1) -> 15 | D85: =_xlfn.IFNA(IF(OR(type="T",type="M"),MATCH(role,Settings!$I$9:$I$16,0),-1),-1) -> -1 | E85: T | F85: Terrassement | H85: =_xlfn.IFNA(INDEX(Settings!$P$9:$P$38,MATCH(team_member,Settings!$N$9:$N$38,0)),"") | J85: ! | K85: 44621 | N85: =IF(d.id<>"",IF(d.id<id,"↖",IF(d.id>id,"↙","")),"") | O85: =IFERROR("("&d.type&")"&IF(LEN(d.name)>20,LEFT(d.name,20)&"….",d.name),"") | S85: =IFERROR(IF(ind.start<>"",ind.start,IF(ind.end<>"",plan_start_calculation,IF(d.id<>"",IF(OR(d.conn="FS",d.conn=""),fs_calculation,IF(d.conn="SS",ss_calculation,plan_start_calculation)),""))),"") -> 44621 | T85: =IFERROR(IF(ind.start<>"",plan_end_calculation,IF(ind.end<>"",ind.end,IF(d.id<>"",IF(d.conn="SF",sf_calculation,IF(d.conn="FF",ff_calculation,plan_end_calculation)),""))),"") -> 44621 | W85: 0.1 | X85: 0 | Y85: 0 | Z85: 0 | AA85: 0 | AB85: 0 | AC85: 0 | AD85: 0 | AE85: 0 | AF85: 0 | AG85: 0 | AH85: 0 | AI85: 0 | AJ85: 0 | AK85: 0 | AL85: 0 | AM85: 0 | AN85: 0 | AO85: 0 | AP85: 0 | AQ85: 0 | AR85: 0 | AS85: 0 | AT85: 0 | AU85: 0 | AV85: 0 | AW85: 0 | AX85: 0 | AY85: 0 | AZ85: 0 | BA85: 0 | BB85: 0 | BC85: 0 | BD85: 0 | BE85: 0 | BF85: 0 | BG85: 0 | BH85: 0 | BI85: 0 | BJ85: 0 | BK85: 0 | BL85: 0 | BM85: 0 | BN85: 0 | BO85: 0 | BP85: 0 | BQ85: 0 | BR85: 0 | BS85: 0 | BT85: 0 | BU85: 0 | BV85: 0 | BW85: 0 | BX85: 0 | BY85: 0 | BZ85: 0 | CA85: 0 | CB85: 0 | CC85: 0
B86: =IF(ROW(id)=ROW($B$13)+2,1,MAX(prev_col_range)+1) -> 72 | C86: =IF(type<>"",IF(ROW(stage_id)=ROW($C$13)+2,1,IF(type="S",MAX(prev_col_range)+1,MAX(prev_col_range))),-1) -> 15 | D86: =_xlfn.IFNA(IF(OR(type="T",type="M"),MATCH(role,Settings!$I$9:$I$16,0),-1),-1) -> -1 | E86: T | F86: Béton de propreté | H86: =_xlfn.IFNA(INDEX(Settings!$P$9:$P$38,MATCH(team_member,Settings!$N$9:$N$38,0)),"") | J86: ! | N86: =IF(d.id<>"",IF(d.id<id,"↖",IF(d.id>id,"↙","")),"") | O86: =IFERROR("("&d.type&")"&IF(LEN(d.name)>20,LEFT(d.name,20)&"….",d.name),"") | S86: =IFERROR(IF(ind.start<>"",ind.start,IF(ind.end<>"",plan_start_calculation,IF(d.id<>"",IF(OR(d.conn="FS",d.conn=""),fs_calculation,IF(d.conn="SS",ss_calculation,plan_start_calculation)),""))),"") | T86: =IFERROR(IF(ind.start<>"",plan_end_calculation,IF(ind.end<>"",ind.end,IF(d.id<>"",IF(d.conn="SF",sf_calculation,IF(d.conn="FF",ff_calculation,plan_end_calculation)),""))),"") | W86: 0 | X86: 0 | Y86: 0 | Z86: 0 | AA86: 0 | AB86: 0 | AC86: 0 | AD86: 0 | AE86: 0 | AF86: 0 | AG86: 0 | AH86: 0 | AI86: 0 | AJ86: 0 | AK86: 0 | AL86: 0 | AM86: 0 | AN86: 0 | AO86: 0 | AP86: 0 | AQ86: 0 | AR86: 0 | AS86: 0 | AT86: 0 | AU86: 0 | AV86: 0 | AW86: 0 | AX86: 0 | AY86: 0 | AZ86: 0 | BA86: 0 | BB86: 0 | BC86: 0 | BD86: 0 | BE86: 0 | BF86: 0 | BG86: 0 | BH86: 0 | BI86: 0 | BJ86: 0 | BK86: 0 | BL86: 0 | BM86: 0 | BN86: 0 | BO86: 0 | BP86: 0 | BQ86: 0 | BR86: 0 | BS86: 0 | BT86: 0 | BU86: 0 | BV86: 0 | BW86: 0 | BX86: 0 | BY86: 0 | BZ86: 0 | CA86: 0 | CB86: 0 | CC86: 0
B87: =IF(ROW(id)=ROW($B$13)+2,1,MAX(prev_col_range)+1) -> 73 | C87: =IF(type<>"",IF(ROW(stage_id)=ROW($C$13)+2,1,IF(type="S",MAX(prev_col_range)+1,MAX(prev_col_range))),-1) -> 15 | D87: =_xlfn.IFNA(IF(OR(type="T",type="M"),MATCH(role,Settings!$I$9:$I$16,0),-1),-1) -> -1 | E87: T | F87: Béton en dalle de fond | H87: =_xlfn.IFNA(INDEX(Settings!$P$9:$P$38,MATCH(team_member,Settings!$N$9:$N$38,0)),"") | J87: ! | N87: =IF(d.id<>"",IF(d.id<id,"↖",IF(d.id>id,"↙","")),"") | O87: =IFERROR("("&d.type&")"&IF(LEN(d.name)>20,LEFT(d.name,20)&"….",d.name),"") | S87: =IFERROR(IF(ind.start<>"",ind.start,IF(ind.end<>"",plan_start_calculation,IF(d.id<>"",IF(OR(d.conn="FS",d.conn=""),fs_calculation,IF(d.conn="SS",ss_calculation,plan_start_calculation)),""))),"") | T87: =IFERROR(IF(ind.start<>"",plan_end_calculation,IF(ind.end<>"",ind.end,IF(d.id<>"",IF(d.conn="SF",sf_calculation,IF(d.conn="FF",ff_calculation,plan_end_calculation)),""))),"") | W87: 0 | X87: 0 | Y87: 0 | Z87: 0 | AA87: 0 | AB87: 0 | AC87: 0 | AD87: 0 | AE87: 0 | AF87: 0 | AG87: 0 | AH87: 0 | AI87: 0 | AJ87: 0 | AK87: 0 | AL87: 0 | AM87: 0 | AN87: 0 | AO87: 0 | AP87: 0 | AQ87: 0 | AR87: 0 | AS87: 0 | AT87: 0 | AU87: 0 | AV87: 0 | AW87: 0 | AX87: 0 | AY87: 0 | AZ87: 0 | BA87: 0 | BB87: 0 | BC87: 0 | BD87: 0 | BE87: 0 | BF87: 0 | BG87: 0 | BH87: 0 | BI87: 0 | BJ87: 0 | BK87: 0 | BL87: 0 | BM87: 0 | BN87: 0 | BO87: 0 | BP87: 0 | BQ87: 0 | BR87: 0 | BS87: 0 | BT87: 0 | BU87: 0 | BV87: 0 | BW87: 0 | BX87: 0 | BY87: 0 | BZ87: 0 | CA87: 0 | CB87: 0 | CC87: 0
B88: =IF(ROW(id)=ROW($B$13)+2,1,MAX(prev_col_range)+1) -> 74 | C88: =IF(type<>"",IF(ROW(stage_id)=ROW($C$13)+2,1,IF(type="S",MAX(prev_col_range)+1,MAX(prev_col_range))),-1) -> 15 | D88: =_xlfn.IFNA(IF(OR(type="T",type="M"),MATCH(role,Settings!$I$9:$I$16,0),-1),-1) -> -1 | E88: T | F88: Béton en élèvation | H88: =_xlfn.IFNA(INDEX(Settings!$P$9:$P$38,MATCH(team_member,Settings!$N$9:$N$38,0)),"") | J88: ! | N88: =IF(d.id<>"",IF(d.id<id,"↖",IF(d.id>id,"↙","")),"") | O88: =IFERROR("("&d.type&")"&IF(LEN(d.name)>20,LEFT(d.name,20)&"….",d.name),"") | S88: =IFERROR(IF(ind.start<>"",ind.start,IF(ind.end<>"",plan_start_calculation,IF(d.id<>"",IF(OR(d.conn="FS",d.conn=""),fs_calculation,IF(d.conn="SS",ss_calculation,plan_start_calculation)),""))),"") | T88: =IFERROR(IF(ind.start<>"",plan_end_calculation,IF(ind.end<>"",ind.end,IF(d.id<>"",IF(d.conn="SF",sf_calculation,IF(d.conn="FF",ff_calculation,plan_end_calculation)),""))),"") | W88: 0 | X88: 0 | Y88: 0 | Z88: 0 | AA88: 0 | AB88: 0 | AC88: 0 | AD88: 0 | AE88: 0 | AF88: 0 | AG88: 0 | AH88: 0 | AI88: 0 | AJ88: 0 | AK88: 0 | AL88: 0 | AM88: 0 | AN88: 0 | AO88: 0 | AP88: 0 | AQ88: 0 | AR88: 0 | AS88: 0 | AT88: 0 | AU88: 0 | AV88: 0 | AW88: 0 | AX88: 0 | AY88: 0 | AZ88: 0 | BA88: 0 | BB88: 0 | BC88: 0 | BD88: 0 | BE88: 0 | BF88: 0 | BG88: 0 | BH88: 0 | BI88: 0 | BJ88: 0 | BK88: 0 | BL88: 0 | BM88: 0 | BN88: 0 | BO88: 0 | BP88: 0 | BQ88: 0 | BR88: 0 | BS88: 0 | BT88: 0 | BU88: 0 | BV88: 0 | BW88: 0 | BX88: 0 | BY88: 0 | BZ88: 0 | CA88: 0 | CB88: 0 | CC88: 0
B89: =IF(ROW(id)=ROW($B$13)+2,1,MAX(prev_col_range)+1) -> 75 | C89: =IF(type<>"",IF(ROW(stage_id)=ROW($C$13)+2,1,IF(type="S",MAX(prev_col_range)+1,MAX(prev_col_range))),-1) -> 15 | D89: =_xlfn.IFNA(IF(OR(type="T",type="M"),MATCH(role,Settings!$I$9:$I$16,0),-1),-1) -> -1 | E89: T | F89: Plancher hourdis | H89: =_xlfn.IFNA(INDEX(Settings!$P$9:$P$38,MATCH(team_member,Settings!$N$9:$N$38,0)),"") | J89: ! | N89: =IF(d.id<>"",IF(d.id<id,"↖",IF(d.id>id,"↙","")),"") | O89: =IFERROR("("&d.type&")"&IF(LEN(d.name)>20,LEFT(d.name,20)&"….",d.name),"") | S89: =IFERROR(IF(ind.start<>"",ind.start,IF(ind.end<>"",plan_start_calculation,IF(d.id<>"",IF(OR(d.conn="FS",d.conn=""),fs_calculation,IF(d.conn="SS",ss_calculation,plan_start_calculation)),""))),"") | T89: =IFERROR(IF(ind.start<>"",plan_end_calculation,IF(ind.end<>"",ind.end,IF(d.id<>"",IF(d.conn="SF",sf_calculation,IF(d.conn="FF",ff_calculation,plan_end_calculation)),""))),"") | W89: 0 | X89: 0 | Y89: 0 | Z89: 0 | AA89: 0 | AB89: 0 | AC89: 0 | AD89: 0 | AE89: 0 | AF89: 0 | AG89: 0 | AH89: 0 | AI89: 0 | AJ89: 0 | AK89: 0 | AL89: 0 | AM89: 0 | AN89: 0 | AO89: 0 | AP89: 0 | AQ89: 0 | AR89: 0 | AS89: 0 | AT89: 0 | AU89: 0 | AV89: 0 | AW89: 0 | AX89: 0 | AY89: 0 | AZ89: 0 | BA89: 0 | BB89: 0 | BC89: 0 | BD89: 0 | BE89: 0 | BF89: 0 | BG89: 0 | BH89: 0 | BI89: 0 | BJ89: 0 | BK89: 0 | BL89: 0 | BM89: 0 | BN89: 0 | BO89: 0 | BP89: 0 | BQ89: 0 | BR89: 0 | BS89: 0 | BT89: 0 | BU89: 0 | BV89: 0 | BW89: 0 | BX89: 0 | BY89: 0 | BZ89: 0 | CA89: 0 | CB89: 0 | CC89: 0
B90: =IF(ROW(id)=ROW($B$13)+2,1,MAX(prev_col_range)+1) -> 76 | C90: =IF(type<>"",IF(ROW(stage_id)=ROW($C$13)+2,1,IF(type="S",MAX(prev_col_range)+1,MAX(prev_col_range))),-1) -> 15 | D90: =_xlfn.IFNA(IF(OR(type="T",type="M"),MATCH(role,Settings!$I$9:$I$16,0),-1),-1) -> -1 | E90: T | F90: Maçonnerie en agglos | H90: =_xlfn.IFNA(INDEX(Settings!$P$9:$P$38,MATCH(team_member,Settings!$N$9:$N$38,0)),"") | J90: ! | N90: =IF(d.id<>"",IF(d.id<id,"↖",IF(d.id>id,"↙","")),"") | O90: =IFERROR("("&d.type&")"&IF(LEN(d.name)>20,LEFT(d.name,20)&"….",d.name),"") | S90: =IFERROR(IF(ind.start<>"",ind.start,IF(ind.end<>"",plan_start_calculation,IF(d.id<>"",IF(OR(d.conn="FS",d.conn=""),fs_calculation,IF(d.conn="SS",ss_calculation,plan_start_calculation)),""))),"") | T90: =IFERROR(IF(ind.start<>"",plan_end_calculation,IF(ind.end<>"",ind.end,IF(d.id<>"",IF(d.conn="SF",sf_calculation,IF(d.conn="FF",ff_calculation,plan_end_calculation)),""))),"") | W90: 0 | X90: 0 | Y90: 0 | Z90: 0 | AA90: 0 | AB90: 0 | AC90: 0 | AD90: 0 | AE90: 0 | AF90: 0 | AG90: 0 | AH90: 0 | AI90: 0 | AJ90: 0 | AK90: 0 | AL90: 0 | AM90: 0 | AN90: 0 | AO90: 0 | AP90: 0 | AQ90: 0 | AR90: 0 | AS90: 0 | AT90: 0 | AU90: 0 | AV90: 0 | AW90: 0 | AX90: 0 | AY90: 0 | AZ90: 0 | BA90: 0 | BB90: 0 | BC90: 0 | BD90: 0 | BE90: 0 | BF90: 0 | BG90: 0 | BH90: 0 | BI90: 0 | BJ90: 0 | BK90: 0 | BL90: 0 | BM90: 0 | BN90: 0 | BO90: 0 | BP90: 0 | BQ90: 0 | BR90: 0 | BS90: 0 | BT90: 0 | BU90: 0 | BV90: 0 | BW90: 0 | BX90: 0 | BY90: 0 | BZ90: 0 | CA90: 0 | CB90: 0 | CC90: 0
B91: =IF(ROW(id)=ROW($B$13)+2,1,MAX(prev_col_range)+1) -> 77 | C91: =IF(type<>"",IF(ROW(stage_id)=ROW($C$13)+2,1,IF(type="S",MAX(prev_col_range)+1,MAX(prev_col_range))),-1) -> 15 | D91: =_xlfn.IFNA(IF(OR(type="T",type="M"),MATCH(role,Settings!$I$9:$I$16,0),-1),-1) -> -1 | E91: T | F91: Enduits intérieur& extérieur | H91: =_xlfn.IFNA(INDEX(Settings!$P$9:$P$38,MATCH(team_member,Settings!$N$9:$N$38,0)),"") | J91: ! | N91: =IF(d.id<>"",IF(d.id<id,"↖",IF(d.id>id,"↙","")),"") | O91: =IFERROR("("&d.type&")"&IF(LEN(d.name)>20,LEFT(d.name,20)&"….",d.name),"") | S91: =IFERROR(IF(ind.start<>"",ind.start,IF(ind.end<>"",plan_start_calculation,IF(d.id<>"",IF(OR(d.conn="FS",d.conn=""),fs_calculation,IF(d.conn="SS",ss_calculation,plan_start_calculation)),""))),"") | T91: =IFERROR(IF(ind.start<>"",plan_end_calculation,IF(ind.end<>"",ind.end,IF(d.id<>"",IF(d.conn="SF",sf_calculation,IF(d.conn="FF",ff_calculation,plan_end_calculation)),""))),"") | W91: 0 | X91: 0 | Y91: 0 | Z91: 0 | AA91: 0 | AB91: 0 | AC91: 0 | AD91: 0 | AE91: 0 | AF91: 0 | AG91: 0 | AH91: 0 | AI91: 0 | AJ91: 0 | AK91: 0 | AL91: 0 | AM91: 0 | AN91: 0 | AO91: 0 | AP91: 0 | AQ91: 0 | AR91: 0 | AS91: 0 | AT91: 0 | AU91: 0 | AV91: 0 | AW91: 0 | AX91: 0 | AY91: 0 | AZ91: 0 | BA91: 0 | BB91: 0 | BC91: 0 | BD91: 0 | BE91: 0 | BF91: 0 | BG91: 0 | BH91: 0 | BI91: 0 | BJ91: 0 | BK91: 0 | BL91: 0 | BM91: 0 | BN91: 0 | BO91: 0 | BP91: 0 | BQ91: 0 | BR91: 0 | BS91: 0 | BT91: 0 | BU91: 0 | BV91: 0 | BW91: 0 | BX91: 0 | BY91: 0 | BZ91: 0 | CA91: 0 | CB91: 0 | CC91: 0
B92: =IF(ROW(id)=ROW($B$13)+2,1,MAX(prev_col_range)+1) -> 78 | C92: =IF(type<>"",IF(ROW(stage_id)=ROW($C$13)+2,1,IF(type="S",MAX(prev_col_range)+1,MAX(prev_col_range))),-1) -> 15 | D92: =_xlfn.IFNA(IF(OR(type="T",type="M"),MATCH(role,Settings!$I$9:$I$16,0),-1),-1) -> -1 | E92: T | F92: Complexe d'étanchéité de terrasse | H92: =_xlfn.IFNA(INDEX(Settings!$P$9:$P$38,MATCH(team_member,Settings!$N$9:$N$38,0)),"") | J92: ! | N92: =IF(d.id<>"",IF(d.id<id,"↖",IF(d.id>id,"↙","")),"") | O92: =IFERROR("("&d.type&")"&IF(LEN(d.name)>20,LEFT(d.name,20)&"….",d.name),"") | S92: =IFERROR(IF(ind.start<>"",ind.start,IF(ind.end<>"",plan_start_calculation,IF(d.id<>"",IF(OR(d.conn="FS",d.conn=""),fs_calculation,IF(d.conn="SS",ss_calculation,plan_start_calculation)),""))),"") | T92: =IFERROR(IF(ind.start<>"",plan_end_calculation,IF(ind.end<>"",ind.end,IF(d.id<>"",IF(d.conn="SF",sf_calculation,IF(d.conn="FF",ff_calculation,plan_end_calculation)),""))),"") | W92: 0 | X92: 0 | Y92: 0 | Z92: 0 | AA92: 0 | AB92: 0 | AC92: 0 | AD92: 0 | AE92: 0 | AF92: 0 | AG92: 0 | AH92: 0 | AI92: 0 | AJ92: 0 | AK92: 0 | AL92: 0 | AM92: 0 | AN92: 0 | AO92: 0 | AP92: 0 | AQ92: 0 | AR92: 0 | AS92: 0 | AT92: 0 | AU92: 0 | AV92: 0 | AW92: 0 | AX92: 0 | AY92: 0 | AZ92: 0 | BA92: 0 | BB92: 0 | BC92: 0 | BD92: 0 | BE92: 0 | BF92: 0 | BG92: 0 | BH92: 0 | BI92: 0 | BJ92: 0 | BK92: 0 | BL92: 0 | BM92: 0 | BN92: 0 | BO92: 0 | BP92: 0 | BQ92: 0 | BR92: 0 | BS92: 0 | BT92: 0 | BU92: 0 | BV92: 0 | BW92: 0 | BX92: 0 | BY92: 0 | BZ92: 0 | CA92: 0 | CB92: 0 | CC92: 0
B93: =IF(ROW(id)=ROW($B$13)+2,1,MAX(prev_col_range)+1) -> 79 | C93: =IF(type<>"",IF(ROW(stage_id)=ROW($C$13)+2,1,IF(type="S",MAX(prev_col_range)+1,MAX(prev_col_range))),-1) -> 15 | D93: =_xlfn.IFNA(IF(OR(type="T",type="M"),MATCH(role,Settings!$I$9:$I$16,0),-1),-1) -> -1 | E93: T | F93: Peinture extérieur& intérieure | H93: =_xlfn.IFNA(INDEX(Settings!$P$9:$P$38,MATCH(team_member,Settings!$N$9:$N$38,0)),"") | J93: ! | N93: =IF(d.id<>"",IF(d.id<id,"↖",IF(d.id>id,"↙","")),"") | O93: =IFERROR("("&d.type&")"&IF(LEN(d.name)>20,LEFT(d.name,20)&"….",d.name),"") | S93: =IFERROR(IF(ind.start<>"",ind.start,IF(ind.end<>"",plan_start_calculation,IF(d.id<>"",IF(OR(d.conn="FS",d.conn=""),fs_calculation,IF(d.conn="SS",ss_calculation,plan_start_calculation)),""))),"") | T93: =IFERROR(IF(ind.start<>"",plan_end_calculation,IF(ind.end<>"",ind.end,IF(d.id<>"",IF(d.conn="SF",sf_calculation,IF(d.conn="FF",ff_calculation,plan_end_calculation)),""))),"") | W93: 0 | X93: 0 | Y93: 0 | Z93: 0 | AA93: 0 | AB93: 0 | AC93: 0 | AD93: 0 | AE93: 0 | AF93: 0 | AG93: 0 | AH93: 0 | AI93: 0 | AJ93: 0 | AK93: 0 | AL93: 0 | AM93: 0 | AN93: 0 | AO93: 0 | AP93: 0 | AQ93: 0 | AR93: 0 | AS93: 0 | AT93: 0 | AU93: 0 | AV93: 0 | AW93: 0 | AX93: 0 | AY93: 0 | AZ93: 0 | BA93: 0 | BB93: 0 | BC93: 0 | BD93: 0 | BE93: 0 | BF93: 0 | BG93: 0 | BH93: 0 | BI93: 0 | BJ93: 0 | BK93: 0 | BL93: 0 | BM93: 0 | BN93: 0 | BO93: 0 | BP93: 0 | BQ93: 0 | BR93: 0 | BS93: 0 | BT93: 0 | BU93: 0 | BV93: 0 | BW93: 0 | BX93: 0 | BY93: 0 | BZ93: 0 | CA93: 0 | CB93: 0 | CC93: 0
B94: =IF(ROW(id)=ROW($B$13)+2,1,MAX(prev_col_range)+1) -> 80 | C94: =IF(type<>"",IF(ROW(stage_id)=ROW($C$13)+2,1,IF(type="S",MAX(prev_col_range)+1,MAX(prev_col_range))),-1) -> 15 | D94: =_xlfn.IFNA(IF(OR(type="T",type="M"),MATCH(role,Settings!$I$9:$I$16,0),-1),-1) -> -1 | E94: T | F94: Menuiserie métallique et gardecorps | H94: =_xlfn.IFNA(INDEX(Settings!$P$9:$P$38,MATCH(team_member,Settings!$N$9:$N$38,0)),"") | J94: ! | N94: =IF(d.id<>"",IF(d.id<id,"↖",IF(d.id>id,"↙","")),"") | O94: =IFERROR("("&d.type&")"&IF(LEN(d.name)>20,LEFT(d.name,20)&"….",d.name),"") | S94: =IFERROR(IF(ind.start<>"",ind.start,IF(ind.end<>"",plan_start_calculation,IF(d.id<>"",IF(OR(d.conn="FS",d.conn=""),fs_calculation,IF(d.conn="SS",ss_calculation,plan_start_calculation)),""))),"") | T94: =IFERROR(IF(ind.start<>"",plan_end_calculation,IF(ind.end<>"",ind.end,IF(d.id<>"",IF(d.conn="SF",sf_calculation,IF(d.conn="FF",ff_calculation,plan_end_calculation)),""))),"") | W94: 0 | X94: 0 | Y94: 0 | Z94: 0 | AA94: 0 | AB94: 0 | AC94: 0 | AD94: 0 | AE94: 0 | AF94: 0 | AG94: 0 | AH94: 0 | AI94: 0 | AJ94: 0 | AK94: 0 | AL94: 0 | AM94: 0 | AN94: 0 | AO94: 0 | AP94: 0 | AQ94: 0 | AR94: 0 | AS94: 0 | AT94: 0 | AU94: 0 | AV94: 0 | AW94: 0 | AX94: 0 | AY94: 0 | AZ94: 0 | BA94: 0 | BB94: 0 | BC94: 0 | BD94: 0 | BE94: 0 | BF94: 0 | BG94: 0 | BH94: 0 | BI94: 0 | BJ94: 0 | BK94: 0 | BL94: 0 | BM94: 0 | BN94: 0 | BO94: 0 | BP94: 0 | BQ94: 0 | BR94: 0 | BS94: 0 | BT94: 0 | BU94: 0 | BV94: 0 | BW94: 0 | BX94: 0 | BY94: 0 | BZ94: 0 | CA94: 0 | CB94: 0 | CC94: 0
B95: =IF(ROW(id)=ROW($B$13)+2,1,MAX(prev_col_range)+1) -> 81 | C95: =IF(type<>"",IF(ROW(stage_id)=ROW($C$13)+2,1,IF(type="S",MAX(prev_col_range)+1,MAX(prev_col_range))),-1) -> 16 | D95: =_xlfn.IFNA(IF(OR(type="T",type="M"),MATCH(role,Settings!$I$9:$I$16,0),-1),-1) -> -1 | E95: S | F95: Travaux Réseaux et Aménagement | H95: =_xlfn.IFNA(INDEX(Settings!$P$9:$P$38,MATCH(team_member,Settings!$N$9:$N$38,0)),"") | K95: =MIN(S96:S105) -> 44621 | N95: =IF(d.id<>"",IF(d.id<id,"↖",IF(d.id>id,"↙","")),"") | O95: =IFERROR("("&d.type&")"&IF(LEN(d.name)>20,LEFT(d.name,20)&"….",d.name),"") | R95: =NETWORKDAYS(plan_start,MAX(T96:T105)) -> 96 | S95: =IFERROR(IF(ind.start<>"",ind.start,IF(ind.end<>"",plan_start_calculation,IF(d.id<>"",IF(OR(d.conn="FS",d.conn=""),fs_calculation,IF(d.conn="SS",ss_calculation,plan_start_calculation)),""))),"") -> 44621 | T95: =IFERROR(IF(ind.start<>"",plan_end_calculation,IF(ind.end<>"",ind.end,IF(d.id<>"",IF(d.conn="SF",sf_calculation,IF(d.conn="FF",ff_calculation,plan_end_calculation)),""))),"") -> 44754 | W95: {=SUM(W96:W105*R96:R105)/SUM(R96:R105)} -> 0.11111111 | X95: 0 | Y95: 0 | Z95: 0 | AA95: 0 | AB95: 0 | AC95: 0 | AD95: 0 | AE95: 0 | AF95: 0 | AG95: 0 | AH95: 0 | AI95: 0 | AJ95: 0 | AK95: 0 | AL95: 0 | AM95: 0 | AN95: 0 | AO95: 0 | AP95: 0 | AQ95: 0 | AR95: 0 | AS95: 0 | AT95: 0 | AU95: 0 | AV95: 0 | AW95: 0 | AX95: 0 | AY95: 0 | AZ95: 0 | BA95: 0 | BB95: 0 | BC95: 0 | BD95: 0 | BE95: 0 | BF95: 0 | BG95: 0 | BH95: 0 | BI95: 0 | BJ95: 0 | BK95: 0 | BL95: 0 | BM95: 0 | BN95: 0 | BO95: 0 | BP95: 0 | BQ95: 0 | BR95: 0 | BS95: 0 | BT95: 0 | BU95: 0 | BV95: 0 | BW95: 0 | BX95: 0 | BY95: 0 | BZ95: 0 | CA95: 0 | CB95: 0 | CC95: 0
B96: =IF(ROW(id)=ROW($B$13)+2,1,MAX(prev_col_range)+1) -> 82 | C96: =IF(type<>"",IF(ROW(stage_id)=ROW($C$13)+2,1,IF(type="S",MAX(prev_col_range)+1,MAX(prev_col_range))),-1) -> 16 | D96: =_xlfn.IFNA(IF(OR(type="T",type="M"),MATCH(role,Settings!$I$9:$I$16,0),-1),-1) -> -1 | E96: T | F96: Réseau ligne d'eau et By-pass | H96: =_xlfn.IFNA(INDEX(Settings!$P$9:$P$38,MATCH(team_member,Settings!$N$9:$N$38,0)),"") | K96: 44621 | N96: =IF(d.id<>"",IF(d.id<id,"↖",IF(d.id>id,"↙","")),"") | O96: =IFERROR("("&d.type&")"&IF(LEN(d.name)>20,LEFT(d.name,20)&"….",d.name),"") | R96: 40 | S96: =IFERROR(IF(ind.start<>"",ind.start,IF(ind.end<>"",plan_start_calculation,IF(d.id<>"",IF(OR(d.conn="FS",d.conn=""),fs_calculation,IF(d.conn="SS",ss_calculation,plan_start_calculation)),""))),"") -> 44621 | T96: =IFERROR(IF(ind.start<>"",plan_end_calculation,IF(ind.end<>"",ind.end,IF(d.id<>"",IF(d.conn="SF",sf_calculation,IF(d.conn="FF",ff_calculation,plan_end_calculation)),""))),"") -> 44676 | W96: 1 | X96: 0 | Y96: 0 | Z96: 0 | AA96: 0 | AB96: 0 | AC96: 0 | AD96: 0 | AE96: 0 | AF96: 0 | AG96: 0 | AH96: 0 | AI96: 0 | AJ96: 0 | AK96: 0 | AL96: 0 | AM96: 0 | AN96: 0 | AO96: 0 | AP96: 0 | AQ96: 0 | AR96: 0 | AS96: 0 | AT96: 0 | AU96: 0 | AV96: 0 | AW96: 0 | AX96: 0 | AY96: 0 | AZ96: 0 | BA96: 0 | BB96: 0 | BC96: 0 | BD96: 0 | BE96: 0 | BF96: 0 | BG96: 0 | BH96: 0 | BI96: 0 | BJ96: 0 | BK96: 0 | BL96: 0 | BM96: 0 | BN96: 0 | BO96: 0 | BP96: 0 | BQ96: 0 | BR96: 0 | BS96: 0 | BT96: 0 | BU96: 0 | BV96: 0 | BW96: 0 | BX96: 0 | BY96: 0 | BZ96: 0 | CA96: 0 | CB96: 0 | CC96: 0
B97: =IF(ROW(id)=ROW($B$13)+2,1,MAX(prev_col_range)+1) -> 83 | C97: =IF(type<>"",IF(ROW(stage_id)=ROW($C$13)+2,1,IF(type="S",MAX(prev_col_range)+1,MAX(prev_col_range))),-1) -> 16 | D97: =_xlfn.IFNA(IF(OR(type="T",type="M"),MATCH(role,Settings!$I$9:$I$16,0),-1),-1) -> -1 | E97: T | F97: Réseaux des boues | H97: =_xlfn.IFNA(INDEX(Settings!$P$9:$P$38,MATCH(team_member,Settings!$N$9:$N$38,0)),"") | J97: ! | N97: =IF(d.id<>"",IF(d.id<id,"↖",IF(d.id>id,"↙","")),"") | O97: =IFERROR("("&d.type&")"&IF(LEN(d.name)>20,LEFT(d.name,20)&"….",d.name),"") | R97: 40 | S97: =IFERROR(IF(ind.start<>"",ind.start,IF(ind.end<>"",plan_start_calculation,IF(d.id<>"",IF(OR(d.conn="FS",d.conn=""),fs_calculation,IF(d.conn="SS",ss_calculation,plan_start_calculation)),""))),"") | T97: =IFERROR(IF(ind.start<>"",plan_end_calculation,IF(ind.end<>"",ind.end,IF(d.id<>"",IF(d.conn="SF",sf_calculation,IF(d.conn="FF",ff_calculation,plan_end_calculation)),""))),"") | W97: 0 | X97: 0 | Y97: 0 | Z97: 0 | AA97: 0 | AB97: 0 | AC97: 0 | AD97: 0 | AE97: 0 | AF97: 0 | AG97: 0 | AH97: 0 | AI97: 0 | AJ97: 0 | AK97: 0 | AL97: 0 | AM97: 0 | AN97: 0 | AO97: 0 | AP97: 0 | AQ97: 0 | AR97: 0 | AS97: 0 | AT97: 0 | AU97: 0 | AV97: 0 | AW97: 0 | AX97: 0 | AY97: 0 | AZ97: 0 | BA97: 0 | BB97: 0 | BC97: 0 | BD97: 0 | BE97: 0 | BF97: 0 | BG97: 0 | BH97: 0 | BI97: 0 | BJ97: 0 | BK97: 0 | BL97: 0 | BM97: 0 | BN97: 0 | BO97: 0 | BP97: 0 | BQ97: 0 | BR97: 0 | BS97: 0 | BT97: 0 | BU97: 0 | BV97: 0 | BW97: 0 | BX97: 0 | BY97: 0 | BZ97: 0 | CA97: 0 | CB97: 0 | CC97: 0
B98: =IF(ROW(id)=ROW($B$13)+2,1,MAX(prev_col_range)+1) -> 84 | C98: =IF(type<>"",IF(ROW(stage_id)=ROW($C$13)+2,1,IF(type="S",MAX(prev_col_range)+1,MAX(prev_col_range))),-1) -> 16 | D98: =_xlfn.IFNA(IF(OR(type="T",type="M"),MATCH(role,Settings!$I$9:$I$16,0),-1),-1) -> -1 | E98: T | F98: Réseaux de Vidanges, Trop Plein et Surnageant | H98: =_xlfn.IFNA(INDEX(Settings!$P$9:$P$38,MATCH(team_member,Settings!$N$9:$N$38,0)),"") | J98: ! | N98: =IF(d.id<>"",IF(d.id<id,"↖",IF(d.id>id,"↙","")),"") | O98: =IFERROR("("&d.type&")"&IF(LEN(d.name)>20,LEFT(d.name,20)&"….",d.name),"") | R98: 40 | S98: =IFERROR(IF(ind.start<>"",ind.start,IF(ind.end<>"",plan_start_calculation,IF(d.id<>"",IF(OR(d.conn="FS",d.conn=""),fs_calculation,IF(d.conn="SS",ss_calculation,plan_start_calculation)),""))),"") | T98: =IFERROR(IF(ind.start<>"",plan_end_calculation,IF(ind.end<>"",ind.end,IF(d.id<>"",IF(d.conn="SF",sf_calculation,IF(d.conn="FF",ff_calculation,plan_end_calculation)),""))),"") | W98: 0 | X98: 0 | Y98: 0 | Z98: 0 | AA98: 0 | AB98: 0 | AC98: 0 | AD98: 0 | AE98: 0 | AF98: 0 | AG98: 0 | AH98: 0 | AI98: 0 | AJ98: 0 | AK98: 0 | AL98: 0 | AM98: 0 | AN98: 0 | AO98: 0 | AP98: 0 | AQ98: 0 | AR98: 0 | AS98: 0 | AT98: 0 | AU98: 0 | AV98: 0 | AW98: 0 | AX98: 0 | AY98: 0 | AZ98: 0 | BA98: 0 | BB98: 0 | BC98: 0 | BD98: 0 | BE98: 0 | BF98: 0 | BG98: 0 | BH98: 0 | BI98: 0 | BJ98: 0 | BK98: 0 | BL98: 0 | BM98: 0 | BN98: 0 | BO98: 0 | BP98: 0 | BQ98: 0 | BR98: 0 | BS98: 0 | BT98: 0 | BU98: 0 | BV98: 0 | BW98: 0 | BX98: 0 | BY98: 0 | BZ98: 0 | CA98: 0 | CB98: 0 | CC98: 0
B99: =IF(ROW(id)=ROW($B$13)+2,1,MAX(prev_col_range)+1) -> 85 | C99: =IF(type<>"",IF(ROW(stage_id)=ROW($C$13)+2,1,IF(type="S",MAX(prev_col_range)+1,MAX(prev_col_range))),-1) -> 16 | D99: =_xlfn.IFNA(IF(OR(type="T",type="M"),MATCH(role,Settings!$I$9:$I$16,0),-1),-1) -> -1 | E99: T | F99: Réseaux des Réactifs | H99: =_xlfn.IFNA(INDEX(Settings!$P$9:$P$38,MATCH(team_member,Settings!$N$9:$N$38,0)),"") | J99: ! | N99: =IF(d.id<>"",IF(d.id<id,"↖",IF(d.id>id,"↙","")),"") | O99: =IFERROR("("&d.type&")"&IF(LEN(d.name)>20,LEFT(d.name,20)&"….",d.name),"") | R99: 40 | S99: =IFERROR(IF(ind.start<>"",ind.start,IF(ind.end<>"",plan_start_calculation,IF(d.id<>"",IF(OR(d.conn="FS",d.conn=""),fs_calculation,IF(d.conn="SS",ss_calculation,plan_start_calculation)),""))),"") | T99: =IFERROR(IF(ind.start<>"",plan_end_calculation,IF(ind.end<>"",ind.end,IF(d.id<>"",IF(d.conn="SF",sf_calculation,IF(d.conn="FF",ff_calculation,plan_end_calculation)),""))),"") | W99: 0 | X99: 0 | Y99: 0 | Z99: 0 | AA99: 0 | AB99: 0 | AC99: 0 | AD99: 0 | AE99: 0 | AF99: 0 | AG99: 0 | AH99: 0 | AI99: 0 | AJ99: 0 | AK99: 0 | AL99: 0 | AM99: 0 | AN99: 0 | AO99: 0 | AP99: 0 | AQ99: 0 | AR99: 0 | AS99: 0 | AT99: 0 | AU99: 0 | AV99: 0 | AW99: 0 | AX99: 0 | AY99: 0 | AZ99: 0 | BA99: 0 | BB99: 0 | BC99: 0 | BD99: 0 | BE99: 0 | BF99: 0 | BG99: 0 | BH99: 0 | BI99: 0 | BJ99: 0 | BK99: 0 | BL99: 0 | BM99: 0 | BN99: 0 | BO99: 0 | BP99: 0 | BQ99: 0 | BR99: 0 | BS99: 0 | BT99: 0 | BU99: 0 | BV99: 0 | BW99: 0 | BX99: 0 | BY99: 0 | BZ99: 0 | CA99: 0 | CB99: 0 | CC99: 0
B100: =IF(ROW(id)=ROW($B$13)+2,1,MAX(prev_col_range)+1) -> 86 | C100: =IF(type<>"",IF(ROW(stage_id)=ROW($C$13)+2,1,IF(type="S",MAX(prev_col_range)+1,MAX(prev_col_range))),-1) -> 16 | D100: =_xlfn.IFNA(IF(OR(type="T",type="M"),MATCH(role,Settings!$I$9:$I$16,0),-1),-1) -> -1 | E100: T | F100: Réseau des Eaux Pluviales et assainissements | H100: =_xlfn.IFNA(INDEX(Settings!$P$9:$P$38,MATCH(team_member,Settings!$N$9:$N$38,0)),"") | N100: =IF(d.id<>"",IF(d.id<id,"↖",IF(d.id>id,"↙","")),"") | O100: =IFERROR("("&d.type&")"&IF(LEN(d.name)>20,LEFT(d.name,20)&"….",d.name),"") | R100: 40 | S100: =IFERROR(IF(ind.start<>"",ind.start,IF(ind.end<>"",plan_start_calculation,IF(d.id<>"",IF(OR(d.conn="FS",d.conn=""),fs_calculation,IF(d.conn="SS",ss_calculation,plan_start_calculation)),""))),"") | T100: =IFERROR(IF(ind.start<>"",plan_end_calculation,IF(ind.end<>"",ind.end,IF(d.id<>"",IF(d.conn="SF",sf_calculation,IF(d.conn="FF",ff_calculation,plan_end_calculation)),""))),"") | W100: 0 | X100: 0 | Y100: 0 | Z100: 0 | AA100: 0 | AB100: 0 | AC100: 0 | AD100: 0 | AE100: 0 | AF100: 0 | AG100: 0 | AH100: 0 | AI100: 0 | AJ100: 0 | AK100: 0 | AL100: 0 | AM100: 0 | AN100: 0 | AO100: 0 | AP100: 0 | AQ100: 0 | AR100: 0 | AS100: 0 | AT100: 0 | AU100: 0 | AV100: 0 | AW100: 0 | AX100: 0 | AY100: 0 | AZ100: 0 | BA100: 0 | BB100: 0 | BC100: 0 | BD100: 0 | BE100: 0 | BF100: 0 | BG100: 0 | BH100: 0 | BI100: 0 | BJ100: 0 | BK100: 0 | BL100: 0 | BM100: 0 | BN100: 0 | BO100: 0 | BP100: 0 | BQ100: 0 | BR100: 0 | BS100: 0 | BT100: 0 | BU100: 0 | BV100: 0 | BW100: 0 | BX100: 0 | BY100: 0 | BZ100: 0 | CA100: 0 | CB100: 0 | CC100: 0
B101: =IF(ROW(id)=ROW($B$13)+2,1,MAX(prev_col_range)+1) -> 87 | C101: =IF(type<>"",IF(ROW(stage_id)=ROW($C$13)+2,1,IF(type="S",MAX(prev_col_range)+1,MAX(prev_col_range))),-1) -> 16 | D101: =_xlfn.IFNA(IF(OR(type="T",type="M"),MATCH(role,Settings!$I$9:$I$16,0),-1),-1) -> -1 | E101: T | F101: Réseau d’Eau de Service et d'arrosage | H101: =_xlfn.IFNA(INDEX(Settings!$P$9:$P$38,MATCH(team_member,Settings!$N$9:$N$38,0)),"") | J101: ! | N101: =IF(d.id<>"",IF(d.id<id,"↖",IF(d.id>id,"↙","")),"") | O101: =IFERROR("("&d.type&")"&IF(LEN(d.name)>20,LEFT(d.name,20)&"….",d.name),"") | R101: 40 | S101: =IFERROR(IF(ind.start<>"",ind.start,IF(ind.end<>"",plan_start_calculation,IF(d.id<>"",IF(OR(d.conn="FS",d.conn=""),fs_calculation,IF(d.conn="SS",ss_calculation,plan_start_calculation)),""))),"") | T101: =IFERROR(IF(ind.start<>"",plan_end_calculation,IF(ind.end<>"",ind.end,IF(d.id<>"",IF(d.conn="SF",sf_calculation,IF(d.conn="FF",ff_calculation,plan_end_calculation)),""))),"") | W101: 0 | X101: 0 | Y101: 0 | Z101: 0 | AA101: 0 | AB101: 0 | AC101: 0 | AD101: 0 | AE101: 0 | AF101: 0 | AG101: 0 | AH101: 0 | AI101: 0 | AJ101: 0 | AK101: 0 | AL101: 0 | AM101: 0 | AN101: 0 | AO101: 0 | AP101: 0 | AQ101: 0 | AR101: 0 | AS101: 0 | AT101: 0 | AU101: 0 | AV101: 0 | AW101: 0 | AX101: 0 | AY101: 0 | AZ101: 0 | BA101: 0 | BB101: 0 | BC101: 0 | BD101: 0 | BE101: 0 | BF101: 0 | BG101: 0 | BH101: 0 | BI101: 0 | BJ101: 0 | BK101: 0 | BL101: 0 | BM101: 0 | BN101: 0 | BO101: 0 | BP101: 0 | BQ101: 0 | BR101: 0 | BS101: 0 | BT101: 0 | BU101: 0 | BV101: 0 | BW101: 0 | BX101: 0 | BY101: 0 | BZ101: 0 | CA101: 0 | CB101: 0 | CC101: 0
B102: =IF(ROW(id)=ROW($B$13)+2,1,MAX(prev_col_range)+1) -> 88 | C102: =IF(type<>"",IF(ROW(stage_id)=ROW($C$13)+2,1,IF(type="S",MAX(prev_col_range)+1,MAX(prev_col_range))),-1) -> 16 | D102: =_xlfn.IFNA(IF(OR(type="T",type="M"),MATCH(role,Settings!$I$9:$I$16,0),-1),-1) -> -1 | E102: T | F102: Réseau des Canalisations Électriques | H102: =_xlfn.IFNA(INDEX(Settings!$P$9:$P$38,MATCH(team_member,Settings!$N$9:$N$38,0)),"") | J102: ! | N102: =IF(d.id<>"",IF(d.id<id,"↖",IF(d.id>id,"↙","")),"") | O102: =IFERROR("("&d.type&")"&IF(LEN(d.name)>20,LEFT(d.name,20)&"….",d.name),"") | R102: 40 | S102: =IFERROR(IF(ind.start<>"",ind.start,IF(ind.end<>"",plan_start_calculation,IF(d.id<>"",IF(OR(d.conn="FS",d.conn=""),fs_calculation,IF(d.conn="SS",ss_calculation,plan_start_calculation)),""))),"") | T102: =IFERROR(IF(ind.start<>"",plan_end_calculation,IF(ind.end<>"",ind.end,IF(d.id<>"",IF(d.conn="SF",sf_calculation,IF(d.conn="FF",ff_calculation,plan_end_calculation)),""))),"") | W102: 0 | X102: 0 | Y102: 0 | Z102: 0 | AA102: 0 | AB102: 0 | AC102: 0 | AD102: 0 | AE102: 0 | AF102: 0 | AG102: 0 | AH102: 0 | AI102: 0 | AJ102: 0 | AK102: 0 | AL102: 0 | AM102: 0 | AN102: 0 | AO102: 0 | AP102: 0 | AQ102: 0 | AR102: 0 | AS102: 0 | AT102: 0 | AU102: 0 | AV102: 0 | AW102: 0 | AX102: 0 | AY102: 0 | AZ102: 0 | BA102: 0 | BB102: 0 | BC102: 0 | BD102: 0 | BE102: 0 | BF102: 0 | BG102: 0 | BH102: 0 | BI102: 0 | BJ102: 0 | BK102: 0 | BL102: 0 | BM102: 0 | BN102: 0 | BO102: 0 | BP102: 0 | BQ102: 0 | BR102: 0 | BS102: 0 | BT102: 0 | BU102: 0 | BV102: 0 | BW102: 0 | BX102: 0 | BY102: 0 | BZ102: 0 | CA102: 0 | CB102: 0 | CC102: 0
B103: =IF(ROW(id)=ROW($B$13)+2,1,MAX(prev_col_range)+1) -> 89 | C103: =IF(type<>"",IF(ROW(stage_id)=ROW($C$13)+2,1,IF(type="S",MAX(prev_col_range)+1,MAX(prev_col_range))),-1) -> 16 | D103: =_xlfn.IFNA(IF(OR(type="T",type="M"),MATCH(role,Settings!$I$9:$I$16,0),-1),-1) -> -1 | E103: T | F103: Clôture et protection innondation | H103: =_xlfn.IFNA(INDEX(Settings!$P$9:$P$38,MATCH(team_member,Settings!$N$9:$N$38,0)),"") | J103: ! | N103: =IF(d.id<>"",IF(d.id<id,"↖",IF(d.id>id,"↙","")),"") | O103: =IFERROR("("&d.type&")"&IF(LEN(d.name)>20,LEFT(d.name,20)&"….",d.name),"") | R103: 30 | S103: =IFERROR(IF(ind.start<>"",ind.start,IF(ind.end<>"",plan_start_calculation,IF(d.id<>"",IF(OR(d.conn="FS",d.conn=""),fs_calculation,IF(d.conn="SS",ss_calculation,plan_start_calculation)),""))),"") | T103: =IFERROR(IF(ind.start<>"",plan_end_calculation,IF(ind.end<>"",ind.end,IF(d.id<>"",IF(d.conn="SF",sf_calculation,IF(d.conn="FF",ff_calculation,plan_end_calculation)),""))),"") | W103: 0 | X103: 0 | Y103: 0 | Z103: 0 | AA103: 0 | AB103: 0 | AC103: 0 | AD103: 0 | AE103: 0 | AF103: 0 | AG103: 0 | AH103: 0 | AI103: 0 | AJ103: 0 | AK103: 0 | AL103: 0 | AM103: 0 | AN103: 0 | AO103: 0 | AP103: 0 | AQ103: 0 | AR103: 0 | AS103: 0 | AT103: 0 | AU103: 0 | AV103: 0 | AW103: 0 | AX103: 0 | AY103: 0 | AZ103: 0 | BA103: 0 | BB103: 0 | BC103: 0 | BD103: 0 | BE103: 0 | BF103: 0 | BG103: 0 | BH103: 0 | BI103: 0 | BJ103: 0 | BK103: 0 | BL103: 0 | BM103: 0 | BN103: 0 | BO103: 0 | BP103: 0 | BQ103: 0 | BR103: 0 | BS103: 0 | BT103: 0 | BU103: 0 | BV103: 0 | BW103: 0 | BX103: 0 | BY103: 0 | BZ103: 0 | CA103: 0 | CB103: 0 | CC103: 0
B104: =IF(ROW(id)=ROW($B$13)+2,1,MAX(prev_col_range)+1) -> 90 | C104: =IF(type<>"",IF(ROW(stage_id)=ROW($C$13)+2,1,IF(type="S",MAX(prev_col_range)+1,MAX(prev_col_range))),-1) -> 16 | D104: =_xlfn.IFNA(IF(OR(type="T",type="M"),MATCH(role,Settings!$I$9:$I$16,0),-1),-1) -> -1 | E104: T | F104: Voirie de circulation interne et aménagement des pistes | H104: =_xlfn.IFNA(INDEX(Settings!$P$9:$P$38,MATCH(team_member,Settings!$N$9:$N$38,0)),"") | J104: ! | N104: =IF(d.id<>"",IF(d.id<id,"↖",IF(d.id>id,"↙","")),"") | O104: =IFERROR("("&d.type&")"&IF(LEN(d.name)>20,LEFT(d.name,20)&"….",d.name),"") | R104: 20 | S104: =IFERROR(IF(ind.start<>"",ind.start,IF(ind.end<>"",plan_start_calculation,IF(d.id<>"",IF(OR(d.conn="FS",d.conn=""),fs_calculation,IF(d.conn="SS",ss_calculation,plan_start_calculation)),""))),"") | T104: =IFERROR(IF(ind.start<>"",plan_end_calculation,IF(ind.end<>"",ind.end,IF(d.id<>"",IF(d.conn="SF",sf_calculation,IF(d.conn="FF",ff_calculation,plan_end_calculation)),""))),"") | W104: 0 | X104: 0 | Y104: 0 | Z104: 0 | AA104: 0 | AB104: 0 | AC104: 0 | AD104: 0 | AE104: 0 | AF104: 0 | AG104: 0 | AH104: 0 | AI104: 0 | AJ104: 0 | AK104: 0 | AL104: 0 | AM104: 0 | AN104: 0 | AO104: 0 | AP104: 0 | AQ104: 0 | AR104: 0 | AS104: 0 | AT104: 0 | AU104: 0 | AV104: 0 | AW104: 0 | AX104: 0 | AY104: 0 | AZ104: 0 | BA104: 0 | BB104: 0 | BC104: 0 | BD104: 0 | BE104: 0 | BF104: 0 | BG104: 0 | BH104: 0 | BI104: 0 | BJ104: 0 | BK104: 0 | BL104: 0 | BM104: 0 | BN104: 0 | BO104: 0 | BP104: 0 | BQ104: 0 | BR104: 0 | BS104: 0 | BT104: 0 | BU104: 0 | BV104: 0 | BW104: 0 | BX104: 0 | BY104: 0 | BZ104: 0 | CA104: 0 | CB104: 0 | CC104: 0
B105: =IF(ROW(id)=ROW($B$13)+2,1,MAX(prev_col_range)+1) -> 91 | C105: =IF(type<>"",IF(ROW(stage_id)=ROW($C$13)+2,1,IF(type="S",MAX(prev_col_range)+1,MAX(prev_col_range))),-1) -> 16 | D105: =_xlfn.IFNA(IF(OR(type="T",type="M"),MATCH(role,Settings!$I$9:$I$16,0),-1),-1) -> -1 | E105: T | F105: Espaces Verts | H105: =_xlfn.IFNA(INDEX(Settings!$P$9:$P$38,MATCH(team_member,Settings!$N$9:$N$38,0)),"") | J105: ! | K105: 44713 | M105: =+B104 -> 90 | N105: =IF(d.id<>"",IF(d.id<id,"↖",IF(d.id>id,"↙","")),"") -> ↖ | O105: =IFERROR("("&d.type&")"&IF(LEN(d.name)>20,LEFT(d.name,20)&"….",d.name),"") -> (T)Voirie de circulatio…. | P105: SS | R105: 30 | S105: =IFERROR(IF(ind.start<>"",ind.start,IF(ind.end<>"",plan_start_calculation,IF(d.id<>"",IF(OR(d.conn="FS",d.conn=""),fs_calculation,IF(d.conn="SS",ss_calculation,plan_start_calculation)),""))),"") -> 44713 | T105: =IFERROR(IF(ind.start<>"",plan_end_calculation,IF(ind.end<>"",ind.end,IF(d.id<>"",IF(d.conn="SF",sf_calculation,IF(d.conn="FF",ff_calculation,plan_end_calculation)),""))),"") -> 44754 | W105: 0 | X105: 0 | Y105: 0 | Z105: 0 | AA105: 0 | AB105: 0 | AC105: 0 | AD105: 0 | AE105: 0 | AF105: 0 | AG105: 0 | AH105: 0 | AI105: 0 | AJ105: 0 | AK105: 0 | AL105: 0 | AM105: 0 | AN105: 0 | AO105: 0 | AP105: 0 | AQ105: 0 | AR105: 0 | AS105: 0 | AT105: 0 | AU105: 0 | AV105: 0 | AW105: 0 | AX105: 0 | AY105: 0 | AZ105: 0 | BA105: 0 | BB105: 0 | BC105: 0 | BD105: 0 | BE105: 0 | BF105: 0 | BG105: 0 | BH105: 0 | BI105: 0 | BJ105: 0 | BK105: 0 | BL105: 0 | BM105: 0 | BN105: 0 | BO105: 0 | BP105: 0 | BQ105: 0 | BR105: 0 | BS105: 0 | BT105: 0 | BU105: 0 | BV105: 0 | BW105: 0 | BX105: 0 | BY105: 0 | BZ105: 0 | CA105: 0 | CB105: 0 | CC105: 0
B106: =IF(ROW(id)=ROW($B$13)+2,1,MAX(prev_col_range)+1) -> 92 | C106: =IF(type<>"",IF(ROW(stage_id)=ROW($C$13)+2,1,IF(type="S",MAX(prev_col_range)+1,MAX(prev_col_range))),-1) -> 17 | D106: =_xlfn.IFNA(IF(OR(type="T",type="M"),MATCH(role,Settings!$I$9:$I$16,0),-1),-1) -> -1 | E106: S | F106: Travaux d'équipements | H106: =_xlfn.IFNA(INDEX(Settings!$P$9:$P$38,MATCH(team_member,Settings!$N$9:$N$38,0)),"") | K106: =MIN(S107:S108) -> 44621 | N106: =IF(d.id<>"",IF(d.id<id,"↖",IF(d.id>id,"↙","")),"") | O106: =IFERROR("("&d.type&")"&IF(LEN(d.name)>20,LEFT(d.name,20)&"….",d.name),"") | R106: =NETWORKDAYS(plan_start,MAX(T107:T108)) -> 61 | S106: =IFERROR(IF(ind.start<>"",ind.start,IF(ind.end<>"",plan_start_calculation,IF(d.id<>"",IF(OR(d.conn="FS",d.conn=""),fs_calculation,IF(d.conn="SS",ss_calculation,plan_start_calculation)),""))),"") -> 44621 | T106: =IFERROR(IF(ind.start<>"",plan_end_calculation,IF(ind.end<>"",ind.end,IF(d.id<>"",IF(d.conn="SF",sf_calculation,IF(d.conn="FF",ff_calculation,plan_end_calculation)),""))),"") -> 44705 | W106: {=SUM(W107:W108*R107:R108)/SUM(R107:R108)} -> 0.5 | X106: 0 | Y106: 0 | Z106: 0 | AA106: 0 | AB106: 0 | AC106: 0 | AD106: 0 | AE106: 0 | AF106: 0 | AG106: 0 | AH106: 0 | AI106: 0 | AJ106: 0 | AK106: 0 | AL106: 0 | AM106: 0 | AN106: 0 | AO106: 0 | AP106: 0 | AQ106: 0 | AR106: 0 | AS106: 0 | AT106: 0 | AU106: 0 | AV106: 0 | AW106: 0 | AX106: 0 | AY106: 0 | AZ106: 0 | BA106: 0 | BB106: 0 | BC106: 0 | BD106: 0 | BE106: 0 | BF106: 0 | BG106: 0 | BH106: 0 | BI106: 0 | BJ106: 0 | BK106: 0 | BL106: 0 | BM106: 0 | BN106: 0 | BO106: 0 | BP106: 0 | BQ106: 0 | BR106: 0 | BS106: 0 | BT106: 0 | BU106: 0 | BV106: 0 | BW106: 0 | BX106: 0 | BY106: 0 | BZ106: 0 | CA106: 0 | CB106: 0 | CC106: 0
...
