Workbook
Name Amenagement_Paysager: Paramétre!$H$6
Name Libellé_de_Production: Paramétre!$L$6:$L$93
Name Travaux_de_Fluide_et_Lot_Technique: Paramétre!$I$6:$I$7
Name Travaux_de_Génie_Civil: Paramétre!$E$6:$E$27
Name Travaux_de_Gros_Œuvre_Etancheite_et_Lots_Architecturaux: Paramétre!$F$6:$F$9
Name Travaux_de_Menuiseries_Bois_Metallique_et_Aluminium: Paramétre!$G$6:$G$8
Name Travaux_de_Vrd: Paramétre!$K$6:$K$14
Name Travaux_electricite_Cfo_Cfa_et_de_Photovoltaique: Paramétre!$J$6:$J$7

Sheet Acceuil
B2: Rapport Jounalier
C4: Projet | D4: Step Khouribga
C5: Date | D5: 45187
C6: Intempérie | D6: Non
B9: Activité | C9: Partie Concernée | D9: Type des travaux | E9: Ouvrage | F9: Désignation | G9: Observation
B10: Plan | C10: SEPROB | D10: Travaux_de_Génie_Civil | E10: Electrical Main Substation, Primary Treatement, Diesel Tank & Power Generator | F10: Révision2

Sheet Production
B2: Production
B9: Type des travaux | C9: Ouvrage | D9: Libellé de Production | E9: Tache | F9: Unité | G9: Quantité | H9: Observation
B10: Travaux_de_Génie_Civil | C10: Aeration Bassin | D10: Béton de classe B40 dosé à 400 Kg/m3 pour béton armé avec adjonction d'hydrofuge, y compris coffrages | E10: Coulage du béton en élèvation | F10: =IFERROR(VLOOKUP(E10,Paramétre!$M$6:$N$55,2,0),"") -> m3 | G10: 300
B11: Travaux_de_Génie_Civil | C11: Blowers Room | D11: Béton de propreté B15 | E11: Implantation | F11: =IFERROR(VLOOKUP(E11,Paramétre!$M$6:$N$55,2,0),"") -> Ft | G11: 1
F12: =IFERROR(VLOOKUP(E12,Paramétre!$M$6:$N$55,2,0),"")
F13: =IFERROR(VLOOKUP(E13,Paramétre!$M$6:$N$55,2,0),"")
F14: =IFERROR(VLOOKUP(E14,Paramétre!$M$6:$N$55,2,0),"")
F15: =IFERROR(VLOOKUP(E15,Paramétre!$M$6:$N$55,2,0),"")
F16: =IFERROR(VLOOKUP(E16,Paramétre!$M$6:$N$55,2,0),"")
F17: =IFERROR(VLOOKUP(E17,Paramétre!$M$6:$N$55,2,0),"")
F18: =IFERROR(VLOOKUP(E18,Paramétre!$M$6:$N$55,2,0),"")
F19: =IFERROR(VLOOKUP(E19,Paramétre!$M$6:$N$55,2,0),"")
F20: =IFERROR(VLOOKUP(E20,Paramétre!$M$6:$N$55,2,0),"")
F21: =IFERROR(VLOOKUP(E21,Paramétre!$M$6:$N$55,2,0),"")
F22: =IFERROR(VLOOKUP(E22,Paramétre!$M$6:$N$55,2,0),"")
F23: =IFERROR(VLOOKUP(E23,Paramétre!$M$6:$N$55,2,0),"")
... F50: =IFERROR(VLOOKUP(E50,Paramétre!$M$6:$N$55,2,0),"")

Sheet Paramétre
D5: Projet | E5: Travaux_de_Génie_Civil | F5: Travaux_de_Gros_Œuvre_Etancheite_et_Lots_Architecturaux | G5: Travaux_de_Menuiseries_Bois_Metallique_et_Aluminium | H5: Amenagement_Paysager | I5: Travaux_de_Fluide_et_Lot_Technique | J5: Travaux_electricite_Cfo_Cfa_et_de_Photovoltaique | K5: Travaux_de_Vrd | L5: Libellé_de_Production | M5: Tache | N5: Unité
D6: Step Khouribga | E6: Treated Water Tank And Pumping Station | F6: Etanchéité | G6: Menuiserie Bois | H6: Amenagement Paysager | I6: Plomberie Et Sanitaires | J6: Electricite Cfo-Cfa | K6: Terrassements Generaux | L6: Acier Tor pour béton armé | M6: Arrosage | N6: kg
E7: Secondary Sludge Well | F7: Faux Plafonds | G7: Menuiserie Aluminium | I7: Climatisation Et Ventilation | J7: Photovoltaique | K7: Voirie, Parking Et Trottoirs | L7: Arase étanche | M7: Badigeonnage | N7: m2
E8: Primary Sludge Well | F8: Revetement des sols et murs intérieurs | G8: Menuiserie Métallique | K8: Reseau D'Assainissement | L8: Béton de classe B35 dosé à 350 Kg/m3 pour béton armé, y compris coffrages | M8: Béton de forme | N8: m3
E9: Sludge Treatment Unit | F9: Peinture | K9: Cloture, Acces Et Divers | L9: Béton de classe B40 dosé à 400 Kg/m3 pour béton armé avec adjonction d'hydrofuge, y compris coffrages | M9: Béton de proreté | N9: m3
E10: Secondary Scum Pumping Station | K10: Voie D'Acces | L10: Béton de propreté B15 | M10: Bouchage des trous | N10: Ft
E11: Primary Scum Pumping Station | K11: Couvrage De Traversee Par Passage Buse | L11: Béton de propreté de classe B15 | M11: Chargement / Déchargement | N11: Unité
E12: Sand Filtration & Dirty Water Tank 1 | K12: Reseau De L'Eau Potable | L12: Caniveaux en béton armé de 0.70x1,00 | M12: coffrage en elevation | N12: m3
E13: Preliminary Treatment Unit | K13: Conduites De Raccordement Entre Ouvrages Et D'Eau De Process / Coudes / Raccords | L13: Chape bouchardée | M13: Coffrage en fondation | N13: Ft
E14: Odor Removal 1 | K14: Equipements Scelles Dans Les Ouvrages | L14: Chape de ciment bouchardé | M14: Compactage | N14: m2
E15: Primary Effluent Splitter | L15: Chape étanche en mortier de ciment sur le radier ( e= 3 cm) | M15: Coulage des socles cloture | N15: m3
E16: Dirty Water Tank 2 | L16: Châssis d'aération persienne en acier galvanisé de "1.10 x 0,8" | M16: Coulage du béton en élèvation | N16: m3
E17: Headworks | L17: Châssis d'aération persienne en acier galvanisé de "1.1x0,60" | M17: Coulage du béton en fondation | N17: m3
E18: Clarified Water Pumping Station | L18: Chemin de roulement des transformateurs | M18: Décapage | N18: m2
E19: Secondary Clarifier | L19: Complexe d'étanchéité de terrasse (y compris forme de pente, solin gorge et toutes sujétions) | M19: Décoffrage en élèvation | N19: m2
E20: Primary Clarifier | L20: Complexe d'étanchéité de terrasse (y compris forme de pente, solin, gorge et toutes sujétions) | M20: Décoffrage en fondation | N20: Ft
E21: Blowers Room | L21: Dallage à usage industriel | M21: Démontage echafaudage | N21: Ft
E22: Aeration Bassin | L22: Dallage en béton armé légèrement armé | M22: Enduit | N22: Unité
E23: Buffer Tank | L23: Descente d'eau pluviale en fonte DN 100 mm de 4 m de longueur y compris gargouille avec crapaudine en fil de fer galvanisé, coudes et colliers de fixation. | M23: Evacuation du remblai | N23: Unité
E24: Ferric Chlorid Tanks & Hypochlorite De Sodium Tanks | L24: Descente d'eau pluviale en fonte DN 100 mm de 5 m de longueur y compris gargouille avec crapaudine en fil de fer galvanisé, coudes et colliers de fixation. | M24: Fixation des bavolets | N24: ml
E25: Electrical Main Substation, Primary Treatement, Diesel Tank & Power Generator | L25: Descente d'eau pluviale en fonte DN 100 mm de 5.7 m de longueur y compris gargouille avec crapaudine en fil de fer galvanisé, coudes et colliers de fixation. | M25: Fixation du joint water stop | N25: Unité
E26: Electrical Room Secondary Treatment | L26: Descente d'eau pluviale en fonte DN 100 mm de 6.00 m de longueur y compris gargouille avec crapaudine en fil de fer galvanisé, coudes et colliers de fixation. | M26: Herissonage en moellons calcaires | N26: m3
E27: Electrical Room Tertiary Treatment | L27: Descente d'eau pluviale en fonte DN 100 mm de 7.70m de longueur y compris gargouille avec crapaudine en fil de fer galvanisé, coudes et colliers de fixation. | M27: Implantation | N27: Ft
L28: Echelle à crinoline en matériau composite résistant à l'UV | M28: Lit de pose | N28: ml
L29: Echelle à crinoline en matériau composite résistant à l'UV | M29: Mise en forme de la plate forme | N29: m3
L30: Echelle en matériau composite résistant à l'UV | M30: Mise en pose des poutrelles et hourdis | N30: ml
L31: Echelle en matériau composite résistant à l'UV | M31: Mise en pose des poutres en BP | N31: m3
L32: Enduit au mortier de ciment, type extérieur | M32: Mise en pose des prédalles | N32: m3
L33: Enduit au mortier de ciment, type intérieur | M33: Montage de grillage | N33: Unité
L34: Escalier courbe en matériau composite résistant à l'UV, avec garde corps (Dimensions l=0,85 m ; H=1,00m ; Longueur 2,20 m) | M34: Montage des poutres H20 | N34: m3
L35: Fenêtres ouvrantes basculant sur charnières horizontales en aluminium de " 1.00x0.7 " | M35: Montage echafaudage | N35: m3
L36: Fenêtres ouvrantes basculant sur charnières horizontales en aluminium de " 1.10 x 0.7 " | M36: Nettoyage | N36: ml
L37: Fenêtres ouvrantes basculant sur charnières horizontales en aluminium de " 1.20 x 0.7 " | M37: Peinture | N37: m2
L38: Fenêtres ouvrantes basculant sur charnières horizontales en aluminium de " 1.20x0.8 " | M38: Peinture Bitumineuse | N38: ml
L39: Forme de pente à l'intérieur de la cuve | M39: Ponçage | N39: m2
... L55: Passerelle striée anti-dérapante, autoportante en matériau composite résistant à l'UV (avec cornières et système anti-chute) | M55: Tout-venant compacté | N55: Ft
L56: Passerelle striée antidérapente, autoportante en matériau composite résistant à l'UV (avec cornières et système anti-chute)
L57: Pavé de verre
L58: Peinture anti-huile
L59: Peinture anti-poussière: antistatique
L60: Peinture bitumineuse sur surfaces enterrées en contact avec le sol
L61: Peinture bitumineuses sur surfaces enterrées en contact avec le sol
L62: Peinture mate glycérophtalique pour les parements intérieurs
L63: Peinture mate glycérophtalique pour les parements intérieurs
L64: Peinture vinylique sur les parements extérieurs
L65: Peinture vinylique sur les parements extérieurs
L66: Peinture vinylique sur les parements intérieur
L67: Plancher filtrant composite avec buselures d’injection
... L93: Trappe de visite avec cornières en matériau composite résistant à l'UV
