Workbook
Name INVOICES: Feuil1!#REF!
Name LIGNEEJV: 'DATA BASE'!$A$2:$A$68
Name LIGNEORACLE: Feuil1!$A$2:$A$32

Sheet Feuil1
A1: Code | B1: Invoice Number | C1: Résultat attendu
A2: EB - 2018-05 - ENG.43A00 - 5 | B2: {=_xlfn._xlws.FILTER('DATA BASE'!$E$2:$E$68,(LIGNEEJV=A2),0)} -> 38301175
A3: EB - 2018-06 - ENG.33000 - 3,5 | B3: {=_xlfn._xlws.FILTER('DATA BASE'!$E$2:$E$68,(LIGNEEJV=A3),0)} -> 38301175
A4: EB - 2018-06 - ENG.33000 - -3,5 | B4: {=_xlfn._xlws.FILTER('DATA BASE'!$E$2:$E$68,(LIGNEEJV=A4),0)} -> 38338367
A5: EB - 2018-06 - ENG.43A00 - 3,5 | B5: {=_xlfn._xlws.FILTER('DATA BASE'!$E$2:$E$68,(LIGNEEJV=A5),0)} -> #VALUE! | C5: 38301175
A6: EB - 2018-06 - ENG.43A00 - 3,5 | B6: {=_xlfn._xlws.FILTER('DATA BASE'!$E$2:$E$68,(LIGNEEJV=A6),0)} -> #VALUE! | C6: 38338367
A7: EB - 2018-08 - ENG.33000 - 18,5 | B7: {=_xlfn._xlws.FILTER('DATA BASE'!$E$2:$E$68,(LIGNEEJV=A7),0)} -> 38293894
A8: EB - 2018-08 - ENG.33000 - -18,5 | B8: {=_xlfn._xlws.FILTER('DATA BASE'!$E$2:$E$68,(LIGNEEJV=A8),0)} -> 38338367
A9: EB - 2018-08 - ENG.43A00 - 18,5 | B9: {=_xlfn._xlws.FILTER('DATA BASE'!$E$2:$E$68,(LIGNEEJV=A9),0)} -> 38338367
A10: EB - 2018-09 - ENG.43A00 - 25 | B10: {=_xlfn._xlws.FILTER('DATA BASE'!$E$2:$E$68,(LIGNEEJV=A10),0)} -> 38294470
A11: EB - 2018-10 - ENG.43A00 - 23 | B11: {=_xlfn._xlws.FILTER('DATA BASE'!$E$2:$E$68,(LIGNEEJV=A11),0)} -> 38294470
A12: EB - 2018-11 - ENG.43A00 - 35 | B12: {=_xlfn._xlws.FILTER('DATA BASE'!$E$2:$E$68,(LIGNEEJV=A12),0)} -> 38294470
A13: EB - 2018-12 - ENG.43A00 - 32,75 | B13: {=_xlfn._xlws.FILTER('DATA BASE'!$E$2:$E$68,(LIGNEEJV=A13),0)} -> 38294470
A14: EB - 2018-13 - ENG.43A00 - 30 | B14: {=_xlfn._xlws.FILTER('DATA BASE'!$E$2:$E$68,(LIGNEEJV=A14),0)} -> 38296747
A15: EB - 2018-14 - ENG.43A00 - 36 | B15: {=_xlfn._xlws.FILTER('DATA BASE'!$E$2:$E$68,(LIGNEEJV=A15),0)} -> 38298250
A16: EB - 2018-15 - ENG.43A00 - 33,5 | B16: {=_xlfn._xlws.FILTER('DATA BASE'!$E$2:$E$68,(LIGNEEJV=A16),0)} -> 38296747
A17: EB - 2018-16 - ENG.43A00 - 11,5 | B17: {=_xlfn._xlws.FILTER('DATA BASE'!$E$2:$E$68,(LIGNEEJV=A17),0)} -> 38298250
A18: EB - 2018-17 - ENG.43A00 - 2,5 | B18: {=_xlfn._xlws.FILTER('DATA BASE'!$E$2:$E$68,(LIGNEEJV=A18),0)} -> 38298250
... A34: PB - 2018-05 - ENG.4R000 - 10 | B34: {=_xlfn._xlws.FILTER('DATA BASE'!$E$2:$E$68,(LIGNEEJV=A34),0)} -> 38320920
A35: PB - 2018-06 - ENG.40B00 - 18 | B35: {=_xlfn._xlws.FILTER('DATA BASE'!$E$2:$E$68,(LIGNEEJV=A35),0)} -> #VALUE! | C35: 38309614
A36: PB - 2018-06 - ENG.40B00 - -18 | B36: {=_xlfn._xlws.FILTER('DATA BASE'!$E$2:$E$68,(LIGNEEJV=A36),0)} -> 38346086
A37: PB - 2018-06 - ENG.40B00 - 18 | B37: {=_xlfn._xlws.FILTER('DATA BASE'!$E$2:$E$68,(LIGNEEJV=A37),0)} -> #VALUE! | C37: 38362292
A38: PB - 2018-07 - ENG.40B00 - 19 | B38: {=_xlfn._xlws.FILTER('DATA BASE'!$E$2:$E$68,(LIGNEEJV=A38),0)} -> #VALUE! | C38: 38309614
A39: PB - 2018-07 - ENG.40B00 - 19 | B39: {=_xlfn._xlws.FILTER('DATA BASE'!$E$2:$E$68,(LIGNEEJV=A39),0)} -> #VALUE! | C39: 38362292
A40: PB - 2018-07 - ENG.40B00 - -19 | B40: {=_xlfn._xlws.FILTER('DATA BASE'!$E$2:$E$68,(LIGNEEJV=A40),0)} -> 38346086
A41: PB - 2018-08 - ENG.40B00 - 22 | B41: {=_xlfn._xlws.FILTER('DATA BASE'!$E$2:$E$68,(LIGNEEJV=A41),0)} -> #VALUE! | C41: 38309614
A42: PB - 2018-08 - ENG.40B00 - 22 | B42: {=_xlfn._xlws.FILTER('DATA BASE'!$E$2:$E$68,(LIGNEEJV=A42),0)} -> #VALUE! | C42: 38362292
A43: PB - 2018-08 - ENG.40B00 - -22 | B43: {=_xlfn._xlws.FILTER('DATA BASE'!$E$2:$E$68,(LIGNEEJV=A43),0)} -> 38346086
A44: PB - 2018-10 - ENG.40B00 - 17 | B44: {=_xlfn._xlws.FILTER('DATA BASE'!$E$2:$E$68,(LIGNEEJV=A44),0)} -> #VALUE!
A45: PB - 2018-10 - ENG.40B00 - 17 | B45: {=_xlfn._xlws.FILTER('DATA BASE'!$E$2:$E$68,(LIGNEEJV=A45),0)} -> #VALUE!
A46: PB - 2018-10 - ENG.40B00 - -17 | B46: {=_xlfn._xlws.FILTER('DATA BASE'!$E$2:$E$68,(LIGNEEJV=A46),0)} -> 38346086
A47: PB - 2018-11 - ENG.40B00 - 18 | B47: {=_xlfn._xlws.FILTER('DATA BASE'!$E$2:$E$68,(LIGNEEJV=A47),0)} -> #VALUE!
A48: PB - 2018-11 - ENG.40B00 - 18 | B48: {=_xlfn._xlws.FILTER('DATA BASE'!$E$2:$E$68,(LIGNEEJV=A48),0)} -> #VALUE!
A49: PB - 2018-11 - ENG.40B00 - -18 | B49: {=_xlfn._xlws.FILTER('DATA BASE'!$E$2:$E$68,(LIGNEEJV=A49),0)} -> 38346086
A50: PB - 2018-12 - ENG.40B00 - 22 | B50: {=_xlfn._xlws.FILTER('DATA BASE'!$E$2:$E$68,(LIGNEEJV=A50),0)} -> #VALUE!
A51: PB - 2018-12 - ENG.40B00 - 22 | B51: {=_xlfn._xlws.FILTER('DATA BASE'!$E$2:$E$68,(LIGNEEJV=A51),0)} -> #VALUE!
A52: PB - 2018-12 - ENG.40B00 - -22 | B52: {=_xlfn._xlws.FILTER('DATA BASE'!$E$2:$E$68,(LIGNEEJV=A52),0)} -> 38346086
A53: PB - 2018-13 - ENG.40B00 - 20 | B53: {=_xlfn._xlws.FILTER('DATA BASE'!$E$2:$E$68,(LIGNEEJV=A53),0)} -> #VALUE!
A54: PB - 2018-13 - ENG.40B00 - 20 | B54: {=_xlfn._xlws.FILTER('DATA BASE'!$E$2:$E$68,(LIGNEEJV=A54),0)} -> #VALUE!
... A67: PB - 2018-17 - ENG.40B00 - 27 | B67: {=_xlfn._xlws.FILTER('DATA BASE'!$E$2:$E$68,(LIGNEEJV=A67),0)} -> #VALUE!
B68: {=_xlfn._xlws.FILTER('DATA BASE'!$E$2:$E$68,(LIGNEEJV=A68),0)} -> 0

Sheet DATA BASE
A1: CODE | B1: NOM DE LA RESSOURCE | C1: CODE DE PÉRIODE | D1: DATE DE FIN | E1: Invoice Number | F1: AVIS DE CHANGEMENT | G1: CODE DE DISCIPLINE - EWP | H1: Somme de Heures
A2: EB - 2018-05 - ENG.43A00 - 5 | B2: EB | C2: 2018-05 | D2: 43135 | E2: 38301175 | F2: N.A.-N.A. | G2: ENG.43A00 | H2: 5
A3: EB - 2018-06 - ENG.33000 - 3,5 | B3: EB | C3: 2018-06 | D3: 43142 | E3: 38301175 | F3: N.A.-N.A. | G3: ENG.33000 | H3: 3.5
A4: EB - 2018-06 - ENG.43A00 - 3,5 | B4: EB | C4: 2018-06 | D4: 43142 | E4: 38301175 | F4: N.A.-N.A. | G4: ENG.43A00 | H4: 3.5
A5: EB - 2018-06 - ENG.33000 - -3,5 | B5: EB | C5: 2018-06 | D5: 43142 | E5: 38338367 | F5: N.A.-N.A. | G5: ENG.33000 | H5: -3.5
A6: EB - 2018-06 - ENG.43A00 - 3,5 | B6: EB | C6: 2018-06 | D6: 43142 | E6: 38338367 | F6: N.A.-N.A. | G6: ENG.43A00 | H6: 3.5
A7: EB - 2018-08 - ENG.33000 - 18,5 | B7: EB | C7: 2018-08 | D7: 43156 | E7: 38293894 | F7: N.A.-N.A. | G7: ENG.33000 | H7: 18.5
A8: EB - 2018-08 - ENG.33000 - -18,5 | B8: EB | C8: 2018-08 | D8: 43156 | E8: 38338367 | F8: N.A.-N.A. | G8: ENG.33000 | H8: -18.5
A9: EB - 2018-08 - ENG.43A00 - 18,5 | B9: EB | C9: 2018-08 | D9: 43156 | E9: 38338367 | F9: N.A.-N.A. | G9: ENG.43A00 | H9: 18.5
A10: EB - 2018-09 - ENG.43A00 - 25 | B10: EB | C10: 2018-09 | D10: 43163 | E10: 38294470 | F10: N.A.-N.A. | G10: ENG.43A00 | H10: 25
A11: EB - 2018-10 - ENG.43A00 - 23 | B11: EB | C11: 2018-10 | D11: 43170 | E11: 38294470 | F11: N.A.-N.A. | G11: ENG.43A00 | H11: 23
A12: EB - 2018-11 - ENG.43A00 - 35 | B12: EB | C12: 2018-11 | D12: 43177 | E12: 38294470 | F12: N.A.-N.A. | G12: ENG.43A00 | H12: 35
A13: EB - 2018-12 - ENG.43A00 - 32,75 | B13: EB | C13: 2018-12 | D13: 43184 | E13: 38294470 | F13: N.A.-N.A. | G13: ENG.43A00 | H13: 32.75
... A68: PB - 2018-17 - ENG.40B00 - 27 | B68: PB | C68: 2018-17 | D68: 43219 | E68: 38362292 | F68: DCN-0088 | G68: ENG.40B00 | H68: 27
