Workbook
Name L_ref: #REF!

Sheet Mouvement Stock Admin.
A2: Mouvements Stock Admin
A4: N° | B4: Date | C4: Désignation | D4: Ref | E4: Entrée | F4: Sortie | G4: Partenaire/Fournisseur | H4: N° de Fiche/BC
A5: 1 | D5: 250A DPX3-4 POLES | E5: 2 | J5: Navigation
A6: 2 | D6: C4P400A | E6: 3 | J6: > Voir la situation Stock Program
A7: 3 | D7: CH-10 | E7: 18 | J7: > Voir la situation Stock Admin
A8: 4 | D8: CH-12 | E8: 1 | J8: > Liste des pièces Program
A9: 5 | D9: 26561117 | E9: 18 | J9: > Liste des pièces Admin
A10: 6 | D10: 26560143 | E10: 10 | J10: > Liste_des_Partenaires & Fournisseurs
A11: 7 | D11: 507108 | E11: 2
A12: 8 | D12: ABB 75A | E12: 0
A13: 9 | D13: 26561118 | E13: 5
A14: 10 | D14: FF 167 | E14: 53
A15: 11 | D15: 26560163 | E15: 0
A16: 12 | D16: CAT4415111 | E16: 1
A17: 13 | D17: 4461492 | E17: 3
A18: 14 | D18: LF 16015 | E18: 8
A19: 15 | D19: XBKH70000002M | E19: 1
A20: 16 | D20: 7W-2326 | E20: 1
A21: 17 | D21: 3 CM | E21: 8
A22: 18 | D22: FS 19732 | E22: 3
A23: 19 | D23: JX0810Y | E23: 4
A24: 20 | D24: 4N-8771 | E24: 2
A25: 21 | D25: FF 5485 | E25: 1
A26: 22 | D26: LF 9009 | E26: 1
A27: 23 | D27: FF 5580 | E27: 1
A28: 24 | D28: 1304678 | E28: 2
A29: 25 | D29: 14351-910318 | E29: 1
A30: 26 | D30: 2652 C202 | E30: 1
A31: 27 | D31: 26510353 | E31: 4
A32: 28 | D32: K 91900 | E32: 12
A33: 29 | D33: 63 A | E33: 4
A34: 30 | D34: DM25A | E34: 20
A35: 31 | D35: 45 ABB-C | E35: 1
A36: 32 | D36: DM32A | E36: 8
A37: 33 | D37: DM10A | E37: 20
A38: 34 | D38: 80A | E38: 4
A39: 35 | D39: 4 POLES 40 A | E39: 5
A40: 36 | D40: DM16A | E40: 10
A41: 37 | D41: RF220V | E41: 7
A42: 38 | D42: RT220V | E42: 3
A43: 39 | D43: 630A | E43: 2
... A45: 41 | D45: ABB 125A | E45: 1
A46: 42 | D46: 5543091 | E46: 46
A47: 43 | D47: 5543095-2651025 | E47: 18
A48: 44 | D48: CAT1R1805 | E48: 3
A49: 45 | D49: 43502-69085 | E49: 3
A50: 46 | D50: 31470-60290 | E50: 4
A51: 47 | D51: 47550-60120 | E51: 8
A52: 48 | D52: 44320-60220 | E52: 2
A53: 49 | D53: MD18/26 | E53: 16
A54: 50 | D54: 2TL 701-003 A00 | E54: 4
A55: 51 | D55: 2TL 701-002 A00 | E55: 4
A56: 52 | D56: F4BESM179-M3 | E56: 4
A57: 53 | D57: F4BESM180-M3 | E57: 6
A58: 54 | D58: F4BES-JG759-M2 | E58: 24
... A93: 89 | D93: LC 76 | E93: 18
A94: 90 | D94: 1400006826 | E94: 6
A95: 91 | D95: 31410-60432 | E95: 4
A96: 92 | D96: 05890-64362 | E96: 6
A97: 93 | D97: 47201-60831 | E97: 4
A98: 94 | D98: 31230-60200 | E98: 2
A99: 95 | D99: 04371-36050 | E99: 4
A100: 96 | D100: 04495-60070 | E100: 2
A101: 97 | D101: 90311-41009 | E101: 12
A102: 98 | D102: 90311-38047 | E102: 2
A103: 99 | D103: 90310-35010 | E103: 2
A104: 100 | D104: 90311-62007 | E104: 2
A105: 101 | D105: 90311-58007 | E105: 4
A106: 102 | D106: 90310-36003 | E106: 2
... A114: 110 | D114: 90311-62001 | E114: 6
A115: 111
A116: 112
A117: 113
A118: 114
A119: 115
A120: 116
A121: 117
A122: 118
A123: 119
A124: 120
A125: 121
A126: 122
... A150: 146
A151: 147 | D151: 250A DPX3-4 POLES
A152: 148 | D152: 250A DPX3-4 POLES
A153: 149 | D153: 250A DPX3-4 POLES
A154: 150 | D154: 250A DPX3-4 POLES
A155: 151 | D155: 250A DPX3-4 POLES
A156: 152 | D156: 250A DPX3-4 POLES
A157: 153 | D157: 250A DPX3-4 POLES
A158: 154 | D158: 250A DPX3-4 POLES
A159: 155 | D159: 250A DPX3-4 POLES
A160: 156 | D160: 250A DPX3-4 POLES
A161: 157 | D161: 250A DPX3-4 POLES
A162: 158 | D162: 250A DPX3-4 POLES
... A1004: 1000 | D1004: 250A DPX3-4 POLES

Sheet Situation Stock Admin.
A2: STOCKS PIECES DETACHEES ADMIN
A5: N° | B5: Désignation | C5: Ref | D5: Class. | E5: Unit. | F5: Price | G5: Stock initial | H5: Entrées | I5: Sorties | J5: Stock Final | K5: Valeur Stock | L5: Stock Théorique | M5: Ecart | N5: Etat
A6: 1 | B6: =IF('Liste Pièces Admin.'!B5="","",'Liste Pièces Admin.'!B5) -> PLAQUETTE DE FREIN | C6: =IF('Liste Pièces Admin.'!C5="","",'Liste Pièces Admin.'!C5) -> 1400006826 | D6: =IF('Liste Pièces Admin.'!D5="","",'Liste Pièces Admin.'!D5) -> TOY | E6: =IF('Liste Pièces Admin.'!E5="","",'Liste Pièces Admin.'!E5) -> Pièce | F6: =IF('Liste Pièces Admin.'!F5="","",'Liste Pièces Admin.'!F5) | H6: =IF(B6="","",SUMIFS('Mouvement Stock Admin.'!E$5:E$397,'Mouvement Stock Admin.'!D$5:D$397,C6)) -> 6 | I6: =IF(C6="","",SUMIFS('Mouvement Stock Admin.'!F$5:F$497,'Mouvement Stock Admin.'!D$5:D$497,C6)) -> 0 | J6: =IF(C6="","",G6+H6-I6) -> 6 | K6: =J6*F6 -> #VALUE! | L6: 4 | M6: =G6-L6 -> -4 | N6: =IF(J6>0,"OK","Rupture") -> OK
A7: 2 | B7: =IF('Liste Pièces Admin.'!B6="","",'Liste Pièces Admin.'!B6) -> DISQUE DE ROUE AVANT | C7: =IF('Liste Pièces Admin.'!C6="","",'Liste Pièces Admin.'!C6) -> 05890-46539 | D7: =IF('Liste Pièces Admin.'!D6="","",'Liste Pièces Admin.'!D6) -> TOY | E7: =IF('Liste Pièces Admin.'!E6="","",'Liste Pièces Admin.'!E6) -> Pièce | F7: =IF('Liste Pièces Admin.'!F6="","",'Liste Pièces Admin.'!F6) | H7: =IF(B7="","",SUMIFS('Mouvement Stock Admin.'!E$5:E$397,'Mouvement Stock Admin.'!D$5:D$397,C7)) -> 0 | I7: =IF(C7="","",SUMIFS('Mouvement Stock Admin.'!F$5:F$497,'Mouvement Stock Admin.'!D$5:D$497,C7)) -> 0 | J7: =IF(C7="","",G7+H7-I7) -> 0 | K7: =J7*F7 -> #VALUE! | L7: 4 | M7: =G7-L7 -> -4 | N7: =IF(J7>0,"OK","Rupture") -> Rupture
A8: 3 | B8: =IF('Liste Pièces Admin.'!B7="","",'Liste Pièces Admin.'!B7) -> RESSORT | C8: =IF('Liste Pièces Admin.'!C7="","",'Liste Pièces Admin.'!C7) -> MD18/24 | D8: =IF('Liste Pièces Admin.'!D7="","",'Liste Pièces Admin.'!D7) -> TOY | E8: =IF('Liste Pièces Admin.'!E7="","",'Liste Pièces Admin.'!E7) -> Pièce | F8: =IF('Liste Pièces Admin.'!F7="","",'Liste Pièces Admin.'!F7) | H8: =IF(B8="","",SUMIFS('Mouvement Stock Admin.'!E$5:E$397,'Mouvement Stock Admin.'!D$5:D$397,C8)) -> 0 | I8: =IF(C8="","",SUMIFS('Mouvement Stock Admin.'!F$5:F$497,'Mouvement Stock Admin.'!D$5:D$497,C8)) -> 0 | J8: =IF(C8="","",G8+H8-I8) -> 0 | K8: =J8*F8 -> #VALUE! | L8: 4 | M8: =G8-L8 -> -4 | N8: =IF(J8>0,"OK","Rupture") -> Rupture | Q8: Navigation
A9: 4 | B9: =IF('Liste Pièces Admin.'!B8="","",'Liste Pièces Admin.'!B8) -> RESSORT | C9: =IF('Liste Pièces Admin.'!C8="","",'Liste Pièces Admin.'!C8) -> MD19/12 | D9: =IF('Liste Pièces Admin.'!D8="","",'Liste Pièces Admin.'!D8) -> TOY | E9: =IF('Liste Pièces Admin.'!E8="","",'Liste Pièces Admin.'!E8) -> Pièce | F9: =IF('Liste Pièces Admin.'!F8="","",'Liste Pièces Admin.'!F8) | H9: =IF(B9="","",SUMIFS('Mouvement Stock Admin.'!E$5:E$397,'Mouvement Stock Admin.'!D$5:D$397,C9)) -> 0 | I9: =IF(C9="","",SUMIFS('Mouvement Stock Admin.'!F$5:F$497,'Mouvement Stock Admin.'!D$5:D$497,C9)) -> 0 | J9: =IF(C9="","",G9+H9-I9) -> 0 | K9: =J9*F9 -> #VALUE! | L9: 24 | M9: =G9-L9 -> -24 | N9: =IF(J9>0,"OK","Rupture") -> Rupture | Q9: > Mouvement stock Program
A10: 5 | B10: =IF('Liste Pièces Admin.'!B9="","",'Liste Pièces Admin.'!B9) -> FILTRE A AIR | C10: =IF('Liste Pièces Admin.'!C9="","",'Liste Pièces Admin.'!C9) -> CAT1R1805 | D10: =IF('Liste Pièces Admin.'!D9="","",'Liste Pièces Admin.'!D9) -> GEN | E10: =IF('Liste Pièces Admin.'!E9="","",'Liste Pièces Admin.'!E9) -> Pièce | F10: =IF('Liste Pièces Admin.'!F9="","",'Liste Pièces Admin.'!F9) | H10: =IF(B10="","",SUMIFS('Mouvement Stock Admin.'!E$5:E$397,'Mouvement Stock Admin.'!D$5:D$397,C10)) -> 3 | I10: =IF(C10="","",SUMIFS('Mouvement Stock Admin.'!F$5:F$497,'Mouvement Stock Admin.'!D$5:D$497,C10)) -> 0 | J10: =IF(C10="","",G10+H10-I10) -> 3 | K10: =J10*F10 -> #VALUE! | L10: 7 | M10: =G10-L10 -> -7 | N10: =IF(J10>0,"OK","Rupture") -> OK | Q10: > Liste_des_Pièces_Prog
A11: 6 | B11: =IF('Liste Pièces Admin.'!B10="","",'Liste Pièces Admin.'!B10) -> CABLE DE PUISSANCE | C11: =IF('Liste Pièces Admin.'!C10="","",'Liste Pièces Admin.'!C10) -> 4X16 MM | D11: =IF('Liste Pièces Admin.'!D10="","",'Liste Pièces Admin.'!D10) -> ELE | E11: =IF('Liste Pièces Admin.'!E10="","",'Liste Pièces Admin.'!E10) -> Mètre | F11: =IF('Liste Pièces Admin.'!F10="","",'Liste Pièces Admin.'!F10) | H11: =IF(B11="","",SUMIFS('Mouvement Stock Admin.'!E$5:E$397,'Mouvement Stock Admin.'!D$5:D$397,C11)) -> 0 | I11: =IF(C11="","",SUMIFS('Mouvement Stock Admin.'!F$5:F$497,'Mouvement Stock Admin.'!D$5:D$497,C11)) -> 0 | J11: =IF(C11="","",G11+H11-I11) -> 0 | K11: =J11*F11 -> #VALUE! | L11: 0 | M11: =G11-L11 -> 0 | N11: =IF(J11>0,"OK","Rupture") -> Rupture | Q11: > Voir Liste_des_Pièces_Admin
A12: 7 | B12: =IF('Liste Pièces Admin.'!B11="","",'Liste Pièces Admin.'!B11) -> DISJONCTEUR MULTI 9 | C12: =IF('Liste Pièces Admin.'!C11="","",'Liste Pièces Admin.'!C11) -> DM32A | D12: =IF('Liste Pièces Admin.'!D11="","",'Liste Pièces Admin.'!D11) -> ELE | E12: =IF('Liste Pièces Admin.'!E11="","",'Liste Pièces Admin.'!E11) -> Pièce | F12: =IF('Liste Pièces Admin.'!F11="","",'Liste Pièces Admin.'!F11) | H12: =IF(B12="","",SUMIFS('Mouvement Stock Admin.'!E$5:E$397,'Mouvement Stock Admin.'!D$5:D$397,C12)) -> 8 | I12: =IF(C12="","",SUMIFS('Mouvement Stock Admin.'!F$5:F$497,'Mouvement Stock Admin.'!D$5:D$497,C12)) -> 0 | J12: =IF(C12="","",G12+H12-I12) -> 8 | K12: =J12*F12 -> #VALUE! | L12: 8 | M12: =G12-L12 -> -8 | N12: =IF(J12>0,"OK","Rupture") -> OK | Q12: > Liste_des_Partenaires & Fournisseurs
A13: 8 | B13: =IF('Liste Pièces Admin.'!B12="","",'Liste Pièces Admin.'!B12) -> DISJONCTEUR MULTI 9 | C13: =IF('Liste Pièces Admin.'!C12="","",'Liste Pièces Admin.'!C12) -> DM25A | D13: =IF('Liste Pièces Admin.'!D12="","",'Liste Pièces Admin.'!D12) -> ELE | E13: =IF('Liste Pièces Admin.'!E12="","",'Liste Pièces Admin.'!E12) -> Pièce | F13: =IF('Liste Pièces Admin.'!F12="","",'Liste Pièces Admin.'!F12) | H13: =IF(B13="","",SUMIFS('Mouvement Stock Admin.'!E$5:E$397,'Mouvement Stock Admin.'!D$5:D$397,C13)) -> 20 | I13: =IF(C13="","",SUMIFS('Mouvement Stock Admin.'!F$5:F$497,'Mouvement Stock Admin.'!D$5:D$497,C13)) -> 0 | J13: =IF(C13="","",G13+H13-I13) -> 20 | K13: =J13*F13 -> #VALUE! | L13: 20 | M13: =G13-L13 -> -20 | N13: =IF(J13>0,"OK","Rupture") -> OK
A14: 9 | B14: =IF('Liste Pièces Admin.'!B13="","",'Liste Pièces Admin.'!B13) -> DISJONCTEUR MULTI 9 | C14: =IF('Liste Pièces Admin.'!C13="","",'Liste Pièces Admin.'!C13) -> DM16A | D14: =IF('Liste Pièces Admin.'!D13="","",'Liste Pièces Admin.'!D13) -> ELE | E14: =IF('Liste Pièces Admin.'!E13="","",'Liste Pièces Admin.'!E13) -> Pièce | F14: =IF('Liste Pièces Admin.'!F13="","",'Liste Pièces Admin.'!F13) | H14: =IF(B14="","",SUMIFS('Mouvement Stock Admin.'!E$5:E$397,'Mouvement Stock Admin.'!D$5:D$397,C14)) -> 10 | I14: =IF(C14="","",SUMIFS('Mouvement Stock Admin.'!F$5:F$497,'Mouvement Stock Admin.'!D$5:D$497,C14)) -> 0 | J14: =IF(C14="","",G14+H14-I14) -> 10 | K14: =J14*F14 -> #VALUE! | L14: 10 | M14: =G14-L14 -> -10 | N14: =IF(J14>0,"OK","Rupture") -> OK
A15: 10 | B15: =IF('Liste Pièces Admin.'!B14="","",'Liste Pièces Admin.'!B14) -> DISJONCTEUR MULTI 9 | C15: =IF('Liste Pièces Admin.'!C14="","",'Liste Pièces Admin.'!C14) -> DM10A | D15: =IF('Liste Pièces Admin.'!D14="","",'Liste Pièces Admin.'!D14) -> ELE | E15: =IF('Liste Pièces Admin.'!E14="","",'Liste Pièces Admin.'!E14) -> Pièce | F15: =IF('Liste Pièces Admin.'!F14="","",'Liste Pièces Admin.'!F14) | H15: =IF(B15="","",SUMIFS('Mouvement Stock Admin.'!E$5:E$397,'Mouvement Stock Admin.'!D$5:D$397,C15)) -> 20 | I15: =IF(C15="","",SUMIFS('Mouvement Stock Admin.'!F$5:F$497,'Mouvement Stock Admin.'!D$5:D$497,C15)) -> 0 | J15: =IF(C15="","",G15+H15-I15) -> 20 | K15: =J15*F15 -> #VALUE! | L15: 20 | M15: =G15-L15 -> -20 | N15: =IF(J15>0,"OK","Rupture") -> OK
A16: 11 | B16: =IF('Liste Pièces Admin.'!B15="","",'Liste Pièces Admin.'!B15) -> CONTACTEUR 4POLES | C16: =IF('Liste Pièces Admin.'!C15="","",'Liste Pièces Admin.'!C15) -> C4P400A | D16: =IF('Liste Pièces Admin.'!D15="","",'Liste Pièces Admin.'!D15) -> ELE | E16: =IF('Liste Pièces Admin.'!E15="","",'Liste Pièces Admin.'!E15) -> Pièce | F16: =IF('Liste Pièces Admin.'!F15="","",'Liste Pièces Admin.'!F15) | H16: =IF(B16="","",SUMIFS('Mouvement Stock Admin.'!E$5:E$397,'Mouvement Stock Admin.'!D$5:D$397,C16)) -> 3 | I16: =IF(C16="","",SUMIFS('Mouvement Stock Admin.'!F$5:F$497,'Mouvement Stock Admin.'!D$5:D$497,C16)) -> 0 | J16: =IF(C16="","",G16+H16-I16) -> 3 | K16: =J16*F16 -> #VALUE! | L16: 3 | M16: =G16-L16 -> -3 | N16: =IF(J16>0,"OK","Rupture") -> OK
A17: 12 | B17: =IF('Liste Pièces Admin.'!B16="","",'Liste Pièces Admin.'!B16) -> POMPE A INJECTION | C17: =IF('Liste Pièces Admin.'!C16="","",'Liste Pièces Admin.'!C16) -> 06706LPC | D17: =IF('Liste Pièces Admin.'!D16="","",'Liste Pièces Admin.'!D16) -> ELE | E17: =IF('Liste Pièces Admin.'!E16="","",'Liste Pièces Admin.'!E16) -> Pièce | F17: =IF('Liste Pièces Admin.'!F16="","",'Liste Pièces Admin.'!F16) | H17: =IF(B17="","",SUMIFS('Mouvement Stock Admin.'!E$5:E$397,'Mouvement Stock Admin.'!D$5:D$397,C17)) -> 0 | I17: =IF(C17="","",SUMIFS('Mouvement Stock Admin.'!F$5:F$497,'Mouvement Stock Admin.'!D$5:D$497,C17)) -> 0 | J17: =IF(C17="","",G17+H17-I17) -> 0 | K17: =J17*F17 -> #VALUE! | L17: 0 | M17: =G17-L17 -> 0 | N17: =IF(J17>0,"OK","Rupture") -> Rupture
A18: 13 | B18: =IF('Liste Pièces Admin.'!B17="","",'Liste Pièces Admin.'!B17) -> RADIATEUR | C18: =IF('Liste Pièces Admin.'!C17="","",'Liste Pièces Admin.'!C17) -> 122712-5152 | D18: =IF('Liste Pièces Admin.'!D17="","",'Liste Pièces Admin.'!D17) -> GEN | E18: =IF('Liste Pièces Admin.'!E17="","",'Liste Pièces Admin.'!E17) -> Pièce | F18: =IF('Liste Pièces Admin.'!F17="","",'Liste Pièces Admin.'!F17) | H18: =IF(B18="","",SUMIFS('Mouvement Stock Admin.'!E$5:E$397,'Mouvement Stock Admin.'!D$5:D$397,C18)) -> 0 | I18: =IF(C18="","",SUMIFS('Mouvement Stock Admin.'!F$5:F$497,'Mouvement Stock Admin.'!D$5:D$497,C18)) -> 0 | J18: =IF(C18="","",G18+H18-I18) -> 0 | K18: =J18*F18 -> #VALUE! | L18: 0 | M18: =G18-L18 -> 0 | N18: =IF(J18>0,"OK","Rupture") -> Rupture
A19: 14 | B19: =IF('Liste Pièces Admin.'!B18="","",'Liste Pièces Admin.'!B18) -> POMPE ELECTRIQUE | C19: =IF('Liste Pièces Admin.'!C18="","",'Liste Pièces Admin.'!C18) -> 70068700 | D19: =IF('Liste Pièces Admin.'!D18="","",'Liste Pièces Admin.'!D18) -> GEN | E19: =IF('Liste Pièces Admin.'!E18="","",'Liste Pièces Admin.'!E18) -> Pièce | F19: =IF('Liste Pièces Admin.'!F18="","",'Liste Pièces Admin.'!F18) | H19: =IF(B19="","",SUMIFS('Mouvement Stock Admin.'!E$5:E$397,'Mouvement Stock Admin.'!D$5:D$397,C19)) -> 0 | I19: =IF(C19="","",SUMIFS('Mouvement Stock Admin.'!F$5:F$497,'Mouvement Stock Admin.'!D$5:D$497,C19)) -> 0 | J19: =IF(C19="","",G19+H19-I19) -> 0 | K19: =J19*F19 -> #VALUE! | L19: 0 | M19: =G19-L19 -> 0 | N19: =IF(J19>0,"OK","Rupture") -> Rupture
A20: 15 | B20: =IF('Liste Pièces Admin.'!B19="","",'Liste Pièces Admin.'!B19) -> RELAIS FINDER | C20: =IF('Liste Pièces Admin.'!C19="","",'Liste Pièces Admin.'!C19) -> RF220V | D20: =IF('Liste Pièces Admin.'!D19="","",'Liste Pièces Admin.'!D19) -> GEN | E20: =IF('Liste Pièces Admin.'!E19="","",'Liste Pièces Admin.'!E19) -> Pièce | F20: =IF('Liste Pièces Admin.'!F19="","",'Liste Pièces Admin.'!F19) | H20: =IF(B20="","",SUMIFS('Mouvement Stock Admin.'!E$5:E$397,'Mouvement Stock Admin.'!D$5:D$397,C20)) -> 7 | I20: =IF(C20="","",SUMIFS('Mouvement Stock Admin.'!F$5:F$497,'Mouvement Stock Admin.'!D$5:D$497,C20)) -> 0 | J20: =IF(C20="","",G20+H20-I20) -> 7 | K20: =J20*F20 -> #VALUE! | L20: 18 | M20: =G20-L20 -> -18 | N20: =IF(J20>0,"OK","Rupture") -> OK
A21: 16 | B21: =IF('Liste Pièces Admin.'!B20="","",'Liste Pièces Admin.'!B20) -> AMORTISSEUR AVANT | C21: =IF('Liste Pièces Admin.'!C20="","",'Liste Pièces Admin.'!C20) -> F4BESM179-M3 | D21: =IF('Liste Pièces Admin.'!D20="","",'Liste Pièces Admin.'!D20) -> TOY | E21: =IF('Liste Pièces Admin.'!E20="","",'Liste Pièces Admin.'!E20) -> Pièce | F21: =IF('Liste Pièces Admin.'!F20="","",'Liste Pièces Admin.'!F20) | H21: =IF(B21="","",SUMIFS('Mouvement Stock Admin.'!E$5:E$397,'Mouvement Stock Admin.'!D$5:D$397,C21)) -> 4 | I21: =IF(C21="","",SUMIFS('Mouvement Stock Admin.'!F$5:F$497,'Mouvement Stock Admin.'!D$5:D$497,C21)) -> 0 | J21: =IF(C21="","",G21+H21-I21) -> 4 | K21: =J21*F21 -> #VALUE! | L21: 4 | M21: =G21-L21 -> -4 | N21: =IF(J21>0,"OK","Rupture") -> OK
A22: 17 | B22: =IF('Liste Pièces Admin.'!B21="","",'Liste Pièces Admin.'!B21) -> AMORTISSEUR AR | C22: =IF('Liste Pièces Admin.'!C21="","",'Liste Pièces Admin.'!C21) -> F4BESM180-M3 | D22: =IF('Liste Pièces Admin.'!D21="","",'Liste Pièces Admin.'!D21) -> TOY | E22: =IF('Liste Pièces Admin.'!E21="","",'Liste Pièces Admin.'!E21) -> Pièce | F22: =IF('Liste Pièces Admin.'!F21="","",'Liste Pièces Admin.'!F21) | H22: =IF(B22="","",SUMIFS('Mouvement Stock Admin.'!E$5:E$397,'Mouvement Stock Admin.'!D$5:D$397,C22)) -> 6 | I22: =IF(C22="","",SUMIFS('Mouvement Stock Admin.'!F$5:F$497,'Mouvement Stock Admin.'!D$5:D$497,C22)) -> 0 | J22: =IF(C22="","",G22+H22-I22) -> 6 | K22: =J22*F22 -> #VALUE! | L22: 6 | M22: =G22-L22 -> -6 | N22: =IF(J22>0,"OK","Rupture") -> OK
A23: 18 | B23: =IF('Liste Pièces Admin.'!B22="","",'Liste Pièces Admin.'!B22) -> SCOTCH ELECTRIQUE | C23: =IF('Liste Pièces Admin.'!C22="","",'Liste Pièces Admin.'!C22) -> ROB | D23: =IF('Liste Pièces Admin.'!D22="","",'Liste Pièces Admin.'!D22) -> ELE | E23: =IF('Liste Pièces Admin.'!E22="","",'Liste Pièces Admin.'!E22) -> Pièce | F23: =IF('Liste Pièces Admin.'!F22="","",'Liste Pièces Admin.'!F22) | H23: =IF(B23="","",SUMIFS('Mouvement Stock Admin.'!E$5:E$397,'Mouvement Stock Admin.'!D$5:D$397,C23)) -> 0 | I23: =IF(C23="","",SUMIFS('Mouvement Stock Admin.'!F$5:F$497,'Mouvement Stock Admin.'!D$5:D$497,C23)) -> 0 | J23: =IF(C23="","",G23+H23-I23) -> 0 | K23: =J23*F23 -> #VALUE! | L23: 0 | M23: =G23-L23 -> 0 | N23: =IF(J23>0,"OK","Rupture") -> Rupture
A24: 19 | B24: =IF('Liste Pièces Admin.'!B23="","",'Liste Pièces Admin.'!B23) -> ECROUE | C24: =IF('Liste Pièces Admin.'!C23="","",'Liste Pièces Admin.'!C23) -> LC 76 | D24: =IF('Liste Pièces Admin.'!D23="","",'Liste Pièces Admin.'!D23) -> TOY | E24: =IF('Liste Pièces Admin.'!E23="","",'Liste Pièces Admin.'!E23) -> Pièce | F24: =IF('Liste Pièces Admin.'!F23="","",'Liste Pièces Admin.'!F23) | H24: =IF(B24="","",SUMIFS('Mouvement Stock Admin.'!E$5:E$397,'Mouvement Stock Admin.'!D$5:D$397,C24)) -> 18 | I24: =IF(C24="","",SUMIFS('Mouvement Stock Admin.'!F$5:F$497,'Mouvement Stock Admin.'!D$5:D$497,C24)) -> 0 | J24: =IF(C24="","",G24+H24-I24) -> 18 | K24: =J24*F24 -> #VALUE! | L24: 18 | M24: =G24-L24 -> -18 | N24: =IF(J24>0,"OK","Rupture") -> OK
... A459: 454 | B459: =IF('Liste Pièces Admin.'!B458="","",'Liste Pièces Admin.'!B458) | C459: =IF('Liste Pièces Admin.'!C458="","",'Liste Pièces Admin.'!C458) | D459: =IF('Liste Pièces Admin.'!D458="","",'Liste Pièces Admin.'!D458) | E459: =IF('Liste Pièces Admin.'!E458="","",'Liste Pièces Admin.'!E458) | F459: =IF('Liste Pièces Admin.'!F458="","",'Liste Pièces Admin.'!F458) | H459: =IF(B459="","",SUMIFS('Mouvement Stock Admin.'!E$5:E$397,'Mouvement Stock Admin.'!D$5:D$397,C459)) | I459: =IF(C459="","",SUMIFS('Mouvement Stock Admin.'!F$5:F$497,'Mouvement Stock Admin.'!D$5:D$497,C459)) | J459: =IF(C459="","",G459+H459-I459) | K459: =J459*F459 -> #VALUE! | L459: 4 | M459: =G459-L459 -> -4 | N459: =IF(J459>0,"OK","Rupture") -> OK
A460: 455 | B460: =IF('Liste Pièces Admin.'!B459="","",'Liste Pièces Admin.'!B459) | C460: =IF('Liste Pièces Admin.'!C459="","",'Liste Pièces Admin.'!C459) | D460: =IF('Liste Pièces Admin.'!D459="","",'Liste Pièces Admin.'!D459) | E460: =IF('Liste Pièces Admin.'!E459="","",'Liste Pièces Admin.'!E459) | F460: =IF('Liste Pièces Admin.'!F459="","",'Liste Pièces Admin.'!F459) | H460: =IF(B460="","",SUMIFS('Mouvement Stock Admin.'!E$5:E$397,'Mouvement Stock Admin.'!D$5:D$397,C460)) | I460: =IF(C460="","",SUMIFS('Mouvement Stock Admin.'!F$5:F$497,'Mouvement Stock Admin.'!D$5:D$497,C460)) | K460: =J460*F460 -> #VALUE! | L460: 1 | M460: =G460-L460 -> -1 | N460: =IF(J460>0,"OK","Rupture") -> Rupture
A461: 456 | B461: =IF('Liste Pièces Admin.'!B460="","",'Liste Pièces Admin.'!B460) | C461: =IF('Liste Pièces Admin.'!C460="","",'Liste Pièces Admin.'!C460) | D461: =IF('Liste Pièces Admin.'!D460="","",'Liste Pièces Admin.'!D460) | E461: =IF('Liste Pièces Admin.'!E460="","",'Liste Pièces Admin.'!E460) | F461: =IF('Liste Pièces Admin.'!F460="","",'Liste Pièces Admin.'!F460) | H461: =IF(B461="","",SUMIFS('Mouvement Stock Admin.'!E$5:E$397,'Mouvement Stock Admin.'!D$5:D$397,C461)) | I461: =IF(C461="","",SUMIFS('Mouvement Stock Admin.'!F$5:F$497,'Mouvement Stock Admin.'!D$5:D$497,C461)) | K461: =J461*F461 -> #VALUE! | L461: 5 | M461: =G461-L461 -> -5 | N461: =IF(J461>0,"OK","Rupture") -> Rupture
A462: 457 | B462: =IF('Liste Pièces Admin.'!B461="","",'Liste Pièces Admin.'!B461) | C462: =IF('Liste Pièces Admin.'!C461="","",'Liste Pièces Admin.'!C461) | D462: =IF('Liste Pièces Admin.'!D461="","",'Liste Pièces Admin.'!D461) | E462: =IF('Liste Pièces Admin.'!E461="","",'Liste Pièces Admin.'!E461) | F462: =IF('Liste Pièces Admin.'!F461="","",'Liste Pièces Admin.'!F461) | H462: =IF(B462="","",SUMIFS('Mouvement Stock Admin.'!E$5:E$397,'Mouvement Stock Admin.'!D$5:D$397,C462)) | I462: =IF(C462="","",SUMIFS('Mouvement Stock Admin.'!F$5:F$497,'Mouvement Stock Admin.'!D$5:D$497,C462)) | K462: =J462*F462 -> #VALUE! | L462: 4 | M462: =G462-L462 -> -4 | N462: =IF(J462>0,"OK","Rupture") -> Rupture
A463: 458 | B463: =IF('Liste Pièces Admin.'!B462="","",'Liste Pièces Admin.'!B462) | C463: =IF('Liste Pièces Admin.'!C462="","",'Liste Pièces Admin.'!C462) | D463: =IF('Liste Pièces Admin.'!D462="","",'Liste Pièces Admin.'!D462) | E463: =IF('Liste Pièces Admin.'!E462="","",'Liste Pièces Admin.'!E462) | F463: =IF('Liste Pièces Admin.'!F462="","",'Liste Pièces Admin.'!F462) | H463: =IF(B463="","",SUMIFS('Mouvement Stock Admin.'!E$5:E$397,'Mouvement Stock Admin.'!D$5:D$397,C463)) | I463: =IF(C463="","",SUMIFS('Mouvement Stock Admin.'!F$5:F$497,'Mouvement Stock Admin.'!D$5:D$497,C463)) | K463: =J463*F463 -> #VALUE! | L463: 1 | M463: =G463-L463 -> -1 | N463: =IF(J463>0,"OK","Rupture") -> Rupture
A464: 459 | B464: =IF('Liste Pièces Admin.'!B463="","",'Liste Pièces Admin.'!B463) | C464: =IF('Liste Pièces Admin.'!C463="","",'Liste Pièces Admin.'!C463) | D464: =IF('Liste Pièces Admin.'!D463="","",'Liste Pièces Admin.'!D463) | E464: =IF('Liste Pièces Admin.'!E463="","",'Liste Pièces Admin.'!E463) | F464: =IF('Liste Pièces Admin.'!F463="","",'Liste Pièces Admin.'!F463) | H464: =IF(B464="","",SUMIFS('Mouvement Stock Admin.'!E$5:E$397,'Mouvement Stock Admin.'!D$5:D$397,C464)) | I464: =IF(C464="","",SUMIFS('Mouvement Stock Admin.'!F$5:F$497,'Mouvement Stock Admin.'!D$5:D$497,C464)) | K464: =J464*F464 -> #VALUE! | L464: 4 | M464: =G464-L464 -> -4 | N464: =IF(J464>0,"OK","Rupture") -> Rupture
A465: 460 | B465: =IF('Liste Pièces Admin.'!B464="","",'Liste Pièces Admin.'!B464) | C465: =IF('Liste Pièces Admin.'!C464="","",'Liste Pièces Admin.'!C464) | D465: =IF('Liste Pièces Admin.'!D464="","",'Liste Pièces Admin.'!D464) | E465: =IF('Liste Pièces Admin.'!E464="","",'Liste Pièces Admin.'!E464) | F465: =IF('Liste Pièces Admin.'!F464="","",'Liste Pièces Admin.'!F464) | H465: =IF(B465="","",SUMIFS('Mouvement Stock Admin.'!E$5:E$397,'Mouvement Stock Admin.'!D$5:D$397,C465)) | K465: =J465*F465 -> #VALUE! | L465: 0 | M465: =G465-L465 -> 0 | N465: =IF(J465>0,"OK","Rupture") -> Rupture
A466: 461 | B466: =IF('Liste Pièces Admin.'!B465="","",'Liste Pièces Admin.'!B465) | C466: =IF('Liste Pièces Admin.'!C465="","",'Liste Pièces Admin.'!C465) | D466: =IF('Liste Pièces Admin.'!D465="","",'Liste Pièces Admin.'!D465) | E466: =IF('Liste Pièces Admin.'!E465="","",'Liste Pièces Admin.'!E465) | F466: =IF('Liste Pièces Admin.'!F465="","",'Liste Pièces Admin.'!F465) | H466: =IF(B466="","",SUMIFS('Mouvement Stock Admin.'!E$5:E$397,'Mouvement Stock Admin.'!D$5:D$397,C466)) | K466: =J466*F466 -> #VALUE! | L466: 0 | M466: =G466-L466 -> 0 | N466: =IF(J466>0,"OK","Rupture") -> Rupture
A467: 462 | B467: =IF('Liste Pièces Admin.'!B466="","",'Liste Pièces Admin.'!B466) | C467: =IF('Liste Pièces Admin.'!C466="","",'Liste Pièces Admin.'!C466) | D467: =IF('Liste Pièces Admin.'!D466="","",'Liste Pièces Admin.'!D466) | E467: =IF('Liste Pièces Admin.'!E466="","",'Liste Pièces Admin.'!E466) | F467: =IF('Liste Pièces Admin.'!F466="","",'Liste Pièces Admin.'!F466) | H467: =IF(B467="","",SUMIFS('Mouvement Stock Admin.'!E$5:E$397,'Mouvement Stock Admin.'!D$5:D$397,C467)) | K467: =J467*F467 -> #VALUE! | L467: 2 | M467: =G467-L467 -> -2 | N467: =IF(J467>0,"OK","Rupture") -> Rupture
A468: 463 | B468: =IF('Liste Pièces Admin.'!B467="","",'Liste Pièces Admin.'!B467) | C468: =IF('Liste Pièces Admin.'!C467="","",'Liste Pièces Admin.'!C467) | D468: =IF('Liste Pièces Admin.'!D467="","",'Liste Pièces Admin.'!D467) | E468: =IF('Liste Pièces Admin.'!E467="","",'Liste Pièces Admin.'!E467) | F468: =IF('Liste Pièces Admin.'!F467="","",'Liste Pièces Admin.'!F467) | H468: =IF(B468="","",SUMIFS('Mouvement Stock Admin.'!E$5:E$397,'Mouvement Stock Admin.'!D$5:D$397,C468)) | K468: =J468*F468 -> #VALUE! | L468: 2 | M468: =G468-L468 -> -2 | N468: =IF(J468>0,"OK","Rupture") -> Rupture
A469: 464 | B469: =IF('Liste Pièces Admin.'!B468="","",'Liste Pièces Admin.'!B468) | C469: =IF('Liste Pièces Admin.'!C468="","",'Liste Pièces Admin.'!C468) | D469: =IF('Liste Pièces Admin.'!D468="","",'Liste Pièces Admin.'!D468) | E469: =IF('Liste Pièces Admin.'!E468="","",'Liste Pièces Admin.'!E468) | F469: =IF('Liste Pièces Admin.'!F468="","",'Liste Pièces Admin.'!F468) | H469: =IF(B469="","",SUMIFS('Mouvement Stock Admin.'!E$5:E$397,'Mouvement Stock Admin.'!D$5:D$397,C469)) | K469: =J469*F469 -> #VALUE! | L469: 2 | M469: =G469-L469 -> -2 | N469: =IF(J469>0,"OK","Rupture") -> Rupture
A470: 465 | B470: =IF('Liste Pièces Admin.'!B469="","",'Liste Pièces Admin.'!B469) | C470: =IF('Liste Pièces Admin.'!C469="","",'Liste Pièces Admin.'!C469) | D470: =IF('Liste Pièces Admin.'!D469="","",'Liste Pièces Admin.'!D469) | E470: =IF('Liste Pièces Admin.'!E469="","",'Liste Pièces Admin.'!E469) | F470: =IF('Liste Pièces Admin.'!F469="","",'Liste Pièces Admin.'!F469) | H470: =IF(B470="","",SUMIFS('Mouvement Stock Admin.'!E$5:E$397,'Mouvement Stock Admin.'!D$5:D$397,C470)) | K470: =J470*F470 -> #VALUE! | L470: 1 | M470: =G470-L470 -> -1 | N470: =IF(J470>0,"OK","Rupture") -> Rupture
A471: 466 | B471: =IF('Liste Pièces Admin.'!B470="","",'Liste Pièces Admin.'!B470) | C471: =IF('Liste Pièces Admin.'!C470="","",'Liste Pièces Admin.'!C470) | D471: =IF('Liste Pièces Admin.'!D470="","",'Liste Pièces Admin.'!D470) | E471: =IF('Liste Pièces Admin.'!E470="","",'Liste Pièces Admin.'!E470) | F471: =IF('Liste Pièces Admin.'!F470="","",'Liste Pièces Admin.'!F470) | H471: =IF(B471="","",SUMIFS('Mouvement Stock Admin.'!E$5:E$397,'Mouvement Stock Admin.'!D$5:D$397,C471)) | K471: =J471*F471 -> #VALUE! | L471: 1 | M471: =G471-L471 -> -1 | N471: =IF(J471>0,"OK","Rupture") -> Rupture
A472: 467 | B472: =IF('Liste Pièces Admin.'!B471="","",'Liste Pièces Admin.'!B471) | C472: =IF('Liste Pièces Admin.'!C471="","",'Liste Pièces Admin.'!C471) | D472: =IF('Liste Pièces Admin.'!D471="","",'Liste Pièces Admin.'!D471) | E472: =IF('Liste Pièces Admin.'!E471="","",'Liste Pièces Admin.'!E471) | F472: =IF('Liste Pièces Admin.'!F471="","",'Liste Pièces Admin.'!F471) | H472: =IF(B472="","",SUMIFS('Mouvement Stock Admin.'!E$5:E$397,'Mouvement Stock Admin.'!D$5:D$397,C472)) | K472: =J472*F472 -> #VALUE! | L472: 10 | M472: =G472-L472 -> -10 | N472: =IF(J472>0,"OK","Rupture") -> Rupture
A473: 468 | B473: =IF('Liste Pièces Admin.'!B472="","",'Liste Pièces Admin.'!B472) | C473: =IF('Liste Pièces Admin.'!C472="","",'Liste Pièces Admin.'!C472) | D473: =IF('Liste Pièces Admin.'!D472="","",'Liste Pièces Admin.'!D472) | E473: =IF('Liste Pièces Admin.'!E472="","",'Liste Pièces Admin.'!E472) | F473: =IF('Liste Pièces Admin.'!F472="","",'Liste Pièces Admin.'!F472) | H473: =IF(B473="","",SUMIFS('Mouvement Stock Admin.'!E$5:E$397,'Mouvement Stock Admin.'!D$5:D$397,C473)) | K473: =J473*F473 -> #VALUE! | L473: 13 | M473: =G473-L473 -> -13 | N473: =IF(J473>0,"OK","Rupture") -> Rupture
A474: 469 | B474: =IF('Liste Pièces Admin.'!B473="","",'Liste Pièces Admin.'!B473) | C474: =IF('Liste Pièces Admin.'!C473="","",'Liste Pièces Admin.'!C473) | D474: =IF('Liste Pièces Admin.'!D473="","",'Liste Pièces Admin.'!D473) | E474: =IF('Liste Pièces Admin.'!E473="","",'Liste Pièces Admin.'!E473) | F474: =IF('Liste Pièces Admin.'!F473="","",'Liste Pièces Admin.'!F473) | H474: =IF(B474="","",SUMIFS('Mouvement Stock Admin.'!E$5:E$397,'Mouvement Stock Admin.'!D$5:D$397,C474)) | K474: =J474*F474 -> #VALUE! | L474: 4 | M474: =G474-L474 -> -4 | N474: =IF(J474>0,"OK","Rupture") -> Rupture
A475: 470 | B475: =IF('Liste Pièces Admin.'!B474="","",'Liste Pièces Admin.'!B474) | C475: =IF('Liste Pièces Admin.'!C474="","",'Liste Pièces Admin.'!C474) | D475: =IF('Liste Pièces Admin.'!D474="","",'Liste Pièces Admin.'!D474) | E475: =IF('Liste Pièces Admin.'!E474="","",'Liste Pièces Admin.'!E474) | F475: =IF('Liste Pièces Admin.'!F474="","",'Liste Pièces Admin.'!F474) | H475: =IF(B475="","",SUMIFS('Mouvement Stock Admin.'!E$5:E$397,'Mouvement Stock Admin.'!D$5:D$397,C475)) | K475: =J475*F475 -> #VALUE! | L475: 730 | M475: =G475-L475 -> -730 | N475: =IF(J475>0,"OK","Rupture") -> Rupture
A476: 471 | B476: =IF('Liste Pièces Admin.'!B475="","",'Liste Pièces Admin.'!B475) | C476: =IF('Liste Pièces Admin.'!C475="","",'Liste Pièces Admin.'!C475) | D476: =IF('Liste Pièces Admin.'!D475="","",'Liste Pièces Admin.'!D475) | E476: =IF('Liste Pièces Admin.'!E475="","",'Liste Pièces Admin.'!E475) | F476: =IF('Liste Pièces Admin.'!F475="","",'Liste Pièces Admin.'!F475) | H476: =IF(B476="","",SUMIFS('Mouvement Stock Admin.'!E$5:E$397,'Mouvement Stock Admin.'!D$5:D$397,C476)) | K476: =J476*F476 -> #VALUE! | L476: 1 | M476: =G476-L476 -> -1 | N476: =IF(J476>0,"OK","Rupture") -> Rupture
... A970: 965 | B970: =IF('Liste Pièces Admin.'!B969="","",'Liste Pièces Admin.'!B969) | C970: =IF('Liste Pièces Admin.'!C969="","",'Liste Pièces Admin.'!C969) | D970: =IF('Liste Pièces Admin.'!D969="","",'Liste Pièces Admin.'!D969) | E970: =IF('Liste Pièces Admin.'!E969="","",'Liste Pièces Admin.'!E969) | F970: =IF('Liste Pièces Admin.'!F969="","",'Liste Pièces Admin.'!F969) | H970: =IF(B970="","",SUMIFS('Mouvement Stock Admin.'!E$5:E$397,'Mouvement Stock Admin.'!D$5:D$397,C970)) | K970: =J970*F970 -> #VALUE! | L970: 0 | M970: =G970-L970 -> 0 | N970: =IF(J970>0,"OK","Rupture") -> Rupture

Sheet Liste Pièces Admin.
A2: Liste des pièces détachées Admin
A4: N° | B4: Désignation | C4: Ref. | D4: Class. | E4: Unit | F4: Price
A5: 1 | B5: PLAQUETTE DE FREIN | C5: 1400006826 | D5: TOY | E5: Pièce
A6: 2 | B6: DISQUE DE ROUE AVANT | C6: 05890-46539 | D6: TOY | E6: Pièce
A7: 3 | B7: RESSORT | C7: MD18/24 | D7: TOY | E7: Pièce | I7: Navigation
A8: 4 | B8: RESSORT | C8: MD19/12 | D8: TOY | E8: Pièce | I8: > Mouvement Stock Program
A9: 5 | B9: FILTRE A AIR | C9: CAT1R1805 | D9: GEN | E9: Pièce | I9: > Voir la situation du stock des pièces Program
A10: 6 | B10: CABLE DE PUISSANCE | C10: 4X16 MM | D10: ELE | E10: Mètre | I10: > Liste_des_Partenaires & Fournisseurs
A11: 7 | B11: DISJONCTEUR MULTI 9 | C11: DM32A | D11: ELE | E11: Pièce
A12: 8 | B12: DISJONCTEUR MULTI 9 | C12: DM25A | D12: ELE | E12: Pièce
A13: 9 | B13: DISJONCTEUR MULTI 9 | C13: DM16A | D13: ELE | E13: Pièce
A14: 10 | B14: DISJONCTEUR MULTI 9 | C14: DM10A | D14: ELE | E14: Pièce
A15: 11 | B15: CONTACTEUR 4POLES | C15: C4P400A | D15: ELE | E15: Pièce
A16: 12 | B16: POMPE A INJECTION | C16: 06706LPC | D16: ELE | E16: Pièce
A17: 13 | B17: RADIATEUR | C17: 122712-5152 | D17: GEN | E17: Pièce
A18: 14 | B18: POMPE ELECTRIQUE | C18: 70068700 | D18: GEN | E18: Pièce
A19: 15 | B19: RELAIS FINDER | C19: RF220V | D19: GEN | E19: Pièce
A20: 16 | B20: AMORTISSEUR AVANT | C20: F4BESM179-M3 | D20: TOY | E20: Pièce
A21: 17 | B21: AMORTISSEUR AR | C21: F4BESM180-M3 | D21: TOY | E21: Pièce
A22: 18 | B22: SCOTCH ELECTRIQUE | C22: ROB | D22: ELE | E22: Pièce
A23: 19 | B23: ECROUE | C23: LC 76 | D23: TOY | E23: Pièce
A24: 20 | B24: DISQUE DE ROUE | C24: DBA 427225 | D24: TOY | E24: Pièce
A25: 21 | B25: DISQUE DE ROUE | C25: DBA 427235 | D25: TOY | E25: Pièce
A26: 22 | B26: FILTRE A AIR | C26: 26510353 | D26: GEN | E26: Pièce
A27: 23 | B27: ARRETE HUILE MOYEU | C27: 40232-01J00 | D27: NIS | E27: Pièce
A28: 24 | B28: ROULEMENT MOYEU | C28: 40215-C6000 | D28: NIS | E28: Pièce
A29: 25 | B29: SILENT BLOC | C29: 35129-4401P | D29: NIS | E29: Pièce
A30: 26 | B30: COURROIE CLIMATISATION | C30: L9130-92292 | D30: NIS | E30: Pièce
A31: 27 | B31: COURROIE ALTERNATEUR | C31: 11720-VC10A | D31: NIS | E31: Pièce
A32: 28 | B32: GARNITURE DE FREIN | C32: 41060-T0925 | D32: NIS | E32: Pièce
A33: 29 | B33: GASOIL FILTER | C33: 16403-VK11A | D33: TOY | E33: Pièce
A34: 30 | B34: FILTRE À HUILE ELEMENT | C34: 15209-2W200 | D34: NIS | E34: Pièce
A35: 31 | B35: PLAQUETTE DE FREIN | C35: AY040-NS092 | D35: NIS | E35: Pièce
A36: 32 | B36: FILTRE AGAZOIL | C36: 2556201 | D36: GEN | E36: Pièce
A37: 33 | B37: GRILLAGE AVERTISSEUR | C37: 0.30mX100m | D37: ELE | E37: Pièce
A38: 34 | B38: CABLE SOUPLE | C38: 4 x 2,5 mm | D38: ELE | E38: Mètre
A39: 35 | B39: FILTRE À AIR | C39: MD620563 | D39: GEN | E39: Pièce
A40: 36 | B40: FILTRE A AIR | C40: 233-5102 | D40: GEN | E40: Pièce
A41: 37 | B41: FILTRE A GAZOIL | C41: 441-5111 | D41: GEN | E41: Pièce
A42: 38 | B42: COSSE D 70 | C42: C70 | D42: ELE | E42: Mètre
A43: 39 | B43: COLLIER COLSON | C43: COLC | D43: ELE | E43: Paquet
A44: 40 | B44: TUYAU PV DE 100 | C44: TU-100 | D44: GEN | E44: Pièce
A45: 41 | B45: INVERSEUR AUTOMATIQUE | C45: ABB30A | D45: GEN | E45: Pièce
A46: 42 | B46: DISJONCTEUR COMPACT | C46: 250A DPX3-4 POLES | D46: ELE | E46: Pièce
A47: 43 | B47: CONTACTEUR MULTI 9 | C47: 4 POLES 63 A | D47: GEN | E47: Pièce
A48: 44 | B48: CONTACTEUR MULTI 9 | C48: 4 POLES 40 A | D48: GEN | E48: Pièce
... A57: 53 | B57: FILTRE A AIR | C57: K 91900 | D57: GEN | E57: Pièce
A58: 54 | B58: OIL FILTER | C58: 507108 | D58: GEN | E58: Pièce
A59: 55 | B59: GASOIL FILTER | C59: FF 5580 | D59: GEN | E59: Pièce
A60: 56 | B60: OIL FILTER | C60: LF 16015 | D60: GEN | E60: Pièce
A61: 57 | B61: FILTRE À AIR | C61: 17801-30080 | D61: TOY | E61: Pièce
A62: 58 | B62: FILTRE À POLLEN | C62: 87139-47010 | D62: TOY | E62: Pièce
A63: 59 | B63: BLOC ADDITIF ABB | C63: 15124480171A | D63: ELE | E63: Pièce
A64: 60 | B64: RELAIS TEMPORISE | C64: 15VR550029R | D64: ELE | E64: Pièce
A65: 61 | B65: FILTRE A HUILE | C65: 04152-38020 | D65: TOY | E65: Pièce
A66: 62 | B66: PNEUS BLINDE | C66: LT235/85R16 | D66: TYRE | E66: Pièce
A67: 63 | B67: CABLE DE COMMANDE | C67: 3 X 2.5 MM | D67: ELE | E67: Mètre
A68: 64 | B68: PNEUS | C68: 750 R16 | D68: TYRE | E68: Pièce
A69: 65 | B69: RUBAN ADHESIF BLEU | C69: ROB -B | D69: ELE | E69: Pièce
A70: 66 | B70: RUBAN ADHESIF | C70: ROB-R | D70: ELE | E70: Pièce
... A73: 69 | B73: GASOIL FILTER | C73: 23390 -51070 | D73: TOY | E73: Pièce
A74: 70 | B74: ROULEMENT | C74: 6302 | D74: TOY | E74: Pièce
A75: 71 | B75: FILTRE A GAZOIL | C75: 23390-OL070 | D75: GEN | E75: Pièce
A76: 72 | B76: OIL FILTER | C76: 90915-YZZD2 | D76: TOY | E76: Pièce
A77: 73 | B77: PLAQUETTE DE FREIN | C77: 04465-60370 | D77: TOY | E77: Pièce
A78: 74 | B78: ROULEMENT | C78: 6301 RS | D78: TOY | E78: Pièce
A79: 75 | B79: FILTER A GASOIL | C79: FF 167 | D79: GEN | E79: Pièce
A80: 76 | B80: FILTRE A HUILE | C80: 7W-2326 | D80: GEN | E80: Pièce
A81: 77 | B81: COURROIE ALTERNATEUR | C81: 4N-8771 | D81: GEN | E81: Pièce
A82: 78 | B82: FILTRE A HUILE | C82: 4621171 | D82: GEN | E82: Pièce
A83: 79 | B83: FILTRE A GAZOIL | C83: 435-6493 | D83: GEN | E83: Pièce
A84: 80 | B84: FILTRE A AIR | C84: 1R1804 | D84: GEN | E84: Pièce
A85: 81 | B85: FILTRE A AIR | C85: 1304678 | D85: GEN | E85: Pièce
A86: 82 | B86: COURROIE ALTERNATEUR | C86: 128-5247 | D86: GEN | E86: Pièce
A87: 83 | B87: FILTRE A AIR | C87: 1106326 | D87: GEN | E87: Pièce
A88: 84 | B88: BUTEE D'EMBRAYAGE | C88: 31230-60260 | D88: TOY | E88: Pièce
A89: 85 | B89: DISQUE D'EMBRAYAGE BLINDE | C89: 31210-60300 | D89: TOY | E89: Pièce
A90: 86 | B90: DISQUE D'EMBRAYAGE BLINDE | C90: 31250-60472 | D90: TOY | E90: Pièce
A91: 87 | B91: RESSORT | C91: 2TL 701-003 A00 | D91: TOY | E91: Pièce
A92: 88 | B92: RESSORT | C92: 2TL 701-002 A00 | D92: TOY | E92: Pièce
A93: 89 | B93: OIL FILTER | C93: 90915-30002 | D93: TOY | E93: Pièce
A94: 90 | B94: COURROIE ALTERNATEUR | C94: 2614B552 | D94: GEN | E94: Pièce
A95: 91 | B95: FILTRE A AIR PRIMAIRE | C95: AF 26676/ A041R283 | D95: GEN | E95: Pièce
A96: 92 | B96: FILTRE A AIR SECONDAIRE | C96: AF 25439 | D96: GEN | E96: Pièce
A97: 93 | B97: OIL FILTER | C97: JX0810Y | D97: GEN | E97: Pièce
A98: 94 | B98: FILTRE A AIR | C98: DPN S0 KGM | D98: GEN | E98: Pièce
A99: 95 | B99: FILTRE A AIR | C99: 135326205 | D99: GEN | E99: Pièce
A100: 96 | B100: COSSE BATTERIE | C100: BC-022 | D100: ELE | E100: Pièce
A101: 97 | B101: TUYAUX GASOIL | C101: 3 CM | D101: ELE | E101: Pièce
A102: 98 | B102: FILTRE A AIR | C102: 901048 | D102: GEN | E102: Pièce
A103: 99 | B103: FILTER A GASOIL SEPARATEUR | C103: 2656043 | D103: GEN | E103: Pièce
A104: 100 | B104: CONTACTEUR ABB | C104: ABB 200A | D104: GEN | E104: Pièce
A105: 101 | B105: LIQUIDE DE REFROIDISSEMENT | C105: TROPIC-AUTO | D105: LUB | E105: Litre
A106: 102 | B106: FILTRE A AIR | C106: 901054 | D106: GEN | E106: Pièce
A107: 103 | B107: FILTRE A GAZOIL | C107: 26560201 | D107: GEN | E107: Pièce
A108: 104 | B108: OIL FILTER | C108: 2654403 | D108: GEN | E108: Pièce
A109: 105 | B109: INVERSEUR | C109: 200 A | D109: GEN | E109: Pièce
A110: 106 | B110: BOUTEILLE GAZ 11,3 KG | C110: R 410 | D110: CON | E110: Pièce
A111: 107 | B111: BOUTEILLE GAZ 11,3 KG | C111: R 22 | D111: CON | E111: Kg
A112: 108 | B112: CEINTURE COLSON | C112: INN 47992 | D112: ELE | E112: Pièce
...
