Workbook

Sheet Planning détaillé
B2: Année : | C2: 2022 | F2: =IF(AND(C2<>"",C3<>""),"Planning horaires pour le mois de "&C3&" "&C2&"") -> Planning horaires pour le mois de Janvier 2022
B3: Mois : | C3: Janvier
B4: Affectation : | C4: Journée
D7: 1 | E7: 2 | F7: 3 | G7: 4 | H7: 5 | I7: 6 | J7: 7 | K7: 8 | L7: 9 | M7: 10 | N7: 11 | O7: 12 | P7: 13 | Q7: 14 | R7: 15 | S7: 16 | T7: 17 | U7: 18 | V7: 19 | W7: 20 | X7: 21 | Y7: 22 | Z7: 23 | AA7: 24 | AB7: 25 | AC7: 26 | AD7: 27 | AE7: 28 | AF7: 29 | AG7: 30 | AH7: 31
D8: =DATE($C$2,VLOOKUP($C$3,[1]Source!$C$2:$D$14,2,FALSE),'[1]Planning détaillé'!D7) -> 44562 | E8: =DATE($C$2,VLOOKUP($C$3,Source!$C$2:$D$14,2,FALSE),'Planning détaillé'!E7) -> 44563 | F8: =DATE($C$2,VLOOKUP($C$3,Source!$C$2:$D$14,2,FALSE),'Planning détaillé'!F7) -> 44564 | G8: =DATE($C$2,VLOOKUP($C$3,Source!$C$2:$D$14,2,FALSE),'Planning détaillé'!G7) -> 44565 | H8: =DATE($C$2,VLOOKUP($C$3,Source!$C$2:$D$14,2,FALSE),'Planning détaillé'!H7) -> 44566 | I8: =DATE($C$2,VLOOKUP($C$3,Source!$C$2:$D$14,2,FALSE),'Planning détaillé'!I7) -> 44567 | J8: =DATE($C$2,VLOOKUP($C$3,Source!$C$2:$D$14,2,FALSE),'Planning détaillé'!J7) -> 44568 | K8: =DATE($C$2,VLOOKUP($C$3,Source!$C$2:$D$14,2,FALSE),'Planning détaillé'!K7) -> 44569 | L8: =DATE($C$2,VLOOKUP($C$3,Source!$C$2:$D$14,2,FALSE),'Planning détaillé'!L7) -> 44570 | ... AH8: =DATE($C$2,VLOOKUP($C$3,Source!$C$2:$D$14,2,FALSE),'Planning détaillé'!AH7) -> 44592
D9: =IF(AND($C$2<>"",$C$3<>""),TEXT(D8,"jjjj") & " " & TEXT(D8,"jj"),"") -> samedi 01 | E9: =IF(AND($C$2<>"",$C$3<>""),IF(MONTH(E8)=MONTH($D$8),TEXT(E8,"jjjj") & " " & TEXT(E8,"jj"),""),"") -> dimanche 02 | F9: =IF(AND($C$2<>"",$C$3<>""),IF(MONTH(F8)=MONTH($D$8),TEXT(F8,"jjjj") & " " & TEXT(F8,"jj"),""),"") -> lundi 03 | G9: =IF(AND($C$2<>"",$C$3<>""),IF(MONTH(G8)=MONTH($D$8),TEXT(G8,"jjjj") & " " & TEXT(G8,"jj"),""),"") -> mardi 04 | H9: =IF(AND($C$2<>"",$C$3<>""),IF(MONTH(H8)=MONTH($D$8),TEXT(H8,"jjjj") & " " & TEXT(H8,"jj"),""),"") -> mercredi 05 | I9: =IF(AND($C$2<>"",$C$3<>""),IF(MONTH(I8)=MONTH($D$8),TEXT(I8,"jjjj") & " " & TEXT(I8,"jj"),""),"") -> jeudi 06 | J9: =IF(AND($C$2<>"",$C$3<>""),IF(MONTH(J8)=MONTH($D$8),TEXT(J8,"jjjj") & " " & TEXT(J8,"jj"),""),"") -> vendredi 07 | K9: =IF(AND($C$2<>"",$C$3<>""),IF(MONTH(K8)=MONTH($D$8),TEXT(K8,"jjjj") & " " & TEXT(K8,"jj"),""),"") -> samedi 08 | L9: =IF(AND($C$2<>"",$C$3<>""),IF(MONTH(L8)=MONTH($D$8),TEXT(L8,"jjjj") & " " & TEXT(L8,"jj"),""),"") -> dimanche 09 | ... AH9: =IF(AND($C$2<>"",$C$3<>""),IF(MONTH(AH8)=MONTH($D$8),TEXT(AH8,"jjjj") & " " & TEXT(AH8,"jj"),""),"") -> lundi 31
C10: =IF($D$9<>"",[1]Source!I3,"") -> 0.27083333
C11: =IF($D$9<>"",[1]Source!I4,"") -> 0.3125
C12: =IF($D$9<>"",[1]Source!I5,"") -> 0.35416667
C13: =IF($D$9<>"",[1]Source!I6,"") -> 0.39583333
C14: =IF($D$9<>"",[1]Source!I7,"") -> 0.4375
C15: =IF($D$9<>"",[1]Source!I8,"") -> 0.47916667
C16: =IF($D$9<>"",[1]Source!I9,"") -> 0.52083333
C17: =IF($D$9<>"",[1]Source!I10,"") -> 0.5625
C18: =IF($D$9<>"",[1]Source!I11,"") -> 0.60416667
C19: =IF($D$9<>"",[1]Source!I12,"") -> 0.64583333
C20: =IF($D$9<>"",[1]Source!I13,"") -> 0.6875
C21: =IF($D$9<>"",[1]Source!I14,"") -> 0.72916667
... C33: =IF($D$9<>"",[1]Source!I26,"") -> 1.2291667

Sheet Source
C2: Mois | D2: Num | F2: Années | I2: Horaires | K2: Tranches | M2: Salariés
C3: Janvier | D3: 1 | F3: 2022 | I3: 0.27083333 | K3: Matin
C4: Février | D4: 2 | F4: 2023 | I4: 0.3125 | K4: Journée
C5: Mars | D5: 3 | F5: 2024 | I5: 0.35416667 | K5: Soir
C6: Avril | D6: 4 | F6: 2025 | I6: 0.39583333
C7: Mai | D7: 5 | F7: 2026 | I7: 0.4375
C8: Juin | D8: 6 | I8: 0.47916667
C9: Juillet | D9: 7 | I9: 0.52083333
C10: Août | D10: 8 | I10: 0.5625
C11: Septembre | D11: 9 | I11: 0.60416667
C12: Octobre | D12: 10 | I12: 0.64583333
C13: Novembre | D13: 11 | I13: 0.6875
C14: Décembre | D14: 12 | I14: 0.72916667
I15: 0.77083333
I16: 0.8125
I17: 0.85416667
I18: 0.89583333
I19: 0.9375
I20: 0.97916667
I21: 1.0208333
I22: 1.0625
I23: 1.1041667
I24: 1.1458333
I25: 1.1875
I26: 1.2291667
