Workbook

Sheet Planning de location
M3: =M4 -> 44774 | AS3: =AS4 -> 44806
A4: Type d’instruments | B4: Repère interne | C4: Emplacement | D4: Ref Dolibarr | E4: Portée (kg) | F4: d (g) | G4: Marque/Type | I4: S/N | K4: Classe | L4: Métrologie | M4: 44774 | N4: 44775 | O4: 44776 | P4: 44777 | Q4: 44778 | R4: 44779 | S4: 44780 | T4: 44781 | U4: 44782 | V4: 44783 | W4: 44784 | X4: 44785 | Y4: 44786 | Z4: 44787 | AA4: 44788 | AB4: 44789 | AC4: 44790 | AD4: 44791 | AE4: 44792 | AF4: 44793 | AG4: 44794 | AH4: 44795 | AI4: 44796 | AJ4: 44797 | AK4: 44798 | AL4: 44799 | AM4: 44800 | AN4: 44801 | AO4: 44802 | AP4: 44803 | AQ4: 44804 | AR4: 44805 | AS4: 44806
A5: Compteuse 3kg/1g | B5: 1 | C5: A | E5: 3kg | F5: 1g | G5: Ohaus | L5: HML | M5: {=REPT("X",SUMPRODUCT((INDIRECT("Reservations!$E$2:$E$" & COUNTA(Reservations!$E:$E))=$B5)*(INDIRECT("Reservations!$B$2:$B$" & COUNTA(Reservations!$E:$E))<=M$4)*(INDIRECT("Reservations!$C$2:$C$" & COUNTA(Reservations!$E:$E))>=M$4)))} -> X | N5: {=REPT("X",SUMPRODUCT((INDIRECT("Reservations!$E$2:$E$" & COUNTA(Reservations!$E:$E))=$B5)*(INDIRECT("Reservations!$B$2:$B$" & COUNTA(Reservations!$E:$E))<=N$4)*(INDIRECT("Reservations!$C$2:$C$" & COUNTA(Reservations!$E:$E))>=N$4)))} -> X | O5: {=REPT("X",SUMPRODUCT((INDIRECT("Reservations!$E$2:$E$" & COUNTA(Reservations!$E:$E))=$B5)*(INDIRECT("Reservations!$B$2:$B$" & COUNTA(Reservations!$E:$E))<=O$4)*(INDIRECT("Reservations!$C$2:$C$" & COUNTA(Reservations!$E:$E))>=O$4)))} -> X | P5: {=REPT("X",SUMPRODUCT((INDIRECT("Reservations!$E$2:$E$" & COUNTA(Reservations!$E:$E))=$B5)*(INDIRECT("Reservations!$B$2:$B$" & COUNTA(Reservations!$E:$E))<=P$4)*(INDIRECT("Reservations!$C$2:$C$" & COUNTA(Reservations!$E:$E))>=P$4)))} | Q5: {=REPT("X",SUMPRODUCT((INDIRECT("Reservations!$E$2:$E$" & COUNTA(Reservations!$E:$E))=$B5)*(INDIRECT("Reservations!$B$2:$B$" & COUNTA(Reservations!$E:$E))<=Q$4)*(INDIRECT("Reservations!$C$2:$C$" & COUNTA(Reservations!$E:$E))>=Q$4)))} -> X | R5: {=REPT("X",SUMPRODUCT((INDIRECT("Reservations!$E$2:$E$" & COUNTA(Reservations!$E:$E))=$B5)*(INDIRECT("Reservations!$B$2:$B$" & COUNTA(Reservations!$E:$E))<=R$4)*(INDIRECT("Reservations!$C$2:$C$" & COUNTA(Reservations!$E:$E))>=R$4)))} -> X | S5: {=REPT("X",SUMPRODUCT((INDIRECT("Reservations!$E$2:$E$" & COUNTA(Reservations!$E:$E))=$B5)*(INDIRECT("Reservations!$B$2:$B$" & COUNTA(Reservations!$E:$E))<=S$4)*(INDIRECT("Reservations!$C$2:$C$" & COUNTA(Reservations!$E:$E))>=S$4)))} | T5: {=REPT("X",SUMPRODUCT((INDIRECT("Reservations!$E$2:$E$" & COUNTA(Reservations!$E:$E))=$B5)*(INDIRECT("Reservations!$B$2:$B$" & COUNTA(Reservations!$E:$E))<=T$4)*(INDIRECT("Reservations!$C$2:$C$" & COUNTA(Reservations!$E:$E))>=T$4)))} | ... W5: {=REPT("X",SUMPRODUCT((INDIRECT("Reservations!$E$2:$E$" & COUNTA(Reservations!$E:$E))=$B5)*(INDIRECT("Reservations!$B$2:$B$" & COUNTA(Reservations!$E:$E))<=W$4)*(INDIRECT("Reservations!$C$2:$C$" & COUNTA(Reservations!$E:$E))>=W$4)))} | X5: {=REPT("X",SUMPRODUCT((INDIRECT("Reservations!$A$2:$A$" & COUNTA(Reservations!$E:$E))=$B5)*(INDIRECT("Reservations!$C$2:$C$" & COUNTA(Reservations!$E:$E))<=X$4)*(INDIRECT("Reservations!$D$2:$D$" & COUNTA(Reservations!$E:$E))>=X$4)))} | Y5: {=REPT("X",SUMPRODUCT((INDIRECT("Reservations!$A$2:$A$" & COUNTA(Reservations!$E:$E))=$B5)*(INDIRECT("Reservations!$C$2:$C$" & COUNTA(Reservations!$E:$E))<=Y$4)*(INDIRECT("Reservations!$D$2:$D$" & COUNTA(Reservations!$E:$E))>=Y$4)))} | Z5: {=REPT("X",SUMPRODUCT((INDIRECT("Reservations!$A$2:$A$" & COUNTA(Reservations!$E:$E))=$B5)*(INDIRECT("Reservations!$C$2:$C$" & COUNTA(Reservations!$E:$E))<=Z$4)*(INDIRECT("Reservations!$D$2:$D$" & COUNTA(Reservations!$E:$E))>=Z$4)))} | AA5: {=REPT("X",SUMPRODUCT((INDIRECT("Reservations!$A$2:$A$" & COUNTA(Reservations!$E:$E))=$B5)*(INDIRECT("Reservations!$C$2:$C$" & COUNTA(Reservations!$E:$E))<=AA$4)*(INDIRECT("Reservations!$D$2:$D$" & COUNTA(Reservations!$E:$E))>=AA$4)))} | AB5: {=REPT("X",SUMPRODUCT((INDIRECT("Reservations!$A$2:$A$" & COUNTA(Reservations!$E:$E))=$B5)*(INDIRECT("Reservations!$C$2:$C$" & COUNTA(Reservations!$E:$E))<=AB$4)*(INDIRECT("Reservations!$D$2:$D$" & COUNTA(Reservations!$E:$E))>=AB$4)))} | AC5: {=REPT("X",SUMPRODUCT((INDIRECT("Reservations!$A$2:$A$" & COUNTA(Reservations!$E:$E))=$B5)*(INDIRECT("Reservations!$C$2:$C$" & COUNTA(Reservations!$E:$E))<=AC$4)*(INDIRECT("Reservations!$D$2:$D$" & COUNTA(Reservations!$E:$E))>=AC$4)))} | AD5: {=REPT("X",SUMPRODUCT((INDIRECT("Reservations!$A$2:$A$" & COUNTA(Reservations!$E:$E))=$B5)*(INDIRECT("Reservations!$C$2:$C$" & COUNTA(Reservations!$E:$E))<=AD$4)*(INDIRECT("Reservations!$D$2:$D$" & COUNTA(Reservations!$E:$E))>=AD$4)))} | AE5: {=REPT("X",SUMPRODUCT((INDIRECT("Reservations!$A$2:$A$" & COUNTA(Reservations!$E:$E))=$B5)*(INDIRECT("Reservations!$C$2:$C$" & COUNTA(Reservations!$E:$E))<=AE$4)*(INDIRECT("Reservations!$D$2:$D$" & COUNTA(Reservations!$E:$E))>=AE$4)))} | ... AS5: {=REPT("X",SUMPRODUCT((INDIRECT("Reservations!$A$2:$A$" & COUNTA(Reservations!$E:$E))=$B5)*(INDIRECT("Reservations!$C$2:$C$" & COUNTA(Reservations!$E:$E))<=AS$4)*(INDIRECT("Reservations!$D$2:$D$" & COUNTA(Reservations!$E:$E))>=AS$4)))}
A6: Compteuse 3kg/1g | B6: 2 | C6: A | E6: 3kg | F6: 1g | G6: Ohaus | L6: HML | M6: {=REPT("X",SUMPRODUCT((INDIRECT("Reservations!$E$2:$E$" & COUNTA(Reservations!$E:$E))=$B6)*(INDIRECT("Reservations!$B$2:$B$" & COUNTA(Reservations!$E:$E))<=M$4)*(INDIRECT("Reservations!$C$2:$C$" & COUNTA(Reservations!$E:$E))>=M$4)))} -> X | N6: {=REPT("X",SUMPRODUCT((INDIRECT("Reservations!$E$2:$E$" & COUNTA(Reservations!$E:$E))=$B6)*(INDIRECT("Reservations!$B$2:$B$" & COUNTA(Reservations!$E:$E))<=N$4)*(INDIRECT("Reservations!$C$2:$C$" & COUNTA(Reservations!$E:$E))>=N$4)))} -> X | O6: {=REPT("X",SUMPRODUCT((INDIRECT("Reservations!$E$2:$E$" & COUNTA(Reservations!$E:$E))=$B6)*(INDIRECT("Reservations!$B$2:$B$" & COUNTA(Reservations!$E:$E))<=O$4)*(INDIRECT("Reservations!$C$2:$C$" & COUNTA(Reservations!$E:$E))>=O$4)))} | P6: {=REPT("X",SUMPRODUCT((INDIRECT("Reservations!$E$2:$E$" & COUNTA(Reservations!$E:$E))=$B6)*(INDIRECT("Reservations!$B$2:$B$" & COUNTA(Reservations!$E:$E))<=P$4)*(INDIRECT("Reservations!$C$2:$C$" & COUNTA(Reservations!$E:$E))>=P$4)))} -> X | Q6: {=REPT("X",SUMPRODUCT((INDIRECT("Reservations!$E$2:$E$" & COUNTA(Reservations!$E:$E))=$B6)*(INDIRECT("Reservations!$B$2:$B$" & COUNTA(Reservations!$E:$E))<=Q$4)*(INDIRECT("Reservations!$C$2:$C$" & COUNTA(Reservations!$E:$E))>=Q$4)))} -> X | R6: {=REPT("X",SUMPRODUCT((INDIRECT("Reservations!$E$2:$E$" & COUNTA(Reservations!$E:$E))=$B6)*(INDIRECT("Reservations!$B$2:$B$" & COUNTA(Reservations!$E:$E))<=R$4)*(INDIRECT("Reservations!$C$2:$C$" & COUNTA(Reservations!$E:$E))>=R$4)))} -> X | S6: {=REPT("X",SUMPRODUCT((INDIRECT("Reservations!$E$2:$E$" & COUNTA(Reservations!$E:$E))=$B6)*(INDIRECT("Reservations!$B$2:$B$" & COUNTA(Reservations!$E:$E))<=S$4)*(INDIRECT("Reservations!$C$2:$C$" & COUNTA(Reservations!$E:$E))>=S$4)))} -> X | T6: {=REPT("X",SUMPRODUCT((INDIRECT("Reservations!$E$2:$E$" & COUNTA(Reservations!$E:$E))=$B6)*(INDIRECT("Reservations!$B$2:$B$" & COUNTA(Reservations!$E:$E))<=T$4)*(INDIRECT("Reservations!$C$2:$C$" & COUNTA(Reservations!$E:$E))>=T$4)))} -> X | ... AC6: {=REPT("X",SUMPRODUCT((INDIRECT("Reservations!$E$2:$E$" & COUNTA(Reservations!$E:$E))=$B6)*(INDIRECT("Reservations!$B$2:$B$" & COUNTA(Reservations!$E:$E))<=AC$4)*(INDIRECT("Reservations!$C$2:$C$" & COUNTA(Reservations!$E:$E))>=AC$4)))} -> X | AD6: {=REPT("X",SUMPRODUCT((INDIRECT("Reservations!$A$2:$A$" & COUNTA(Reservations!$E:$E))=$B6)*(INDIRECT("Reservations!$C$2:$C$" & COUNTA(Reservations!$E:$E))<=AD$4)*(INDIRECT("Reservations!$D$2:$D$" & COUNTA(Reservations!$E:$E))>=AD$4)))} | AE6: {=REPT("X",SUMPRODUCT((INDIRECT("Reservations!$A$2:$A$" & COUNTA(Reservations!$E:$E))=$B6)*(INDIRECT("Reservations!$C$2:$C$" & COUNTA(Reservations!$E:$E))<=AE$4)*(INDIRECT("Reservations!$D$2:$D$" & COUNTA(Reservations!$E:$E))>=AE$4)))} | AF6: {=REPT("X",SUMPRODUCT((INDIRECT("Reservations!$A$2:$A$" & COUNTA(Reservations!$E:$E))=$B6)*(INDIRECT("Reservations!$C$2:$C$" & COUNTA(Reservations!$E:$E))<=AF$4)*(INDIRECT("Reservations!$D$2:$D$" & COUNTA(Reservations!$E:$E))>=AF$4)))} | AG6: {=REPT("X",SUMPRODUCT((INDIRECT("Reservations!$A$2:$A$" & COUNTA(Reservations!$E:$E))=$B6)*(INDIRECT("Reservations!$C$2:$C$" & COUNTA(Reservations!$E:$E))<=AG$4)*(INDIRECT("Reservations!$D$2:$D$" & COUNTA(Reservations!$E:$E))>=AG$4)))} | AH6: {=REPT("X",SUMPRODUCT((INDIRECT("Reservations!$A$2:$A$" & COUNTA(Reservations!$E:$E))=$B6)*(INDIRECT("Reservations!$C$2:$C$" & COUNTA(Reservations!$E:$E))<=AH$4)*(INDIRECT("Reservations!$D$2:$D$" & COUNTA(Reservations!$E:$E))>=AH$4)))} | AI6: {=REPT("X",SUMPRODUCT((INDIRECT("Reservations!$A$2:$A$" & COUNTA(Reservations!$E:$E))=$B6)*(INDIRECT("Reservations!$C$2:$C$" & COUNTA(Reservations!$E:$E))<=AI$4)*(INDIRECT("Reservations!$D$2:$D$" & COUNTA(Reservations!$E:$E))>=AI$4)))} | AJ6: {=REPT("X",SUMPRODUCT((INDIRECT("Reservations!$A$2:$A$" & COUNTA(Reservations!$E:$E))=$B6)*(INDIRECT("Reservations!$C$2:$C$" & COUNTA(Reservations!$E:$E))<=AJ$4)*(INDIRECT("Reservations!$D$2:$D$" & COUNTA(Reservations!$E:$E))>=AJ$4)))} | AK6: {=REPT("X",SUMPRODUCT((INDIRECT("Reservations!$A$2:$A$" & COUNTA(Reservations!$E:$E))=$B6)*(INDIRECT("Reservations!$C$2:$C$" & COUNTA(Reservations!$E:$E))<=AK$4)*(INDIRECT("Reservations!$D$2:$D$" & COUNTA(Reservations!$E:$E))>=AK$4)))} | ... AS6: {=REPT("X",SUMPRODUCT((INDIRECT("Reservations!$A$2:$A$" & COUNTA(Reservations!$E:$E))=$B6)*(INDIRECT("Reservations!$C$2:$C$" & COUNTA(Reservations!$E:$E))<=AS$4)*(INDIRECT("Reservations!$D$2:$D$" & COUNTA(Reservations!$E:$E))>=AS$4)))}
A7: Compteuse 3kg/1g | B7: 3 | C7: A | E7: 3kg | F7: 1g | G7: Ohaus | L7: HML | M7: {=REPT("X",SUMPRODUCT((INDIRECT("Reservations!$E$2:$E$" & COUNTA(Reservations!$E:$E))=$B7)*(INDIRECT("Reservations!$B$2:$B$" & COUNTA(Reservations!$E:$E))<=M$4)*(INDIRECT("Reservations!$C$2:$C$" & COUNTA(Reservations!$E:$E))>=M$4)))} | N7: {=REPT("X",SUMPRODUCT((INDIRECT("Reservations!$E$2:$E$" & COUNTA(Reservations!$E:$E))=$B7)*(INDIRECT("Reservations!$B$2:$B$" & COUNTA(Reservations!$E:$E))<=N$4)*(INDIRECT("Reservations!$C$2:$C$" & COUNTA(Reservations!$E:$E))>=N$4)))} | O7: {=REPT("X",SUMPRODUCT((INDIRECT("Reservations!$E$2:$E$" & COUNTA(Reservations!$E:$E))=$B7)*(INDIRECT("Reservations!$B$2:$B$" & COUNTA(Reservations!$E:$E))<=O$4)*(INDIRECT("Reservations!$C$2:$C$" & COUNTA(Reservations!$E:$E))>=O$4)))} -> X | P7: {=REPT("X",SUMPRODUCT((INDIRECT("Reservations!$E$2:$E$" & COUNTA(Reservations!$E:$E))=$B7)*(INDIRECT("Reservations!$B$2:$B$" & COUNTA(Reservations!$E:$E))<=P$4)*(INDIRECT("Reservations!$C$2:$C$" & COUNTA(Reservations!$E:$E))>=P$4)))} -> X | Q7: {=REPT("X",SUMPRODUCT((INDIRECT("Reservations!$E$2:$E$" & COUNTA(Reservations!$E:$E))=$B7)*(INDIRECT("Reservations!$B$2:$B$" & COUNTA(Reservations!$E:$E))<=Q$4)*(INDIRECT("Reservations!$C$2:$C$" & COUNTA(Reservations!$E:$E))>=Q$4)))} -> XX | R7: {=REPT("X",SUMPRODUCT((INDIRECT("Reservations!$E$2:$E$" & COUNTA(Reservations!$E:$E))=$B7)*(INDIRECT("Reservations!$B$2:$B$" & COUNTA(Reservations!$E:$E))<=R$4)*(INDIRECT("Reservations!$C$2:$C$" & COUNTA(Reservations!$E:$E))>=R$4)))} -> X | S7: {=REPT("X",SUMPRODUCT((INDIRECT("Reservations!$E$2:$E$" & COUNTA(Reservations!$E:$E))=$B7)*(INDIRECT("Reservations!$B$2:$B$" & COUNTA(Reservations!$E:$E))<=S$4)*(INDIRECT("Reservations!$C$2:$C$" & COUNTA(Reservations!$E:$E))>=S$4)))} -> X | T7: {=REPT("X",SUMPRODUCT((INDIRECT("Reservations!$E$2:$E$" & COUNTA(Reservations!$E:$E))=$B7)*(INDIRECT("Reservations!$B$2:$B$" & COUNTA(Reservations!$E:$E))<=T$4)*(INDIRECT("Reservations!$C$2:$C$" & COUNTA(Reservations!$E:$E))>=T$4)))} -> X | ... AC7: {=REPT("X",SUMPRODUCT((INDIRECT("Reservations!$E$2:$E$" & COUNTA(Reservations!$E:$E))=$B7)*(INDIRECT("Reservations!$B$2:$B$" & COUNTA(Reservations!$E:$E))<=AC$4)*(INDIRECT("Reservations!$C$2:$C$" & COUNTA(Reservations!$E:$E))>=AC$4)))} | AD7: {=REPT("X",SUMPRODUCT((INDIRECT("Reservations!$A$2:$A$" & COUNTA(Reservations!$E:$E))=$B7)*(INDIRECT("Reservations!$C$2:$C$" & COUNTA(Reservations!$E:$E))<=AD$4)*(INDIRECT("Reservations!$D$2:$D$" & COUNTA(Reservations!$E:$E))>=AD$4)))} | AE7: {=REPT("X",SUMPRODUCT((INDIRECT("Reservations!$A$2:$A$" & COUNTA(Reservations!$E:$E))=$B7)*(INDIRECT("Reservations!$C$2:$C$" & COUNTA(Reservations!$E:$E))<=AE$4)*(INDIRECT("Reservations!$D$2:$D$" & COUNTA(Reservations!$E:$E))>=AE$4)))} | AF7: {=REPT("X",SUMPRODUCT((INDIRECT("Reservations!$A$2:$A$" & COUNTA(Reservations!$E:$E))=$B7)*(INDIRECT("Reservations!$C$2:$C$" & COUNTA(Reservations!$E:$E))<=AF$4)*(INDIRECT("Reservations!$D$2:$D$" & COUNTA(Reservations!$E:$E))>=AF$4)))} | AG7: {=REPT("X",SUMPRODUCT((INDIRECT("Reservations!$A$2:$A$" & COUNTA(Reservations!$E:$E))=$B7)*(INDIRECT("Reservations!$C$2:$C$" & COUNTA(Reservations!$E:$E))<=AG$4)*(INDIRECT("Reservations!$D$2:$D$" & COUNTA(Reservations!$E:$E))>=AG$4)))} | AH7: {=REPT("X",SUMPRODUCT((INDIRECT("Reservations!$A$2:$A$" & COUNTA(Reservations!$E:$E))=$B7)*(INDIRECT("Reservations!$C$2:$C$" & COUNTA(Reservations!$E:$E))<=AH$4)*(INDIRECT("Reservations!$D$2:$D$" & COUNTA(Reservations!$E:$E))>=AH$4)))} | AI7: {=REPT("X",SUMPRODUCT((INDIRECT("Reservations!$A$2:$A$" & COUNTA(Reservations!$E:$E))=$B7)*(INDIRECT("Reservations!$C$2:$C$" & COUNTA(Reservations!$E:$E))<=AI$4)*(INDIRECT("Reservations!$D$2:$D$" & COUNTA(Reservations!$E:$E))>=AI$4)))} | AJ7: {=REPT("X",SUMPRODUCT((INDIRECT("Reservations!$A$2:$A$" & COUNTA(Reservations!$E:$E))=$B7)*(INDIRECT("Reservations!$C$2:$C$" & COUNTA(Reservations!$E:$E))<=AJ$4)*(INDIRECT("Reservations!$D$2:$D$" & COUNTA(Reservations!$E:$E))>=AJ$4)))} | AK7: {=REPT("X",SUMPRODUCT((INDIRECT("Reservations!$A$2:$A$" & COUNTA(Reservations!$E:$E))=$B7)*(INDIRECT("Reservations!$C$2:$C$" & COUNTA(Reservations!$E:$E))<=AK$4)*(INDIRECT("Reservations!$D$2:$D$" & COUNTA(Reservations!$E:$E))>=AK$4)))} | ... AS7: {=REPT("X",SUMPRODUCT((INDIRECT("Reservations!$A$2:$A$" & COUNTA(Reservations!$E:$E))=$B7)*(INDIRECT("Reservations!$C$2:$C$" & COUNTA(Reservations!$E:$E))<=AS$4)*(INDIRECT("Reservations!$D$2:$D$" & COUNTA(Reservations!$E:$E))>=AS$4)))}
A8: Compteuse 3kg/1g | B8: 4 | C8: A | E8: 3kg | F8: 1g | G8: Ohaus | L8: HML | M8: {=REPT("X",SUMPRODUCT((INDIRECT("Reservations!$E$2:$E$" & COUNTA(Reservations!$E:$E))=$B8)*(INDIRECT("Reservations!$B$2:$B$" & COUNTA(Reservations!$E:$E))<=M$4)*(INDIRECT("Reservations!$C$2:$C$" & COUNTA(Reservations!$E:$E))>=M$4)))} | N8: {=REPT("X",SUMPRODUCT((INDIRECT("Reservations!$E$2:$E$" & COUNTA(Reservations!$E:$E))=$B8)*(INDIRECT("Reservations!$B$2:$B$" & COUNTA(Reservations!$E:$E))<=N$4)*(INDIRECT("Reservations!$C$2:$C$" & COUNTA(Reservations!$E:$E))>=N$4)))} | O8: {=REPT("X",SUMPRODUCT((INDIRECT("Reservations!$A$2:$A$" & COUNTA(Reservations!$E:$E))=$B8)*(INDIRECT("Reservations!$C$2:$C$" & COUNTA(Reservations!$E:$E))<=O$4)*(INDIRECT("Reservations!$D$2:$D$" & COUNTA(Reservations!$E:$E))>=O$4)))} | P8: {=REPT("X",SUMPRODUCT((INDIRECT("Reservations!$A$2:$A$" & COUNTA(Reservations!$E:$E))=$B8)*(INDIRECT("Reservations!$C$2:$C$" & COUNTA(Reservations!$E:$E))<=P$4)*(INDIRECT("Reservations!$D$2:$D$" & COUNTA(Reservations!$E:$E))>=P$4)))} | Q8: {=REPT("X",SUMPRODUCT((INDIRECT("Reservations!$A$2:$A$" & COUNTA(Reservations!$E:$E))=$B8)*(INDIRECT("Reservations!$C$2:$C$" & COUNTA(Reservations!$E:$E))<=Q$4)*(INDIRECT("Reservations!$D$2:$D$" & COUNTA(Reservations!$E:$E))>=Q$4)))} | R8: {=REPT("X",SUMPRODUCT((INDIRECT("Reservations!$A$2:$A$" & COUNTA(Reservations!$E:$E))=$B8)*(INDIRECT("Reservations!$C$2:$C$" & COUNTA(Reservations!$E:$E))<=R$4)*(INDIRECT("Reservations!$D$2:$D$" & COUNTA(Reservations!$E:$E))>=R$4)))} | T8: {=REPT("X",SUMPRODUCT((INDIRECT("Reservations!$A$2:$A$" & COUNTA(Reservations!$E:$E))=$B8)*(INDIRECT("Reservations!$C$2:$C$" & COUNTA(Reservations!$E:$E))<=S$4)*(INDIRECT("Reservations!$D$2:$D$" & COUNTA(Reservations!$E:$E))>=S$4)))} | U8: {=REPT("X",SUMPRODUCT((INDIRECT("Reservations!$A$2:$A$" & COUNTA(Reservations!$E:$E))=$B8)*(INDIRECT("Reservations!$C$2:$C$" & COUNTA(Reservations!$E:$E))<=T$4)*(INDIRECT("Reservations!$D$2:$D$" & COUNTA(Reservations!$E:$E))>=T$4)))} | V8: {=REPT("X",SUMPRODUCT((INDIRECT("Reservations!$A$2:$A$" & COUNTA(Reservations!$E:$E))=$B8)*(INDIRECT("Reservations!$C$2:$C$" & COUNTA(Reservations!$E:$E))<=U$4)*(INDIRECT("Reservations!$D$2:$D$" & COUNTA(Reservations!$E:$E))>=U$4)))} | W8: {=REPT("X",SUMPRODUCT((INDIRECT("Reservations!$A$2:$A$" & COUNTA(Reservations!$E:$E))=$B8)*(INDIRECT("Reservations!$C$2:$C$" & COUNTA(Reservations!$E:$E))<=W$4)*(INDIRECT("Reservations!$D$2:$D$" & COUNTA(Reservations!$E:$E))>=W$4)))} | X8: {=REPT("X",SUMPRODUCT((INDIRECT("Reservations!$A$2:$A$" & COUNTA(Reservations!$E:$E))=$B8)*(INDIRECT("Reservations!$C$2:$C$" & COUNTA(Reservations!$E:$E))<=X$4)*(INDIRECT("Reservations!$D$2:$D$" & COUNTA(Reservations!$E:$E))>=X$4)))} | Y8: {=REPT("X",SUMPRODUCT((INDIRECT("Reservations!$A$2:$A$" & COUNTA(Reservations!$E:$E))=$B8)*(INDIRECT("Reservations!$C$2:$C$" & COUNTA(Reservations!$E:$E))<=Y$4)*(INDIRECT("Reservations!$D$2:$D$" & COUNTA(Reservations!$E:$E))>=Y$4)))} | Z8: {=REPT("X",SUMPRODUCT((INDIRECT("Reservations!$A$2:$A$" & COUNTA(Reservations!$E:$E))=$B8)*(INDIRECT("Reservations!$C$2:$C$" & COUNTA(Reservations!$E:$E))<=Z$4)*(INDIRECT("Reservations!$D$2:$D$" & COUNTA(Reservations!$E:$E))>=Z$4)))} | AA8: {=REPT("X",SUMPRODUCT((INDIRECT("Reservations!$A$2:$A$" & COUNTA(Reservations!$E:$E))=$B8)*(INDIRECT("Reservations!$C$2:$C$" & COUNTA(Reservations!$E:$E))<=AA$4)*(INDIRECT("Reservations!$D$2:$D$" & COUNTA(Reservations!$E:$E))>=AA$4)))} | AB8: {=REPT("X",SUMPRODUCT((INDIRECT("Reservations!$A$2:$A$" & COUNTA(Reservations!$E:$E))=$B8)*(INDIRECT("Reservations!$C$2:$C$" & COUNTA(Reservations!$E:$E))<=AB$4)*(INDIRECT("Reservations!$D$2:$D$" & COUNTA(Reservations!$E:$E))>=AB$4)))} | AC8: {=REPT("X",SUMPRODUCT((INDIRECT("Reservations!$A$2:$A$" & COUNTA(Reservations!$E:$E))=$B8)*(INDIRECT("Reservations!$C$2:$C$" & COUNTA(Reservations!$E:$E))<=AC$4)*(INDIRECT("Reservations!$D$2:$D$" & COUNTA(Reservations!$E:$E))>=AC$4)))} | AD8: {=REPT("X",SUMPRODUCT((INDIRECT("Reservations!$A$2:$A$" & COUNTA(Reservations!$E:$E))=$B8)*(INDIRECT("Reservations!$C$2:$C$" & COUNTA(Reservations!$E:$E))<=AD$4)*(INDIRECT("Reservations!$D$2:$D$" & COUNTA(Reservations!$E:$E))>=AD$4)))} | ... AS8: {=REPT("X",SUMPRODUCT((INDIRECT("Reservations!$A$2:$A$" & COUNTA(Reservations!$E:$E))=$B8)*(INDIRECT("Reservations!$C$2:$C$" & COUNTA(Reservations!$E:$E))<=AS$4)*(INDIRECT("Reservations!$D$2:$D$" & COUNTA(Reservations!$E:$E))>=AS$4)))}
A9: Compteuse 3kg/1g | B9: 5 | C9: A | E9: 3kg | F9: 1g | G9: Ohaus | L9: HML | M9: {=REPT("X",SUMPRODUCT((INDIRECT("Reservations!$E$2:$E$" & COUNTA(Reservations!$E:$E))=$B9)*(INDIRECT("Reservations!$B$2:$B$" & COUNTA(Reservations!$E:$E))<=M$4)*(INDIRECT("Reservations!$C$2:$C$" & COUNTA(Reservations!$E:$E))>=M$4)))} | N9: {=REPT("X",SUMPRODUCT((INDIRECT("Reservations!$E$2:$E$" & COUNTA(Reservations!$E:$E))=$B9)*(INDIRECT("Reservations!$B$2:$B$" & COUNTA(Reservations!$E:$E))<=N$4)*(INDIRECT("Reservations!$C$2:$C$" & COUNTA(Reservations!$E:$E))>=N$4)))} | O9: {=REPT("X",SUMPRODUCT((INDIRECT("Reservations!$A$2:$A$" & COUNTA(Reservations!$E:$E))=$B9)*(INDIRECT("Reservations!$C$2:$C$" & COUNTA(Reservations!$E:$E))<=O$4)*(INDIRECT("Reservations!$D$2:$D$" & COUNTA(Reservations!$E:$E))>=O$4)))} | P9: {=REPT("X",SUMPRODUCT((INDIRECT("Reservations!$A$2:$A$" & COUNTA(Reservations!$E:$E))=$B9)*(INDIRECT("Reservations!$C$2:$C$" & COUNTA(Reservations!$E:$E))<=P$4)*(INDIRECT("Reservations!$D$2:$D$" & COUNTA(Reservations!$E:$E))>=P$4)))} | Q9: {=REPT("X",SUMPRODUCT((INDIRECT("Reservations!$A$2:$A$" & COUNTA(Reservations!$E:$E))=$B9)*(INDIRECT("Reservations!$C$2:$C$" & COUNTA(Reservations!$E:$E))<=Q$4)*(INDIRECT("Reservations!$D$2:$D$" & COUNTA(Reservations!$E:$E))>=Q$4)))} | R9: {=REPT("X",SUMPRODUCT((INDIRECT("Reservations!$A$2:$A$" & COUNTA(Reservations!$E:$E))=$B9)*(INDIRECT("Reservations!$C$2:$C$" & COUNTA(Reservations!$E:$E))<=R$4)*(INDIRECT("Reservations!$D$2:$D$" & COUNTA(Reservations!$E:$E))>=R$4)))} | S9: {=REPT("X",SUMPRODUCT((INDIRECT("Reservations!$A$2:$A$" & COUNTA(Reservations!$E:$E))=$B9)*(INDIRECT("Reservations!$C$2:$C$" & COUNTA(Reservations!$E:$E))<=S$4)*(INDIRECT("Reservations!$D$2:$D$" & COUNTA(Reservations!$E:$E))>=S$4)))} | T9: {=REPT("X",SUMPRODUCT((INDIRECT("Reservations!$A$2:$A$" & COUNTA(Reservations!$E:$E))=$B9)*(INDIRECT("Reservations!$C$2:$C$" & COUNTA(Reservations!$E:$E))<=T$4)*(INDIRECT("Reservations!$D$2:$D$" & COUNTA(Reservations!$E:$E))>=T$4)))} | U9: {=REPT("X",SUMPRODUCT((INDIRECT("Reservations!$A$2:$A$" & COUNTA(Reservations!$E:$E))=$B9)*(INDIRECT("Reservations!$C$2:$C$" & COUNTA(Reservations!$E:$E))<=U$4)*(INDIRECT("Reservations!$D$2:$D$" & COUNTA(Reservations!$E:$E))>=U$4)))} | V9: {=REPT("X",SUMPRODUCT((INDIRECT("Reservations!$A$2:$A$" & COUNTA(Reservations!$E:$E))=$B9)*(INDIRECT("Reservations!$C$2:$C$" & COUNTA(Reservations!$E:$E))<=V$4)*(INDIRECT("Reservations!$D$2:$D$" & COUNTA(Reservations!$E:$E))>=V$4)))} | ... AS9: {=REPT("X",SUMPRODUCT((INDIRECT("Reservations!$A$2:$A$" & COUNTA(Reservations!$E:$E))=$B9)*(INDIRECT("Reservations!$C$2:$C$" & COUNTA(Reservations!$E:$E))<=AS$4)*(INDIRECT("Reservations!$D$2:$D$" & COUNTA(Reservations!$E:$E))>=AS$4)))}
A10: Compteuse 6kg/2g | B10: 6 | C10: B | E10: 6kg | F10: 2g | G10: Ohaus | L10: HML | M10: {=REPT("X",SUMPRODUCT((INDIRECT("Reservations!$E$2:$E$" & COUNTA(Reservations!$E:$E))=$B10)*(INDIRECT("Reservations!$B$2:$B$" & COUNTA(Reservations!$E:$E))<=M$4)*(INDIRECT("Reservations!$C$2:$C$" & COUNTA(Reservations!$E:$E))>=M$4)))} | N10: {=REPT("X",SUMPRODUCT((INDIRECT("Reservations!$E$2:$E$" & COUNTA(Reservations!$E:$E))=$B10)*(INDIRECT("Reservations!$B$2:$B$" & COUNTA(Reservations!$E:$E))<=N$4)*(INDIRECT("Reservations!$C$2:$C$" & COUNTA(Reservations!$E:$E))>=N$4)))} | O10: {=REPT("X",SUMPRODUCT((INDIRECT("Reservations!$A$2:$A$" & COUNTA(Reservations!$E:$E))=$B10)*(INDIRECT("Reservations!$C$2:$C$" & COUNTA(Reservations!$E:$E))<=O$4)*(INDIRECT("Reservations!$D$2:$D$" & COUNTA(Reservations!$E:$E))>=O$4)))} | P10: {=REPT("X",SUMPRODUCT((INDIRECT("Reservations!$A$2:$A$" & COUNTA(Reservations!$E:$E))=$B10)*(INDIRECT("Reservations!$C$2:$C$" & COUNTA(Reservations!$E:$E))<=P$4)*(INDIRECT("Reservations!$D$2:$D$" & COUNTA(Reservations!$E:$E))>=P$4)))} | Q10: {=REPT("X",SUMPRODUCT((INDIRECT("Reservations!$A$2:$A$" & COUNTA(Reservations!$E:$E))=$B10)*(INDIRECT("Reservations!$C$2:$C$" & COUNTA(Reservations!$E:$E))<=Q$4)*(INDIRECT("Reservations!$D$2:$D$" & COUNTA(Reservations!$E:$E))>=Q$4)))} | R10: {=REPT("X",SUMPRODUCT((INDIRECT("Reservations!$A$2:$A$" & COUNTA(Reservations!$E:$E))=$B10)*(INDIRECT("Reservations!$C$2:$C$" & COUNTA(Reservations!$E:$E))<=R$4)*(INDIRECT("Reservations!$D$2:$D$" & COUNTA(Reservations!$E:$E))>=R$4)))} | S10: {=REPT("X",SUMPRODUCT((INDIRECT("Reservations!$A$2:$A$" & COUNTA(Reservations!$E:$E))=$B10)*(INDIRECT("Reservations!$C$2:$C$" & COUNTA(Reservations!$E:$E))<=S$4)*(INDIRECT("Reservations!$D$2:$D$" & COUNTA(Reservations!$E:$E))>=S$4)))} | T10: {=REPT("X",SUMPRODUCT((INDIRECT("Reservations!$A$2:$A$" & COUNTA(Reservations!$E:$E))=$B10)*(INDIRECT("Reservations!$C$2:$C$" & COUNTA(Reservations!$E:$E))<=T$4)*(INDIRECT("Reservations!$D$2:$D$" & COUNTA(Reservations!$E:$E))>=T$4)))} | U10: {=REPT("X",SUMPRODUCT((INDIRECT("Reservations!$A$2:$A$" & COUNTA(Reservations!$E:$E))=$B10)*(INDIRECT("Reservations!$C$2:$C$" & COUNTA(Reservations!$E:$E))<=U$4)*(INDIRECT("Reservations!$D$2:$D$" & COUNTA(Reservations!$E:$E))>=U$4)))} | V10: {=REPT("X",SUMPRODUCT((INDIRECT("Reservations!$A$2:$A$" & COUNTA(Reservations!$E:$E))=$B10)*(INDIRECT("Reservations!$C$2:$C$" & COUNTA(Reservations!$E:$E))<=V$4)*(INDIRECT("Reservations!$D$2:$D$" & COUNTA(Reservations!$E:$E))>=V$4)))} | ... AS10: {=REPT("X",SUMPRODUCT((INDIRECT("Reservations!$A$2:$A$" & COUNTA(Reservations!$E:$E))=$B10)*(INDIRECT("Reservations!$C$2:$C$" & COUNTA(Reservations!$E:$E))<=AS$4)*(INDIRECT("Reservations!$D$2:$D$" & COUNTA(Reservations!$E:$E))>=AS$4)))}
A11: Compteuse 6kg/2g | B11: 7 | C11: B | E11: 6kg | F11: 2g | G11: Ohaus | L11: HML | M11: {=REPT("X",SUMPRODUCT((INDIRECT("Reservations!$E$2:$E$" & COUNTA(Reservations!$E:$E))=$B11)*(INDIRECT("Reservations!$B$2:$B$" & COUNTA(Reservations!$E:$E))<=M$4)*(INDIRECT("Reservations!$C$2:$C$" & COUNTA(Reservations!$E:$E))>=M$4)))} | N11: {=REPT("X",SUMPRODUCT((INDIRECT("Reservations!$E$2:$E$" & COUNTA(Reservations!$E:$E))=$B11)*(INDIRECT("Reservations!$B$2:$B$" & COUNTA(Reservations!$E:$E))<=N$4)*(INDIRECT("Reservations!$C$2:$C$" & COUNTA(Reservations!$E:$E))>=N$4)))} | O11: {=REPT("X",SUMPRODUCT((INDIRECT("Reservations!$A$2:$A$" & COUNTA(Reservations!$E:$E))=$B11)*(INDIRECT("Reservations!$C$2:$C$" & COUNTA(Reservations!$E:$E))<=O$4)*(INDIRECT("Reservations!$D$2:$D$" & COUNTA(Reservations!$E:$E))>=O$4)))} | P11: {=REPT("X",SUMPRODUCT((INDIRECT("Reservations!$A$2:$A$" & COUNTA(Reservations!$E:$E))=$B11)*(INDIRECT("Reservations!$C$2:$C$" & COUNTA(Reservations!$E:$E))<=P$4)*(INDIRECT("Reservations!$D$2:$D$" & COUNTA(Reservations!$E:$E))>=P$4)))} | Q11: {=REPT("X",SUMPRODUCT((INDIRECT("Reservations!$A$2:$A$" & COUNTA(Reservations!$E:$E))=$B11)*(INDIRECT("Reservations!$C$2:$C$" & COUNTA(Reservations!$E:$E))<=Q$4)*(INDIRECT("Reservations!$D$2:$D$" & COUNTA(Reservations!$E:$E))>=Q$4)))} | R11: {=REPT("X",SUMPRODUCT((INDIRECT("Reservations!$A$2:$A$" & COUNTA(Reservations!$E:$E))=$B11)*(INDIRECT("Reservations!$C$2:$C$" & COUNTA(Reservations!$E:$E))<=R$4)*(INDIRECT("Reservations!$D$2:$D$" & COUNTA(Reservations!$E:$E))>=R$4)))} | S11: {=REPT("X",SUMPRODUCT((INDIRECT("Reservations!$A$2:$A$" & COUNTA(Reservations!$E:$E))=$B11)*(INDIRECT("Reservations!$C$2:$C$" & COUNTA(Reservations!$E:$E))<=S$4)*(INDIRECT("Reservations!$D$2:$D$" & COUNTA(Reservations!$E:$E))>=S$4)))} | T11: {=REPT("X",SUMPRODUCT((INDIRECT("Reservations!$A$2:$A$" & COUNTA(Reservations!$E:$E))=$B11)*(INDIRECT("Reservations!$C$2:$C$" & COUNTA(Reservations!$E:$E))<=T$4)*(INDIRECT("Reservations!$D$2:$D$" & COUNTA(Reservations!$E:$E))>=T$4)))} | U11: {=REPT("X",SUMPRODUCT((INDIRECT("Reservations!$A$2:$A$" & COUNTA(Reservations!$E:$E))=$B11)*(INDIRECT("Reservations!$C$2:$C$" & COUNTA(Reservations!$E:$E))<=U$4)*(INDIRECT("Reservations!$D$2:$D$" & COUNTA(Reservations!$E:$E))>=U$4)))} | V11: {=REPT("X",SUMPRODUCT((INDIRECT("Reservations!$A$2:$A$" & COUNTA(Reservations!$E:$E))=$B11)*(INDIRECT("Reservations!$C$2:$C$" & COUNTA(Reservations!$E:$E))<=V$4)*(INDIRECT("Reservations!$D$2:$D$" & COUNTA(Reservations!$E:$E))>=V$4)))} | ... AS11: {=REPT("X",SUMPRODUCT((INDIRECT("Reservations!$A$2:$A$" & COUNTA(Reservations!$E:$E))=$B11)*(INDIRECT("Reservations!$C$2:$C$" & COUNTA(Reservations!$E:$E))<=AS$4)*(INDIRECT("Reservations!$D$2:$D$" & COUNTA(Reservations!$E:$E))>=AS$4)))}

Sheet Reservations
A1: N° resa | B1: date de debut | C1: date de fin | D1: client | E1: N° du materiel loué | F1: Durée de Loc | G1: N° de commande si resa confirmee
A2: 150 | B2: 44774 | C2: 44776 | E2: 1 | F2: =C2-B2 -> 2 | G2: CO2206-001
A3: 151 | B3: 44777 | C3: 44804 | E3: 2 | F3: =C3-B3 -> 27
A4: 152 | B4: 41775 | C4: 41804 | E4: 4 | F4: =C4-B4 -> 29
A5: 153 | B5: 44776 | C5: 44778 | E5: 3 | F5: =C5-B5 -> 2
A6: 154 | B6: 44778 | C6: 44779 | E6: 1 | F6: =C6-B6 -> 1
A7: 155 | B7: 44774 | C7: 44775 | E7: 2 | F7: =C7-B7 -> 1
A8: 156 | B8: 44778 | C8: 44786 | E8: 3 | F8: =C8-B8 -> 8
