Workbook

Sheet Données
A1: Poids | C1: IMC | E1: Objectif 1 | F1: Objectif 2
A3: 39162 | B3: 101 | C3: =(B3)/(1.9^2) -> 27.977839 | E3: 95 | F3: 90
A4: 39163 | B4: 100.9 | C4: =(B4)/(1.9^2) -> 27.950139
A5: 39164 | B5: 100.8 | C5: =(B5)/(1.9^2) -> 27.922438 | E5: Poids idéal
A6: 39165 | B6: 100.7 | C6: =(B6)/(1.9^2) -> 27.894737
A7: 39166 | B7: 100.6 | C7: =(B7)/(1.9^2) -> 27.867036 | E7: 85
A8: 39167 | B8: 100.5 | C8: =(B8)/(1.9^2) -> 27.839335
A9: 39168 | B9: 100.4 | C9: =(B9)/(1.9^2) -> 27.811634 | E9: Vous atteindrez votre objectif 1 le :
A10: 39169 | B10: 100.3 | C10: =(B10)/(1.9^2) -> 27.783934
A11: 39170 | B11: 100.2 | C11: =(B11)/(1.9^2) -> 27.756233 | E11: =INDEX(prévision!$A$3:$A$183,MATCH(Données!E3,prévision!$B$3:$B$183,-1)) -> 39222
A12: 39171 | B12: 100.1 | C12: =(B12)/(1.9^2) -> 27.728532
A13: 39172 | B13: 100 | C13: =(B13)/(1.9^2) -> 27.700831 | E13: Vous atteindrez votre objectif 2 le :
A14: 39173 | B14: 99.9 | C14: =(B14)/(1.9^2) -> 27.67313
A15: 39174 | B15: 99.8 | C15: =(B15)/(1.9^2) -> 27.645429 | E15: =INDEX(prévision!$A$3:$A$183,MATCH(F3,prévision!$B$3:$B$183,-1)) -> 39272
A16: 39175 | B16: 99.7 | C16: =(B16)/(1.9^2) -> 27.617729
A17: 39176 | C17: =(B17)/(1.9^2) -> 0 | E17: Vous atteindrez votre poids idéal le :
A18: 39177 | C18: =(B18)/(1.9^2) -> 0
A19: 39178 | C19: =(B19)/(1.9^2) -> 0 | E19: =INDEX(prévision!$A$3:$A$183,MATCH(E7,prévision!$B$3:$B$183,-1)) -> 39322
A20: 39179 | C20: =(B20)/(1.9^2) -> 0
A21: 39180 | C21: =(B21)/(1.9^2) -> 0
A22: 39181 | C22: =(B22)/(1.9^2) -> 0
A23: 39182 | C23: =(B23)/(1.9^2) -> 0
A24: 39183 | C24: =(B24)/(1.9^2) -> 0
A25: 39184 | C25: =(B25)/(1.9^2) -> 0
A26: 39185 | C26: =(B26)/(1.9^2) -> 0
A27: 39186 | C27: =(B27)/(1.9^2) -> 0
A28: 39187 | C28: =(B28)/(1.9^2) -> 0
A29: 39188 | C29: =(B29)/(1.9^2) -> 0
A30: 39189 | C30: =(B30)/(1.9^2) -> 0
A31: 39190 | C31: =(B31)/(1.9^2) -> 0
... A34: 39193 | C34: =(B34)/(1.9^2) -> 0

Sheet prévision
A1: Poids | C1: IMC | E1: Objectif 1 | F1: Objectif 2
A3: 39162 | B3: =IF(Données!B3="",FORECAST(A3,#REF!,#REF!),Données!B3) -> 101 | C3: =(B3)/(1.9^2) -> 27.977839 | E3: 95 | F3: 90
A4: 39163 | B4: =IF(Données!B4="",FORECAST(A4,#REF!,#REF!),Données!B4) -> 100.9 | C4: =(B4)/(1.9^2) -> 27.950139
A5: 39164 | B5: =IF(Données!B5="",FORECAST(A5,#REF!,#REF!),Données!B5) -> 100.8 | C5: =(B5)/(1.9^2) -> 27.922438 | E5: Poids idéal
A6: 39165 | B6: =IF(Données!B6="",FORECAST(A6,#REF!,#REF!),Données!B6) -> 100.7 | C6: =(B6)/(1.9^2) -> 27.894737
A7: 39166 | B7: =IF(Données!B7="",FORECAST(A7,#REF!,#REF!),Données!B7) -> 100.6 | C7: =(B7)/(1.9^2) -> 27.867036 | E7: 85
A8: 39167 | B8: =IF(Données!B8="",FORECAST(A8,#REF!,#REF!),Données!B8) -> 100.5 | C8: =(B8)/(1.9^2) -> 27.839335
A9: 39168 | B9: =IF(Données!B9="",FORECAST(A9,#REF!,#REF!),Données!B9) -> 100.4 | C9: =(B9)/(1.9^2) -> 27.811634 | E9: Vous atteindrez votre objectif 1 le :
A10: 39169 | B10: =IF(Données!B10="",FORECAST(A10,#REF!,#REF!),Données!B10) -> 100.3 | C10: =(B10)/(1.9^2) -> 27.783934
A11: 39170 | B11: =IF(Données!B11="",FORECAST(A11,#REF!,#REF!),Données!B11) -> 100.2 | C11: =(B11)/(1.9^2) -> 27.756233 | E11: Date
A12: 39171 | B12: =IF(Données!B12="",FORECAST(A12,#REF!,#REF!),Données!B12) -> 100.1 | C12: =(B12)/(1.9^2) -> 27.728532
A13: 39172 | B13: =IF(Données!B13="",FORECAST(A13,#REF!,#REF!),Données!B13) -> 100 | C13: =(B13)/(1.9^2) -> 27.700831 | E13: Vous atteindrez votre objectif 2 le :
A14: 39173 | B14: =IF(Données!B14="",FORECAST(A14,#REF!,#REF!),Données!B14) -> 99.9 | C14: =(B14)/(1.9^2) -> 27.67313
A15: 39174 | B15: =IF(Données!B15="",FORECAST(A15,B1:B14,A1:A14),Données!B15) -> 99.8 | C15: =(B15)/(1.9^2) -> 27.645429 | E15: Date
A16: 39175 | B16: =IF(Données!B16="",FORECAST(A16,B2:B15,A2:A15),Données!B16) -> 99.7 | C16: =(B16)/(1.9^2) -> 27.617729
A17: 39176 | B17: =IF(Données!B17="",FORECAST(A17,B3:B16,A3:A16),Données!B17) -> 99.6 | C17: =(B17)/(1.9^2) -> 27.590028 | E17: Vous atteindrez votre poids idéal le :
A18: 39177 | B18: =IF(Données!B18="",FORECAST(A18,B4:B17,A4:A17),Données!B18) -> 99.5 | C18: =(B18)/(1.9^2) -> 27.562327
A19: 39178 | B19: =IF(Données!B19="",FORECAST(A19,B5:B18,A5:A18),Données!B19) -> 99.4 | C19: =(B19)/(1.9^2) -> 27.534626 | E19: Date
A20: 39179 | B20: =IF(Données!B20="",FORECAST(A20,B6:B19,A6:A19),Données!B20) -> 99.3 | C20: =(B20)/(1.9^2) -> 27.506925
A21: 39180 | B21: =IF(Données!B21="",FORECAST(A21,B7:B20,A7:A20),Données!B21) -> 99.2 | C21: =(B21)/(1.9^2) -> 27.479224
A22: 39181 | B22: =IF(Données!B22="",FORECAST(A22,B8:B21,A8:A21),Données!B22) -> 99.1 | C22: =(B22)/(1.9^2) -> 27.451524
A23: 39182 | B23: =IF(Données!B23="",FORECAST(A23,B9:B22,A9:A22),Données!B23) -> 99 | C23: =(B23)/(1.9^2) -> 27.423823
A24: 39183 | B24: =IF(Données!B24="",FORECAST(A24,B10:B23,A10:A23),Données!B24) -> 98.9 | C24: =(B24)/(1.9^2) -> 27.396122
A25: 39184 | B25: =IF(Données!B25="",FORECAST(A25,B11:B24,A11:A24),Données!B25) -> 98.8 | C25: =(B25)/(1.9^2) -> 27.368421
A26: 39185 | B26: =IF(Données!B26="",FORECAST(A26,B12:B25,A12:A25),Données!B26) -> 98.7 | C26: =(B26)/(1.9^2) -> 27.34072
A27: 39186 | B27: =IF(Données!B27="",FORECAST(A27,B13:B26,A13:A26),Données!B27) -> 98.6 | C27: =(B27)/(1.9^2) -> 27.313019
A28: 39187 | B28: =IF(Données!B28="",FORECAST(A28,B14:B27,A14:A27),Données!B28) -> 98.5 | C28: =(B28)/(1.9^2) -> 27.285319
A29: 39188 | B29: =IF(Données!B29="",FORECAST(A29,B15:B28,A15:A28),Données!B29) -> 98.4 | C29: =(B29)/(1.9^2) -> 27.257618
A30: 39189 | B30: =IF(Données!B30="",FORECAST(A30,B16:B29,A16:A29),Données!B30) -> 98.3 | C30: =(B30)/(1.9^2) -> 27.229917
A31: 39190 | B31: =IF(Données!B31="",FORECAST(A31,B17:B30,A17:A30),Données!B31) -> 98.2 | C31: =(B31)/(1.9^2) -> 27.202216
... A183: 39342 | B183: =IF(Données!B183="",FORECAST(A183,B169:B182,A169:A182),Données!B183) -> 83 | C183: =(B183)/(1.9^2) -> 22.99169
