Workbook
Name SUJET1: QUOTIDIEN!$B$2
Name SUJET2: QUOTIDIEN!$B$18
Name SUJET3: QUOTIDIEN!$B$34
Name SUJET4: QUOTIDIEN!$B$63
Name SUJET5: QUOTIDIEN!$B$78

Sheet ORGANISATION (HEBDO)
A1: N° | B1: SUJET | C1: PRIO | D1: RESP | E1: NOTES | F1: 1 | G1: 2 | H1: 3 | I1: 4 | J1: 5 | K1: 6 | L1: 7 | M1: 8 | N1: 9 | O1: 10 | P1: 11 | Q1: 12 | R1: 13 | S1: 14 | T1: 15 | U1: 16 | V1: 17 | W1: 18 | X1: 19 | Y1: 20 | Z1: 21 | AA1: 22 | AB1: 23 | AC1: 24 | AD1: 25 | AE1: 26 | AF1: 27 | AG1: 28 | AH1: 29 | AI1: 30 | AJ1: 31 | AK1: 32 | AL1: 33 | AM1: 34 | AN1: 35 | AO1: 36 | AP1: 37 | AQ1: 38 | AR1: 39 | AS1: 40 | AT1: 41 | AU1: 42 | AV1: 43 | AW1: 44 | AX1: 45 | AY1: 46 | AZ1: 47 | BA1: 48 | BB1: 49 | BC1: 50 | BD1: 51 | BE1: 52
B2: METROLOGIE
A3: 1 | B3: =HYPERLINK(SUJET1,SUJET1) -> MESURE | E3: =HYPERLINK("#" & A3 & "!A1","Notes") -> Notes | F3: =VLOOKUP(F1,QUOTIDIEN!$C:$G,5,0) -> #N/A | G3: =VLOOKUP(G1,QUOTIDIEN!$C:$G,5,0) -> #N/A | H3: =VLOOKUP(H1,QUOTIDIEN!$C:$G,5,0) -> #N/A | I3: =VLOOKUP(I1,QUOTIDIEN!$C:$G,5,0) -> #N/A | J3: =VLOOKUP(J1,QUOTIDIEN!$C:$G,5,0) -> #N/A | K3: =VLOOKUP(K1,QUOTIDIEN!$C:$G,5,0) -> #N/A | L3: =VLOOKUP(L1,QUOTIDIEN!$C:$G,5,0) -> #N/A | M3: =VLOOKUP(M1,QUOTIDIEN!$C:$G,5,0) -> #N/A | ... AZ3: =VLOOKUP(AZ1,QUOTIDIEN!$C:$G,5,0) -> 84
A4: 2 | B4: =HYPERLINK(SUJET2,SUJET2) -> PPK | E4: =HYPERLINK("#" & A4 & "!A1","Notes") -> Notes
A5: 3 | B5: =HYPERLINK(SUJET3,SUJET3) -> COURBURE | E5: =HYPERLINK("#" & A5 & "!A1","Notes") -> Notes
B6: FORMATIONS
A7: 4 | B7: =HYPERLINK(SUJET4,SUJET4) -> DEFAUT95 | E7: =HYPERLINK("#" & A7 & "!A1","Notes") -> Notes
A8: 5 | B8: =HYPERLINK(SUJET5,SUJET5) -> ISO9001 | E8: =HYPERLINK("#" & A8 & "!A1","Notes") -> Notes

Sheet QUOTIDIEN
A1: CAT | B1: SUJET | C1: N°SEM | D1: ACTIONS / PROBLEMES | E1: DATE | F1: CIBLE | G1: DUREE | H1: FM | I1: SB | J1: BS | K1: GN | L1: J.H | M1: AB | N1: DS | O1: SB | P1: EJ | Q1: PM | R1: NT | S1: DC
A2: MLG | B2: MESURE | C2: =IF(D2="","",IF(F2="","",WEEKNUM(F2))) | G2: =IF(E2="","",(IF(F2="","",F2-E2)))
A3: MLG | B3: =+B2 -> MESURE | C3: =IF(D3="","",IF(F3="","",WEEKNUM(F3))) -> 40 | D3: Action1 | E3: 44796 | F3: 44835 | G3: =IF(F3="","",F3-TODAY()) -> 39
A4: MLG | B4: =+B3 -> MESURE | C4: =IF(D4="","",IF(F4="","",WEEKNUM(F4))) -> 47 | D4: Action2 | E4: 44797 | F4: 44880 | G4: =IF(F4="","",F4-TODAY()) -> 84
A5: MLG | B5: =+B4 -> MESURE | C5: =IF(D5="","",IF(F5="","",WEEKNUM(F5))) -> 35 | D5: Action3 | E5: 44798 | F5: 44800 | G5: =IF(F5="","",F5-TODAY()) -> 4
A6: MLG | B6: =+B5 -> MESURE | C6: =IF(D6="","",IF(F6="","",WEEKNUM(F6))) | G6: =IF(F6="","",F6-TODAY())
A7: MLG | B7: =+B6 -> MESURE | C7: =IF(D7="","",IF(F7="","",WEEKNUM(F7))) | G7: =IF(F7="","",F7-TODAY())
A8: MLG | B8: =+B7 -> MESURE | C8: =IF(D8="","",IF(F8="","",WEEKNUM(F8))) | G8: =IF(F8="","",F8-TODAY())
A9: MLG | B9: =+B8 -> MESURE | C9: =IF(D9="","",IF(F9="","",WEEKNUM(F9))) | G9: =IF(F9="","",F9-TODAY())
A10: MLG | B10: =+B9 -> MESURE | C10: =IF(D10="","",IF(F10="","",WEEKNUM(F10))) | G10: =IF(F10="","",F10-TODAY())
A11: MLG | B11: =+B10 -> MESURE | C11: =IF(D11="","",IF(F11="","",WEEKNUM(F11))) | G11: =IF(F11="","",F11-TODAY())
A12: MLG | B12: =+B11 -> MESURE | C12: =IF(D12="","",IF(F12="","",WEEKNUM(F12))) | G12: =IF(F12="","",F12-TODAY())
A13: MLG | B13: =+B12 -> MESURE | C13: =IF(D13="","",IF(F13="","",WEEKNUM(F13))) | G13: =IF(F13="","",F13-TODAY())
A14: MLG | B14: =+B11 -> MESURE | C14: =IF(D14="","",IF(F14="","",WEEKNUM(F14))) | G14: =IF(F14="","",F14-TODAY())
A15: MLG | B15: =+B14 -> MESURE | C15: =IF(D15="","",IF(F15="","",WEEKNUM(F15))) | G15: =IF(F15="","",F15-TODAY())
A16: MLG | B16: =+B13 -> MESURE | C16: =IF(D16="","",IF(F16="","",WEEKNUM(F16))) | G16: =IF(F16="","",F16-TODAY())
A17: MLG | B17: =+B16 -> MESURE | C17: =IF(D17="","",IF(F17="","",WEEKNUM(F17))) | G17: =IF(F17="","",F17-TODAY())
A18: MLG | B18: PPK | C18: =IF(D18="","",IF(F18="","",WEEKNUM(F18))) | G18: =IF(F18="","",F18-TODAY())
A19: MLG | B19: =+B18 -> PPK | C19: =IF(D19="","",IF(F19="","",WEEKNUM(F19))) | G19: =IF(F19="","",F19-TODAY())
A20: MLG | B20: =+B19 -> PPK | C20: =IF(D20="","",IF(F20="","",WEEKNUM(F20))) | G20: =IF(F20="","",F20-TODAY())
A21: MLG | B21: =+B20 -> PPK | C21: =IF(D21="","",IF(F21="","",WEEKNUM(F21))) | G21: =IF(F21="","",F21-TODAY())
A22: MLG | B22: =+B21 -> PPK | C22: =IF(D22="","",IF(F22="","",WEEKNUM(F22))) | G22: =IF(F22="","",F22-TODAY())
A23: MLG | B23: =+B22 -> PPK | C23: =IF(D23="","",IF(F23="","",WEEKNUM(F23))) | G23: =IF(F23="","",F23-TODAY())
A24: MLG | B24: =+B23 -> PPK | C24: =IF(D24="","",IF(F24="","",WEEKNUM(F24))) | G24: =IF(F24="","",F24-TODAY())
A25: MLG | B25: =+B24 -> PPK | C25: =IF(D25="","",IF(F25="","",WEEKNUM(F25))) | G25: =IF(F25="","",F25-TODAY())
A26: MLG | B26: =+B25 -> PPK | C26: =IF(D26="","",IF(F26="","",WEEKNUM(F26))) | G26: =IF(F26="","",F26-TODAY())
A27: MLG | B27: =+B26 -> PPK | C27: =IF(D27="","",IF(F27="","",WEEKNUM(F27))) | G27: =IF(F27="","",F27-TODAY())
A28: MLG | B28: =+B27 -> PPK | C28: =IF(D28="","",IF(F28="","",WEEKNUM(F28))) | G28: =IF(F28="","",F28-TODAY())
A29: MLG | B29: =+B28 -> PPK | C29: =IF(D29="","",IF(F29="","",WEEKNUM(F29))) | G29: =IF(F29="","",F29-TODAY())
A30: MLG | B30: =+B27 -> PPK | C30: =IF(D30="","",IF(F30="","",WEEKNUM(F30))) | G30: =IF(F30="","",F30-TODAY())
A31: MLG | B31: =+B30 -> PPK | C31: =IF(D31="","",IF(F31="","",WEEKNUM(F31))) | G31: =IF(F31="","",F31-TODAY())
A32: MLG | B32: =+B29 -> PPK | C32: =IF(D32="","",IF(F32="","",WEEKNUM(F32))) | G32: =IF(F32="","",F32-TODAY())
A33: MLG | B33: =+B32 -> PPK | C33: =IF(D33="","",IF(F33="","",WEEKNUM(F33))) | G33: =IF(F33="","",F33-TODAY())
A34: MLG | B34: COURBURE | C34: =IF(D34="","",IF(F34="","",WEEKNUM(F34))) | G34: =IF(F34="","",F34-TODAY())
A35: MLG | B35: =+B34 -> COURBURE | C35: =IF(D35="","",IF(F35="","",WEEKNUM(F35))) | G35: =IF(F35="","",F35-TODAY())
A36: MLG | B36: =+B35 -> COURBURE | C36: =IF(D36="","",IF(F36="","",WEEKNUM(F36))) | G36: =IF(F36="","",F36-TODAY())
A37: MLG | B37: =+B36 -> COURBURE | C37: =IF(D37="","",IF(F37="","",WEEKNUM(F37))) | G37: =IF(F37="","",F37-TODAY())
A38: MLG | B38: =+B37 -> COURBURE | C38: =IF(D38="","",IF(F38="","",WEEKNUM(F38))) | G38: =IF(F38="","",F38-TODAY())
A39: MLG | B39: =+B38 -> COURBURE | C39: =IF(D39="","",IF(F39="","",WEEKNUM(F39))) | G39: =IF(F39="","",F39-TODAY())
A40: MLG | B40: =+B39 -> COURBURE | C40: =IF(D40="","",IF(F40="","",WEEKNUM(F40))) | G40: =IF(F40="","",F40-TODAY())
A41: MLG | B41: =+B40 -> COURBURE | C41: =IF(D41="","",IF(F41="","",WEEKNUM(F41))) | G41: =IF(F41="","",F41-TODAY())
A42: MLG | B42: =+B41 -> COURBURE | C42: =IF(D42="","",IF(F42="","",WEEKNUM(F42))) | G42: =IF(F42="","",F42-TODAY())
A43: MLG | B43: =+B42 -> COURBURE | C43: =IF(D43="","",IF(F43="","",WEEKNUM(F43))) | G43: =IF(F43="","",F43-TODAY())
A44: MLG | B44: =+B43 -> COURBURE | C44: =IF(D44="","",IF(F44="","",WEEKNUM(F44))) | G44: =IF(F44="","",F44-TODAY())
A45: MLG | B45: =+B44 -> COURBURE | C45: =IF(D45="","",IF(F45="","",WEEKNUM(F45))) | G45: =IF(F45="","",F45-TODAY())
A46: MLG | B46: =+B43 -> COURBURE | C46: =IF(D46="","",IF(F46="","",WEEKNUM(F46))) | G46: =IF(F46="","",F46-TODAY())
A47: MLG | B47: =+B46 -> COURBURE | C47: =IF(D47="","",IF(F47="","",WEEKNUM(F47))) | G47: =IF(F47="","",F47-TODAY())
A48: MLG | B48: =+B45 -> COURBURE | C48: =IF(D48="","",IF(F48="","",WEEKNUM(F48))) | G48: =IF(F48="","",F48-TODAY())
A49: MLG | B49: =+B48 -> COURBURE | C49: =IF(D49="","",IF(F49="","",WEEKNUM(F49))) | G49: =IF(F49="","",F49-TODAY())
A50: MLG | B50: =+B49 -> COURBURE | C50: =IF(D50="","",IF(F50="","",WEEKNUM(F50))) | G50: =IF(F50="","",F50-TODAY())
A51: MLG | B51: =+B50 -> COURBURE | C51: =IF(D51="","",IF(F51="","",WEEKNUM(F51))) | G51: =IF(F51="","",F51-TODAY())
A52: MLG | B52: =+B51 -> COURBURE | C52: =IF(D52="","",IF(F52="","",WEEKNUM(F52))) | G52: =IF(F52="","",F52-TODAY())
A53: MLG | B53: =+B52 -> COURBURE | C53: =IF(D53="","",IF(F53="","",WEEKNUM(F53))) | G53: =IF(F53="","",F53-TODAY())
A54: MLG | B54: =+B53 -> COURBURE | C54: =IF(D54="","",IF(F54="","",WEEKNUM(F54))) | G54: =IF(F54="","",F54-TODAY())
A55: MLG | B55: =+B54 -> COURBURE | C55: =IF(D55="","",IF(F55="","",WEEKNUM(F55))) | G55: =IF(F55="","",F55-TODAY())
A56: MLG | B56: =+B55 -> COURBURE | C56: =IF(D56="","",IF(F56="","",WEEKNUM(F56))) | G56: =IF(F56="","",F56-TODAY())
A57: MLG | B57: =+B56 -> COURBURE | C57: =IF(D57="","",IF(F57="","",WEEKNUM(F57))) | G57: =IF(F57="","",F57-TODAY())
A58: MLG | B58: =+B57 -> COURBURE | C58: =IF(D58="","",IF(F58="","",WEEKNUM(F58))) | G58: =IF(F58="","",F58-TODAY())
A59: MLG | B59: =+B58 -> COURBURE | C59: =IF(D59="","",IF(F59="","",WEEKNUM(F59))) | G59: =IF(F59="","",F59-TODAY())
A60: MLG | B60: =+B59 -> COURBURE | C60: =IF(D60="","",IF(F60="","",WEEKNUM(F60))) | G60: =IF(F60="","",F60-TODAY())
... A62: MLG | B62: =+B61 -> COURBURE | C62: =IF(D62="","",IF(F62="","",WEEKNUM(F62))) | G62: =IF(F62="","",F62-TODAY())
A63: FOR | B63: DEFAUT95 | C63: =IF(D63="","",IF(F63="","",WEEKNUM(F63))) | G63: =IF(F63="","",F63-TODAY())
A64: FOR | B64: =+B63 -> DEFAUT95 | C64: =IF(D64="","",IF(F64="","",WEEKNUM(F64))) | G64: =IF(F64="","",F64-TODAY())
A65: FOR | B65: =+B64 -> DEFAUT95 | C65: =IF(D65="","",IF(F65="","",WEEKNUM(F65))) | G65: =IF(F65="","",F65-TODAY())
A66: FOR | B66: =+B65 -> DEFAUT95 | C66: =IF(D66="","",IF(F66="","",WEEKNUM(F66))) | G66: =IF(F66="","",F66-TODAY())
A67: FOR | B67: =+B66 -> DEFAUT95 | C67: =IF(D67="","",IF(F67="","",WEEKNUM(F67))) | G67: =IF(F67="","",F67-TODAY())
A68: FOR | B68: =+B67 -> DEFAUT95 | C68: =IF(D68="","",IF(F68="","",WEEKNUM(F68))) | G68: =IF(F68="","",F68-TODAY())
A69: FOR | B69: =+B68 -> DEFAUT95 | C69: =IF(D69="","",IF(F69="","",WEEKNUM(F69))) | G69: =IF(F69="","",F69-TODAY())
A70: FOR | B70: =+B69 -> DEFAUT95 | C70: =IF(D70="","",IF(F70="","",WEEKNUM(F70))) | G70: =IF(F70="","",F70-TODAY())
A71: FOR | B71: =+B70 -> DEFAUT95 | C71: =IF(D71="","",IF(F71="","",WEEKNUM(F71))) | G71: =IF(F71="","",F71-TODAY())
A72: FOR | B72: =+B71 -> DEFAUT95 | C72: =IF(D72="","",IF(F72="","",WEEKNUM(F72))) | G72: =IF(F72="","",F72-TODAY())
A73: FOR | B73: =+B72 -> DEFAUT95 | C73: =IF(D73="","",IF(F73="","",WEEKNUM(F73))) | G73: =IF(F73="","",F73-TODAY())
A74: FOR | B74: =+B73 -> DEFAUT95 | C74: =IF(D74="","",IF(F74="","",WEEKNUM(F74))) | G74: =IF(F74="","",F74-TODAY())
A75: FOR | B75: =+B74 -> DEFAUT95 | C75: =IF(D75="","",IF(F75="","",WEEKNUM(F75))) | G75: =IF(F75="","",F75-TODAY())
... A77: FOR | B77: =+B76 -> DEFAUT95 | C77: =IF(D77="","",IF(F77="","",WEEKNUM(F77))) | G77: =IF(F77="","",F77-TODAY())
A78: FOR | B78: ISO9001 | C78: =IF(D78="","",IF(F78="","",WEEKNUM(F78))) | G78: =IF(F78="","",F78-TODAY())
A79: FOR | B79: =+B78 -> ISO9001 | C79: =IF(D79="","",IF(F79="","",WEEKNUM(F79))) | G79: =IF(F79="","",F79-TODAY())
A80: FOR | B80: =+B79 -> ISO9001 | C80: =IF(D80="","",IF(F80="","",WEEKNUM(F80))) | G80: =IF(F80="","",F80-TODAY())
A81: FOR | B81: =+B80 -> ISO9001 | C81: =IF(D81="","",IF(F81="","",WEEKNUM(F81))) | G81: =IF(F81="","",F81-TODAY())
A82: FOR | B82: =+B81 -> ISO9001 | C82: =IF(D82="","",IF(F82="","",WEEKNUM(F82))) | G82: =IF(F82="","",F82-TODAY())
A83: FOR | B83: =+B82 -> ISO9001 | C83: =IF(D83="","",IF(F83="","",WEEKNUM(F83))) | G83: =IF(F83="","",F83-TODAY())
A84: FOR | B84: =+B83 -> ISO9001 | C84: =IF(D84="","",IF(F84="","",WEEKNUM(F84))) | G84: =IF(F84="","",F84-TODAY())
A85: FOR | B85: =+B84 -> ISO9001 | C85: =IF(D85="","",IF(F85="","",WEEKNUM(F85))) | G85: =IF(F85="","",F85-TODAY())
A86: FOR | B86: =+B85 -> ISO9001 | C86: =IF(D86="","",IF(F86="","",WEEKNUM(F86))) | G86: =IF(F86="","",F86-TODAY())
A87: FOR | B87: =+B86 -> ISO9001 | C87: =IF(D87="","",IF(F87="","",WEEKNUM(F87))) | G87: =IF(F87="","",F87-TODAY())
A88: FOR | B88: =+B87 -> ISO9001 | C88: =IF(D88="","",IF(F88="","",WEEKNUM(F88))) | G88: =IF(F88="","",F88-TODAY())
A89: FOR | B89: =+B88 -> ISO9001 | C89: =IF(D89="","",IF(F89="","",WEEKNUM(F89))) | G89: =IF(F89="","",F89-TODAY())
A90: FOR | B90: =+B89 -> ISO9001 | C90: =IF(D90="","",IF(F90="","",WEEKNUM(F90))) | G90: =IF(F90="","",F90-TODAY())
... A92: FOR | B92: =+B91 -> ISO9001 | C92: =IF(D92="","",IF(F92="","",WEEKNUM(F92))) | G92: =IF(F92="","",F92-TODAY())
B93: 7 | C93: =IF(D93="","",IF(F93="","",WEEKNUM(F93))) | G93: =IF(F93="","",F93-TODAY())
B94: =+B93 -> 7 | C94: =IF(D94="","",IF(F94="","",WEEKNUM(F94))) | G94: =IF(F94="","",F94-TODAY())
B95: =+B94 -> 7 | C95: =IF(D95="","",IF(F95="","",WEEKNUM(F95))) | G95: =IF(F95="","",F95-TODAY())
B96: =+B95 -> 7 | C96: =IF(D96="","",IF(F96="","",WEEKNUM(F96))) | G96: =IF(F96="","",F96-TODAY())
B97: =+B96 -> 7 | C97: =IF(D97="","",IF(F97="","",WEEKNUM(F97))) | G97: =IF(F97="","",F97-TODAY())
B98: =+B97 -> 7 | C98: =IF(D98="","",IF(F98="","",WEEKNUM(F98))) | G98: =IF(F98="","",F98-TODAY())
B99: =+B98 -> 7 | C99: =IF(D99="","",IF(F99="","",WEEKNUM(F99))) | G99: =IF(F99="","",F99-TODAY())
B100: =+B99 -> 7 | C100: =IF(D100="","",IF(F100="","",WEEKNUM(F100))) | G100: =IF(F100="","",F100-TODAY())
B101: =+B100 -> 7 | C101: =IF(D101="","",IF(F101="","",WEEKNUM(F101))) | G101: =IF(F101="","",F101-TODAY())
B102: =+B101 -> 7 | C102: =IF(D102="","",IF(F102="","",WEEKNUM(F102))) | G102: =IF(F102="","",F102-TODAY())
B103: =+B102 -> 7 | C103: =IF(D103="","",IF(F103="","",WEEKNUM(F103))) | G103: =IF(F103="","",F103-TODAY())
...

Sheet 1

Sheet 2

Sheet 3

Sheet 4

Sheet 5

Sheet 6

Sheet 7

Sheet 8

Sheet 9

Sheet 10
