Workbook
Name SUJET1: QUOTIDIEN!$B$2
Name SUJET2: QUOTIDIEN!$B$18
Name SUJET3: QUOTIDIEN!$B$34
Name SUJET4: QUOTIDIEN!$B$63
Name SUJET5: QUOTIDIEN!$B$78

Sheet ORGANISATION (HEBDO)
A1: N° | B1: SUJET | C1: PRIO | D1: RESP | E1: NOTES | F1: 1 | G1: 2 | H1: 3 | I1: 4 | J1: 5 | K1: 6 | L1: 7 | M1: 8 | N1: 9 | O1: 10 | P1: 11 | Q1: 12 | R1: 13 | S1: 14 | T1: 15 | U1: 16 | V1: 17 | W1: 18 | X1: 19 | Y1: 20 | Z1: 21 | AA1: 22 | AB1: 23 | AC1: 24 | AD1: 25 | AE1: 26 | AF1: 27 | AG1: 28 | AH1: 29 | AI1: 30 | AJ1: 31 | AK1: 32 | AL1: 33 | AM1: 34 | AN1: 35 | AO1: 36 | AP1: 37 | AQ1: 38 | AR1: 39 | AS1: 40 | AT1: 41 | AU1: 42 | AV1: 43 | AW1: 44 | AX1: 45 | AY1: 46 | AZ1: 47 | BA1: 48 | BB1: 49 | BC1: 50 | BD1: 51 | BE1: 52
B2: METROLOGIE
A3: 1 | B3: =HYPERLINK(SUJET1,SUJET1) -> MESURE | E3: =HYPERLINK("#" & A3 & "!A1","Notes") -> Notes | F3: =VLOOKUP(F1,QUOTIDIEN!$C:$G,5,0) -> #N/A | G3: =VLOOKUP(G1,QUOTIDIEN!$C:$G,5,0) -> #N/A | H3: =VLOOKUP(H1,QUOTIDIEN!$C:$G,5,0) -> #N/A | I3: =VLOOKUP(I1,QUOTIDIEN!$C:$G,5,0) -> #N/A | J3: =VLOOKUP(J1,QUOTIDIEN!$C:$G,5,0) -> #N/A | K3: =VLOOKUP(K1,QUOTIDIEN!$C:$G,5,0) -> #N/A | L3: =VLOOKUP(L1,QUOTIDIEN!$C:$G,5,0) -> #N/A | M3: =VLOOKUP(M1,QUOTIDIEN!$C:$G,5,0) -> #N/A | ... AZ3: =VLOOKUP(AZ1,QUOTIDIEN!$C:$G,5,0) -> 84
A4: 2 | B4: =HYPERLINK(SUJET2,SUJET2) -> PPK | E4: =HYPERLINK("#" & A4 & "!A1","Notes") -> Notes
A5: 3 | B5: =HYPERLINK(SUJET3,SUJET3) -> COURBURE | E5: =HYPERLINK("#" & A5 & "!A1","Notes") -> Notes
B6: FORMATIONS
A7: 4 | B7: =HYPERLINK(SUJET4,SUJET4) -> DEFAUT95 | E7: =HYPERLINK("#" & A7 & "!A1","Notes") -> Notes
A8: 5 | B8: =HYPERLINK(SUJET5,SUJET5) -> ISO9001 | E8: =HYPERLINK("#" & A8 & "!A1","Notes") -> Notes

Sheet QUOTIDIEN
A1: CAT | B1: SUJET | C1: N°SEM | D1: ACTIONS / PROBLEMES | E1: DATE | F1: CIBLE | G1: DUREE | H1: FM | I1: SB | J1: BS | K1: GN | L1: J.H | M1: AB | N1: DS | O1: SB | P1: EJ | Q1: PM | R1: NT | S1: DC
A2: MLG | B2: MESURE | C2: =IF(D2="","",IF(F2="","",WEEKNUM(F2))) | G2: =IF(E2="","",(IF(F2="","",F2-E2)))
A3: MLG | B3: =+B2 -> MESURE | C3: =IF(D3="","",IF(F3="","",WEEKNUM(F3))) -> 40 | D3: Action1 | E3: 44796 | F3: 44835 | G3: =IF(F3="","",F3-TODAY()) -> 39
A4: MLG | B4: =+B3 -> MESURE | C4: =IF(D4="","",IF(F4="","",WEEKNUM(F4))) -> 47 | D4: Action2 | E4: 44797 | F4: 44880 | G4: =IF(F4="","",F4-TODAY()) -> 84
A5: MLG | B5: =+B4 -> MESURE | C5: =IF(D5="","",IF(F5="","",WEEKNUM(F5))) -> 35 | D5: Action3 | E5: 44798 | F5: 44800 | G5: =IF(F5="","",F5-TODAY()) -> 4
A6: MLG | B6: =+B5 -> MESURE | C6: =IF(D6="","",IF(F6="","",WEEKNUM(F6))) | G6: =IF(F6="","",F6-TODAY())
A7: MLG | B7: =+B6 -> MESURE | C7: =IF(D7="","",IF(F7="","",WEEKNUM(F7))) | G7: =IF(F7="","",F7-TODAY())
A8: MLG | B8: =+B7 -> MESURE | C8: =IF(D8="","",IF(F8="","",WEEKNUM(F8))) | G8: =IF(F8="","",F8-TODAY())
A9: MLG | B9: =+B8 -> MESURE | C9: =IF(D9="","",IF(F9="","",WEEKNUM(F9))) | G9: =IF(F9="","",F9-TODAY())
A10: MLG | B10: =+B9 -> MESURE | C10: =IF(D10="","",IF(F10="","",WEEKNUM(F10))) | G10: =IF(F10="","",F10-TODAY())
A11: MLG | B11: =+B10 -> MESURE | C11: =IF(D11="","",IF(F11="","",WEEKNUM(F11))) | G11: =IF(F11="","",F11-TODAY())
A12: MLG | B12: =+B11 -> MESURE | C12: =IF(D12="","",IF(F12="","",WEEKNUM(F12))) | G12: =IF(F12="","",F12-TODAY())
A13: MLG | B13: =+B12 -> MESURE | C13: =IF(D13="","",IF(F13="","",WEEKNUM(F13))) | G13: =IF(F13="","",F13-TODAY())
A14: MLG | B14: =+B11 -> MESURE | C14: =IF(D14="","",IF(F14="","",WEEKNUM(F14))) | G14: =IF(F14="","",F14-TODAY())
A15: MLG | B15: =+B14 -> MESURE | C15: =IF(D15="","",IF(F15="","",WEEKNUM(F15))) | G15: =IF(F15="","",F15-TODAY())
A16: MLG | B16: =+B13 -> MESURE | C16: =IF(D16="","",IF(F16="","",WEEKNUM(F16))) | G16: =IF(F16="","",F16-TODAY())
A17: MLG | B17: =+B16 -> MESURE | C17: =IF(D17="","",IF(F17="","",WEEKNUM(F17))) | G17: =IF(F17="","",F17-TODAY())
A18: MLG | B18: PPK | C18: =IF(D18="","",IF(F18="","",WEEKNUM(F18))) | G18: =IF(F18="","",F18-TODAY())
A19: MLG | B19: =+B18 -> PPK | C19: =IF(D19="","",IF(F19="","",WEEKNUM(F19))) | G19: =IF(F19="","",F19-TODAY())
A20: MLG | B20: =+B19 -> PPK | C20: =IF(D20="","",IF(F20="","",WEEKNUM(F20))) | G20: =IF(F20="","",F20-TODAY())
A21: MLG | B21: =+B20 -> PPK | C21: =IF(D21="","",IF(F21="","",WEEKNUM(F21))) | G21: =IF(F21="","",F21-TODAY())
A22: MLG | B22: =+B21 -> PPK | C22: =IF(D22="","",IF(F22="","",WEEKNUM(F22))) | G22: =IF(F22="","",F22-TODAY())
A23: MLG | B23: =+B22 -> PPK | C23: =IF(D23="","",IF(F23="","",WEEKNUM(F23))) | G23: =IF(F23="","",F23-TODAY())
A24: MLG | B24: =+B23 -> PPK | C24: =IF(D24="","",IF(F24="","",WEEKNUM(F24))) | G24: =IF(F24="","",F24-TODAY())
A25: MLG | B25: =+B24 -> PPK | C25: =IF(D25="","",IF(F25="","",WEEKNUM(F25))) | G25: =IF(F25="","",F25-TODAY())
A26: MLG | B26: =+B25 -> PPK | C26: =IF(D26="","",IF(F26="","",WEEKNUM(F26))) | G26: =IF(F26="","",F26-TODAY())
A27: MLG | B27: =+B26 -> PPK | C27: =IF(D27="","",IF(F27="","",WEEKNUM(F27))) | G27: =IF(F27="","",F27-TODAY())
A28: MLG | B28: =+B27 -> PPK | C28: =IF(D28="","",IF(F28="","",WEEKNUM(F28))) | G28: =IF(F28="","",F28-TODAY())
A29: MLG | B29: =+B28 -> PPK | C29: =IF(D29="","",IF(F29="","",WEEKNUM(F29))) | G29: =IF(F29="","",F29-TODAY())
A30: MLG | B30: =+B27 -> PPK | C30: =IF(D30="","",IF(F30="","",WEEKNUM(F30))) | G30: =IF(F30="","",F30-TODAY())
A31: MLG | B31: =+B30 -> PPK | C31: =IF(D31="","",IF(F31="","",WEEKNUM(F31))) | G31: =IF(F31="","",F31-TODAY())
A32: MLG | B32: =+B29 -> PPK | C32: =IF(D32="","",IF(F32="","",WEEKNUM(F32))) | G32: =IF(F32="","",F32-TODAY())
A33: MLG | B33: =+B32 -> PPK | C33: =IF(D33="","",IF(F33="","",WEEKNUM(F33))) | G33: =IF(F33="","",F33-TODAY())
A34: MLG | B34: COURBURE | C34: =IF(D34="","",IF(F34="","",WEEKNUM(F34))) | G34: =IF(F34="","",F34-TODAY())
A35: MLG | B35: =+B34 -> COURBURE | C35: =IF(D35="","",IF(F35="","",WEEKNUM(F35))) | G35: =IF(F35="","",F35-TODAY())
A36: MLG | B36: =+B35 -> COURBURE | C36: =IF(D36="","",IF(F36="","",WEEKNUM(F36))) | G36: =IF(F36="","",F36-TODAY())
A37: MLG | B37: =+B36 -> COURBURE | C37: =IF(D37="","",IF(F37="","",WEEKNUM(F37))) | G37: =IF(F37="","",F37-TODAY())
A38: MLG | B38: =+B37 -> COURBURE | C38: =IF(D38="","",IF(F38="","",WEEKNUM(F38))) | G38: =IF(F38="","",F38-TODAY())
A39: MLG | B39: =+B38 -> COURBURE | C39: =IF(D39="","",IF(F39="","",WEEKNUM(F39))) | G39: =IF(F39="","",F39-TODAY())
A40: MLG | B40: =+B39 -> COURBURE | C40: =IF(D40="","",IF(F40="","",WEEKNUM(F40))) | G40: =IF(F40="","",F40-TODAY())
...

Sheet 1

Sheet 2

Sheet 3

Sheet 4

Sheet 5

Sheet 6

Sheet 7

Sheet 8

Sheet 9

Sheet 10
