Workbook

Sheet Feuil1
A1: HELP PLEASE!!!!
A2: FICHE DE POINTAGE
A3: NOM PRENOM: | D3: Matricule
A4: =VLOOKUP(D4,'BDD formule'!A:B,2,0) -> Salarié 1 | D4: J1 | F4: JOUR | G4: MOIS | H4: ANNEE
F5: 1 | G5: 1 | H5: 2022
L6: Heures travaillée+Hsup | M6: Heures sup | N6: Heures sup prises | O6: Reste à prendre
A7: =TEXT(B7,"jjj") -> sam | B7: =DATE(H5,G5,F5) -> 44562 | C7: 0.375 | D7: 0.5 | F7: 0.58333333 | G7: 0.75 | H7: =(D7-C7)+(G7-F7) -> 0.29166667 | I7: =H7 -> 0.29166667 | J7: =IF(A7="dim",I7,"") | K7: 44562 | O7: =M7-N7 -> 0
A8: =TEXT(B8,"jjj") -> dim | B8: =B7+1 -> 44563 | C8: 0.375 | D8: 0.5 | H8: =(D8-C8)+(G8-F8) -> 0.125 | I8: =IF(A8="lun",H8,H8+I7) -> 0.41666667 | J8: =IF(A8="dim",I8,"") -> 0.41666667 | K8: 44563 | O8: =M8-N8 -> 0
A9: =TEXT(B9,"jjj") -> lun | B9: =B8+1 -> 44564 | H9: =(D9-C9)+(G9-F9) -> 0 | I9: =IF(A9="lun",H9,H9+I8) -> 0 | J9: =IF(A9="dim",I9,"") | K9: 44564 | L9: =IF(D4="J1",'BDD J1'!D2,IF(D4="J2",'BDD J2'!D2)) -> 7 | M9: =IF(D4="J1",'BDD J1'!C2,IF(D4="J2",'BDD J2'!C2)) -> 2 | N9: =IF(D4="J1",'BDD J1'!E2,IF(D4="J2",'BDD J2'!E2)) -> 1 | O9: =M9-N9 -> 1
A10: =TEXT(B10,"jjj") -> mar | B10: =B9+1 -> 44565 | H10: =(D10-C10)+(G10-F10) -> 0 | I10: =IF(A10="lun",H10,H10+I9) -> 0 | J10: =IF(A10="dim",I10,"") | K10: 44565 | O10: =M10-N10 -> 0
A11: =TEXT(B11,"jjj") -> mer | B11: =B10+1 -> 44566 | H11: =(D11-C11)+(G11-F11) -> 0 | I11: =IF(A11="lun",H11,H11+I10) -> 0 | J11: =IF(A11="dim",I11,"") | K11: 44566 | O11: =M11-N11 -> 0
A12: =TEXT(B12,"jjj") -> jeu | B12: =B11+1 -> 44567 | H12: =(D12-C12)+(G12-F12) -> 0 | I12: =IF(A12="lun",H12,H12+I11) -> 0 | J12: =IF(A12="dim",I12,"") | K12: 44567 | O12: =M12-N12 -> 0
A13: =TEXT(B13,"jjj") -> ven | B13: =B12+1 -> 44568 | F13: 0.58333333 | G13: 0.75 | H13: =(D13-C13)+(G13-F13) -> 0.16666667 | I13: =IF(A13="lun",H13,H13+I12) -> 0.16666667 | J13: =IF(A13="dim",I13,"") | K13: 44568 | O13: =M13-N13 -> 0
A14: =TEXT(B14,"jjj") -> sam | B14: =B13+1 -> 44569 | F14: 0.625 | G14: 0.79166667 | H14: =(D14-C14)+(G14-F14) -> 0.16666667 | I14: =IF(A14="lun",H14,H14+I13) -> 0.33333333 | J14: =IF(A14="dim",I14,"") | K14: 44569 | O14: =M14-N14 -> 0
A15: =TEXT(B15,"jjj") -> dim | B15: =B14+1 -> 44570 | F15: 0.66666667 | G15: 0.83333333 | H15: =(D15-C15)+(G15-F15) -> 0.16666667 | I15: =IF(A15="lun",H15,H15+I14) -> 0.5 | J15: =IF(A15="dim",I15,"") -> 0.5 | K15: 44570 | O15: =M15-N15 -> 0
A16: =TEXT(B16,"jjj") -> lun | B16: =B15+1 -> 44571 | F16: 0.70833333 | G16: 0.875 | H16: =(D16-C16)+(G16-F16) -> 0.16666667 | I16: =IF(A16="lun",H16,H16+I15) -> 0.16666667 | J16: =IF(A16="dim",I16,"") | K16: 44571 | O16: =M16-N16 -> 0
A17: =TEXT(B17,"jjj") -> mar | B17: =B16+1 -> 44572 | F17: 0.75 | G17: 0.91666667 | H17: =(D17-C17)+(G17-F17) -> 0.16666667 | I17: =IF(A17="lun",H17,H17+I16) -> 0.33333333 | J17: =IF(A17="dim",I17,"") | K17: 44572 | O17: =M17-N17 -> 0
A18: =TEXT(B18,"jjj") -> mer | B18: =B17+1 -> 44573 | H18: =(D18-C18)+(G18-F18) -> 0 | I18: =IF(A18="lun",H18,H18+I17) -> 0.33333333 | J18: =IF(A18="dim",I18,"") | K18: 44573 | O18: =M18-N18 -> 0
A19: =TEXT(B19,"jjj") -> jeu | B19: =B18+1 -> 44574 | H19: =(D19-C19)+(G19-F19) -> 0 | I19: =IF(A19="lun",H19,H19+I18) -> 0.33333333 | J19: =IF(A19="dim",I19,"") | K19: 44574 | O19: =M19-N19 -> 0
A20: =TEXT(B20,"jjj") -> ven | B20: =B19+1 -> 44575 | C20: 0.375 | D20: 0.5 | H20: =(D20-C20)+(G20-F20) -> 0.125 | I20: =IF(A20="lun",H20,H20+I19) -> 0.45833333 | J20: =IF(A20="dim",I20,"") | K20: 44575 | O20: =M20-N20 -> 0
A21: =TEXT(B21,"jjj") -> sam | B21: =B20+1 -> 44576 | C21: 0.375 | D21: 0.5 | H21: =(D21-C21)+(G21-F21) -> 0.125 | I21: =IF(A21="lun",H21,H21+I20) -> 0.58333333 | J21: =IF(A21="dim",I21,"") | K21: 44576 | O21: =M21-N21 -> 0
A22: =TEXT(B22,"jjj") -> dim | B22: =B21+1 -> 44577 | H22: =(D22-C22)+(G22-F22) -> 0 | I22: =IF(A22="lun",H22,H22+I21) -> 0.58333333 | J22: =IF(A22="dim",I22,"") -> 0.58333333 | K22: 44577 | O22: =M22-N22 -> 0
A23: =TEXT(B23,"jjj") -> lun | B23: =B22+1 -> 44578 | H23: =(D23-C23)+(G23-F23) -> 0 | I23: =IF(A23="lun",H23,H23+I22) -> 0 | J23: =IF(A23="dim",I23,"") | K23: 44578 | O23: =M23-N23 -> 0
A24: =TEXT(B24,"jjj") -> mar | B24: =B23+1 -> 44579 | H24: =(D24-C24)+(G24-F24) -> 0 | I24: =IF(A24="lun",H24,H24+I23) -> 0 | J24: =IF(A24="dim",I24,"") | K24: 44579 | O24: =M24-N24 -> 0
A25: =TEXT(B25,"jjj") -> mer | B25: =B24+1 -> 44580 | H25: =(D25-C25)+(G25-F25) -> 0 | I25: =IF(A25="lun",H25,H25+I24) -> 0 | J25: =IF(A25="dim",I25,"") | K25: 44580 | O25: =M25-N25 -> 0
A26: =TEXT(B26,"jjj") -> jeu | B26: =B25+1 -> 44581 | H26: =(D26-C26)+(G26-F26) -> 0 | I26: =IF(A26="lun",H26,H26+I25) -> 0 | J26: =IF(A26="dim",I26,"") | K26: 44581 | O26: =M26-N26 -> 0
A27: =TEXT(B27,"jjj") -> ven | B27: =B26+1 -> 44582 | F27: 0.25 | G27: 0.5 | H27: =(D27-C27)+(G27-F27) -> 0.25 | I27: =IF(A27="lun",H27,H27+I26) -> 0.25 | J27: =IF(A27="dim",I27,"") | K27: 44582 | O27: =M27-N27 -> 0
A28: =TEXT(B28,"jjj") -> sam | B28: =B27+1 -> 44583 | F28: 0.375 | G28: 0.5 | H28: =(D28-C28)+(G28-F28) -> 0.125 | I28: =IF(A28="lun",H28,H28+I27) -> 0.375 | J28: =IF(A28="dim",I28,"") | K28: 44583 | O28: =M28-N28 -> 0
A29: =TEXT(B29,"jjj") -> dim | B29: =B28+1 -> 44584 | H29: =(D29-C29)+(G29-F29) -> 0 | I29: =IF(A29="lun",H29,H29+I28) -> 0.375 | J29: =IF(A29="dim",I29,"") -> 0.375 | K29: 44584 | O29: =M29-N29 -> 0
A30: =TEXT(B30,"jjj") -> lun | B30: =B29+1 -> 44585 | H30: =(D30-C30)+(G30-F30) -> 0 | I30: =IF(A30="lun",H30,H30+I29) -> 0 | J30: =IF(A30="dim",I30,"") | K30: 44585 | O30: =M30-N30 -> 0
A31: =TEXT(B31,"jjj") -> mar | B31: =B30+1 -> 44586 | H31: =(D31-C31)+(G31-F31) -> 0 | I31: =IF(A31="lun",H31,H31+I30) -> 0 | J31: =IF(A31="dim",I31,"") | K31: 44586 | O31: =M31-N31 -> 0
A32: =TEXT(B32,"jjj") -> mer | B32: =B31+1 -> 44587 | H32: =(D32-C32)+(G32-F32) -> 0 | I32: =IF(A32="lun",H32,H32+I31) -> 0 | J32: =IF(A32="dim",I32,"") | K32: 44587 | O32: =M32-N32 -> 0
A33: =TEXT(B33,"jjj") -> jeu | B33: =B32+1 -> 44588 | H33: =(D33-C33)+(G33-F33) -> 0 | I33: =IF(A33="lun",H33,H33+I32) -> 0 | J33: =IF(A33="dim",I33,"") | K33: 44588 | O33: =M33-N33 -> 0
A34: =TEXT(B34,"jjj") -> ven | B34: =B33+1 -> 44589 | C34: 0.375 | D34: 0.5 | H34: =(D34-C34)+(G34-F34) -> 0.125 | I34: =IF(A34="lun",H34,H34+I33) -> 0.125 | J34: =IF(A34="dim",I34,"") | K34: 44589 | O34: =M34-N34 -> 0
A35: =TEXT(B35,"jjj") -> sam | B35: =B34+1 -> 44590 | C35: 0.375 | D35: 0.5 | H35: =(D35-C35)+(G35-F35) -> 0.125 | I35: =IF(A35="lun",H35,H35+I34) -> 0.25 | J35: =IF(A35="dim",I35,"") | K35: 44590 | O35: =M35-N35 -> 0
A36: =TEXT(B36,"jjj") -> dim | B36: =B35+1 -> 44591 | H36: =(D36-C36)+(G36-F36) -> 0 | I36: =IF(A36="lun",H36,H36+I35) -> 0.25 | J36: =IF(A36="dim",I36,"") -> 0.25 | K36: 44591 | O36: =M36-N36 -> 0
A37: =TEXT(B37,"jjj") -> lun | B37: =B36+1 -> 44592 | H37: =(D37-C37)+(G37-F37) -> 0 | I37: =IF(A37="lun",H37,H37+I36) -> 0 | J37: =I37 -> 0 | K37: 44592 | O37: =M37-N37 -> 0
C40: HEURES TOTALS PAR MOIS | G40: =SUM(J7:J37) -> 2.125

Sheet BDD J1
A1: Date | B1: Heures travaillée | C1: Heures sup | D1: Heure travaillé + Hsup | E1: Heure sup prise
A2: 44564 | B2: 5 | C2: 2 | D2: =SUM(B2:C2) -> 7 | E2: 1
A3: 44565 | B3: 6 | C3: 2 | D3: =SUM(B3:C3) -> 8 | E3: 0

Sheet BDD J2
A1: Date | B1: Heures travaillée | C1: Heures sup | D1: Heure travaillé + Hsup | E1: Heure sup prise
A2: 44564 | B2: 8 | C2: 3 | D2: =SUM(B2:C2) -> 11 | E2: 1
A3: 44565 | B3: 7 | C3: 2 | D3: =SUM(B3:C3) -> 9 | E3: 0

Sheet BDD formule
A1: MATRICULE | B1: NOM PRENOM
A2: J1 | B2: Salarié 1 | N2: Horaire de travail
A3: J2 | B3: Salarié 2 | N3: Lundi - vendredi
A4: J3 | B4: Salarié 3 | N4: Matin | P4: Après-midi
A5: J4 | B5: Salarié 4 | N5: Début | O5: Fin | P5: Début | Q5: Fin
A6: J5 | B6: Salarié 5 | N6: 0.375 | O6: 0.5 | P6: 0.58333333 | Q6: 0.75
A7: J6 | B7: Salarié 6
A8: J7 | B8: Salarié 7
A9: J8 | B9: Salarié 8
A10: J9 | B10: Salarié 9
A11: J10 | B11: Salarié 10
A12: J11 | B12: Salarié 11
A13: J12 | B13: Salarié 12
A14: J13 | B14: Salarié 13
A15: J14 | B15: Salarié 14
A16: J15 | B16: Salarié 15
A17: J16 | B17: Salarié 16
A18: J17 | B18: Salarié 17
... A51: J50 | B51: Salarié 50

Sheet Feuil3
A1: Demande de congés payés
A2: Plus d'informations
A3: MATRICULE | B3: J1
A4: Nom et prénom | B4: =VLOOKUP(B3,'BDD formule'!A:B,2,0) -> Salarié 1 | D4: Formule pour affiher le salarié quand je rentre le matricule
A5: Mois | B5: 44743
A6: Date du jour | B6: =TODAY() -> 44782
A7: Date souhaité | B7: DU: AU:
A8: Nombre de jour/heure souhaité | B8: 5 jours
A9: Nombre d'heures suplémentaire acquis | B9: =VLOOKUP(B5,[1]Salariés!T25:U31,2) -> 0
A10: Nombre d'heures souhaité | B10: 0
A11: Reste à ce jour | B11: =B9-B10 -> 0
A12: Décision de la direction | B12: Jour à modifier
A13: Signature du salarié | B13: Signature de la direction
B14: Lu et approuve la demande, XR
