Workbook
Name CB: 'CB102'!$K$3:$K$4
Name PRODUITS: 'CB102'!$J$4:$J$13

Sheet SYNTHESE
A3: DATE | B3: NOMS | C3: HOTEL | D3: RESTO | E3: GO FR | F3: GO CEE | G3: PEAGES | H3: FERRIES | I3: DIVERS | J3: RETRAIT | K3: PAS DE JUSTIF | L3: TOTAL
A4: 40238 | B4: TEST | C4: =SUMPRODUCT(('CB102'!$A$3:$A$44=A4)*('CB102'!$H$3:$H$44=B4)*('CB102'!$B$3:$B$44=$C$3)*('CB102'!$E$3:$E$44)) -> 30 | D4: <----- J'aimerais avoir la meme formules mais qui s'applique à tout les onglets ou à la liste de noms "CB"
C6: =SUMPRODUCT(SUMIF(INDIRECT("'"&CB&"'!A3:A44"),A4,INDIRECT("'"&CB&"'!E3:E44"))) -> 50

Sheet RECAP CB
B3: RESTO+HOTEL | C3: PEAGES | D3: FERRIES | E3: GO CEE | F3: GO FR | G3: DIVERS | H3: RETRAITS | I3: PAS JUSTIFS | J3: FRAIS + OP BANQUE | K3: CREDIT BANQUE | L3: VIREMENTS FONDS DEBIT | M3: VIREMENT FONDS CREDIT | N3: TOTAL DEBIT | O3: SOLDE RELEVE
A4: CB 102 | B4: ='CB102'!E47+'CB102'!E48 -> 146 | C4: ='CB102'!E51 -> 0 | D4: ='CB102'!E52 -> 0 | E4: ='CB102'!E50 -> 0 | F4: ='CB102'!E49 -> 0 | G4: ='CB102'!E53 -> 0 | H4: ='CB102'!E54 -> 50 | I4: ='CB102'!E55 -> 0 | L4: ='CB102'!E56 -> 0
A5: CB 103
A6: CB 104
A7: CB 105
A8: CB 106
A9: CB 107
A10: CB 108
A11: CB 109
A12: CB 110
A13: CB 111
A14: CB 112
A15: CB 113
A16: CB 114
... A18: Report Solde

Sheet CB102
A1: COMPTE CARTE
A2: DATE | B2: PRODUIT | C2: DETAILS | D2: LIEU | E2: MONTANT | F2: TVA 19.6 | G2: TVA 5.5 | H2: UTILISATEUR
A3: 40238 | B3: HOTEL | E3: 20 | H3: TEST | K3: CB102
A4: 40238 | B4: HOTEL | E4: 10 | H4: TEST | J4: RESTAURANT | K4: CB103
A5: 40238 | B5: HOTEL | E5: 20 | H5: TEST1 | J5: HOTEL | K5: CB104
J6: GO FR | K6: CB105
B7: RESTAURANT | E7: 35 | J7: GO CEE | K7: CB106
J8: PEAGES | K8: CB107
J9: FERRIES | K9: CB108
B10: RETRAIT | E10: 50 | F10: 12 | J10: DIVERS | K10: CB109
J11: RETRAIT | K11: CB110
J12: PAS DE JUSTIFICATIFS | K12: CB111
J13: VIREMENTS ATS | K13: CB112
K14: CB113
K15: CB114
K16: CB115
B18: RESTAURANT | E18: 61 | G18: 5.6
A45: TOTAL | E45: =SUM(Tableau3[MONTANT]) -> 196 | F45: =SUM(Tableau3[TVA 19.6]) -> 12 | G45: =SUM(Tableau3[TVA 5.5]) -> 5.6 | H45: =SUM(Tableau3[UTILISATEUR]) -> 0
E46: MONTANT | F46: TVA 19.6 | G46: TVA 5.5
D47: RESTAURANT | E47: =SUMPRODUCT(SUMIF($B$3:$B$44,D47,$E$3:$E$44)) -> 96 | F47: =SUMPRODUCT(SUMIF($B$3:$B$44,D47,$F$3:$F$44)) -> 0 | G47: =SUMPRODUCT(SUMIF($B$3:$B$44,D47,$G$3:$G$44)) -> 5.6
D48: HOTEL | E48: =SUMPRODUCT(SUMIF($B$3:$B$44,D48,$E$3:$E$44)) -> 50 | F48: =SUMPRODUCT(SUMIF($B$3:$B$44,D48,$F$3:$F$44)) -> 0 | G48: =SUMPRODUCT(SUMIF($B$3:$B$44,D48,$G$3:$G$44)) -> 0
D49: GO FR | E49: =SUMPRODUCT(SUMIF($B$3:$B$44,D49,$E$3:$E$44)) -> 0 | F49: =SUMPRODUCT(SUMIF($B$3:$B$44,D49,$F$3:$F$44)) -> 0 | G49: =SUMPRODUCT(SUMIF($B$3:$B$44,D49,$G$3:$G$44)) -> 0
D50: GO CEE | E50: =SUMPRODUCT(SUMIF($B$3:$B$44,D50,$E$3:$E$44)) -> 0 | F50: =SUMPRODUCT(SUMIF($B$3:$B$44,D50,$F$3:$F$44)) -> 0 | G50: =SUMPRODUCT(SUMIF($B$3:$B$44,D50,$G$3:$G$44)) -> 0
C51: TOTAL | D51: PEAGES | E51: =SUMPRODUCT(SUMIF($B$3:$B$44,D51,$E$3:$E$44)) -> 0 | F51: =SUMPRODUCT(SUMIF($B$3:$B$44,D51,$F$3:$F$44)) -> 0 | G51: =SUMPRODUCT(SUMIF($B$3:$B$44,D51,$G$3:$G$44)) -> 0
D52: FERRIES | E52: =SUMPRODUCT(SUMIF($B$3:$B$44,D52,$E$3:$E$44)) -> 0 | F52: =SUMPRODUCT(SUMIF($B$3:$B$44,D52,$F$3:$F$44)) -> 0 | G52: =SUMPRODUCT(SUMIF($B$3:$B$44,D52,$G$3:$G$44)) -> 0
D53: DIVERS | E53: =SUMPRODUCT(SUMIF($B$3:$B$44,D53,$E$3:$E$44)) -> 0 | F53: =SUMPRODUCT(SUMIF($B$3:$B$44,D53,$F$3:$F$44)) -> 0 | G53: =SUMPRODUCT(SUMIF($B$3:$B$44,D53,$G$3:$G$44)) -> 0
D54: RETRAIT | E54: =SUMPRODUCT(SUMIF($B$3:$B$44,D54,$E$3:$E$44)) -> 50 | F54: =SUMPRODUCT(SUMIF($B$3:$B$44,D54,$F$3:$F$44)) -> 12 | G54: =SUMPRODUCT(SUMIF($B$3:$B$44,D54,$G$3:$G$44)) -> 0
D55: PAS DE JUSTIFICATIFS | E55: =SUMPRODUCT(SUMIF($B$3:$B$44,D55,$E$3:$E$44)) -> 0 | F55: =SUMPRODUCT(SUMIF($B$3:$B$44,D55,$F$3:$F$44)) -> 0 | G55: =SUMPRODUCT(SUMIF($B$3:$B$44,D55,$G$3:$G$44)) -> 0
D56: VIREMENTS ATS | E56: =SUMPRODUCT(SUMIF($B$3:$B$44,D56,$E$3:$E$44)) -> 0 | F56: =SUMPRODUCT(SUMIF($B$3:$B$44,D56,$F$3:$F$44)) -> 0 | G56: =SUMPRODUCT(SUMIF($B$3:$B$44,D56,$G$3:$G$44)) -> 0

Sheet CB103
A1: COMPTE CARTE
A2: DATE | B2: PRODUIT | C2: DETAILS | D2: LIEU | E2: MONTANT | F2: TVA 19.6 | G2: TVA 5.5 | H2: UTILISATEUR
A45: TOTAL | E45: =SUM(Tableau35[MONTANT]) -> 0 | F45: =SUM(Tableau35[TVA 19.6]) -> 0 | G45: =SUM(Tableau35[TVA 5.5]) -> 0 | H45: =SUM(Tableau35[UTILISATEUR]) -> 0
E46: MONTANT | F46: TVA 19.6 | G46: TVA 5.5
D47: RESTAURANT | E47: =SUMPRODUCT(SUMIF($B$3:$B$44,D47,$E$3:$E$44)) -> 0 | F47: =SUMPRODUCT(SUMIF($B$3:$B$44,D47,$F$3:$F$44)) -> 0 | G47: =SUMPRODUCT(SUMIF($B$3:$B$44,D47,$G$3:$G$44)) -> 0
D48: HOTEL | E48: =SUMPRODUCT(SUMIF($B$3:$B$44,D48,$E$3:$E$44)) -> 0 | F48: =SUMPRODUCT(SUMIF($B$3:$B$44,D48,$F$3:$F$44)) -> 0 | G48: =SUMPRODUCT(SUMIF($B$3:$B$44,D48,$G$3:$G$44)) -> 0
D49: GO FR | E49: =SUMPRODUCT(SUMIF($B$3:$B$44,D49,$E$3:$E$44)) -> 0 | F49: =SUMPRODUCT(SUMIF($B$3:$B$44,D49,$F$3:$F$44)) -> 0 | G49: =SUMPRODUCT(SUMIF($B$3:$B$44,D49,$G$3:$G$44)) -> 0
D50: GO CEE | E50: =SUMPRODUCT(SUMIF($B$3:$B$44,D50,$E$3:$E$44)) -> 0 | F50: =SUMPRODUCT(SUMIF($B$3:$B$44,D50,$F$3:$F$44)) -> 0 | G50: =SUMPRODUCT(SUMIF($B$3:$B$44,D50,$G$3:$G$44)) -> 0
C51: TOTAL | D51: PEAGES | E51: =SUMPRODUCT(SUMIF($B$3:$B$44,D51,$E$3:$E$44)) -> 0 | F51: =SUMPRODUCT(SUMIF($B$3:$B$44,D51,$F$3:$F$44)) -> 0 | G51: =SUMPRODUCT(SUMIF($B$3:$B$44,D51,$G$3:$G$44)) -> 0
D52: FERRIES | E52: =SUMPRODUCT(SUMIF($B$3:$B$44,D52,$E$3:$E$44)) -> 0 | F52: =SUMPRODUCT(SUMIF($B$3:$B$44,D52,$F$3:$F$44)) -> 0 | G52: =SUMPRODUCT(SUMIF($B$3:$B$44,D52,$G$3:$G$44)) -> 0
D53: DIVERS | E53: =SUMPRODUCT(SUMIF($B$3:$B$44,D53,$E$3:$E$44)) -> 0 | F53: =SUMPRODUCT(SUMIF($B$3:$B$44,D53,$F$3:$F$44)) -> 0 | G53: =SUMPRODUCT(SUMIF($B$3:$B$44,D53,$G$3:$G$44)) -> 0
D54: RETRAIT | E54: =SUMPRODUCT(SUMIF($B$3:$B$44,D54,$E$3:$E$44)) -> 0 | F54: =SUMPRODUCT(SUMIF($B$3:$B$44,D54,$F$3:$F$44)) -> 0 | G54: =SUMPRODUCT(SUMIF($B$3:$B$44,D54,$G$3:$G$44)) -> 0
D55: PAS DE JUSTIFICATIFS | E55: =SUMPRODUCT(SUMIF($B$3:$B$44,D55,$E$3:$E$44)) -> 0 | F55: =SUMPRODUCT(SUMIF($B$3:$B$44,D55,$F$3:$F$44)) -> 0 | G55: =SUMPRODUCT(SUMIF($B$3:$B$44,D55,$G$3:$G$44)) -> 0
D56: VIREMENTS ATS | E56: =SUMPRODUCT(SUMIF($B$3:$B$44,D56,$E$3:$E$44)) -> 0 | F56: =SUMPRODUCT(SUMIF($B$3:$B$44,D56,$F$3:$F$44)) -> 0 | G56: =SUMPRODUCT(SUMIF($B$3:$B$44,D56,$G$3:$G$44)) -> 0

Sheet CB104

Sheet CB105

Sheet CB106
