Workbook

Sheet SuiviDossiers
A5: Numéro d'ordre | E5: NS | G5: Sélection dossier demande de paiement | H5: Nombre de contrôles portant sur le dossier
A12: 1 | E12: 123 | G12: X | H12: 3
A13: 2 | E13: 124 | G13: X | H13: 2
A14: 3 | E14: 125 | G14: X | H14: 2
A15: 4 | E15: 126
A16: 5 | E16: 127
A17: 6 | E17: 128 | G17: x | H17: 5
A18: 7 | E18: 129
A19: 8 | E19: 130 | H19: 2
A20: 9 | E20: 131 | G20: x | H20: 2
A21: 10 | E21: 132
A22: 11 | E22: 133 | G22: x
A23: 12 | E23: 134
A24: 13 | E24: 135
A25: 14 | E25: 136 | G25: X | H25: 2
A26: 15 | E26: 137
A27: 16 | E27: 138
A28: 17 | E28: 139 | H28: 2
A29: 18
A30: 19
A31: 20

Sheet Échantillonnage
G1: Explication de la méthode d'échantillonnage
D4: SIERREUR(INDEX(SuiviDossiers!$A$12:$A$351;AGREGAT(15;6;(1/((SuiviDossiers!$G$12:$G$400="X")*(SuiviDossiers!$H$12:$H$400<3))*LIGNE(SuiviDossiers!$E$3:$E$351)-2);LIGNE(Y1)));"")
H24: Tableau d'échantillonnage dossiers niveau contrôle 14-20
H26: N°d'ordre | I26: NS
H27: =IFERROR(INDEX(SuiviDossiers!$A$12:$A$266,_xlfn.AGGREGATE(15,6,(1/((SuiviDossiers!$G$12:$G$315="X")*(SuiviDossiers!$H$12:$H$315<3))*ROW(SuiviDossiers!$E$3:$E$266)-2),ROW(Y1))),"") -> 2 | I27: =IFERROR(INDEX(SuiviDossiers!$E$12:$E$266,_xlfn.AGGREGATE(15,6,(1/((SuiviDossiers!$G$12:$G$315="X")*(SuiviDossiers!$H$12:$H$315<3))*ROW(SuiviDossiers!$E$3:$E$266)-2),ROW(Y1))),"") -> 124 | J27: =IFERROR(INDEX(SuiviDossiers!#REF!,_xlfn.AGGREGATE(15,6,(1/((SuiviDossiers!$G$12:$G$315="X")*(SuiviDossiers!$H$12:$H$315<3))*ROW(SuiviDossiers!$E$3:$E$266)-2),ROW(Y1))),"") | K27: =IFERROR(INDEX(SuiviDossiers!#REF!,_xlfn.AGGREGATE(15,6,(1/((SuiviDossiers!$G$12:$G$315="X")*(SuiviDossiers!$H$12:$H$315<3))*ROW(SuiviDossiers!$E$3:$E$266)-2),ROW(Y1))),"")
H28: =IFERROR(INDEX(SuiviDossiers!$A$12:$A$266,_xlfn.AGGREGATE(15,6,(1/((SuiviDossiers!$G$12:$G$315="X")*(SuiviDossiers!$H$12:$H$315<3))*ROW(SuiviDossiers!$E$3:$E$266)-2),ROW(Y2))),"") -> 3 | I28: =IFERROR(INDEX(SuiviDossiers!$E$12:$E$266,_xlfn.AGGREGATE(15,6,(1/((SuiviDossiers!$G$12:$G$315="X")*(SuiviDossiers!$H$12:$H$315<3))*ROW(SuiviDossiers!$E$3:$E$266)-2),ROW(Y2))),"") -> 125 | J28: =IFERROR(INDEX(SuiviDossiers!#REF!,_xlfn.AGGREGATE(15,6,(1/((SuiviDossiers!$G$12:$G$315="X")*(SuiviDossiers!$H$12:$H$315<3))*ROW(SuiviDossiers!$E$3:$E$266)-2),ROW(Y2))),"") | K28: =IFERROR(INDEX(SuiviDossiers!#REF!,_xlfn.AGGREGATE(15,6,(1/((SuiviDossiers!$G$12:$G$315="X")*(SuiviDossiers!$H$12:$H$315<3))*ROW(SuiviDossiers!$E$3:$E$266)-2),ROW(Y2))),"")
H29: =IFERROR(INDEX(SuiviDossiers!$A$12:$A$266,_xlfn.AGGREGATE(15,6,(1/((SuiviDossiers!$G$12:$G$315="X")*(SuiviDossiers!$H$12:$H$315<3))*ROW(SuiviDossiers!$E$3:$E$266)-2),ROW(Y3))),"") -> 9 | I29: =IFERROR(INDEX(SuiviDossiers!$E$12:$E$266,_xlfn.AGGREGATE(15,6,(1/((SuiviDossiers!$G$12:$G$315="X")*(SuiviDossiers!$H$12:$H$315<3))*ROW(SuiviDossiers!$E$3:$E$266)-2),ROW(Y3))),"") -> 131 | J29: =IFERROR(INDEX(SuiviDossiers!#REF!,_xlfn.AGGREGATE(15,6,(1/((SuiviDossiers!$G$12:$G$315="X")*(SuiviDossiers!$H$12:$H$315<3))*ROW(SuiviDossiers!$E$3:$E$266)-2),ROW(Y3))),"") | K29: =IFERROR(INDEX(SuiviDossiers!#REF!,_xlfn.AGGREGATE(15,6,(1/((SuiviDossiers!$G$12:$G$315="X")*(SuiviDossiers!$H$12:$H$315<3))*ROW(SuiviDossiers!$E$3:$E$266)-2),ROW(Y3))),"")
H30: =IFERROR(INDEX(SuiviDossiers!$A$12:$A$266,_xlfn.AGGREGATE(15,6,(1/((SuiviDossiers!$G$12:$G$315="X")*(SuiviDossiers!$H$12:$H$315<3))*ROW(SuiviDossiers!$E$3:$E$266)-2),ROW(Y4))),"") -> 11 | I30: =IFERROR(INDEX(SuiviDossiers!$E$12:$E$266,_xlfn.AGGREGATE(15,6,(1/((SuiviDossiers!$G$12:$G$315="X")*(SuiviDossiers!$H$12:$H$315<3))*ROW(SuiviDossiers!$E$3:$E$266)-2),ROW(Y4))),"") -> 133 | J30: =IFERROR(INDEX(SuiviDossiers!#REF!,_xlfn.AGGREGATE(15,6,(1/((SuiviDossiers!$G$12:$G$315="X")*(SuiviDossiers!$H$12:$H$315<3))*ROW(SuiviDossiers!$E$3:$E$266)-2),ROW(Y4))),"") | K30: =IFERROR(INDEX(SuiviDossiers!#REF!,_xlfn.AGGREGATE(15,6,(1/((SuiviDossiers!$G$12:$G$315="X")*(SuiviDossiers!$H$12:$H$315<3))*ROW(SuiviDossiers!$E$3:$E$266)-2),ROW(Y4))),"")
H31: =IFERROR(INDEX(SuiviDossiers!$A$12:$A$266,_xlfn.AGGREGATE(15,6,(1/((SuiviDossiers!$G$12:$G$315="X")*(SuiviDossiers!$H$12:$H$315<3))*ROW(SuiviDossiers!$E$3:$E$266)-2),ROW(Y5))),"") -> 14 | I31: =IFERROR(INDEX(SuiviDossiers!$E$12:$E$266,_xlfn.AGGREGATE(15,6,(1/((SuiviDossiers!$G$12:$G$315="X")*(SuiviDossiers!$H$12:$H$315<3))*ROW(SuiviDossiers!$E$3:$E$266)-2),ROW(Y5))),"") -> 136 | J31: =IFERROR(INDEX(SuiviDossiers!#REF!,_xlfn.AGGREGATE(15,6,(1/((SuiviDossiers!$G$12:$G$315="X")*(SuiviDossiers!$H$12:$H$315<3))*ROW(SuiviDossiers!$E$3:$E$266)-2),ROW(Y5))),"") | K31: =IFERROR(INDEX(SuiviDossiers!#REF!,_xlfn.AGGREGATE(15,6,(1/((SuiviDossiers!$G$12:$G$315="X")*(SuiviDossiers!$H$12:$H$315<3))*ROW(SuiviDossiers!$E$3:$E$266)-2),ROW(Y5))),"")
H32: =IFERROR(INDEX(SuiviDossiers!$A$12:$A$266,_xlfn.AGGREGATE(15,6,(1/((SuiviDossiers!$G$12:$G$315="X")*(SuiviDossiers!$H$12:$H$315<3))*ROW(SuiviDossiers!$E$3:$E$266)-2),ROW(Y6))),"") | I32: =IFERROR(INDEX(SuiviDossiers!$E$12:$E$266,_xlfn.AGGREGATE(15,6,(1/((SuiviDossiers!$G$12:$G$315="X")*(SuiviDossiers!$H$12:$H$315<3))*ROW(SuiviDossiers!$E$3:$E$266)-2),ROW(Y6))),"") | J32: =IFERROR(INDEX(SuiviDossiers!#REF!,_xlfn.AGGREGATE(15,6,(1/((SuiviDossiers!$G$12:$G$315="X")*(SuiviDossiers!$H$12:$H$315<3))*ROW(SuiviDossiers!$E$3:$E$266)-2),ROW(Y6))),"") | K32: =IFERROR(INDEX(SuiviDossiers!#REF!,_xlfn.AGGREGATE(15,6,(1/((SuiviDossiers!$G$12:$G$315="X")*(SuiviDossiers!$H$12:$H$315<3))*ROW(SuiviDossiers!$E$3:$E$266)-2),ROW(Y6))),"")
H33: =IFERROR(INDEX(SuiviDossiers!$A$12:$A$266,_xlfn.AGGREGATE(15,6,(1/((SuiviDossiers!$G$12:$G$315="X")*(SuiviDossiers!$H$12:$H$315<3))*ROW(SuiviDossiers!$E$3:$E$266)-2),ROW(Y7))),"") | I33: =IFERROR(INDEX(SuiviDossiers!$E$12:$E$266,_xlfn.AGGREGATE(15,6,(1/((SuiviDossiers!$G$12:$G$315="X")*(SuiviDossiers!$H$12:$H$315<3))*ROW(SuiviDossiers!$E$3:$E$266)-2),ROW(Y7))),"") | J33: =IFERROR(INDEX(SuiviDossiers!#REF!,_xlfn.AGGREGATE(15,6,(1/((SuiviDossiers!$G$12:$G$315="X")*(SuiviDossiers!$H$12:$H$315<3))*ROW(SuiviDossiers!$E$3:$E$266)-2),ROW(Y7))),"") | K33: =IFERROR(INDEX(SuiviDossiers!#REF!,_xlfn.AGGREGATE(15,6,(1/((SuiviDossiers!$G$12:$G$315="X")*(SuiviDossiers!$H$12:$H$315<3))*ROW(SuiviDossiers!$E$3:$E$266)-2),ROW(Y7))),"")
H34: =IFERROR(INDEX(SuiviDossiers!$A$12:$A$266,_xlfn.AGGREGATE(15,6,(1/((SuiviDossiers!$G$12:$G$315="X")*(SuiviDossiers!$H$12:$H$315<3))*ROW(SuiviDossiers!$E$3:$E$266)-2),ROW(Y8))),"") | I34: =IFERROR(INDEX(SuiviDossiers!$E$12:$E$266,_xlfn.AGGREGATE(15,6,(1/((SuiviDossiers!$G$12:$G$315="X")*(SuiviDossiers!$H$12:$H$315<3))*ROW(SuiviDossiers!$E$3:$E$266)-2),ROW(Y8))),"") | J34: =IFERROR(INDEX(SuiviDossiers!#REF!,_xlfn.AGGREGATE(15,6,(1/((SuiviDossiers!$G$12:$G$315="X")*(SuiviDossiers!$H$12:$H$315<3))*ROW(SuiviDossiers!$E$3:$E$266)-2),ROW(Y8))),"") | K34: =IFERROR(INDEX(SuiviDossiers!#REF!,_xlfn.AGGREGATE(15,6,(1/((SuiviDossiers!$G$12:$G$315="X")*(SuiviDossiers!$H$12:$H$315<3))*ROW(SuiviDossiers!$E$3:$E$266)-2),ROW(Y8))),"")
H35: =IFERROR(INDEX(SuiviDossiers!$A$12:$A$266,_xlfn.AGGREGATE(15,6,(1/((SuiviDossiers!$G$12:$G$315="X")*(SuiviDossiers!$H$12:$H$315<3))*ROW(SuiviDossiers!$E$3:$E$266)-2),ROW(Y9))),"") | I35: =IFERROR(INDEX(SuiviDossiers!$E$12:$E$266,_xlfn.AGGREGATE(15,6,(1/((SuiviDossiers!$G$12:$G$315="X")*(SuiviDossiers!$H$12:$H$315<3))*ROW(SuiviDossiers!$E$3:$E$266)-2),ROW(Y9))),"") | J35: =IFERROR(INDEX(SuiviDossiers!#REF!,_xlfn.AGGREGATE(15,6,(1/((SuiviDossiers!$G$12:$G$315="X")*(SuiviDossiers!$H$12:$H$315<3))*ROW(SuiviDossiers!$E$3:$E$266)-2),ROW(Y9))),"") | K35: =IFERROR(INDEX(SuiviDossiers!#REF!,_xlfn.AGGREGATE(15,6,(1/((SuiviDossiers!$G$12:$G$315="X")*(SuiviDossiers!$H$12:$H$315<3))*ROW(SuiviDossiers!$E$3:$E$266)-2),ROW(Y9))),"")
H36: =IFERROR(INDEX(SuiviDossiers!$A$12:$A$266,_xlfn.AGGREGATE(15,6,(1/((SuiviDossiers!$G$12:$G$315="X")*(SuiviDossiers!$H$12:$H$315<3))*ROW(SuiviDossiers!$E$3:$E$266)-2),ROW(Y10))),"") | I36: =IFERROR(INDEX(SuiviDossiers!$E$12:$E$266,_xlfn.AGGREGATE(15,6,(1/((SuiviDossiers!$G$12:$G$315="X")*(SuiviDossiers!$H$12:$H$315<3))*ROW(SuiviDossiers!$E$3:$E$266)-2),ROW(Y10))),"") | J36: =IFERROR(INDEX(SuiviDossiers!#REF!,_xlfn.AGGREGATE(15,6,(1/((SuiviDossiers!$G$12:$G$315="X")*(SuiviDossiers!$H$12:$H$315<3))*ROW(SuiviDossiers!$E$3:$E$266)-2),ROW(Y10))),"") | K36: =IFERROR(INDEX(SuiviDossiers!#REF!,_xlfn.AGGREGATE(15,6,(1/((SuiviDossiers!$G$12:$G$315="X")*(SuiviDossiers!$H$12:$H$315<3))*ROW(SuiviDossiers!$E$3:$E$266)-2),ROW(Y10))),"")
H37: =IFERROR(INDEX(SuiviDossiers!$A$12:$A$266,_xlfn.AGGREGATE(15,6,(1/((SuiviDossiers!$G$12:$G$315="X")*(SuiviDossiers!$H$12:$H$315<3))*ROW(SuiviDossiers!$E$3:$E$266)-2),ROW(Y11))),"") | I37: =IFERROR(INDEX(SuiviDossiers!$E$12:$E$266,_xlfn.AGGREGATE(15,6,(1/((SuiviDossiers!$G$12:$G$315="X")*(SuiviDossiers!$H$12:$H$315<3))*ROW(SuiviDossiers!$E$3:$E$266)-2),ROW(Y11))),"") | J37: =IFERROR(INDEX(SuiviDossiers!#REF!,_xlfn.AGGREGATE(15,6,(1/((SuiviDossiers!$G$12:$G$315="X")*(SuiviDossiers!$H$12:$H$315<3))*ROW(SuiviDossiers!$E$3:$E$266)-2),ROW(Y11))),"") | K37: =IFERROR(INDEX(SuiviDossiers!#REF!,_xlfn.AGGREGATE(15,6,(1/((SuiviDossiers!$G$12:$G$315="X")*(SuiviDossiers!$H$12:$H$315<3))*ROW(SuiviDossiers!$E$3:$E$266)-2),ROW(Y11))),"") | U37: =IFERROR(INDEX(SuiviDossiers!$A$12:$A$266,_xlfn.AGGREGATE(15,6,(1/((SuiviDossiers!#REF!=$B$30)*(SuiviDossiers!#REF!>=0)*(SuiviDossiers!#REF!=$B$37)*(SuiviDossiers!#REF!=$B$38)*(SuiviDossiers!#REF!<>""))*ROW(SuiviDossiers!$E$3:$E$266)-2),ROW(V11))),"")
H38: =IFERROR(INDEX(SuiviDossiers!$A$12:$A$266,_xlfn.AGGREGATE(15,6,(1/((SuiviDossiers!$G$12:$G$315="X")*(SuiviDossiers!$H$12:$H$315<3))*ROW(SuiviDossiers!$E$3:$E$266)-2),ROW(Y12))),"") | I38: =IFERROR(INDEX(SuiviDossiers!$E$12:$E$266,_xlfn.AGGREGATE(15,6,(1/((SuiviDossiers!$G$12:$G$315="X"))*ROW(SuiviDossiers!$E$3:$E$266)-2),ROW(Y12))),"") | J38: =IFERROR(INDEX(SuiviDossiers!#REF!,_xlfn.AGGREGATE(15,6,(1/((SuiviDossiers!$G$12:$G$315="X")*(SuiviDossiers!$H$12:$H$315<3))*ROW(SuiviDossiers!$E$3:$E$266)-2),ROW(Y12))),"") | K38: =IFERROR(INDEX(SuiviDossiers!#REF!,_xlfn.AGGREGATE(15,6,(1/((SuiviDossiers!$G$12:$G$315="X")*(SuiviDossiers!$H$12:$H$315<3))*ROW(SuiviDossiers!$E$3:$E$266)-2),ROW(Y12))),"") | U38: =IFERROR(INDEX(SuiviDossiers!$A$12:$A$266,_xlfn.AGGREGATE(15,6,(1/((SuiviDossiers!#REF!=$B$30)*(SuiviDossiers!#REF!>=0)*(SuiviDossiers!#REF!=$B$37)*(SuiviDossiers!#REF!=$B$38)*(SuiviDossiers!#REF!<>""))*ROW(SuiviDossiers!$E$3:$E$266)-2),ROW(V12))),"")
H39: =IFERROR(INDEX(SuiviDossiers!$A$12:$A$266,_xlfn.AGGREGATE(15,6,(1/((SuiviDossiers!$G$12:$G$315="X")*(SuiviDossiers!$H$12:$H$315<3))*ROW(SuiviDossiers!$E$3:$E$266)-2),ROW(Y13))),"") | I39: =IFERROR(INDEX(SuiviDossiers!$E$12:$E$266,_xlfn.AGGREGATE(15,6,(1/((SuiviDossiers!$G$12:$G$315="X"))*ROW(SuiviDossiers!$E$3:$E$266)-2),ROW(Y13))),"") | J39: =IFERROR(INDEX(SuiviDossiers!#REF!,_xlfn.AGGREGATE(15,6,(1/((SuiviDossiers!$G$12:$G$315="X")*(SuiviDossiers!$H$12:$H$315<3))*ROW(SuiviDossiers!$E$3:$E$266)-2),ROW(Y13))),"") | K39: =IFERROR(INDEX(SuiviDossiers!#REF!,_xlfn.AGGREGATE(15,6,(1/((SuiviDossiers!$G$12:$G$315="X")*(SuiviDossiers!$H$12:$H$315<3))*ROW(SuiviDossiers!$E$3:$E$266)-2),ROW(Y13))),"") | U39: =IFERROR(INDEX(SuiviDossiers!$A$12:$A$266,_xlfn.AGGREGATE(15,6,(1/((SuiviDossiers!#REF!=$B$30)*(SuiviDossiers!#REF!>=0)*(SuiviDossiers!#REF!=$B$37)*(SuiviDossiers!#REF!=$B$38)*(SuiviDossiers!#REF!<>""))*ROW(SuiviDossiers!$E$3:$E$266)-2),ROW(V13))),"")
H40: =IFERROR(INDEX(SuiviDossiers!$A$12:$A$266,_xlfn.AGGREGATE(15,6,(1/((SuiviDossiers!$G$12:$G$315="X")*(SuiviDossiers!$H$12:$H$315<3))*ROW(SuiviDossiers!$E$3:$E$266)-2),ROW(Y14))),"") | I40: =IFERROR(INDEX(SuiviDossiers!$E$12:$E$266,_xlfn.AGGREGATE(15,6,(1/((SuiviDossiers!#REF!="X"))*ROW(SuiviDossiers!$E$3:$E$266)-2),ROW(V14))),"") | J40: =IFERROR(INDEX(SuiviDossiers!#REF!,_xlfn.AGGREGATE(15,6,(1/((SuiviDossiers!$G$12:$G$315="X")*(SuiviDossiers!$H$12:$H$315<3))*ROW(SuiviDossiers!$E$3:$E$266)-2),ROW(Y14))),"") | K40: =IFERROR(INDEX(SuiviDossiers!#REF!,_xlfn.AGGREGATE(15,6,(1/((SuiviDossiers!$G$12:$G$315="X")*(SuiviDossiers!$H$12:$H$315<3))*ROW(SuiviDossiers!$E$3:$E$266)-2),ROW(Y14))),"") | U40: =IFERROR(INDEX(SuiviDossiers!$A$12:$A$266,_xlfn.AGGREGATE(15,6,(1/((SuiviDossiers!#REF!=$B$30)*(SuiviDossiers!#REF!>=0)*(SuiviDossiers!#REF!=$B$37)*(SuiviDossiers!#REF!=$B$38)*(SuiviDossiers!#REF!<>""))*ROW(SuiviDossiers!$E$3:$E$266)-2),ROW(V14))),"")
H41: =IFERROR(INDEX(SuiviDossiers!$A$12:$A$266,_xlfn.AGGREGATE(15,6,(1/((SuiviDossiers!$G$12:$G$315="X")*(SuiviDossiers!$H$12:$H$315<3))*ROW(SuiviDossiers!$E$3:$E$266)-2),ROW(Y15))),"") | I41: =IFERROR(INDEX(SuiviDossiers!$E$12:$E$266,_xlfn.AGGREGATE(15,6,(1/((SuiviDossiers!#REF!="X"))*ROW(SuiviDossiers!$E$3:$E$266)-2),ROW(V15))),"") | J41: =IFERROR(INDEX(SuiviDossiers!#REF!,_xlfn.AGGREGATE(15,6,(1/((SuiviDossiers!$G$12:$G$315="X")*(SuiviDossiers!$H$12:$H$315<3))*ROW(SuiviDossiers!$E$3:$E$266)-2),ROW(Y15))),"") | K41: =IFERROR(INDEX(SuiviDossiers!#REF!,_xlfn.AGGREGATE(15,6,(1/((SuiviDossiers!$G$12:$G$315="X")*(SuiviDossiers!$H$12:$H$315<3))*ROW(SuiviDossiers!$E$3:$E$266)-2),ROW(Y15))),"") | U41: =IFERROR(INDEX(SuiviDossiers!$A$12:$A$266,_xlfn.AGGREGATE(15,6,(1/((SuiviDossiers!#REF!=$B$30)*(SuiviDossiers!#REF!>=0)*(SuiviDossiers!#REF!=$B$37)*(SuiviDossiers!#REF!=$B$38)*(SuiviDossiers!#REF!<>""))*ROW(SuiviDossiers!$E$3:$E$266)-2),ROW(V15))),"")
H42: =IFERROR(INDEX(SuiviDossiers!$A$12:$A$266,_xlfn.AGGREGATE(15,6,(1/((SuiviDossiers!$G$12:$G$315="X")*(SuiviDossiers!$H$12:$H$315<3))*ROW(SuiviDossiers!$E$3:$E$266)-2),ROW(Y16))),"") | I42: =IFERROR(INDEX(SuiviDossiers!$E$12:$E$266,_xlfn.AGGREGATE(15,6,(1/((SuiviDossiers!#REF!="X"))*ROW(SuiviDossiers!$E$3:$E$266)-2),ROW(V16))),"") | J42: =IFERROR(INDEX(SuiviDossiers!#REF!,_xlfn.AGGREGATE(15,6,(1/((SuiviDossiers!$G$12:$G$315="X")*(SuiviDossiers!$H$12:$H$315<3))*ROW(SuiviDossiers!$E$3:$E$266)-2),ROW(Y16))),"") | K42: =IFERROR(INDEX(SuiviDossiers!#REF!,_xlfn.AGGREGATE(15,6,(1/((SuiviDossiers!$G$12:$G$315="X")*(SuiviDossiers!$H$12:$H$315<3))*ROW(SuiviDossiers!$E$3:$E$266)-2),ROW(Y16))),"") | U42: =IFERROR(INDEX(SuiviDossiers!$A$12:$A$266,_xlfn.AGGREGATE(15,6,(1/((SuiviDossiers!#REF!=$B$30)*(SuiviDossiers!#REF!>=0)*(SuiviDossiers!#REF!=$B$37)*(SuiviDossiers!#REF!=$B$38)*(SuiviDossiers!#REF!<>""))*ROW(SuiviDossiers!$E$3:$E$266)-2),ROW(V16))),"")
H43: =IFERROR(INDEX(SuiviDossiers!$A$12:$A$266,_xlfn.AGGREGATE(15,6,(1/((SuiviDossiers!$G$12:$G$315="X")*(SuiviDossiers!$H$12:$H$315<3))*ROW(SuiviDossiers!$E$3:$E$266)-2),ROW(Y17))),"") | I43: =IFERROR(INDEX(SuiviDossiers!$E$12:$E$266,_xlfn.AGGREGATE(15,6,(1/((SuiviDossiers!#REF!="X"))*ROW(SuiviDossiers!$E$3:$E$266)-2),ROW(V17))),"") | J43: =IFERROR(INDEX(SuiviDossiers!#REF!,_xlfn.AGGREGATE(15,6,(1/((SuiviDossiers!$G$12:$G$315="X")*(SuiviDossiers!$H$12:$H$315<3))*ROW(SuiviDossiers!$E$3:$E$266)-2),ROW(Y17))),"") | K43: =IFERROR(INDEX(SuiviDossiers!#REF!,_xlfn.AGGREGATE(15,6,(1/((SuiviDossiers!$G$12:$G$315="X")*(SuiviDossiers!$H$12:$H$315<3))*ROW(SuiviDossiers!$E$3:$E$266)-2),ROW(Y17))),"") | U43: =IFERROR(INDEX(SuiviDossiers!$A$12:$A$266,_xlfn.AGGREGATE(15,6,(1/((SuiviDossiers!#REF!=$B$30)*(SuiviDossiers!#REF!>=0)*(SuiviDossiers!#REF!=$B$37)*(SuiviDossiers!#REF!=$B$38)*(SuiviDossiers!#REF!<>""))*ROW(SuiviDossiers!$E$3:$E$266)-2),ROW(V17))),"")
H44: =IFERROR(INDEX(SuiviDossiers!$A$12:$A$266,_xlfn.AGGREGATE(15,6,(1/((SuiviDossiers!#REF!>20%))*ROW(SuiviDossiers!$E$3:$E$266)-2),ROW(V18))),"") | I44: =IFERROR(INDEX(SuiviDossiers!$E$12:$E$266,_xlfn.AGGREGATE(15,6,(1/((SuiviDossiers!#REF!>20%))*ROW(SuiviDossiers!$E$3:$E$266)-2),ROW(V18))),"") | J44: =IFERROR(INDEX(SuiviDossiers!#REF!,_xlfn.AGGREGATE(15,6,(1/((SuiviDossiers!$G$12:$G$315="X")*(SuiviDossiers!$H$12:$H$315<3))*ROW(SuiviDossiers!$E$3:$E$266)-2),ROW(Y18))),"") | K44: =IFERROR(INDEX(SuiviDossiers!#REF!,_xlfn.AGGREGATE(15,6,(1/((SuiviDossiers!$G$12:$G$315="X")*(SuiviDossiers!$H$12:$H$315<3))*ROW(SuiviDossiers!$E$3:$E$266)-2),ROW(Y18))),"") | U44: =IFERROR(INDEX(SuiviDossiers!$A$12:$A$266,_xlfn.AGGREGATE(15,6,(1/((SuiviDossiers!#REF!=$B$30)*(SuiviDossiers!#REF!>=0)*(SuiviDossiers!#REF!=$B$37)*(SuiviDossiers!#REF!=$B$38)*(SuiviDossiers!#REF!<>""))*ROW(SuiviDossiers!$E$3:$E$266)-2),ROW(V18))),"")
H45: =IFERROR(INDEX(SuiviDossiers!$A$12:$A$266,_xlfn.AGGREGATE(15,6,(1/((SuiviDossiers!#REF!>20%))*ROW(SuiviDossiers!$E$3:$E$266)-2),ROW(V19))),"") | I45: =IFERROR(INDEX(SuiviDossiers!$E$12:$E$266,_xlfn.AGGREGATE(15,6,(1/((SuiviDossiers!#REF!>20%))*ROW(SuiviDossiers!$E$3:$E$266)-2),ROW(V19))),"") | J45: =IFERROR(INDEX(SuiviDossiers!#REF!,_xlfn.AGGREGATE(15,6,(1/((SuiviDossiers!#REF!>45%)*(SuiviDossiers!#REF!<70%))*ROW(SuiviDossiers!$E$3:$E$266)-2),ROW(V19))),"") | K45: =IFERROR(INDEX(SuiviDossiers!#REF!,_xlfn.AGGREGATE(15,6,(1/((SuiviDossiers!$G$12:$G$315="X")*(SuiviDossiers!$H$12:$H$315<3))*ROW(SuiviDossiers!$E$3:$E$266)-2),ROW(Y19))),"") | U45: =IFERROR(INDEX(SuiviDossiers!$A$12:$A$266,_xlfn.AGGREGATE(15,6,(1/((SuiviDossiers!#REF!=$B$30)*(SuiviDossiers!#REF!>=0)*(SuiviDossiers!#REF!=$B$37)*(SuiviDossiers!#REF!=$B$38)*(SuiviDossiers!#REF!<>""))*ROW(SuiviDossiers!$E$3:$E$266)-2),ROW(V19))),"")
H46: =IFERROR(INDEX(SuiviDossiers!$A$12:$A$266,_xlfn.AGGREGATE(15,6,(1/((SuiviDossiers!#REF!>20%))*ROW(SuiviDossiers!$E$3:$E$266)-2),ROW(V20))),"") | I46: =IFERROR(INDEX(SuiviDossiers!$E$12:$E$266,_xlfn.AGGREGATE(15,6,(1/((SuiviDossiers!#REF!>45%)*(SuiviDossiers!#REF!<70%))*ROW(SuiviDossiers!$E$3:$E$266)-2),ROW(V20))),"") | J46: =IFERROR(INDEX(SuiviDossiers!#REF!,_xlfn.AGGREGATE(15,6,(1/((SuiviDossiers!#REF!>45%)*(SuiviDossiers!#REF!<70%))*ROW(SuiviDossiers!$E$3:$E$266)-2),ROW(V20))),"") | K46: =IFERROR(INDEX(SuiviDossiers!#REF!,_xlfn.AGGREGATE(15,6,(1/((SuiviDossiers!$G$12:$G$315="X")*(SuiviDossiers!$H$12:$H$315<3))*ROW(SuiviDossiers!$E$3:$E$266)-2),ROW(Y20))),"") | U46: =IFERROR(INDEX(SuiviDossiers!$A$12:$A$266,_xlfn.AGGREGATE(15,6,(1/((SuiviDossiers!#REF!=$B$30)*(SuiviDossiers!#REF!>=0)*(SuiviDossiers!#REF!=$B$37)*(SuiviDossiers!#REF!=$B$38)*(SuiviDossiers!#REF!<>""))*ROW(SuiviDossiers!$E$3:$E$266)-2),ROW(V20))),"")
H47: =IFERROR(INDEX(SuiviDossiers!$A$12:$A$266,_xlfn.AGGREGATE(15,6,(1/((SuiviDossiers!#REF!>20%))*ROW(SuiviDossiers!$E$3:$E$266)-2),ROW(V21))),"") | I47: =IFERROR(INDEX(SuiviDossiers!$E$12:$E$266,_xlfn.AGGREGATE(15,6,(1/((SuiviDossiers!#REF!>45%)*(SuiviDossiers!#REF!<70%))*ROW(SuiviDossiers!$E$3:$E$266)-2),ROW(V21))),"") | J47: =IFERROR(INDEX(SuiviDossiers!#REF!,_xlfn.AGGREGATE(15,6,(1/((SuiviDossiers!#REF!>45%)*(SuiviDossiers!#REF!<70%))*ROW(SuiviDossiers!$E$3:$E$266)-2),ROW(V21))),"") | K47: =IFERROR(INDEX(SuiviDossiers!#REF!,_xlfn.AGGREGATE(15,6,(1/((SuiviDossiers!$G$12:$G$315="X")*(SuiviDossiers!$H$12:$H$315<3))*ROW(SuiviDossiers!$E$3:$E$266)-2),ROW(Y21))),"") | U47: =IFERROR(INDEX(SuiviDossiers!$A$12:$A$266,_xlfn.AGGREGATE(15,6,(1/((SuiviDossiers!#REF!=$B$30)*(SuiviDossiers!#REF!>=0)*(SuiviDossiers!#REF!=$B$37)*(SuiviDossiers!#REF!=$B$38)*(SuiviDossiers!#REF!<>""))*ROW(SuiviDossiers!$E$3:$E$266)-2),ROW(V21))),"")
H48: =IFERROR(INDEX(SuiviDossiers!$A$12:$A$266,_xlfn.AGGREGATE(15,6,(1/((SuiviDossiers!#REF!>20%))*ROW(SuiviDossiers!$E$3:$E$266)-2),ROW(V22))),"") | I48: =IFERROR(INDEX(SuiviDossiers!$E$12:$E$266,_xlfn.AGGREGATE(15,6,(1/((SuiviDossiers!#REF!>45%)*(SuiviDossiers!#REF!<70%))*ROW(SuiviDossiers!$E$3:$E$266)-2),ROW(V22))),"") | J48: =IFERROR(INDEX(SuiviDossiers!#REF!,_xlfn.AGGREGATE(15,6,(1/((SuiviDossiers!#REF!=$B$30)*(SuiviDossiers!#REF!>0)*(SuiviDossiers!#REF!=$B$51)*(SuiviDossiers!#REF!=$B$48)*(SuiviDossiers!#REF!=$B$48))*ROW(SuiviDossiers!$E$3:$E$266)-2),ROW(X22))),"") | K48: =IFERROR(INDEX(SuiviDossiers!#REF!,_xlfn.AGGREGATE(15,6,(1/((SuiviDossiers!$G$12:$G$315="X")*(SuiviDossiers!$H$12:$H$315<3))*ROW(SuiviDossiers!$E$3:$E$266)-2),ROW(Y22))),"") | U48: =IFERROR(INDEX(SuiviDossiers!$A$12:$A$266,_xlfn.AGGREGATE(15,6,(1/((SuiviDossiers!#REF!=$B$30)*(SuiviDossiers!#REF!>=0)*(SuiviDossiers!#REF!=$B$37)*(SuiviDossiers!#REF!=$B$38)*(SuiviDossiers!#REF!<>""))*ROW(SuiviDossiers!$E$3:$E$266)-2),ROW(V22))),"")
H49: =IFERROR(INDEX(SuiviDossiers!$A$12:$A$266,_xlfn.AGGREGATE(15,6,(1/((SuiviDossiers!#REF!>20%))*ROW(SuiviDossiers!$E$3:$E$266)-2),ROW(V23))),"") | I49: =IFERROR(INDEX(SuiviDossiers!$E$12:$E$266,_xlfn.AGGREGATE(15,6,(1/((SuiviDossiers!#REF!=$B$30)*(SuiviDossiers!#REF!>0)*(SuiviDossiers!#REF!=$B$51)*(SuiviDossiers!#REF!=$B$48)*(SuiviDossiers!#REF!=$B$48))*ROW(SuiviDossiers!$E$3:$E$266)-2),ROW(W23))),"") | J49: =IFERROR(INDEX(SuiviDossiers!#REF!,_xlfn.AGGREGATE(15,6,(1/((SuiviDossiers!#REF!=$B$30)*(SuiviDossiers!#REF!>0)*(SuiviDossiers!#REF!=$B$51)*(SuiviDossiers!#REF!=$B$48)*(SuiviDossiers!#REF!=$B$48))*ROW(SuiviDossiers!$E$3:$E$266)-2),ROW(X23))),"") | K49: =IFERROR(INDEX(SuiviDossiers!#REF!,_xlfn.AGGREGATE(15,6,(1/((SuiviDossiers!$G$12:$G$315="X"))*ROW(SuiviDossiers!$E$3:$E$266)-2),ROW(X23))),"") | U49: =IFERROR(INDEX(SuiviDossiers!$A$12:$A$266,_xlfn.AGGREGATE(15,6,(1/((SuiviDossiers!#REF!=$B$30)*(SuiviDossiers!#REF!>=0)*(SuiviDossiers!#REF!=$B$37)*(SuiviDossiers!#REF!=$B$38)*(SuiviDossiers!#REF!<>""))*ROW(SuiviDossiers!$E$3:$E$266)-2),ROW(V23))),"")
H50: =IFERROR(INDEX(SuiviDossiers!$A$12:$A$266,_xlfn.AGGREGATE(15,6,(1/((SuiviDossiers!#REF!>20%))*ROW(SuiviDossiers!$E$3:$E$266)-2),ROW(V24))),"") | I50: =IFERROR(INDEX(SuiviDossiers!$E$12:$E$266,_xlfn.AGGREGATE(15,6,(1/((SuiviDossiers!#REF!=$B$30)*(SuiviDossiers!#REF!>0)*(SuiviDossiers!#REF!=$B$51)*(SuiviDossiers!#REF!=$B$48)*(SuiviDossiers!#REF!=$B$48))*ROW(SuiviDossiers!$E$3:$E$266)-2),ROW(W24))),"") | J50: =IFERROR(INDEX(SuiviDossiers!#REF!,_xlfn.AGGREGATE(15,6,(1/((SuiviDossiers!#REF!=$B$30)*(SuiviDossiers!#REF!>0)*(SuiviDossiers!#REF!=$B$51)*(SuiviDossiers!#REF!=$B$48)*(SuiviDossiers!#REF!=$B$48))*ROW(SuiviDossiers!$E$3:$E$266)-2),ROW(X24))),"") | U50: =IFERROR(INDEX(SuiviDossiers!$A$12:$A$266,_xlfn.AGGREGATE(15,6,(1/((SuiviDossiers!#REF!=$B$30)*(SuiviDossiers!#REF!>=0)*(SuiviDossiers!#REF!=$B$37)*(SuiviDossiers!#REF!=$B$38)*(SuiviDossiers!#REF!<>""))*ROW(SuiviDossiers!$E$3:$E$266)-2),ROW(V24))),"")
H51: =IFERROR(INDEX(SuiviDossiers!$A$12:$A$266,_xlfn.AGGREGATE(15,6,(1/((SuiviDossiers!#REF!>9%)*(SuiviDossiers!#REF!<51%))*ROW(SuiviDossiers!$E$3:$E$266)-2),ROW(V25))),"") | I51: =IFERROR(INDEX(SuiviDossiers!$E$12:$E$266,_xlfn.AGGREGATE(15,6,(1/((SuiviDossiers!#REF!=$B$30)*(SuiviDossiers!#REF!>0)*(SuiviDossiers!#REF!=$B$51)*(SuiviDossiers!#REF!=$B$48)*(SuiviDossiers!#REF!=$B$48))*ROW(SuiviDossiers!$E$3:$E$266)-2),ROW(W25))),"") | J51: =IFERROR(INDEX(SuiviDossiers!#REF!,_xlfn.AGGREGATE(15,6,(1/((SuiviDossiers!#REF!=$B$30)*(SuiviDossiers!#REF!>0)*(SuiviDossiers!#REF!=$B$51)*(SuiviDossiers!#REF!=$B$48)*(SuiviDossiers!#REF!=$B$48))*ROW(SuiviDossiers!$E$3:$E$266)-2),ROW(X25))),"") | U51: =IFERROR(INDEX(SuiviDossiers!$A$12:$A$266,_xlfn.AGGREGATE(15,6,(1/((SuiviDossiers!#REF!=$B$30)*(SuiviDossiers!#REF!>=0)*(SuiviDossiers!#REF!=$B$37)*(SuiviDossiers!#REF!=$B$38)*(SuiviDossiers!#REF!<>""))*ROW(SuiviDossiers!$E$3:$E$266)-2),ROW(V25))),"")
U52: =IFERROR(INDEX(SuiviDossiers!$A$12:$A$266,_xlfn.AGGREGATE(15,6,(1/((SuiviDossiers!#REF!=$B$30)*(SuiviDossiers!#REF!>=0)*(SuiviDossiers!#REF!=$B$37)*(SuiviDossiers!#REF!=$B$38)*(SuiviDossiers!#REF!<>""))*ROW(SuiviDossiers!$E$3:$E$266)-2),ROW(V26))),"")
U53: =IFERROR(INDEX(SuiviDossiers!$A$12:$A$266,_xlfn.AGGREGATE(15,6,(1/((SuiviDossiers!#REF!=$B$30)*(SuiviDossiers!#REF!>=0)*(SuiviDossiers!#REF!=$B$37)*(SuiviDossiers!#REF!=$B$38)*(SuiviDossiers!#REF!<>""))*ROW(SuiviDossiers!$E$3:$E$266)-2),ROW(V27))),"")
U54: =IFERROR(INDEX(SuiviDossiers!$A$12:$A$266,_xlfn.AGGREGATE(15,6,(1/((SuiviDossiers!#REF!=$B$30)*(SuiviDossiers!#REF!>=0)*(SuiviDossiers!#REF!=$B$37)*(SuiviDossiers!#REF!=$B$38)*(SuiviDossiers!#REF!<>""))*ROW(SuiviDossiers!$E$3:$E$266)-2),ROW(V28))),"")
U55: =IFERROR(INDEX(SuiviDossiers!$A$12:$A$266,_xlfn.AGGREGATE(15,6,(1/((SuiviDossiers!#REF!=$B$30)*(SuiviDossiers!#REF!>=0)*(SuiviDossiers!#REF!=$B$37)*(SuiviDossiers!#REF!=$B$38)*(SuiviDossiers!#REF!<>""))*ROW(SuiviDossiers!$E$3:$E$266)-2),ROW(V29))),"")
W106: ECHELLE DE COTATION DES RISQUES | X106: Non-respect des règles de mise en concurrence dans le cadre des marchés publics | AA106: ECHELLE DE COTATION DES RISQUES | AB106: Non production de pièces administratives, financières, comptables du bénéficiaire, ou production incomplète/partielle (Dépenses de personnel) | AE106: ECHELLE DE COTATION DES RISQUES | AF106: Validité des documents dépassée ou non avérée
W108: 1 | X108: Faible | Y108: 0 marché | AA108: 1 | AB108: Faible | AC108: 0 et 150000 | AE108: 1 | AF108: Faible | AG108: < 350000
W109: 2 | X109: Moyen | Y109: 1 marché | AA109: 2 | AB109: Moyen | AC109: 150000 et 250000 | AE109: 2 | AF109: Moyen | AG109: 350000 et 1000000
W110: 3 | X110: Fort | Y110: 2 marchés | AA110: 3 | AB110: Fort | AC110: 250000 et 500000 | AE110: 3 | AF110: Fort | AG110: 1000000 et 5000000
W111: 4 | X111: Très fort | Y111: 3 et plus | AA111: 4 | AB111: Très fort | AC111: > 500000 | AE111: 4 | AF111: Très fort | AG111: >5000000
