Workbook

Sheet prod 2012 2013
A2: Date | B2: Mois | C2: Resp.Cuisson | D2: N° Lot | E2: Désignation | F2: Poids | W2: - | X2: Désignation | Y2: poids
A3: 41000 | B3: =IF(A3<>"",CONCATENATE(MONTH(A3),"/",YEAR(A3)),"") -> 4/2012 | C3: A | D3: 0104 | E3: Chocolat écorce d'orange | F3: =IF(E3<>"",VLOOKUP(E3,$X$3:$Y$26,2,0),"") -> 125.35 | W3: Hadj | X3: Montélimar Tendre | Y3: 122.9
A4: 41001 | B4: =IF(A4<>"",CONCATENATE(MONTH(A4),"/",YEAR(A4)),"") -> 4/2012 | C4: B | D4: 0204 | E4: Nougat Kasher | F4: =IF(E4<>"",VLOOKUP(E4,$X$3:$Y$26,2,0),"") -> 122.9 | W4: Adrien | X4: Montélimar dur | Y4: 104.9
A5: 41002 | B5: =IF(A5<>"",CONCATENATE(MONTH(A5),"/",YEAR(A5)),"") -> 4/2012 | C5: A | D5: 0304 | E5: Montélimar dur | F5: =IF(E5<>"",VLOOKUP(E5,$X$3:$Y$26,2,0),"") -> 104.9 | X5: Chocolat écorce d'orange | Y5: 125.35
A6: 41003 | B6: =IF(A6<>"",CONCATENATE(MONTH(A6),"/",YEAR(A6)),"") -> 4/2012 | C6: B | D6: 0404 | E6: Pistache | F6: =IF(E6<>"",VLOOKUP(E6,$X$3:$Y$26,2,0),"") -> 108.71 | X6: Miel lavande | Y6: 88.9
A7: 41004 | B7: =IF(A7<>"",CONCATENATE(MONTH(A7),"/",YEAR(A7)),"") -> 4/2012 | C7: A | D7: 0504 | E7: Fruits déshydratés Vanille | F7: =IF(E7<>"",VLOOKUP(E7,$X$3:$Y$26,2,0),"") -> 108.42 | X7: Famille Mary | Y7: 88.9
A8: 41004 | B8: =IF(A8<>"",CONCATENATE(MONTH(A8),"/",YEAR(A8)),"") -> 4/2012 | C8: B | D8: 0604 | E8: Montélimar dur | F8: =IF(E8<>"",VLOOKUP(E8,$X$3:$Y$26,2,0),"") -> 104.9 | X8: Fruits déshydratés Vanille | Y8: 108.42
A9: 41005 | B9: =IF(A9<>"",CONCATENATE(MONTH(A9),"/",YEAR(A9)),"") -> 4/2012 | C9: A | D9: 0704 | E9: Fruits Confits | F9: =IF(E9<>"",VLOOKUP(E9,$X$3:$Y$26,2,0),"") -> 118.4 | X9: Caramel salé Vanille | Y9: 108.35
A10: 41039 | B10: =IF(A10<>"",CONCATENATE(MONTH(A10),"/",YEAR(A10)),"") -> 5/2012 | C10: B | D10: 0804 | E10: Caramel salé Vanille | F10: =IF(E10<>"",VLOOKUP(E10,$X$3:$Y$26,2,0),"") -> 108.35 | X10: Fleurs de lavandes | Y10: 109.65
A11: 41010 | B11: =IF(A11<>"",CONCATENATE(MONTH(A11),"/",YEAR(A11)),"") -> 4/2012 | C11: A | D11: 0904 | E11: Montélimar dur | F11: =IF(E11<>"",VLOOKUP(E11,$X$3:$Y$26,2,0),"") -> 104.9 | X11: Noir pap 23 kg | Y11: 23
A12: 41011 | B12: =IF(A12<>"",CONCATENATE(MONTH(A12),"/",YEAR(A12)),"") -> 4/2012 | C12: B | D12: 1004 | E12: Montélimar dur | F12: =IF(E12<>"",VLOOKUP(E12,$X$3:$Y$26,2,0),"") -> 104.9 | X12: Noir Barres 29 kg | Y12: 29
A13: 41012 | B13: =IF(A13<>"",CONCATENATE(MONTH(A13),"/",YEAR(A13)),"") -> 4/2012 | C13: A | D13: 1104 | E13: Caramel salé Vanille | F13: =IF(E13<>"",VLOOKUP(E13,$X$3:$Y$26,2,0),"") -> 108.35 | X13: Citron | Y13: 108.71
A14: 41015 | B14: =IF(A14<>"",CONCATENATE(MONTH(A14),"/",YEAR(A14)),"") -> 4/2012 | C14: B | D14: 1204 | E14: Montélimar dur | F14: =IF(E14<>"",VLOOKUP(E14,$X$3:$Y$26,2,0),"") -> 104.9 | X14: Framboise | Y14: 108.71
A15: 41016 | B15: =IF(A15<>"",CONCATENATE(MONTH(A15),"/",YEAR(A15)),"") -> 4/2012 | C15: A | D15: 1304 | E15: Montélimar dur | F15: =IF(E15<>"",VLOOKUP(E15,$X$3:$Y$26,2,0),"") -> 104.9 | X15: Pistache | Y15: 108.71
A16: 41016 | B16: =IF(A16<>"",CONCATENATE(MONTH(A16),"/",YEAR(A16)),"") -> 4/2012 | C16: B | D16: 1404 | E16: Montélimar dur | F16: =IF(E16<>"",VLOOKUP(E16,$X$3:$Y$26,2,0),"") -> 104.9 | X16: Nougat Kasher | Y16: 122.9
A17: 41016 | B17: =IF(A17<>"",CONCATENATE(MONTH(A17),"/",YEAR(A17)),"") -> 4/2012 | C17: A | D17: 1504 | E17: Caramel salé Vanille | F17: =IF(E17<>"",VLOOKUP(E17,$X$3:$Y$26,2,0),"") -> 108.35 | X17: Fruits Confits | Y17: 118.4
A18: 41017 | B18: =IF(A18<>"",CONCATENATE(MONTH(A18),"/",YEAR(A18)),"") -> 4/2012 | C18: B | D18: 1604 | F18: =IF(E18<>"",VLOOKUP(E18,$X$3:$Y$26,2,0),"") | X18: Bocquel tendre | Y18: 122.9
A19: 41017 | B19: =IF(A19<>"",CONCATENATE(MONTH(A19),"/",YEAR(A19)),"") -> 4/2012 | C19: A | D19: 1704 | E19: Montélimar dur | F19: =IF(E19<>"",VLOOKUP(E19,$X$3:$Y$26,2,0),"") -> 104.9 | X19: Bocquel Dur | Y19: 104.9
A20: 41019 | B20: =IF(A20<>"",CONCATENATE(MONTH(A20),"/",YEAR(A20)),"") -> 4/2012 | C20: B | D20: 1804 | E20: Caramel salé Vanille | F20: =IF(E20<>"",VLOOKUP(E20,$X$3:$Y$26,2,0),"") -> 108.35 | X20: Café | Y20: 105.8
A21: 41022 | B21: =IF(A21<>"",CONCATENATE(MONTH(A21),"/",YEAR(A21)),"") -> 4/2012 | C21: A | D21: 1904 | E21: Chocolat écorce d'orange | F21: =IF(E21<>"",VLOOKUP(E21,$X$3:$Y$26,2,0),"") -> 125.35 | X21: Noix | Y21: 124.05
A22: 41022 | B22: =IF(A22<>"",CONCATENATE(MONTH(A22),"/",YEAR(A22)),"") -> 4/2012 | C22: B | D22: 2004 | E22: Montélimar dur | F22: =IF(E22<>"",VLOOKUP(E22,$X$3:$Y$26,2,0),"") -> 104.9 | X22: Miel Breton | Y22: 88.9
A23: 41022 | B23: =IF(A23<>"",CONCATENATE(MONTH(A23),"/",YEAR(A23)),"") -> 4/2012 | C23: A | D23: 2104 | E23: Montélimar dur | F23: =IF(E23<>"",VLOOKUP(E23,$X$3:$Y$26,2,0),"") -> 104.9 | X23: Marron | Y23: 108.91
A24: 41023 | B24: =IF(A24<>"",CONCATENATE(MONTH(A24),"/",YEAR(A24)),"") -> 4/2012 | C24: B | D24: 2204 | E24: Montélimar dur | F24: =IF(E24<>"",VLOOKUP(E24,$X$3:$Y$26,2,0),"") -> 104.9 | X24: Figue | Y24: 120.77
A25: 41023 | B25: =IF(A25<>"",CONCATENATE(MONTH(A25),"/",YEAR(A25)),"") -> 4/2012 | C25: A | D25: 2304 | E25: Montélimar dur | F25: =IF(E25<>"",VLOOKUP(E25,$X$3:$Y$26,2,0),"") -> 104.9 | X25: Violette | Y25: 127.48
A26: 41023 | B26: =IF(A26<>"",CONCATENATE(MONTH(A26),"/",YEAR(A26)),"") -> 4/2012 | C26: B | D26: 2404 | E26: Famille Mary | F26: =IF(E26<>"",VLOOKUP(E26,$X$3:$Y$26,2,0),"") -> 88.9 | X26: Bio au Miel | Y26: 89.35
A27: 41024 | B27: =IF(A27<>"",CONCATENATE(MONTH(A27),"/",YEAR(A27)),"") -> 4/2012 | C27: A | D27: 2504 | E27: Montélimar dur | F27: =IF(E26<>"",VLOOKUP(E26,$X$3:$Y$26,2,0),"") -> 88.9
A28: 41024 | B28: =IF(A28<>"",CONCATENATE(MONTH(A28),"/",YEAR(A28)),"") -> 4/2012 | C28: B | D28: 2604 | E28: Montélimar dur | F28: =IF(E27<>"",VLOOKUP(E27,$X$3:$Y$26,2,0),"") -> 104.9
A29: 41025 | B29: =IF(A29<>"",CONCATENATE(MONTH(A29),"/",YEAR(A29)),"") -> 4/2012 | C29: A | D29: 2704 | E29: Chocolat écorce d'orange | F29: =IF(E28<>"",VLOOKUP(E28,$X$3:$Y$26,2,0),"") -> 104.9
A30: 41025 | B30: =IF(A30<>"",CONCATENATE(MONTH(A30),"/",YEAR(A30)),"") -> 4/2012 | C30: B | D30: 2804 | E30: Fruits déshydratés Vanille | F30: =IF(E29<>"",VLOOKUP(E29,$X$3:$Y$26,2,0),"") -> 125.35
A31: 41026 | B31: =IF(A31<>"",CONCATENATE(MONTH(A31),"/",YEAR(A31)),"") -> 4/2012 | C31: A | D31: 2904 | E31: Noir Barres 29 kg | F31: =IF(E30<>"",VLOOKUP(E30,$X$3:$Y$26,2,0),"") -> 108.42
A32: 41029 | B32: =IF(A32<>"",CONCATENATE(MONTH(A32),"/",YEAR(A32)),"") -> 4/2012 | C32: B | D32: 3004 | E32: Montélimar dur | F32: =IF(E32<>"",VLOOKUP(E32,$X$3:$Y$26,2,0),"") -> 104.9
B33: =IF(A33<>"",CONCATENATE(MONTH(A33),"/",YEAR(A33)),"") | F33: =IF(E33<>"",VLOOKUP(E33,$X$3:$Y$26,2,0),"")
B34: =IF(A34<>"",CONCATENATE(MONTH(A34),"/",YEAR(A34)),"") | F34: =IF(E34<>"",VLOOKUP(E34,$X$3:$Y$26,2,0),"")

Sheet cumul
O1: http://forum.excel-pratique.com/excel/somme-suivant-criteres-t30196.html
A3: Désignation | B3: 41000 | C3: 41030 | D3: 41061 | E3: 41091 | F3: 41122 | G3: 41153 | H3: 41183 | I3: 41214 | J3: 41244 | K3: 41275 | L3: 41306 | M3: 41334
A4: Montélimar Tendre | B4: =SUMPRODUCT(('prod 2012 2013'!$E$3:$E$32=$A4)*(MONTH('prod 2012 2013'!$A$3:$A$32)=MONTH(B$3))*('prod 2012 2013'!$F$3:$F$32)) -> #VALUE! | C4: =SUMPRODUCT(('prod 2012 2013'!$E$3:$E$32=$A4)*(MONTH('prod 2012 2013'!$A$3:$A$32)=MONTH(C$3))*('prod 2012 2013'!$F$3:$F$32)) -> #VALUE! | D4: =SUMPRODUCT(('prod 2012 2013'!$E$3:$E$32=$A4)*(MONTH('prod 2012 2013'!$A$3:$A$32)=MONTH(D$3))*('prod 2012 2013'!$F$3:$F$32)) -> #VALUE! | E4: =SUMPRODUCT(('prod 2012 2013'!$E$3:$E$32=$A4)*(MONTH('prod 2012 2013'!$A$3:$A$32)=MONTH(E$3))*('prod 2012 2013'!$F$3:$F$32)) -> #VALUE! | F4: =SUMPRODUCT(('prod 2012 2013'!$E$3:$E$32=$A4)*(MONTH('prod 2012 2013'!$A$3:$A$32)=MONTH(F$3))*('prod 2012 2013'!$F$3:$F$32)) -> #VALUE! | G4: =SUMPRODUCT(('prod 2012 2013'!$E$3:$E$32=$A4)*(MONTH('prod 2012 2013'!$A$3:$A$32)=MONTH(G$3))*('prod 2012 2013'!$F$3:$F$32)) -> #VALUE! | H4: =SUMPRODUCT(('prod 2012 2013'!$E$3:$E$32=$A4)*(MONTH('prod 2012 2013'!$A$3:$A$32)=MONTH(H$3))*('prod 2012 2013'!$F$3:$F$32)) -> #VALUE! | I4: =SUMPRODUCT(('prod 2012 2013'!$E$3:$E$32=$A4)*(MONTH('prod 2012 2013'!$A$3:$A$32)=MONTH(I$3))*('prod 2012 2013'!$F$3:$F$32)) -> #VALUE! | ... M4: =SUMPRODUCT(('prod 2012 2013'!$E$3:$E$32=$A4)*(MONTH('prod 2012 2013'!$A$3:$A$32)=MONTH(M$3))*('prod 2012 2013'!$F$3:$F$32)) -> #VALUE!
A5: Montélimar dur | B5: =SUMPRODUCT(('prod 2012 2013'!$E$3:$E$32=$A5)*(MONTH('prod 2012 2013'!$A$3:$A$32)=MONTH(B$3))*('prod 2012 2013'!$F$3:$F$32)) -> #VALUE! | C5: =SUMPRODUCT(('prod 2012 2013'!$E$3:$E$32=$A5)*(MONTH('prod 2012 2013'!$A$3:$A$32)=MONTH(C$3))*('prod 2012 2013'!$F$3:$F$32)) -> #VALUE! | D5: =SUMPRODUCT(('prod 2012 2013'!$E$3:$E$32=$A5)*(MONTH('prod 2012 2013'!$A$3:$A$32)=MONTH(D$3))*('prod 2012 2013'!$F$3:$F$32)) -> #VALUE! | E5: =SUMPRODUCT(('prod 2012 2013'!$E$3:$E$32=$A5)*(MONTH('prod 2012 2013'!$A$3:$A$32)=MONTH(E$3))*('prod 2012 2013'!$F$3:$F$32)) -> #VALUE! | F5: =SUMPRODUCT(('prod 2012 2013'!$E$3:$E$32=$A5)*(MONTH('prod 2012 2013'!$A$3:$A$32)=MONTH(F$3))*('prod 2012 2013'!$F$3:$F$32)) -> #VALUE! | G5: =SUMPRODUCT(('prod 2012 2013'!$E$3:$E$32=$A5)*(MONTH('prod 2012 2013'!$A$3:$A$32)=MONTH(G$3))*('prod 2012 2013'!$F$3:$F$32)) -> #VALUE! | H5: =SUMPRODUCT(('prod 2012 2013'!$E$3:$E$32=$A5)*(MONTH('prod 2012 2013'!$A$3:$A$32)=MONTH(H$3))*('prod 2012 2013'!$F$3:$F$32)) -> #VALUE! | I5: =SUMPRODUCT(('prod 2012 2013'!$E$3:$E$32=$A5)*(MONTH('prod 2012 2013'!$A$3:$A$32)=MONTH(I$3))*('prod 2012 2013'!$F$3:$F$32)) -> #VALUE! | ... M5: =SUMPRODUCT(('prod 2012 2013'!$E$3:$E$32=$A5)*(MONTH('prod 2012 2013'!$A$3:$A$32)=MONTH(M$3))*('prod 2012 2013'!$F$3:$F$32)) -> #VALUE!
A6: Chocolat écorce d'orange | B6: =SUMPRODUCT(('prod 2012 2013'!$E$3:$E$32=$A6)*(MONTH('prod 2012 2013'!$A$3:$A$32)=MONTH(B$3))*('prod 2012 2013'!$F$3:$F$32)) -> #VALUE! | C6: =SUMPRODUCT(('prod 2012 2013'!$E$3:$E$32=$A6)*(MONTH('prod 2012 2013'!$A$3:$A$32)=MONTH(C$3))*('prod 2012 2013'!$F$3:$F$32)) -> #VALUE! | D6: =SUMPRODUCT(('prod 2012 2013'!$E$3:$E$32=$A6)*(MONTH('prod 2012 2013'!$A$3:$A$32)=MONTH(D$3))*('prod 2012 2013'!$F$3:$F$32)) -> #VALUE! | E6: =SUMPRODUCT(('prod 2012 2013'!$E$3:$E$32=$A6)*(MONTH('prod 2012 2013'!$A$3:$A$32)=MONTH(E$3))*('prod 2012 2013'!$F$3:$F$32)) -> #VALUE! | F6: =SUMPRODUCT(('prod 2012 2013'!$E$3:$E$32=$A6)*(MONTH('prod 2012 2013'!$A$3:$A$32)=MONTH(F$3))*('prod 2012 2013'!$F$3:$F$32)) -> #VALUE! | G6: =SUMPRODUCT(('prod 2012 2013'!$E$3:$E$32=$A6)*(MONTH('prod 2012 2013'!$A$3:$A$32)=MONTH(G$3))*('prod 2012 2013'!$F$3:$F$32)) -> #VALUE! | H6: =SUMPRODUCT(('prod 2012 2013'!$E$3:$E$32=$A6)*(MONTH('prod 2012 2013'!$A$3:$A$32)=MONTH(H$3))*('prod 2012 2013'!$F$3:$F$32)) -> #VALUE! | I6: =SUMPRODUCT(('prod 2012 2013'!$E$3:$E$32=$A6)*(MONTH('prod 2012 2013'!$A$3:$A$32)=MONTH(I$3))*('prod 2012 2013'!$F$3:$F$32)) -> #VALUE! | ... M6: =SUMPRODUCT(('prod 2012 2013'!$E$3:$E$32=$A6)*(MONTH('prod 2012 2013'!$A$3:$A$32)=MONTH(M$3))*('prod 2012 2013'!$F$3:$F$32)) -> #VALUE!
A7: Miel lavande | B7: =SUMPRODUCT(('prod 2012 2013'!$E$3:$E$32=$A7)*(MONTH('prod 2012 2013'!$A$3:$A$32)=MONTH(B$3))*('prod 2012 2013'!$F$3:$F$32)) -> #VALUE! | C7: =SUMPRODUCT(('prod 2012 2013'!$E$3:$E$32=$A7)*(MONTH('prod 2012 2013'!$A$3:$A$32)=MONTH(C$3))*('prod 2012 2013'!$F$3:$F$32)) -> #VALUE! | D7: =SUMPRODUCT(('prod 2012 2013'!$E$3:$E$32=$A7)*(MONTH('prod 2012 2013'!$A$3:$A$32)=MONTH(D$3))*('prod 2012 2013'!$F$3:$F$32)) -> #VALUE! | E7: =SUMPRODUCT(('prod 2012 2013'!$E$3:$E$32=$A7)*(MONTH('prod 2012 2013'!$A$3:$A$32)=MONTH(E$3))*('prod 2012 2013'!$F$3:$F$32)) -> #VALUE! | F7: =SUMPRODUCT(('prod 2012 2013'!$E$3:$E$32=$A7)*(MONTH('prod 2012 2013'!$A$3:$A$32)=MONTH(F$3))*('prod 2012 2013'!$F$3:$F$32)) -> #VALUE! | G7: =SUMPRODUCT(('prod 2012 2013'!$E$3:$E$32=$A7)*(MONTH('prod 2012 2013'!$A$3:$A$32)=MONTH(G$3))*('prod 2012 2013'!$F$3:$F$32)) -> #VALUE! | H7: =SUMPRODUCT(('prod 2012 2013'!$E$3:$E$32=$A7)*(MONTH('prod 2012 2013'!$A$3:$A$32)=MONTH(H$3))*('prod 2012 2013'!$F$3:$F$32)) -> #VALUE! | I7: =SUMPRODUCT(('prod 2012 2013'!$E$3:$E$32=$A7)*(MONTH('prod 2012 2013'!$A$3:$A$32)=MONTH(I$3))*('prod 2012 2013'!$F$3:$F$32)) -> #VALUE! | ... M7: =SUMPRODUCT(('prod 2012 2013'!$E$3:$E$32=$A7)*(MONTH('prod 2012 2013'!$A$3:$A$32)=MONTH(M$3))*('prod 2012 2013'!$F$3:$F$32)) -> #VALUE!
A8: Famille Mary | B8: =SUMPRODUCT(('prod 2012 2013'!$E$3:$E$32=$A8)*(MONTH('prod 2012 2013'!$A$3:$A$32)=MONTH(B$3))*('prod 2012 2013'!$F$3:$F$32)) -> #VALUE! | C8: =SUMPRODUCT(('prod 2012 2013'!$E$3:$E$32=$A8)*(MONTH('prod 2012 2013'!$A$3:$A$32)=MONTH(C$3))*('prod 2012 2013'!$F$3:$F$32)) -> #VALUE! | D8: =SUMPRODUCT(('prod 2012 2013'!$E$3:$E$32=$A8)*(MONTH('prod 2012 2013'!$A$3:$A$32)=MONTH(D$3))*('prod 2012 2013'!$F$3:$F$32)) -> #VALUE! | E8: =SUMPRODUCT(('prod 2012 2013'!$E$3:$E$32=$A8)*(MONTH('prod 2012 2013'!$A$3:$A$32)=MONTH(E$3))*('prod 2012 2013'!$F$3:$F$32)) -> #VALUE! | F8: =SUMPRODUCT(('prod 2012 2013'!$E$3:$E$32=$A8)*(MONTH('prod 2012 2013'!$A$3:$A$32)=MONTH(F$3))*('prod 2012 2013'!$F$3:$F$32)) -> #VALUE! | G8: =SUMPRODUCT(('prod 2012 2013'!$E$3:$E$32=$A8)*(MONTH('prod 2012 2013'!$A$3:$A$32)=MONTH(G$3))*('prod 2012 2013'!$F$3:$F$32)) -> #VALUE! | H8: =SUMPRODUCT(('prod 2012 2013'!$E$3:$E$32=$A8)*(MONTH('prod 2012 2013'!$A$3:$A$32)=MONTH(H$3))*('prod 2012 2013'!$F$3:$F$32)) -> #VALUE! | I8: =SUMPRODUCT(('prod 2012 2013'!$E$3:$E$32=$A8)*(MONTH('prod 2012 2013'!$A$3:$A$32)=MONTH(I$3))*('prod 2012 2013'!$F$3:$F$32)) -> #VALUE! | ... M8: =SUMPRODUCT(('prod 2012 2013'!$E$3:$E$32=$A8)*(MONTH('prod 2012 2013'!$A$3:$A$32)=MONTH(M$3))*('prod 2012 2013'!$F$3:$F$32)) -> #VALUE!
A9: Fruits déshydratés Vanille | B9: =SUMPRODUCT(('prod 2012 2013'!$E$3:$E$32=$A9)*(MONTH('prod 2012 2013'!$A$3:$A$32)=MONTH(B$3))*('prod 2012 2013'!$F$3:$F$32)) -> #VALUE! | C9: =SUMPRODUCT(('prod 2012 2013'!$E$3:$E$32=$A9)*(MONTH('prod 2012 2013'!$A$3:$A$32)=MONTH(C$3))*('prod 2012 2013'!$F$3:$F$32)) -> #VALUE! | D9: =SUMPRODUCT(('prod 2012 2013'!$E$3:$E$32=$A9)*(MONTH('prod 2012 2013'!$A$3:$A$32)=MONTH(D$3))*('prod 2012 2013'!$F$3:$F$32)) -> #VALUE! | E9: =SUMPRODUCT(('prod 2012 2013'!$E$3:$E$32=$A9)*(MONTH('prod 2012 2013'!$A$3:$A$32)=MONTH(E$3))*('prod 2012 2013'!$F$3:$F$32)) -> #VALUE! | F9: =SUMPRODUCT(('prod 2012 2013'!$E$3:$E$32=$A9)*(MONTH('prod 2012 2013'!$A$3:$A$32)=MONTH(F$3))*('prod 2012 2013'!$F$3:$F$32)) -> #VALUE! | G9: =SUMPRODUCT(('prod 2012 2013'!$E$3:$E$32=$A9)*(MONTH('prod 2012 2013'!$A$3:$A$32)=MONTH(G$3))*('prod 2012 2013'!$F$3:$F$32)) -> #VALUE! | H9: =SUMPRODUCT(('prod 2012 2013'!$E$3:$E$32=$A9)*(MONTH('prod 2012 2013'!$A$3:$A$32)=MONTH(H$3))*('prod 2012 2013'!$F$3:$F$32)) -> #VALUE! | I9: =SUMPRODUCT(('prod 2012 2013'!$E$3:$E$32=$A9)*(MONTH('prod 2012 2013'!$A$3:$A$32)=MONTH(I$3))*('prod 2012 2013'!$F$3:$F$32)) -> #VALUE! | ... M9: =SUMPRODUCT(('prod 2012 2013'!$E$3:$E$32=$A9)*(MONTH('prod 2012 2013'!$A$3:$A$32)=MONTH(M$3))*('prod 2012 2013'!$F$3:$F$32)) -> #VALUE!
A10: Caramel salé | B10: =SUMPRODUCT(('prod 2012 2013'!$E$3:$E$32=$A10)*(MONTH('prod 2012 2013'!$A$3:$A$32)=MONTH(B$3))*('prod 2012 2013'!$F$3:$F$32)) -> #VALUE! | C10: =SUMPRODUCT(('prod 2012 2013'!$E$3:$E$32=$A10)*(MONTH('prod 2012 2013'!$A$3:$A$32)=MONTH(C$3))*('prod 2012 2013'!$F$3:$F$32)) -> #VALUE! | D10: =SUMPRODUCT(('prod 2012 2013'!$E$3:$E$32=$A10)*(MONTH('prod 2012 2013'!$A$3:$A$32)=MONTH(D$3))*('prod 2012 2013'!$F$3:$F$32)) -> #VALUE! | E10: =SUMPRODUCT(('prod 2012 2013'!$E$3:$E$32=$A10)*(MONTH('prod 2012 2013'!$A$3:$A$32)=MONTH(E$3))*('prod 2012 2013'!$F$3:$F$32)) -> #VALUE! | F10: =SUMPRODUCT(('prod 2012 2013'!$E$3:$E$32=$A10)*(MONTH('prod 2012 2013'!$A$3:$A$32)=MONTH(F$3))*('prod 2012 2013'!$F$3:$F$32)) -> #VALUE! | G10: =SUMPRODUCT(('prod 2012 2013'!$E$3:$E$32=$A10)*(MONTH('prod 2012 2013'!$A$3:$A$32)=MONTH(G$3))*('prod 2012 2013'!$F$3:$F$32)) -> #VALUE! | H10: =SUMPRODUCT(('prod 2012 2013'!$E$3:$E$32=$A10)*(MONTH('prod 2012 2013'!$A$3:$A$32)=MONTH(H$3))*('prod 2012 2013'!$F$3:$F$32)) -> #VALUE! | I10: =SUMPRODUCT(('prod 2012 2013'!$E$3:$E$32=$A10)*(MONTH('prod 2012 2013'!$A$3:$A$32)=MONTH(I$3))*('prod 2012 2013'!$F$3:$F$32)) -> #VALUE! | ... M10: =SUMPRODUCT(('prod 2012 2013'!$E$3:$E$32=$A10)*(MONTH('prod 2012 2013'!$A$3:$A$32)=MONTH(M$3))*('prod 2012 2013'!$F$3:$F$32)) -> #VALUE!
A11: Lavandes fleur | B11: =SUMPRODUCT(('prod 2012 2013'!$E$3:$E$32=$A11)*(MONTH('prod 2012 2013'!$A$3:$A$32)=MONTH(B$3))*('prod 2012 2013'!$F$3:$F$32)) -> #VALUE! | C11: =SUMPRODUCT(('prod 2012 2013'!$E$3:$E$32=$A11)*(MONTH('prod 2012 2013'!$A$3:$A$32)=MONTH(C$3))*('prod 2012 2013'!$F$3:$F$32)) -> #VALUE! | D11: =SUMPRODUCT(('prod 2012 2013'!$E$3:$E$32=$A11)*(MONTH('prod 2012 2013'!$A$3:$A$32)=MONTH(D$3))*('prod 2012 2013'!$F$3:$F$32)) -> #VALUE! | E11: =SUMPRODUCT(('prod 2012 2013'!$E$3:$E$32=$A11)*(MONTH('prod 2012 2013'!$A$3:$A$32)=MONTH(E$3))*('prod 2012 2013'!$F$3:$F$32)) -> #VALUE! | F11: =SUMPRODUCT(('prod 2012 2013'!$E$3:$E$32=$A11)*(MONTH('prod 2012 2013'!$A$3:$A$32)=MONTH(F$3))*('prod 2012 2013'!$F$3:$F$32)) -> #VALUE! | G11: =SUMPRODUCT(('prod 2012 2013'!$E$3:$E$32=$A11)*(MONTH('prod 2012 2013'!$A$3:$A$32)=MONTH(G$3))*('prod 2012 2013'!$F$3:$F$32)) -> #VALUE! | H11: =SUMPRODUCT(('prod 2012 2013'!$E$3:$E$32=$A11)*(MONTH('prod 2012 2013'!$A$3:$A$32)=MONTH(H$3))*('prod 2012 2013'!$F$3:$F$32)) -> #VALUE! | I11: =SUMPRODUCT(('prod 2012 2013'!$E$3:$E$32=$A11)*(MONTH('prod 2012 2013'!$A$3:$A$32)=MONTH(I$3))*('prod 2012 2013'!$F$3:$F$32)) -> #VALUE! | ... M11: =SUMPRODUCT(('prod 2012 2013'!$E$3:$E$32=$A11)*(MONTH('prod 2012 2013'!$A$3:$A$32)=MONTH(M$3))*('prod 2012 2013'!$F$3:$F$32)) -> #VALUE!
A12: Noir pap 23 | B12: =SUMPRODUCT(('prod 2012 2013'!$E$3:$E$32=$A12)*(MONTH('prod 2012 2013'!$A$3:$A$32)=MONTH(B$3))*('prod 2012 2013'!$F$3:$F$32)) -> #VALUE! | C12: =SUMPRODUCT(('prod 2012 2013'!$E$3:$E$32=$A12)*(MONTH('prod 2012 2013'!$A$3:$A$32)=MONTH(C$3))*('prod 2012 2013'!$F$3:$F$32)) -> #VALUE! | D12: =SUMPRODUCT(('prod 2012 2013'!$E$3:$E$32=$A12)*(MONTH('prod 2012 2013'!$A$3:$A$32)=MONTH(D$3))*('prod 2012 2013'!$F$3:$F$32)) -> #VALUE! | E12: =SUMPRODUCT(('prod 2012 2013'!$E$3:$E$32=$A12)*(MONTH('prod 2012 2013'!$A$3:$A$32)=MONTH(E$3))*('prod 2012 2013'!$F$3:$F$32)) -> #VALUE! | F12: =SUMPRODUCT(('prod 2012 2013'!$E$3:$E$32=$A12)*(MONTH('prod 2012 2013'!$A$3:$A$32)=MONTH(F$3))*('prod 2012 2013'!$F$3:$F$32)) -> #VALUE! | G12: =SUMPRODUCT(('prod 2012 2013'!$E$3:$E$32=$A12)*(MONTH('prod 2012 2013'!$A$3:$A$32)=MONTH(G$3))*('prod 2012 2013'!$F$3:$F$32)) -> #VALUE! | H12: =SUMPRODUCT(('prod 2012 2013'!$E$3:$E$32=$A12)*(MONTH('prod 2012 2013'!$A$3:$A$32)=MONTH(H$3))*('prod 2012 2013'!$F$3:$F$32)) -> #VALUE! | I12: =SUMPRODUCT(('prod 2012 2013'!$E$3:$E$32=$A12)*(MONTH('prod 2012 2013'!$A$3:$A$32)=MONTH(I$3))*('prod 2012 2013'!$F$3:$F$32)) -> #VALUE! | ... M12: =SUMPRODUCT(('prod 2012 2013'!$E$3:$E$32=$A12)*(MONTH('prod 2012 2013'!$A$3:$A$32)=MONTH(M$3))*('prod 2012 2013'!$F$3:$F$32)) -> #VALUE!
A13: Noir Barres 29 | B13: =SUMPRODUCT(('prod 2012 2013'!$E$3:$E$32=$A13)*(MONTH('prod 2012 2013'!$A$3:$A$32)=MONTH(B$3))*('prod 2012 2013'!$F$3:$F$32)) -> #VALUE! | C13: =SUMPRODUCT(('prod 2012 2013'!$E$3:$E$32=$A13)*(MONTH('prod 2012 2013'!$A$3:$A$32)=MONTH(C$3))*('prod 2012 2013'!$F$3:$F$32)) -> #VALUE! | D13: =SUMPRODUCT(('prod 2012 2013'!$E$3:$E$32=$A13)*(MONTH('prod 2012 2013'!$A$3:$A$32)=MONTH(D$3))*('prod 2012 2013'!$F$3:$F$32)) -> #VALUE! | E13: =SUMPRODUCT(('prod 2012 2013'!$E$3:$E$32=$A13)*(MONTH('prod 2012 2013'!$A$3:$A$32)=MONTH(E$3))*('prod 2012 2013'!$F$3:$F$32)) -> #VALUE! | F13: =SUMPRODUCT(('prod 2012 2013'!$E$3:$E$32=$A13)*(MONTH('prod 2012 2013'!$A$3:$A$32)=MONTH(F$3))*('prod 2012 2013'!$F$3:$F$32)) -> #VALUE! | G13: =SUMPRODUCT(('prod 2012 2013'!$E$3:$E$32=$A13)*(MONTH('prod 2012 2013'!$A$3:$A$32)=MONTH(G$3))*('prod 2012 2013'!$F$3:$F$32)) -> #VALUE! | H13: =SUMPRODUCT(('prod 2012 2013'!$E$3:$E$32=$A13)*(MONTH('prod 2012 2013'!$A$3:$A$32)=MONTH(H$3))*('prod 2012 2013'!$F$3:$F$32)) -> #VALUE! | I13: =SUMPRODUCT(('prod 2012 2013'!$E$3:$E$32=$A13)*(MONTH('prod 2012 2013'!$A$3:$A$32)=MONTH(I$3))*('prod 2012 2013'!$F$3:$F$32)) -> #VALUE! | ... M13: =SUMPRODUCT(('prod 2012 2013'!$E$3:$E$32=$A13)*(MONTH('prod 2012 2013'!$A$3:$A$32)=MONTH(M$3))*('prod 2012 2013'!$F$3:$F$32)) -> #VALUE!
A14: Citron | B14: =SUMPRODUCT(('prod 2012 2013'!$E$3:$E$32=$A14)*(MONTH('prod 2012 2013'!$A$3:$A$32)=MONTH(B$3))*('prod 2012 2013'!$F$3:$F$32)) -> #VALUE! | C14: =SUMPRODUCT(('prod 2012 2013'!$E$3:$E$32=$A14)*(MONTH('prod 2012 2013'!$A$3:$A$32)=MONTH(C$3))*('prod 2012 2013'!$F$3:$F$32)) -> #VALUE! | D14: =SUMPRODUCT(('prod 2012 2013'!$E$3:$E$32=$A14)*(MONTH('prod 2012 2013'!$A$3:$A$32)=MONTH(D$3))*('prod 2012 2013'!$F$3:$F$32)) -> #VALUE! | E14: =SUMPRODUCT(('prod 2012 2013'!$E$3:$E$32=$A14)*(MONTH('prod 2012 2013'!$A$3:$A$32)=MONTH(E$3))*('prod 2012 2013'!$F$3:$F$32)) -> #VALUE! | F14: =SUMPRODUCT(('prod 2012 2013'!$E$3:$E$32=$A14)*(MONTH('prod 2012 2013'!$A$3:$A$32)=MONTH(F$3))*('prod 2012 2013'!$F$3:$F$32)) -> #VALUE! | G14: =SUMPRODUCT(('prod 2012 2013'!$E$3:$E$32=$A14)*(MONTH('prod 2012 2013'!$A$3:$A$32)=MONTH(G$3))*('prod 2012 2013'!$F$3:$F$32)) -> #VALUE! | H14: =SUMPRODUCT(('prod 2012 2013'!$E$3:$E$32=$A14)*(MONTH('prod 2012 2013'!$A$3:$A$32)=MONTH(H$3))*('prod 2012 2013'!$F$3:$F$32)) -> #VALUE! | I14: =SUMPRODUCT(('prod 2012 2013'!$E$3:$E$32=$A14)*(MONTH('prod 2012 2013'!$A$3:$A$32)=MONTH(I$3))*('prod 2012 2013'!$F$3:$F$32)) -> #VALUE! | ... M14: =SUMPRODUCT(('prod 2012 2013'!$E$3:$E$32=$A14)*(MONTH('prod 2012 2013'!$A$3:$A$32)=MONTH(M$3))*('prod 2012 2013'!$F$3:$F$32)) -> #VALUE!
A15: Framboise | B15: =SUMPRODUCT(('prod 2012 2013'!$E$3:$E$32=$A15)*(MONTH('prod 2012 2013'!$A$3:$A$32)=MONTH(B$3))*('prod 2012 2013'!$F$3:$F$32)) -> #VALUE! | C15: =SUMPRODUCT(('prod 2012 2013'!$E$3:$E$32=$A15)*(MONTH('prod 2012 2013'!$A$3:$A$32)=MONTH(C$3))*('prod 2012 2013'!$F$3:$F$32)) -> #VALUE! | D15: =SUMPRODUCT(('prod 2012 2013'!$E$3:$E$32=$A15)*(MONTH('prod 2012 2013'!$A$3:$A$32)=MONTH(D$3))*('prod 2012 2013'!$F$3:$F$32)) -> #VALUE! | E15: =SUMPRODUCT(('prod 2012 2013'!$E$3:$E$32=$A15)*(MONTH('prod 2012 2013'!$A$3:$A$32)=MONTH(E$3))*('prod 2012 2013'!$F$3:$F$32)) -> #VALUE! | F15: =SUMPRODUCT(('prod 2012 2013'!$E$3:$E$32=$A15)*(MONTH('prod 2012 2013'!$A$3:$A$32)=MONTH(F$3))*('prod 2012 2013'!$F$3:$F$32)) -> #VALUE! | G15: =SUMPRODUCT(('prod 2012 2013'!$E$3:$E$32=$A15)*(MONTH('prod 2012 2013'!$A$3:$A$32)=MONTH(G$3))*('prod 2012 2013'!$F$3:$F$32)) -> #VALUE! | H15: =SUMPRODUCT(('prod 2012 2013'!$E$3:$E$32=$A15)*(MONTH('prod 2012 2013'!$A$3:$A$32)=MONTH(H$3))*('prod 2012 2013'!$F$3:$F$32)) -> #VALUE! | I15: =SUMPRODUCT(('prod 2012 2013'!$E$3:$E$32=$A15)*(MONTH('prod 2012 2013'!$A$3:$A$32)=MONTH(I$3))*('prod 2012 2013'!$F$3:$F$32)) -> #VALUE! | ... M15: =SUMPRODUCT(('prod 2012 2013'!$E$3:$E$32=$A15)*(MONTH('prod 2012 2013'!$A$3:$A$32)=MONTH(M$3))*('prod 2012 2013'!$F$3:$F$32)) -> #VALUE!
... A27: Bio au Miel | B27: =SUMPRODUCT(('prod 2012 2013'!$E$3:$E$32=$A27)*(MONTH('prod 2012 2013'!$A$3:$A$32)=MONTH(B$3))*('prod 2012 2013'!$F$3:$F$32)) -> #VALUE! | C27: =SUMPRODUCT(('prod 2012 2013'!$E$3:$E$32=$A27)*(MONTH('prod 2012 2013'!$A$3:$A$32)=MONTH(C$3))*('prod 2012 2013'!$F$3:$F$32)) -> #VALUE! | D27: =SUMPRODUCT(('prod 2012 2013'!$E$3:$E$32=$A27)*(MONTH('prod 2012 2013'!$A$3:$A$32)=MONTH(D$3))*('prod 2012 2013'!$F$3:$F$32)) -> #VALUE! | E27: =SUMPRODUCT(('prod 2012 2013'!$E$3:$E$32=$A27)*(MONTH('prod 2012 2013'!$A$3:$A$32)=MONTH(E$3))*('prod 2012 2013'!$F$3:$F$32)) -> #VALUE! | F27: =SUMPRODUCT(('prod 2012 2013'!$E$3:$E$32=$A27)*(MONTH('prod 2012 2013'!$A$3:$A$32)=MONTH(F$3))*('prod 2012 2013'!$F$3:$F$32)) -> #VALUE! | G27: =SUMPRODUCT(('prod 2012 2013'!$E$3:$E$32=$A27)*(MONTH('prod 2012 2013'!$A$3:$A$32)=MONTH(G$3))*('prod 2012 2013'!$F$3:$F$32)) -> #VALUE! | H27: =SUMPRODUCT(('prod 2012 2013'!$E$3:$E$32=$A27)*(MONTH('prod 2012 2013'!$A$3:$A$32)=MONTH(H$3))*('prod 2012 2013'!$F$3:$F$32)) -> #VALUE! | I27: =SUMPRODUCT(('prod 2012 2013'!$E$3:$E$32=$A27)*(MONTH('prod 2012 2013'!$A$3:$A$32)=MONTH(I$3))*('prod 2012 2013'!$F$3:$F$32)) -> #VALUE! | ... M27: =SUMPRODUCT(('prod 2012 2013'!$E$3:$E$32=$A27)*(MONTH('prod 2012 2013'!$A$3:$A$32)=MONTH(M$3))*('prod 2012 2013'!$F$3:$F$32)) -> #VALUE!
A28: Total | B28: =SUM(B4:B27) -> #VALUE! | C28: =SUM(C4:C27) -> #VALUE! | D28: =SUM(D4:D27) -> #VALUE! | E28: =SUM(E4:E27) -> #VALUE! | F28: =SUM(F4:F27) -> #VALUE! | G28: =SUM(G4:G27) -> #VALUE! | H28: =SUM(H4:H27) -> #VALUE! | I28: =SUM(I4:I27) -> #VALUE! | ... M28: =SUM(M4:M27) -> #VALUE!
