Workbook
Name composants: données_fact!$D:$D
Name salade: 'Recette salades_sandwich'!$A$5:$A$14
Name sandwich: 'Recette salades_sandwich'!$A$19:$A$28
Name sandwichs: 'Recette salades_sandwich'!$A$19:$A$33

Sheet données_fact
A2: Ensemble des Matières premières et articles de conditionnement achetés
A4: Date | B4: mois/année | C4: Fournisseur | D4: Désignation | E4: unité | F4: Quantité | G4: Total | H4: P.U
A5: 40817 | B5: =IF(A5<>"",CONCATENATE(MONTH(A5),"/",YEAR(A5)),"") -> 10/2011 | C5: dupond | D5: Coca | E5: U | F5: 100 | G5: 33 | H5: =IF(AND(G5<>0,F5<>""),G5/F5,"") -> 0.33
A6: 40818 | B6: =IF(A6<>"",CONCATENATE(MONTH(A6),"/",YEAR(A6)),"") -> 10/2011 | C6: dupond | D6: Fanta | E6: U | F6: 100 | G6: 30 | H6: =IF(AND(G6<>0,F6<>""),G6/F6,"") -> 0.3
A7: 40819 | B7: =IF(A7<>"",CONCATENATE(MONTH(A7),"/",YEAR(A7)),"") -> 10/2011 | C7: durand | D7: Coca | E7: U | F7: 100 | G7: 28 | H7: =IF(AND(G7<>0,F7<>""),G7/F7,"") -> 0.28
A8: 40820 | B8: =IF(A8<>"",CONCATENATE(MONTH(A8),"/",YEAR(A8)),"") -> 10/2011 | C8: richard | D8: Fanta | E8: U | F8: 200 | G8: 78 | H8: =IF(AND(G8<>0,F8<>""),G8/F8,"") -> 0.39
A9: 40848 | B9: =IF(A9<>"",CONCATENATE(MONTH(A9),"/",YEAR(A9)),"") -> 11/2011 | C9: dupond | D9: Coca | E9: U | F9: 300 | G9: 90 | H9: =IF(AND(G9<>0,F9<>""),G9/F9,"") -> 0.3
A10: 40878 | B10: =IF(A10<>"",CONCATENATE(MONTH(A10),"/",YEAR(A10)),"") -> 12/2011 | C10: dupond | D10: Coca | E10: U | F10: 350 | G10: 95 | H10: =IF(AND(G10<>0,F10<>""),G10/F10,"") -> 0.27142857
A11: 40819 | B11: =IF(A11<>"",CONCATENATE(MONTH(A11),"/",YEAR(A11)),"") -> 10/2011 | C11: dupond | D11: Fanta | E11: U | F11: 400 | G11: 98 | H11: =IF(AND(G11<>0,F11<>""),G11/F11,"") -> 0.245
A12: 40857 | B12: =IF(A12<>"",CONCATENATE(MONTH(A12),"/",YEAR(A12)),"") -> 11/2011 | C12: durand | D12: Sprite | E12: U | F12: 500 | G12: 130 | H12: =IF(AND(G12<>0,F12<>""),G12/F12,"") -> 0.26
A13: 40836 | B13: =IF(A13<>"",CONCATENATE(MONTH(A13),"/",YEAR(A13)),"") -> 10/2011 | C13: dupond | D13: Coca | E13: U | F13: 600 | G13: 140 | H13: =IF(AND(G13<>0,F13<>""),G13/F13,"") -> 0.23333333
A14: 40875 | B14: =IF(A14<>"",CONCATENATE(MONTH(A14),"/",YEAR(A14)),"") -> 11/2011 | C14: dupond | D14: Sprite | E14: U | F14: 100 | G14: 30 | H14: =IF(AND(G14<>0,F14<>""),G14/F14,"") -> 0.3
A15: 40876 | B15: =IF(A15<>"",CONCATENATE(MONTH(A15),"/",YEAR(A15)),"") -> 11/2011 | C15: dupond | D15: Fanta | E15: U | F15: 100 | G15: 30 | H15: =IF(AND(G15<>0,F15<>""),G15/F15,"") -> 0.3
A16: 40841 | B16: =IF(A16<>"",CONCATENATE(MONTH(A16),"/",YEAR(A16)),"") -> 10/2011 | C16: richard | D16: Coca | E16: U | F16: 100 | G16: 33 | H16: =IF(AND(G16<>0,F16<>""),G16/F16,"") -> 0.33
... A27: 40817 | B27: =IF(A27<>"",CONCATENATE(MONTH(A27),"/",YEAR(A27)),"") -> 10/2011 | C27: dupond | D27: jambon cru | E27: kg | F27: 1 | G27: 12 | H27: =IF(AND(G27<>0,F27<>""),G27/F27,"") -> 12
B28: =IF(A28<>"",CONCATENATE(MONTH(A28),"/",YEAR(A28)),"") | H28: =IF(AND(G28<>0,F28<>""),G28/F28,"")
B29: =IF(A29<>"",CONCATENATE(MONTH(A29),"/",YEAR(A29)),"") | H29: =IF(AND(G29<>0,F29<>""),G29/F29,"")
B30: =IF(A30<>"",CONCATENATE(MONTH(A30),"/",YEAR(A30)),"") | H30: =IF(AND(G30<>0,F30<>""),G30/F30,"")
B31: =IF(A31<>"",CONCATENATE(MONTH(A31),"/",YEAR(A31)),"") | H31: =IF(AND(G31<>0,F31<>""),G31/F31,"")
B32: =IF(A32<>"",CONCATENATE(MONTH(A32),"/",YEAR(A32)),"") | H32: =IF(AND(G32<>0,F32<>""),G32/F32,"")
B33: =IF(A33<>"",CONCATENATE(MONTH(A33),"/",YEAR(A33)),"") | H33: =IF(AND(G33<>0,F33<>""),G33/F33,"")
B34: =IF(A34<>"",CONCATENATE(MONTH(A34),"/",YEAR(A34)),"") | H34: =IF(AND(G34<>0,F34<>""),G34/F34,"")
B35: =IF(A35<>"",CONCATENATE(MONTH(A35),"/",YEAR(A35)),"") | H35: =IF(AND(G35<>0,F35<>""),G35/F35,"")
B36: =IF(A36<>"",CONCATENATE(MONTH(A36),"/",YEAR(A36)),"") | H36: =IF(AND(G36<>0,F36<>""),G36/F36,"")
B37: =IF(A37<>"",CONCATENATE(MONTH(A37),"/",YEAR(A37)),"") | H37: =IF(AND(G37<>0,F37<>""),G37/F37,"")
B38: =IF(A38<>"",CONCATENATE(MONTH(A38),"/",YEAR(A38)),"") | H38: =IF(AND(G38<>0,F38<>""),G38/F38,"")
B39: =IF(A39<>"",CONCATENATE(MONTH(A39),"/",YEAR(A39)),"") | H39: =IF(AND(G39<>0,F39<>""),G39/F39,"")
... B661: =IF(A661<>"",CONCATENATE(MONTH(A661),"/",YEAR(A661)),"") | H661: =IF(AND(G661<>0,F661<>""),G661/F661,"")
B662: =CONCATENATE(MONTH(A662),"/",YEAR(A662)) -> 1/1900 | H662: =IF(AND(G662<>0,F662<>""),G662/F662,"")
B663: =CONCATENATE(MONTH(A663),"/",YEAR(A663)) -> 1/1900 | H663: =IF(AND(G663<>0,F663<>""),G663/F663,"")
B664: =CONCATENATE(MONTH(A664),"/",YEAR(A664)) -> 1/1900 | H664: =IF(AND(G664<>0,F664<>""),G664/F664,"")
B665: =CONCATENATE(MONTH(A665),"/",YEAR(A665)) -> 1/1900 | H665: =IF(AND(G665<>0,F665<>""),G665/F665,"")
B666: =CONCATENATE(MONTH(A666),"/",YEAR(A666)) -> 1/1900 | H666: =IF(AND(G666<>0,F666<>""),G666/F666,"")
B667: =CONCATENATE(MONTH(A667),"/",YEAR(A667)) -> 1/1900 | H667: =IF(AND(G667<>0,F667<>""),G667/F667,"")
B668: =CONCATENATE(MONTH(A668),"/",YEAR(A668)) -> 1/1900 | H668: =IF(AND(G668<>0,F668<>""),G668/F668,"")
B669: =CONCATENATE(MONTH(A669),"/",YEAR(A669)) -> 1/1900 | H669: =IF(AND(G669<>0,F669<>""),G669/F669,"")
B670: =CONCATENATE(MONTH(A670),"/",YEAR(A670)) -> 1/1900 | H670: =IF(AND(G670<>0,F670<>""),G670/F670,"")
B671: =CONCATENATE(MONTH(A671),"/",YEAR(A671)) -> 1/1900 | H671: =IF(AND(G671<>0,F671<>""),G671/F671,"")
B672: =CONCATENATE(MONTH(A672),"/",YEAR(A672)) -> 1/1900 | H672: =IF(AND(G672<>0,F672<>""),G672/F672,"")
B673: =CONCATENATE(MONTH(A673),"/",YEAR(A673)) -> 1/1900 | H673: =IF(AND(G673<>0,F673<>""),G673/F673,"")
...

Sheet Recette salades_sandwich
A2: Composition des salades
A4: Quantité par salade | C4: Salade | D4: u | E4: tomate | F4: u | G4: maïs | H4: u | I4: blanc poulet | J4: u | K4: jambon | L4: u | M4: Composant n°6 | N4: u | O4: Composant n°7 | P4: u | Q4: Composant n°8 | R4: u | S4: Composant n°9 | T4: u | U4: Composant n°10 | V4: u | W4: Composant n°11 | X4: u | Y4: Composant n°11 | Z4: u | AA4: Composant n°11 | AB4: u | AC4: Composant n°12 | AD4: u | AE4: Composant n°13 | AF4: u | AG4: Composant n°14 | AH4: u | AI4: Composant n°15 | AJ4: u | AK4: Composant n°16 | AL4: u | AM4: Composant n°16 | AN4: u | AO4: Composant n°16 | AP4: u | AQ4: Composant n°16 | AR4: u | AS4: Composant n°16 | AT4: u | AU4: Composant n°16 | AV4: u | AW4: Composant n°16 | AX4: u | AY4: Composant n°16 | AZ4: u | BA4: Composant n°16 | BB4: u | BC4: Composant n°16 | BD4: u | BE4: Composant n°16 | BF4: u | BG4: Composant n°16 | BH4: u | BI4: Composant n°16 | BJ4: u | BK4: Composant n°16 | BL4: u
A5: Salade n°1 | C5: 0.01 | D5: u | F5: kg | G5: 0.01 | H5: kg | J5: kg | L5: kg | N5: kg | P5: kg | R5: kg | T5: kg | V5: kg | X5: kg | Z5: kg | AB5: kg | AD5: kg | AF5: kg | AH5: kg | AJ5: kg | AL5: kg | AN5: kg | AP5: kg | AR5: kg | AT5: kg | AV5: kg | AX5: kg | AZ5: kg | BB5: kg | BD5: kg | BF5: kg | BH5: kg | BJ5: kg | BL5: kg
A6: Salade n°2 | C6: 0.02 | D6: u | E6: 0.02 | F6: kg | H6: kg | J6: kg | L6: kg | N6: kg | P6: kg | R6: kg | T6: kg | V6: kg | X6: kg | Z6: kg | AB6: kg | AD6: kg | AF6: kg | AH6: kg | AJ6: kg | AL6: kg | AN6: kg | AP6: kg | AR6: kg | AT6: kg | AV6: kg | AX6: kg | AZ6: kg | BB6: kg | BD6: kg | BF6: kg | BH6: kg | BJ6: kg | BL6: kg
A7: Salade n°3 | C7: 0.03 | D7: u | E7: 0.03 | F7: kg | H7: kg | J7: kg | L7: kg | N7: kg | P7: kg | R7: kg | T7: kg | V7: kg | X7: kg | Z7: kg | AB7: kg | AD7: kg | AF7: kg | AH7: kg | AJ7: kg | AL7: kg | AN7: kg | AP7: kg | AR7: kg | AT7: kg | AV7: kg | AX7: kg | AZ7: kg | BB7: kg | BD7: kg | BF7: kg | BH7: kg | BJ7: kg | BL7: kg
A8: Salade n°4 | C8: 0.04 | D8: u | F8: kg | G8: 0.04 | H8: kg | J8: kg | L8: kg | N8: kg | P8: kg | R8: kg | T8: kg | V8: kg | X8: kg | Z8: kg | AB8: kg | AD8: kg | AF8: kg | AH8: kg | AJ8: kg | AL8: kg | AN8: kg | AP8: kg | AR8: kg | AT8: kg | AV8: kg | AX8: kg | AZ8: kg | BB8: kg | BD8: kg | BF8: kg | BH8: kg | BJ8: kg | BL8: kg
A9: Salade n°5 | C9: 0.05 | D9: u | F9: kg | H9: kg | I9: 0.05 | J9: kg | L9: kg | N9: kg | P9: kg | R9: kg | T9: kg | V9: kg | X9: kg | Z9: kg | AB9: kg | AD9: kg | AF9: kg | AH9: kg | AJ9: kg | AL9: kg | AN9: kg | AP9: kg | AR9: kg | AT9: kg | AV9: kg | AX9: kg | AZ9: kg | BB9: kg | BD9: kg | BF9: kg | BH9: kg | BJ9: kg | BL9: kg
A10: Salade n°6 | C10: 0.06 | D10: u | F10: kg | G10: 0.06 | H10: kg | J10: kg | L10: kg | N10: kg | P10: kg | R10: kg | T10: kg | V10: kg | X10: kg | Z10: kg | AB10: kg | AD10: kg | AF10: kg | AH10: kg | AJ10: kg | AL10: kg | AN10: kg | AP10: kg | AR10: kg | AT10: kg | AV10: kg | AX10: kg | AZ10: kg | BB10: kg | BD10: kg | BF10: kg | BH10: kg | BJ10: kg | BL10: kg
A11: Salade n°7 | C11: 0.07 | D11: u | E11: 0.07 | F11: kg | H11: kg | J11: kg | L11: kg | N11: kg | P11: kg | R11: kg | T11: kg | V11: kg | X11: kg | Z11: kg | AB11: kg | AD11: kg | AF11: kg | AH11: kg | AJ11: kg | AL11: kg | AN11: kg | AP11: kg | AR11: kg | AT11: kg | AV11: kg | AX11: kg | AZ11: kg | BB11: kg | BD11: kg | BF11: kg | BH11: kg | BJ11: kg | BL11: kg
A12: Salade n°8 | C12: 0.08 | D12: u | E12: 0.8 | F12: kg | H12: kg | J12: kg | L12: kg | N12: kg | P12: kg | R12: kg | T12: kg | V12: kg | X12: kg | Z12: kg | AB12: kg | AD12: kg | AF12: kg | AH12: kg | AJ12: kg | AL12: kg | AN12: kg | AP12: kg | AR12: kg | AT12: kg | AV12: kg | AX12: kg | AZ12: kg | BB12: kg | BD12: kg | BF12: kg | BH12: kg | BJ12: kg | BL12: kg
A13: Salade n°9 | C13: 0.09 | D13: u | F13: kg | G13: 0.09 | H13: kg | J13: kg | L13: kg | N13: kg | P13: kg | R13: kg | T13: kg | V13: kg | X13: kg | Z13: kg | AB13: kg | AD13: kg | AF13: kg | AH13: kg | AJ13: kg | AL13: kg | AN13: kg | AP13: kg | AR13: kg | AT13: kg | AV13: kg | AX13: kg | AZ13: kg | BB13: kg | BD13: kg | BF13: kg | BH13: kg | BJ13: kg | BL13: kg
A14: Salade n°10 | C14: 0.1 | D14: u | F14: kg | H14: kg | I14: 0.1 | J14: kg | L14: kg | N14: kg | P14: kg | R14: kg | T14: kg | V14: kg | X14: kg | Z14: kg | AB14: kg | AD14: kg | AF14: kg | AH14: kg | AJ14: kg | AL14: kg | AN14: kg | AP14: kg | AR14: kg | AT14: kg | AV14: kg | AX14: kg | AZ14: kg | BB14: kg | BD14: kg | BF14: kg | BH14: kg | BJ14: kg | BL14: kg
A17: Composition des sandwichs
A18: Quantité par sandwich | C18: Pain 1 | D18: u | E18: Pain 2 | F18: u | G18: beurre | H18: u | I18: blanc poulet | J18: u | K18: jambon blanc | L18: u | M18: Jambon cru | N18: u | O18: Rillette | P18: u | Q18: Rosette | R18: u | S18: Carpaccio de bœuf | T18: u | U18: Œuf | V18: u | W18: Roti de Bœuf | X18: u | Y18: filet Canard | Z18: u | AA18: Saumon fumé | AB18: u | AC18: Cantal | AD18: u | AE18: Emmental | AF18: u | AG18: Brie | AH18: u | AI18: Parmesan | AJ18: u | AK18: Ricotta | AL18: u | AM18: Cornichon | AN18: u | AO18: Moyonnaise | AP18: u | AQ18: Sauce Curry | AR18: u | AS18: huile olive | AT18: u | AU18: Sauce poivre | AV18: u | AW18: Creme fraiche ciboulette | AX18: u | AY18: Tomate confites | AZ18: u | BA18: Sauce andalouse | BB18: u | BC18: Condiment 5 | BD18: u | BE18: Salade | BF18: u | BG18: Tomate | BH18: u | BI18: Pomme | BJ18: u | BK18: Verdure 4 | BL18: u
A19: Sandwich n°1 Parisien | C19: 1 | D19: u | F19: kg | G19: 0.02 | H19: kg | J19: kg | K19: 0.02 | L19: kg | N19: kg | P19: kg | R19: kg | T19: kg | V19: kg | X19: kg | Z19: kg | AB19: kg | AD19: kg | AE19: 0.04 | AF19: kg | AH19: kg | AJ19: kg | AL19: kg | AN19: kg | AP19: kg | AR19: kg | AT19: kg | AV19: kg | AX19: kg | AZ19: kg | BB19: kg | BD19: kg | BF19: kg | BH19: kg | BJ19: kg | BL19: kg
A20: Sandwich n°2 Sarthois | C20: 2 | D20: u | F20: kg | H20: kg | J20: kg | L20: kg | N20: kg | O20: 0.02 | P20: kg | R20: kg | T20: kg | V20: kg | X20: kg | Z20: kg | AB20: kg | AD20: kg | AF20: kg | AH20: kg | AJ20: kg | AL20: kg | AM20: 0.03 | AN20: kg | AP20: kg | AR20: kg | AT20: kg | AV20: kg | AX20: kg | AZ20: kg | BB20: kg | BD20: kg | BF20: kg | BH20: kg | BJ20: kg | BL20: kg
A21: Sandwich n°3 Lyonnais | C21: 3 | D21: u | F21: kg | G21: 0.02 | H21: kg | J21: kg | L21: kg | N21: kg | P21: kg | Q21: 0.05 | R21: kg | T21: kg | V21: kg | X21: kg | Z21: kg | AB21: kg | AD21: kg | AF21: kg | AH21: kg | AJ21: kg | AL21: kg | AM21: 0.03 | AN21: kg | AP21: kg | AR21: kg | AT21: kg | AV21: kg | AX21: kg | AZ21: kg | BB21: kg | BD21: kg | BF21: kg | BH21: kg | BJ21: kg | BL21: kg
A22: Sandwich n°4 Fromager | C22: 4 | D22: u | F22: kg | H22: kg | J22: kg | L22: kg | N22: kg | P22: kg | R22: kg | T22: kg | V22: kg | X22: kg | Z22: kg | AB22: kg | AC22: 0.03 | AD22: kg | AF22: kg | AH22: kg | AJ22: kg | AK22: 0.02 | AL22: kg | AN22: kg | AP22: kg | AR22: kg | AT22: kg | AV22: kg | AX22: kg | AZ22: kg | BB22: kg | BD22: kg | BF22: kg | BG22: 0.05 | BH22: kg | BJ22: kg | BL22: kg
A23: Sandwich n°5 Méditéraneen | C23: 5 | D23: u | F23: kg | H23: kg | I23: 0.02 | J23: kg | L23: kg | N23: kg | P23: kg | R23: kg | T23: kg | V23: kg | X23: kg | Z23: kg | AB23: kg | AD23: kg | AF23: kg | AH23: kg | AJ23: kg | AL23: kg | AN23: kg | AP23: kg | AR23: kg | AS23: 0.01 | AT23: kg | AV23: kg | AW23: 0.01 | AX23: kg | AY23: 0.01 | AZ23: kg | BA23: 0.02 | BB23: kg | BD23: kg | BE23: 0.03 | BF23: kg | BH23: kg | BJ23: kg | BL23: kg
A24: Sandwich n°6 Sicilien | C24: 6 | D24: u | F24: kg | G24: 0.02 | H24: kg | J24: kg | L24: kg | M24: 0.03 | N24: kg | P24: kg | R24: kg | T24: kg | V24: kg | X24: kg | Z24: kg | AB24: kg | AD24: kg | AF24: kg | AH24: kg | AI24: 0.01 | AJ24: kg | AL24: kg | AN24: kg | AP24: kg | AR24: kg | AT24: kg | AV24: kg | AX24: kg | AZ24: kg | BB24: kg | BD24: kg | BF24: kg | BH24: kg | BJ24: kg | BL24: kg
A25: Sandwich n°7 Montmartre | C25: 7 | D25: u | F25: kg | H25: kg | J25: kg | K25: 0.02 | L25: kg | N25: kg | P25: kg | R25: kg | T25: kg | U25: 0.02 | V25: kg | X25: kg | Z25: kg | AB25: kg | AD25: kg | AF25: kg | AH25: kg | AJ25: kg | AL25: kg | AN25: kg | AO25: 0.02 | AP25: kg | AR25: kg | AT25: kg | AV25: kg | AX25: kg | AZ25: kg | BB25: kg | BD25: kg | BE25: 0.03 | BF25: kg | BG25: 0.02 | BH25: kg | BJ25: kg | BL25: kg
A26: Sandwich n°8 Bombay | C26: 8 | D26: u | F26: kg | H26: kg | I26: 0.02 | J26: kg | L26: kg | N26: kg | P26: kg | R26: kg | T26: kg | V26: kg | X26: kg | Z26: kg | AB26: kg | AD26: kg | AF26: kg | AH26: kg | AJ26: kg | AL26: kg | AN26: kg | AP26: kg | AQ26: 0.01 | AR26: kg | AT26: kg | AV26: kg | AX26: kg | AZ26: kg | BB26: kg | BD26: kg | BE26: 0.03 | BF26: kg | BG26: 0.02 | BH26: kg | BJ26: kg | BL26: kg
A27: Sandwich n°9 Milano | C27: 9 | D27: u | F27: kg | H27: kg | J27: kg | L27: kg | N27: kg | P27: kg | R27: kg | S27: 0.03 | T27: kg | V27: kg | X27: kg | Z27: kg | AB27: kg | AD27: kg | AF27: kg | AH27: kg | AI27: 0.01 | AJ27: kg | AL27: kg | AN27: kg | AP27: kg | AR27: kg | AT27: kg | AV27: kg | AX27: kg | AZ27: kg | BB27: kg | BD27: kg | BF27: kg | BG27: 0.02 | BH27: kg | BJ27: kg | BL27: kg
A28: Sandwich n°10 Limousin | C28: 10 | D28: u | F28: kg | H28: kg | J28: kg | L28: kg | N28: kg | P28: kg | R28: kg | T28: kg | V28: kg | W28: 0.03 | X28: kg | Z28: kg | AB28: kg | AD28: kg | AF28: kg | AH28: kg | AJ28: kg | AL28: kg | AM28: 0.02 | AN28: kg | AO28: 0.03 | AP28: kg | AR28: kg | AT28: kg | AV28: kg | AX28: kg | AZ28: kg | BB28: kg | BD28: kg | BE28: 0.3 | BF28: kg | BH28: kg | BJ28: kg | BL28: kg
A29: Sandwich n°11 Périgourdin | C29: 11 | D29: u | F29: kg | H29: kg | J29: kg | L29: kg | N29: kg | P29: kg | R29: kg | T29: kg | V29: kg | X29: kg | Y29: 0.02 | Z29: kg | AB29: kg | AD29: kg | AF29: kg | AH29: kg | AJ29: kg | AL29: kg | AN29: kg | AP29: kg | AR29: kg | AT29: kg | AU29: 0.01 | AV29: kg | AX29: kg | AZ29: kg | BB29: kg | BD29: kg | BE29: 0.2 | BF29: kg | BG29: 0.02 | BH29: kg | BJ29: kg | BL29: kg
A30: Sandwich n°12 Landais | C30: 12 | D30: u | F30: kg | G30: 0.02 | H30: kg | J30: kg | L30: kg | N30: kg | P30: kg | R30: kg | T30: kg | V30: kg | X30: kg | Z30: kg | AB30: kg | AD30: kg | AF30: kg | AG30: 0.02 | AH30: kg | AJ30: kg | AL30: kg | AN30: kg | AP30: kg | AR30: kg | AT30: kg | AV30: kg | AX30: kg | AZ30: kg | BB30: kg | BD30: kg | BE30: 0.02 | BF30: kg | BH30: kg | BI30: 0.01 | BJ30: kg | BL30: kg
A31: Sandwich n°13 Nordik | C31: 13 | D31: u | F31: kg | H31: kg | J31: kg | L31: kg | N31: kg | P31: kg | R31: kg | T31: kg | V31: kg | X31: kg | Z31: kg | AA31: 0.02 | AB31: kg | AD31: kg | AF31: kg | AH31: kg | AJ31: kg | AL31: kg | AN31: kg | AP31: kg | AR31: kg | AT31: kg | AV31: kg | AW31: 0.01 | AX31: kg | AZ31: kg | BB31: kg | BD31: kg | BF31: kg | BH31: kg | BJ31: kg | BL31: kg
A32: Sandwich n°14 | C32: 14 | D32: u | F32: kg | H32: kg | J32: kg | L32: kg | N32: kg | P32: kg | R32: kg | T32: kg | V32: kg | X32: kg | Z32: kg | AB32: kg | AD32: kg | AF32: kg | AH32: kg | AJ32: kg | AL32: kg | AN32: kg | AP32: kg | AR32: kg | AT32: kg | AV32: kg | AX32: kg | AZ32: kg | BB32: kg | BD32: kg | BF32: kg | BH32: kg | BJ32: kg | BL32: kg
A33: Sandwich n°15 | C33: 15 | D33: u | F33: kg | H33: kg | J33: kg | L33: kg | N33: kg | P33: kg | R33: kg | T33: kg | V33: kg | X33: kg | Z33: kg | AB33: kg | AD33: kg | AF33: kg | AH33: kg | AJ33: kg | AL33: kg | AN33: kg | AP33: kg | AR33: kg | AT33: kg | AV33: kg | AX33: kg | AZ33: kg | BB33: kg | BD33: kg | BF33: kg | BH33: kg | BJ33: kg | BL33: kg

Sheet CUMP
A2: Extraction par produit des informations clés
A5: mois/année | B5: (Tous) | C5: Sélectionner le(s) fournisseur(s) voir tous
A6: Fournisseur | B6: (Tous) | C6: Sélectionner le(s) produit(s) voir tous
B8: Valeurs
A9: Désignation produit (selectionner le produit désiré) | B9: Quantité Totale achetée | C9: C.A total H.T des achats | D9: Prix moyen acheté | E9: Prix maximum achété | F9: Prix minimum achété | G9: C.U.M.P sur la pécriode choisie | H9: Prix de vente | I9: Marge brute totale
A10: (vide) | D10: **** | E10: 0 | F10: 0 | G10: =IF(B10<>"",C10/B10,"") | H10: =SUMIF('Prix vente'!B:B,CUMP!A10,'Prix vente'!C:C) -> 0 | I10: =IF(G10<>"",(H10-G10)*B10,"")
A11: Coca | B11: 1550 | C11: 419 | D11: 0.29079365 | E11: 0.33 | F11: 0.23333333 | G11: =IF(B11<>"",C11/B11,"") -> 0.27032258 | H11: =SUMIF('Prix vente'!B:B,CUMP!A11,'Prix vente'!C:C) -> 2 | I11: =IF(G11<>"",(H11-G11)*B11,"") -> 2681
A12: Fanta | B12: 1200 | C12: 334 | D12: 0.296 | E12: 0.39 | F12: 0.245 | G12: =IF(B12<>"",C12/B12,"") -> 0.27833333 | H12: =SUMIF('Prix vente'!B:B,CUMP!A12,'Prix vente'!C:C) -> 3 | I12: =IF(G12<>"",(H12-G12)*B12,"") -> 3266
A13: Sprite | B13: 700 | C13: 188 | D13: 0.28 | E13: 0.3 | F13: 0.26 | G13: =IF(B13<>"",C13/B13,"") -> 0.26857143 | H13: =SUMIF('Prix vente'!B:B,CUMP!A13,'Prix vente'!C:C) -> 2 | I13: =IF(G13<>"",(H13-G13)*B13,"") -> 1212
A14: Orangina | B14: 100 | C14: 30 | D14: 0.3 | E14: 0.3 | F14: 0.3 | G14: =IF(B14<>"",C14/B14,"") -> 0.3 | H14: =SUMIF('Prix vente'!B:B,CUMP!A14,'Prix vente'!C:C) -> 2 | I14: =IF(G14<>"",(H14-G14)*B14,"") -> 170
A15: Coca light | B15: 200 | C15: 78 | D15: 0.39 | E15: 0.39 | F15: 0.39 | G15: =IF(B15<>"",C15/B15,"") -> 0.39 | H15: =SUMIF('Prix vente'!B:B,CUMP!A15,'Prix vente'!C:C) -> 2 | I15: =IF(G15<>"",(H15-G15)*B15,"") -> 322
A16: Jus orange | B16: 300 | C16: 90 | D16: 0.3 | E16: 0.3 | F16: 0.3 | G16: =IF(B16<>"",C16/B16,"") -> 0.3 | H16: =SUMIF('Prix vente'!B:B,CUMP!A16,'Prix vente'!C:C) -> 2 | I16: =IF(G16<>"",(H16-G16)*B16,"") -> 510
A17: Jus pomme | B17: 350 | C17: 95 | D17: 0.27142857 | E17: 0.27142857 | F17: 0.27142857 | G17: =IF(B17<>"",C17/B17,"") -> 0.27142857 | H17: =SUMIF('Prix vente'!B:B,CUMP!A17,'Prix vente'!C:C) -> 2 | I17: =IF(G17<>"",(H17-G17)*B17,"") -> 605
A18: Blanc Poulet | B18: 100 | C18: 500 | D18: 5 | E18: 5 | F18: 5 | G18: =IF(B18<>"",C18/B18,"") -> 5 | H18: =SUMIF('Prix vente'!B:B,CUMP!A18,'Prix vente'!C:C) -> 0 | I18: =IF(G18<>"",(H18-G18)*B18,"") -> -500
A19: Salade | B19: 50 | C19: 40 | D19: 0.8 | E19: 0.8 | F19: 0.8 | G19: =IF(B19<>"",C19/B19,"") -> 0.8 | H19: =SUMIF('Prix vente'!B:B,CUMP!A19,'Prix vente'!C:C) -> 0 | I19: =IF(G19<>"",(H19-G19)*B19,"") -> -40
A20: tomate | B20: 100 | C20: 120 | D20: 1.2 | E20: 1.2 | F20: 1.2 | G20: =IF(B20<>"",C20/B20,"") -> 1.2 | H20: =SUMIF('Prix vente'!B:B,CUMP!A20,'Prix vente'!C:C) -> 0 | I20: =IF(G20<>"",(H20-G20)*B20,"") -> -120
A21: Maïs | B21: 10 | C21: 35 | D21: 3.5 | E21: 3.5 | F21: 3.5 | G21: =IF(B21<>"",C21/B21,"") -> 3.5 | H21: =SUMIF('Prix vente'!B:B,CUMP!A21,'Prix vente'!C:C) -> 0 | I21: =IF(G21<>"",(H21-G21)*B21,"") -> -35
A22: jambon cru | B22: 1 | C22: 12 | D22: 12 | E22: 12 | F22: 12 | G22: =IF(B22<>"",C22/B22,"") -> 12 | H22: =SUMIF('Prix vente'!B:B,CUMP!A22,'Prix vente'!C:C) -> 0 | I22: =IF(G22<>"",(H22-G22)*B22,"") -> -12
A23: Total général | B23: 4661 | C23: 1941 | D23: 1.2098344 | E23: 12 | F23: 0.23333333 | G23: =IF(B23<>"",C23/B23,"") -> 0.41643424 | H23: =SUMIF('Prix vente'!B:B,CUMP!A23,'Prix vente'!C:C) -> 0 | I23: =IF(G23<>"",(H23-G23)*B23,"") -> -1941
G24: =IF(B24<>"",C24/B24,"") | H24: =SUMIF('Prix vente'!B:B,CUMP!A24,'Prix vente'!C:C) -> 0 | I24: =IF(G24<>"",(H24-G24)*B24,"")
G25: =IF(B25<>"",C25/B25,"") | H25: =SUMIF('Prix vente'!B:B,CUMP!A25,'Prix vente'!C:C) -> 0 | I25: =IF(G25<>"",(H25-G25)*B25,"")
G26: =IF(B26<>"",C26/B26,"") | H26: =SUMIF('Prix vente'!B:B,CUMP!A26,'Prix vente'!C:C) -> 0 | I26: =IF(G26<>"",(H26-G26)*B26,"")
G27: =IF(B27<>"",C27/B27,"") | H27: =SUMIF('Prix vente'!B:B,CUMP!A27,'Prix vente'!C:C) -> 0 | I27: =IF(G27<>"",(H27-G27)*B27,"")
G28: =IF(B28<>"",C28/B28,"") | H28: =SUMIF('Prix vente'!B:B,CUMP!A28,'Prix vente'!C:C) -> 0 | I28: =IF(G28<>"",(H28-G28)*B28,"")
G29: =IF(B29<>"",C29/B29,"") | H29: =SUMIF('Prix vente'!B:B,CUMP!A29,'Prix vente'!C:C) -> 0 | I29: =IF(G29<>"",(H29-G29)*B29,"")
G30: =IF(B30<>"",C30/B30,"") | H30: =SUMIF('Prix vente'!B:B,CUMP!A30,'Prix vente'!C:C) -> 0 | I30: =IF(G30<>"",(H30-G30)*B30,"")
G31: =IF(B31<>"",C31/B31,"") | H31: =SUMIF('Prix vente'!B:B,CUMP!A31,'Prix vente'!C:C) -> 0 | I31: =IF(G31<>"",(H31-G31)*B31,"")
G32: =IF(B32<>"",C32/B32,"") | H32: =SUMIF('Prix vente'!B:B,CUMP!A32,'Prix vente'!C:C) -> 0 | I32: =IF(G32<>"",(H32-G32)*B32,"")
G33: =IF(B33<>"",C33/B33,"") | H33: =SUMIF('Prix vente'!B:B,CUMP!A33,'Prix vente'!C:C) -> 0 | I33: =IF(G33<>"",(H33-G33)*B33,"")
G34: =IF(B34<>"",C34/B34,"") | H34: =SUMIF('Prix vente'!B:B,CUMP!A34,'Prix vente'!C:C) -> 0 | I34: =IF(G34<>"",(H34-G34)*B34,"")
G35: =IF(B35<>"",C35/B35,"") | H35: =SUMIF('Prix vente'!B:B,CUMP!A35,'Prix vente'!C:C) -> 0 | I35: =IF(G35<>"",(H35-G35)*B35,"")
... G231: =IF(B231<>"",C231/B231,"") | H231: =SUMIF('Prix vente'!B:B,CUMP!A231,'Prix vente'!C:C) -> 0 | I231: =IF(G231<>"",(H231-G231)*B231,"")

Sheet Prix vente
A3: Prix de vente produit fini
B5: Désignation | C5: Prix vente
B6: Coca | C6: 2
B7: Orangina | C7: 2
B8: Sprite | C8: 2
B9: Coca light | C9: 2
B10: Jus orange | C10: 2
B11: Jus pomme | C11: 2
B12: Fanta | C12: 3

Sheet feuille calcul
A2: Extraction par produit des informations clés
A5: mois/année | B5: (Tous) | C5: Sélectionner le(s) fournisseur(s) voir tous
A6: Fournisseur | B6: (Tous) | C6: Sélectionner le(s) produit(s) voir tous
B8: Valeurs
A9: Désignation produit (selectionner le produit désiré) | B9: Quantité Totale achetée | C9: C.A total H.T des achats | D9: Prix moyen acheté | E9: Prix maximum achété | F9: Prix minimum achété | G9: C.U.M.P sur la pécriode choisie | H9: Prix de vente | I9: Marge brute totale
A10: (vide) | D10: **** | E10: 0 | F10: 0 | G10: =IF(B10<>"",C10/B10,"") | H10: =SUMIF('Prix vente'!B:B,CUMP!A10,'Prix vente'!C:C) -> 0 | I10: =IF(G10<>"",(H10-G10)*B10,"")
A11: Coca | B11: 1550 | C11: 419 | D11: 0.29079365 | E11: 0.33 | F11: 0.23333333 | G11: =IF(B11<>"",C11/B11,"") -> 0.27032258 | H11: =SUMIF('Prix vente'!B:B,CUMP!A11,'Prix vente'!C:C) -> 2 | I11: =IF(G11<>"",(H11-G11)*B11,"") -> 2681
A12: Fanta | B12: 1200 | C12: 334 | D12: 0.296 | E12: 0.39 | F12: 0.245 | G12: =IF(B12<>"",C12/B12,"") -> 0.27833333 | H12: =SUMIF('Prix vente'!B:B,CUMP!A12,'Prix vente'!C:C) -> 3 | I12: =IF(G12<>"",(H12-G12)*B12,"") -> 3266
A13: Sprite | B13: 700 | C13: 188 | D13: 0.28 | E13: 0.3 | F13: 0.26 | G13: =IF(B13<>"",C13/B13,"") -> 0.26857143 | H13: =SUMIF('Prix vente'!B:B,CUMP!A13,'Prix vente'!C:C) -> 2 | I13: =IF(G13<>"",(H13-G13)*B13,"") -> 1212
A14: Orangina | B14: 100 | C14: 30 | D14: 0.3 | E14: 0.3 | F14: 0.3 | G14: =IF(B14<>"",C14/B14,"") -> 0.3 | H14: =SUMIF('Prix vente'!B:B,CUMP!A14,'Prix vente'!C:C) -> 2 | I14: =IF(G14<>"",(H14-G14)*B14,"") -> 170
A15: Coca light | B15: 200 | C15: 78 | D15: 0.39 | E15: 0.39 | F15: 0.39 | G15: =IF(B15<>"",C15/B15,"") -> 0.39 | H15: =SUMIF('Prix vente'!B:B,CUMP!A15,'Prix vente'!C:C) -> 2 | I15: =IF(G15<>"",(H15-G15)*B15,"") -> 322
A16: Jus orange | B16: 300 | C16: 90 | D16: 0.3 | E16: 0.3 | F16: 0.3 | G16: =IF(B16<>"",C16/B16,"") -> 0.3 | H16: =SUMIF('Prix vente'!B:B,CUMP!A16,'Prix vente'!C:C) -> 2 | I16: =IF(G16<>"",(H16-G16)*B16,"") -> 510
A17: Jus pomme | B17: 350 | C17: 95 | D17: 0.27142857 | E17: 0.27142857 | F17: 0.27142857 | G17: =IF(B17<>"",C17/B17,"") -> 0.27142857 | H17: =SUMIF('Prix vente'!B:B,CUMP!A17,'Prix vente'!C:C) -> 2 | I17: =IF(G17<>"",(H17-G17)*B17,"") -> 605
A18: Blanc Poulet | B18: 100 | C18: 500 | D18: 5 | E18: 5 | F18: 5 | G18: =IF(B18<>"",C18/B18,"") -> 5 | H18: =SUMIF('Prix vente'!B:B,CUMP!A18,'Prix vente'!C:C) -> 0 | I18: =IF(G18<>"",(H18-G18)*B18,"") -> -500
A19: Salade | B19: 50 | C19: 40 | D19: 0.8 | E19: 0.8 | F19: 0.8 | G19: =IF(B19<>"",C19/B19,"") -> 0.8 | H19: =SUMIF('Prix vente'!B:B,CUMP!A19,'Prix vente'!C:C) -> 0 | I19: =IF(G19<>"",(H19-G19)*B19,"") -> -40
A20: tomate | B20: 100 | C20: 120 | D20: 1.2 | E20: 1.2 | F20: 1.2 | G20: =IF(B20<>"",C20/B20,"") -> 1.2 | H20: =SUMIF('Prix vente'!B:B,CUMP!A20,'Prix vente'!C:C) -> 0 | I20: =IF(G20<>"",(H20-G20)*B20,"") -> -120
A21: Maïs | B21: 10 | C21: 35 | D21: 3.5 | E21: 3.5 | F21: 3.5 | G21: =IF(B21<>"",C21/B21,"") -> 3.5 | H21: =SUMIF('Prix vente'!B:B,CUMP!A21,'Prix vente'!C:C) -> 0 | I21: =IF(G21<>"",(H21-G21)*B21,"") -> -35
A22: jambon cru | B22: 1 | C22: 12 | D22: 12 | E22: 12 | F22: 12 | G22: =IF(B22<>"",C22/B22,"") -> 12 | H22: =SUMIF('Prix vente'!B:B,CUMP!A22,'Prix vente'!C:C) -> 0 | I22: =IF(G22<>"",(H22-G22)*B22,"") -> -12
A23: Total général | B23: 4661 | C23: 1941 | D23: 1.2098344 | E23: 12 | F23: 0.23333333 | G23: =IF(B23<>"",C23/B23,"") -> 0.41643424 | H23: =SUMIF('Prix vente'!B:B,CUMP!A23,'Prix vente'!C:C) -> 0 | I23: =IF(G23<>"",(H23-G23)*B23,"") -> -1941
G24: =IF(B24<>"",C24/B24,"") | H24: =SUMIF('Prix vente'!B:B,CUMP!A24,'Prix vente'!C:C) -> 0 | I24: =IF(G24<>"",(H24-G24)*B24,"")
G25: =IF(B25<>"",C25/B25,"") | H25: =SUMIF('Prix vente'!B:B,CUMP!A25,'Prix vente'!C:C) -> 0 | I25: =IF(G25<>"",(H25-G25)*B25,"")
G26: =IF(B26<>"",C26/B26,"") | H26: =SUMIF('Prix vente'!B:B,CUMP!A26,'Prix vente'!C:C) -> 0 | I26: =IF(G26<>"",(H26-G26)*B26,"")
G27: =IF(B27<>"",C27/B27,"") | H27: =SUMIF('Prix vente'!B:B,CUMP!A27,'Prix vente'!C:C) -> 0 | I27: =IF(G27<>"",(H27-G27)*B27,"")
G28: =IF(B28<>"",C28/B28,"") | H28: =SUMIF('Prix vente'!B:B,CUMP!A28,'Prix vente'!C:C) -> 0 | I28: =IF(G28<>"",(H28-G28)*B28,"")
G29: =IF(B29<>"",C29/B29,"") | H29: =SUMIF('Prix vente'!B:B,CUMP!A29,'Prix vente'!C:C) -> 0 | I29: =IF(G29<>"",(H29-G29)*B29,"")
G30: =IF(B30<>"",C30/B30,"") | H30: =SUMIF('Prix vente'!B:B,CUMP!A30,'Prix vente'!C:C) -> 0 | I30: =IF(G30<>"",(H30-G30)*B30,"")
G31: =IF(B31<>"",C31/B31,"") | H31: =SUMIF('Prix vente'!B:B,CUMP!A31,'Prix vente'!C:C) -> 0 | I31: =IF(G31<>"",(H31-G31)*B31,"")
G32: =IF(B32<>"",C32/B32,"") | H32: =SUMIF('Prix vente'!B:B,CUMP!A32,'Prix vente'!C:C) -> 0 | I32: =IF(G32<>"",(H32-G32)*B32,"")
G33: =IF(B33<>"",C33/B33,"") | H33: =SUMIF('Prix vente'!B:B,CUMP!A33,'Prix vente'!C:C) -> 0 | I33: =IF(G33<>"",(H33-G33)*B33,"")
G34: =IF(B34<>"",C34/B34,"") | H34: =SUMIF('Prix vente'!B:B,CUMP!A34,'Prix vente'!C:C) -> 0 | I34: =IF(G34<>"",(H34-G34)*B34,"")
G35: =IF(B35<>"",C35/B35,"") | H35: =SUMIF('Prix vente'!B:B,CUMP!A35,'Prix vente'!C:C) -> 0 | I35: =IF(G35<>"",(H35-G35)*B35,"")
... G623: =IF(B623<>"",C623/B623,"") | H623: =SUMIF('Prix vente'!B:B,CUMP!A623,'Prix vente'!C:C) -> 0 | I623: =IF(G623<>"",(H623-G623)*B623,"")

Sheet récapitulatif prix
B4: Calcul prix salade | I4: Calcul prix sandwich
E5: Prix total H.T | L5: Prix total H.T
B6: Salade n°9 | C6: Quantité | D6: P.U.H.T | I6: Sandwich n°9 Milano | J6: Quantité | K6: P.U.H.T
B7: ='Recette salades_sandwich'!C4 -> Salade | C7: =VLOOKUP($B$6,'Recette salades_sandwich'!$A$5:$BL$14,3) -> 0.09 | D7: =SUMIF('feuille calcul'!A:A,'récapitulatif prix'!B7,'feuille calcul'!G:G) -> 0.8 | E7: =IF(C7>0,C7*D7,"") -> 0.072 | I7: ='Recette salades_sandwich'!C18 -> Pain 1 | J7: =VLOOKUP($I$6,'Recette salades_sandwich'!$A$19:$BL$33,3) -> 15 | K7: =SUMIF('feuille calcul'!A:A,'récapitulatif prix'!I7,'feuille calcul'!G:G) -> 0 | L7: =IF(J7>0,J7*K7,"") -> 0
B8: ='Recette salades_sandwich'!E4 -> tomate | C8: =VLOOKUP($B$6,'Recette salades_sandwich'!$A$5:$BL$14,5) -> 0 | D8: =SUMIF('feuille calcul'!A:A,'récapitulatif prix'!B8,'feuille calcul'!G:G) -> 1.2 | E8: =IF(C8>0,C8*D8,"") | I8: ='Recette salades_sandwich'!E18 -> Pain 2 | J8: =VLOOKUP($I$6,'Recette salades_sandwich'!$A$19:$BL$33,5) -> 0 | K8: =SUMIF('feuille calcul'!A:A,'récapitulatif prix'!I8,'feuille calcul'!G:G) -> 0 | L8: =IF(J8>0,J8*K8,"")
B9: ='Recette salades_sandwich'!G4 -> maïs | C9: =VLOOKUP($B$6,'Recette salades_sandwich'!$A$5:$BL$14,7) -> 0.09 | D9: =SUMIF('feuille calcul'!A:A,'récapitulatif prix'!B9,'feuille calcul'!G:G) -> 3.5 | E9: =IF(C9>0,C9*D9,"") -> 0.315 | I9: ='Recette salades_sandwich'!G18 -> beurre | J9: =VLOOKUP($I$6,'Recette salades_sandwich'!$A$19:$BL$33,7) -> 0 | K9: =SUMIF('feuille calcul'!A:A,'récapitulatif prix'!I9,'feuille calcul'!G:G) -> 0 | L9: =IF(J9>0,J9*K9,"")
B10: ='Recette salades_sandwich'!I4 -> blanc poulet | C10: =VLOOKUP($B$6,'Recette salades_sandwich'!$A$5:$BL$14,9) -> 0 | D10: =SUMIF('feuille calcul'!A:A,'récapitulatif prix'!B10,'feuille calcul'!G:G) -> 5 | E10: =IF(C10>0,C10*D10,"") | I10: ='Recette salades_sandwich'!I18 -> blanc poulet | J10: =VLOOKUP($I$6,'Recette salades_sandwich'!$A$19:$BL$33,9) -> 0 | K10: =SUMIF('feuille calcul'!A:A,'récapitulatif prix'!I10,'feuille calcul'!G:G) -> 5 | L10: =IF(J10>0,J10*K10,"")
B11: ='Recette salades_sandwich'!K4 -> jambon | C11: =VLOOKUP($B$6,'Recette salades_sandwich'!A$5:$BL$14,11) -> 0 | D11: =SUMIF('feuille calcul'!A:A,'récapitulatif prix'!B11,'feuille calcul'!G:G) -> 0 | E11: =IF(C11>0,C11*D11,"") | I11: ='Recette salades_sandwich'!K18 -> jambon blanc | J11: =VLOOKUP($I$6,'Recette salades_sandwich'!$A$19:$BL$33,11) -> 0 | K11: =SUMIF('feuille calcul'!A:A,'récapitulatif prix'!I11,'feuille calcul'!G:G) -> 0 | L11: =IF(J11>0,J11*K11,"")
B12: ='Recette salades_sandwich'!M4 -> Composant n°6 | C12: =VLOOKUP($B$6,'Recette salades_sandwich'!$A$5:$BL$14,13) -> 0 | D12: =SUMIF('feuille calcul'!A:A,'récapitulatif prix'!B12,'feuille calcul'!G:G) -> 0 | E12: =IF(C12>0,C12*D12,"") | I12: ='Recette salades_sandwich'!M18 -> Jambon cru | J12: =VLOOKUP($I$6,'Recette salades_sandwich'!$A$19:$BL$33,13) -> 0 | K12: =SUMIF('feuille calcul'!A:A,'récapitulatif prix'!I12,'feuille calcul'!G:G) -> 12 | L12: =IF(J12>0,J12*K12,"")
B13: ='Recette salades_sandwich'!O4 -> Composant n°7 | C13: =VLOOKUP($B$6,'Recette salades_sandwich'!$A$5:$BL$14,15) -> 0 | D13: =SUMIF('feuille calcul'!A:A,'récapitulatif prix'!B13,'feuille calcul'!G:G) -> 0 | E13: =IF(C13>0,C13*D13,"") | I13: ='Recette salades_sandwich'!O18 -> Rillette | J13: =VLOOKUP($I$6,'Recette salades_sandwich'!$A$19:$BL$33,15) -> 0 | K13: =SUMIF('feuille calcul'!A:A,'récapitulatif prix'!I13,'feuille calcul'!G:G) -> 0 | L13: =IF(J13>0,J13*K13,"")
B14: ='Recette salades_sandwich'!Q4 -> Composant n°8 | C14: =VLOOKUP($B$6,'Recette salades_sandwich'!$A$5:$BL$14,17) -> 0 | D14: =SUMIF('feuille calcul'!A:A,'récapitulatif prix'!B14,'feuille calcul'!G:G) -> 0 | E14: =IF(C14>0,C14*D14,"") | I14: ='Recette salades_sandwich'!Q18 -> Rosette | J14: =VLOOKUP($I$6,'Recette salades_sandwich'!$A$19:$BL$33,17) -> 0 | K14: =SUMIF('feuille calcul'!A:A,'récapitulatif prix'!I14,'feuille calcul'!G:G) -> 0 | L14: =IF(J14>0,J14*K14,"")
B15: ='Recette salades_sandwich'!S4 -> Composant n°9 | C15: =VLOOKUP($B$6,'Recette salades_sandwich'!$A$5:$BL$14,19) -> 0 | D15: =SUMIF('feuille calcul'!A:A,'récapitulatif prix'!B15,'feuille calcul'!G:G) -> 0 | E15: =IF(C15>0,C15*D15,"") | I15: ='Recette salades_sandwich'!S18 -> Carpaccio de bœuf | J15: =VLOOKUP($I$6,'Recette salades_sandwich'!$A$19:$BL$33,19) -> 0 | K15: =SUMIF('feuille calcul'!A:A,'récapitulatif prix'!I15,'feuille calcul'!G:G) -> 0 | L15: =IF(J15>0,J15*K15,"")
B16: ='Recette salades_sandwich'!U4 -> Composant n°10 | C16: =VLOOKUP($B$6,'Recette salades_sandwich'!$A$5:$BL$14,21) -> 0 | D16: =SUMIF('feuille calcul'!A:A,'récapitulatif prix'!B16,'feuille calcul'!G:G) -> 0 | E16: =IF(C16>0,C16*D16,"") | I16: ='Recette salades_sandwich'!U18 -> Œuf | J16: =VLOOKUP($I$6,'Recette salades_sandwich'!$A$19:$BL$33,21) -> 0 | K16: =SUMIF('feuille calcul'!A:A,'récapitulatif prix'!I16,'feuille calcul'!G:G) -> 0 | L16: =IF(J16>0,J16*K16,"")
B17: ='Recette salades_sandwich'!W4 -> Composant n°11 | C17: =VLOOKUP($B$6,'Recette salades_sandwich'!A$5:$BL$14,23) -> 0 | D17: =SUMIF('feuille calcul'!A:A,'récapitulatif prix'!B17,'feuille calcul'!G:G) -> 0 | E17: =IF(C17>0,C17*D17,"") | I17: ='Recette salades_sandwich'!W18 -> Roti de Bœuf | J17: =VLOOKUP($I$6,'Recette salades_sandwich'!$A$19:$BL$33,23) -> 0 | K17: =SUMIF('feuille calcul'!A:A,'récapitulatif prix'!I17,'feuille calcul'!G:G) -> 0 | L17: =IF(J17>0,J17*K17,"")
B18: ='Recette salades_sandwich'!Y4 -> Composant n°11 | C18: =VLOOKUP($B$6,'Recette salades_sandwich'!A$5:$BL$14,23) -> 0 | D18: =SUMIF('feuille calcul'!A:A,'récapitulatif prix'!B18,'feuille calcul'!G:G) -> 0 | E18: =IF(C18>0,C18*D18,"") | I18: ='Recette salades_sandwich'!Y18 -> filet Canard | J18: =VLOOKUP($I$6,'Recette salades_sandwich'!$A$19:$BL$33,25) -> 0 | K18: =SUMIF('feuille calcul'!A:A,'récapitulatif prix'!I18,'feuille calcul'!G:G) -> 0 | L18: =IF(J18>0,J18*K18,"")
I19: ='Recette salades_sandwich'!AA18 -> Saumon fumé | J19: =VLOOKUP($I$6,'Recette salades_sandwich'!$A$19:$BL$33,25) -> 0 | K19: =SUMIF('feuille calcul'!A:A,'récapitulatif prix'!I19,'feuille calcul'!G:G) -> 0 | L19: =IF(J19>0,J19*K19,"")
B20: ='Recette salades_sandwich'!AC4 -> Composant n°12 | C20: =VLOOKUP($B$6,'Recette salades_sandwich'!$A$5:$BL$14,25) -> 0 | D20: =SUMIF('feuille calcul'!A:A,'récapitulatif prix'!B20,'feuille calcul'!G:G) -> 0 | E20: =IF(C20>0,C20*D20,"") | I20: ='Recette salades_sandwich'!AC18 -> Cantal | J20: =VLOOKUP($I$6,'Recette salades_sandwich'!$A$19:$BL$33,27) -> 0 | K20: =SUMIF('feuille calcul'!A:A,'récapitulatif prix'!I20,'feuille calcul'!G:G) -> 0 | L20: =IF(J20>0,J20*K20,"")
B21: ='Recette salades_sandwich'!AE4 -> Composant n°13 | C21: =VLOOKUP($B$6,'Recette salades_sandwich'!$A$5:$BL$14,27) -> 0 | D21: =SUMIF('feuille calcul'!A:A,'récapitulatif prix'!B21,'feuille calcul'!G:G) -> 0 | E21: =IF(C21>0,C21*D21,"") | I21: ='Recette salades_sandwich'!AE18 -> Emmental | J21: =VLOOKUP($I$6,'Recette salades_sandwich'!$A$19:$BL$33,29) -> 0 | K21: =SUMIF('feuille calcul'!A:A,'récapitulatif prix'!I21,'feuille calcul'!G:G) -> 0 | L21: =IF(J21>0,J21*K21,"")
B22: ='Recette salades_sandwich'!AG4 -> Composant n°14 | C22: =VLOOKUP($B$6,'Recette salades_sandwich'!$A$5:$BL$14,29) -> 0 | D22: =SUMIF('feuille calcul'!A:A,'récapitulatif prix'!B22,'feuille calcul'!G:G) -> 0 | E22: =IF(C22>0,C22*D22,"") | I22: ='Recette salades_sandwich'!AG18 -> Brie | J22: =VLOOKUP($I$6,'Recette salades_sandwich'!$A$19:$BL$33,31) -> 0 | K22: =SUMIF('feuille calcul'!A:A,'récapitulatif prix'!I22,'feuille calcul'!G:G) -> 0 | L22: =IF(J22>0,J22*K22,"")
B23: ='Recette salades_sandwich'!AI4 -> Composant n°15 | C23: =VLOOKUP($B$6,'Recette salades_sandwich'!$A$5:$BL$14,31) -> 0 | D23: =SUMIF('feuille calcul'!A:A,'récapitulatif prix'!B23,'feuille calcul'!G:G) -> 0 | E23: =IF(C23>0,C23*D23,"") | I23: ='Recette salades_sandwich'!AI18 -> Parmesan | J23: =VLOOKUP($I$6,'Recette salades_sandwich'!$A$19:$BL$33,33) -> 0 | K23: =SUMIF('feuille calcul'!A:A,'récapitulatif prix'!I23,'feuille calcul'!G:G) -> 0 | L23: =IF(J23>0,J23*K23,"")
B24: ='Recette salades_sandwich'!AK4 -> Composant n°16 | C24: =VLOOKUP($B$6,'Recette salades_sandwich'!$A$5:$BL$14,33) -> 0 | D24: =SUMIF('feuille calcul'!A:A,'récapitulatif prix'!B24,'feuille calcul'!G:G) -> 0 | E24: =IF(C24>0,C24*D24,"") | I24: ='Recette salades_sandwich'!AK18 -> Ricotta | J24: =VLOOKUP($I$6,'Recette salades_sandwich'!$A$19:$BL$33,35) -> 0 | K24: =SUMIF('feuille calcul'!A:A,'récapitulatif prix'!I24,'feuille calcul'!G:G) -> 0 | L24: =IF(J24>0,J24*K24,"")
B25: ='Recette salades_sandwich'!AM4 -> Composant n°16 | C25: =VLOOKUP($B$6,'Recette salades_sandwich'!$A$5:$BL$14,35) -> 0 | D25: =SUMIF('feuille calcul'!A:A,'récapitulatif prix'!B25,'feuille calcul'!G:G) -> 0 | E25: =IF(C25>0,C25*D25,"") | I25: ='Recette salades_sandwich'!AM18 -> Cornichon | J25: =VLOOKUP($I$6,'Recette salades_sandwich'!$A$19:$BL$33,37) -> 0 | K25: =SUMIF('feuille calcul'!A:A,'récapitulatif prix'!I25,'feuille calcul'!G:G) -> 0 | L25: =IF(J25>0,J25*K25,"")
B26: ='Recette salades_sandwich'!AO4 -> Composant n°16 | C26: =VLOOKUP($B$6,'Recette salades_sandwich'!$A$5:$BL$14,37) -> 0 | D26: =SUMIF('feuille calcul'!A:A,'récapitulatif prix'!B26,'feuille calcul'!G:G) -> 0 | E26: =IF(C26>0,C26*D26,"") | I26: ='Recette salades_sandwich'!AO18 -> Moyonnaise | J26: =VLOOKUP($I$6,'Recette salades_sandwich'!$A$19:$BL$33,39) -> 0 | K26: =SUMIF('feuille calcul'!A:A,'récapitulatif prix'!I26,'feuille calcul'!G:G) -> 0 | L26: =IF(J26>0,J26*K26,"")
B27: ='Recette salades_sandwich'!AQ4 -> Composant n°16 | C27: =VLOOKUP($B$6,'Recette salades_sandwich'!$A$5:$BL$14,39) -> 0 | D27: =SUMIF('feuille calcul'!A:A,'récapitulatif prix'!B27,'feuille calcul'!G:G) -> 0 | E27: =IF(C27>0,C27*D27,"") | I27: ='Recette salades_sandwich'!AQ18 -> Sauce Curry | J27: =VLOOKUP($I$6,'Recette salades_sandwich'!$A$19:$BL$33,41) -> 0 | K27: =SUMIF('feuille calcul'!A:A,'récapitulatif prix'!I27,'feuille calcul'!G:G) -> 0 | L27: =IF(J27>0,J27*K27,"")
B28: ='Recette salades_sandwich'!AS4 -> Composant n°16 | C28: =VLOOKUP($B$6,'Recette salades_sandwich'!$A$5:$BL$14,41) -> 0 | D28: =SUMIF('feuille calcul'!A:A,'récapitulatif prix'!B28,'feuille calcul'!G:G) -> 0 | E28: =IF(C28>0,C28*D28,"") | I28: ='Recette salades_sandwich'!AS18 -> huile olive | J28: =VLOOKUP($I$6,'Recette salades_sandwich'!$A$19:$BL$33,43) -> 0 | K28: =SUMIF('feuille calcul'!A:A,'récapitulatif prix'!I28,'feuille calcul'!G:G) -> 0 | L28: =IF(J28>0,J28*K28,"")
I29: ='Recette salades_sandwich'!AU18 -> Sauce poivre | J29: =VLOOKUP($I$6,'Recette salades_sandwich'!$A$19:$BL$33,43) -> 0 | K29: =SUMIF('feuille calcul'!A:A,'récapitulatif prix'!I29,'feuille calcul'!G:G) -> 0 | L29: =IF(J29>0,J29*K29,"")
I30: ='Recette salades_sandwich'!AW18 -> Creme fraiche ciboulette | J30: =VLOOKUP($I$6,'Recette salades_sandwich'!$A$19:$BL$33,43) -> 0 | K30: =SUMIF('feuille calcul'!A:A,'récapitulatif prix'!I30,'feuille calcul'!G:G) -> 0
B31: ='Recette salades_sandwich'!AY4 -> Composant n°16 | C31: =VLOOKUP($B$6,'Recette salades_sandwich'!$A$5:$BL$14,43) -> 0 | D31: =SUMIF('feuille calcul'!A:A,'récapitulatif prix'!B31,'feuille calcul'!G:G) -> 0 | E31: =IF(C31>0,C31*D31,"") | I31: ='Recette salades_sandwich'!AY18 -> Tomate confites | J31: =VLOOKUP($I$6,'Recette salades_sandwich'!$A$19:$BL$33,45) -> 0 | K31: =SUMIF('feuille calcul'!A:A,'récapitulatif prix'!I31,'feuille calcul'!G:G) -> 0 | L31: =IF(J31>0,J31*K31,"")
B32: ='Recette salades_sandwich'!BA4 -> Composant n°16 | C32: =VLOOKUP($B$6,'Recette salades_sandwich'!$A$5:$BL$14,45) -> 0 | D32: =SUMIF('feuille calcul'!A:A,'récapitulatif prix'!B32,'feuille calcul'!G:G) -> 0 | E32: =IF(C32>0,C32*D32,"") | I32: ='Recette salades_sandwich'!BA18 -> Sauce andalouse | J32: =VLOOKUP($I$6,'Recette salades_sandwich'!$A$19:$BL$33,47) -> 0 | K32: =SUMIF('feuille calcul'!A:A,'récapitulatif prix'!I32,'feuille calcul'!G:G) -> 0 | L32: =IF(J32>0,J32*K32,"")
B33: ='Recette salades_sandwich'!BC4 -> Composant n°16 | C33: =VLOOKUP($B$6,'Recette salades_sandwich'!$A$5:$BL$14,47) -> 0 | D33: =SUMIF('feuille calcul'!A:A,'récapitulatif prix'!B33,'feuille calcul'!G:G) -> 0 | E33: =IF(C33>0,C33*D33,"") | I33: ='Recette salades_sandwich'!BC18 -> Condiment 5 | J33: =VLOOKUP($I$6,'Recette salades_sandwich'!$A$19:$BL$33,49) -> 0 | K33: =SUMIF('feuille calcul'!A:A,'récapitulatif prix'!I33,'feuille calcul'!G:G) -> 0 | L33: =IF(J33>0,J33*K33,"")
B34: ='Recette salades_sandwich'!BE4 -> Composant n°16 | C34: =VLOOKUP($B$6,'Recette salades_sandwich'!$A$5:$BL$14,49) -> 0 | D34: =SUMIF('feuille calcul'!A:A,'récapitulatif prix'!B34,'feuille calcul'!G:G) -> 0 | E34: =IF(C34>0,C34*D34,"") | I34: ='Recette salades_sandwich'!BE18 -> Salade | J34: =VLOOKUP($I$6,'Recette salades_sandwich'!$A$19:$BL$33,51) -> 0 | K34: =SUMIF('feuille calcul'!A:A,'récapitulatif prix'!I34,'feuille calcul'!G:G) -> 0.8 | L34: =IF(J34>0,J34*K34,"")
B35: ='Recette salades_sandwich'!BG4 -> Composant n°16 | C35: =VLOOKUP($B$6,'Recette salades_sandwich'!$A$5:$BL$14,51) -> 0 | D35: =SUMIF('feuille calcul'!A:A,'récapitulatif prix'!B35,'feuille calcul'!G:G) -> 0 | E35: =IF(C35>0,C35*D35,"") | I35: ='Recette salades_sandwich'!BG18 -> Tomate | J35: =VLOOKUP($I$6,'Recette salades_sandwich'!$A$19:$BL$33,53) -> 0 | K35: =SUMIF('feuille calcul'!A:A,'récapitulatif prix'!I35,'feuille calcul'!G:G) -> 1.2 | L35: =IF(J35>0,J35*K35,"")
B36: ='Recette salades_sandwich'!BI4 -> Composant n°16 | C36: =VLOOKUP($B$6,'Recette salades_sandwich'!$A$5:$BL$14,53) -> 0 | D36: =SUMIF('feuille calcul'!A:A,'récapitulatif prix'!B36,'feuille calcul'!G:G) -> 0 | E36: =IF(C36>0,C36*D36,"") | I36: ='Recette salades_sandwich'!BI18 -> Pomme | J36: =VLOOKUP($I$6,'Recette salades_sandwich'!$A$19:$BL$33,55) -> 0 | K36: =SUMIF('feuille calcul'!A:A,'récapitulatif prix'!I36,'feuille calcul'!G:G) -> 0 | L36: =IF(J36>0,J36*K36,"")
B37: ='Recette salades_sandwich'!BK4 -> Composant n°16 | C37: =VLOOKUP($B$6,'Recette salades_sandwich'!$A$5:$BL$14,55) -> 0 | D37: =SUMIF('feuille calcul'!A:A,'récapitulatif prix'!B37,'feuille calcul'!G:G) -> 0 | E37: =IF(C37>0,C37*D37,"") | I37: ='Recette salades_sandwich'!BK18 -> Verdure 4 | J37: =VLOOKUP($I$6,'Recette salades_sandwich'!$A$19:$BL$33,55) -> 0 | K37: =SUMIF('feuille calcul'!A:A,'récapitulatif prix'!I37,'feuille calcul'!G:G) -> 0 | L37: =IF(J37>0,J37*K37,"")
K38: =SUMIF('feuille calcul'!A:A,'récapitulatif prix'!I38,'feuille calcul'!G:G) -> 0 | L38: =IF(J38>0,J38*K38,"")
K39: =SUMIF('feuille calcul'!A:A,'récapitulatif prix'!I39,'feuille calcul'!G:G) -> 0 | L39: =IF(J39>0,J39*K39,"")
K40: =SUMIF('feuille calcul'!A:A,'récapitulatif prix'!I40,'feuille calcul'!G:G) -> 0 | L40: =IF(J40>0,J40*K40,"")
B43: Prix total composants : | E43: =SUM(E7:E23) -> 0.387 | I43: Prix total composants : | L43: =SUM(L7:L23) -> 0

Sheet Feuil1
