Workbook

Sheet Données
F3: Δ Quadriceps | H3: Moy | I3: Δ Ischios | K3: Moy
C4: PATIENT | D4: Opération | E4: Testé après | F4: Rapide | G4: Lente | I4: Rapide | J4: Lente | V4: Op | W4: Date
C5: Xvq VHDTULP | D5: LCA | E5: 3 mois | F5: 10 | G5: 9 | H5: =IFERROR(AVERAGE(F5:G5),"") -> 9.5 | K5: =IFERROR(AVERAGE(I5:J5),"") | V5: LCA | W5: 3 mois
C6: Ppdvrt GZACKD | D6: LCA | E6: 3,5 mois | F6: 12 | G6: 2 | H6: =IFERROR(AVERAGE(F6:G6),"") -> 7 | I6: 26 | J6: 23 | K6: =IFERROR(AVERAGE(I6:J6),"") -> 24.5 | V6: LCA + méniscectomie | W6: 3,5 mois
C7: Naylbna CYXYGYK | D7: LCA | E7: 4,5 mois | F7: 29 | G7: 23 | H7: =IFERROR(AVERAGE(F7:G7),"") -> 26 | I7: 6 | J7: 31 | K7: =IFERROR(AVERAGE(I7:J7),"") -> 18.5 | V7: LCA + suture méniscale | W7: 4 mois
C8: Rci UELARPG | D8: LCA | E8: 6,5 mois | F8: 0 | G8: 17 | H8: =IFERROR(AVERAGE(F8:G8),"") -> 8.5 | I8: 6 | J8: 9 | K8: =IFERROR(AVERAGE(I8:J8),"") -> 7.5 | V8: Méniscectomie | W8: 4,5 mois
C9: Tyajvw DPTXSJ | D9: LCA | E9: 5,5 mois | F9: 1 | G9: 0 | H9: =IFERROR(AVERAGE(F9:G9),"") -> 0.5 | I9: 8 | J9: 0 | K9: =IFERROR(AVERAGE(I9:J9),"") -> 4 | V9: Suture méniscale | W9: 5 mois
C10: Lakgrmb SKVFFQZ | D10: LCA | E10: 6 mois | F10: 16 | G10: 3 | H10: =IFERROR(AVERAGE(F10:G10),"") -> 9.5 | I10: 10 | J10: 11 | K10: =IFERROR(AVERAGE(I10:J10),"") -> 10.5 | V10: MPFL | W10: 5,5 mois
C11: Pnwaef IUUXL | D11: LCA + suture méniscale | E11: 4 mois | F11: 18 | G11: 18 | H11: =IFERROR(AVERAGE(F11:G11),"") -> 18 | I11: 11 | J11: 2 | K11: =IFERROR(AVERAGE(I11:J11),"") -> 6.5 | W11: 6 mois
C12: Ntxsmriq KTYR | D12: LCA | E12: 6 mois | F12: 0 | G12: 18 | H12: =IFERROR(AVERAGE(F12:G12),"") -> 9 | I12: 0 | J12: 0 | K12: =IFERROR(AVERAGE(I12:J12),"") -> 0 | W12: 6,5 mois
C13: Yuvaoc TPWTY | D13: LCA + suture méniscale | E13: 6 mois | F13: 13 | G13: 11 | H13: =IFERROR(AVERAGE(F13:G13),"") -> 12 | I13: 25 | J13: 19 | K13: =IFERROR(AVERAGE(I13:J13),"") -> 22 | W13: 7 mois
C14: Tvfmfk DEFMESRF | D14: LCA | E14: 4 mois | F14: 30 | G14: 27 | H14: =IFERROR(AVERAGE(F14:G14),"") -> 28.5 | K14: =IFERROR(AVERAGE(I14:J14),"")
C15: Shlln ALCTJ | D15: LCA + suture méniscale | E15: 7 mois | F15: 0 | G15: 0 | H15: =IFERROR(AVERAGE(F15:G15),"") -> 0 | I15: 0 | J15: 7 | K15: =IFERROR(AVERAGE(I15:J15),"") -> 3.5
C16: Qmffq NSGPIVYCN | D16: Méniscectomie | E16: 3 mois | F16: 3 | G16: 12 | H16: =IFERROR(AVERAGE(F16:G16),"") -> 7.5 | K16: =IFERROR(AVERAGE(I16:J16),"")
C17: Cyoxkc QRNWGNZ | D17: Suture méniscale | E17: 3,5 mois | F17: 13 | G17: 12 | H17: =IFERROR(AVERAGE(F17:G17),"") -> 12.5 | K17: =IFERROR(AVERAGE(I17:J17),"")
C18: Nsfyrl IZIMSWX | D18: LCA + suture méniscale | E18: 3 mois | F18: 31 | G18: 26 | H18: =IFERROR(AVERAGE(F18:G18),"") -> 28.5 | K18: =IFERROR(AVERAGE(I18:J18),"")
C19: Vhiaxao HS BWKQXP | D19: LCA | E19: 3,5 mois | F19: 5 | G19: 2 | H19: =IFERROR(AVERAGE(F19:G19),"") -> 3.5 | K19: =IFERROR(AVERAGE(I19:J19),"")
C20: Uyuqxytfw IBQNHUDLVJA | D20: MPFL | E20: 3,5 mois | F20: 0 | G20: 0 | H20: =IFERROR(AVERAGE(F20:G20),"") -> 0 | I20: 0 | J20: 0 | K20: =IFERROR(AVERAGE(I20:J20),"") -> 0
C21: Cokqyv VWWTXNB | D21: LCA + suture méniscale | E21: 5 mois | F21: 0 | G21: 0 | H21: =IFERROR(AVERAGE(F21:G21),"") -> 0 | I21: 0 | J21: 2 | K21: =IFERROR(AVERAGE(I21:J21),"") -> 1
C22: Grqhjjy YB YQQDFZ | D22: LCA | E22: 6,5 mois | F22: 0 | G22: 0 | H22: =IFERROR(AVERAGE(F22:G22),"") -> 0 | I22: 7 | J22: 4 | K22: =IFERROR(AVERAGE(I22:J22),"") -> 5.5
C23: Mwnk GAF PTKAQAR | D23: LCA | E23: 4 mois | F23: 19 | G23: 2 | H23: =IFERROR(AVERAGE(F23:G23),"") -> 10.5 | I23: 20 | J23: 0 | K23: =IFERROR(AVERAGE(I23:J23),"") -> 10
C24: Dznujjt ZRCTE | D24: LCA | E24: 4,5 mois | F24: 27 | G24: 34 | H24: =IFERROR(AVERAGE(F24:G24),"") -> 30.5 | I24: 16 | J24: 14 | K24: =IFERROR(AVERAGE(I24:J24),"") -> 15
C25: Obdme XDDHCU | D25: LCA | E25: 5,5 mois | F25: 34 | G25: 51 | H25: =IFERROR(AVERAGE(F25:G25),"") -> 42.5 | K25: =IFERROR(AVERAGE(I25:J25),"")
H26: =IFERROR(AVERAGE(F26:G26),"") | K26: =IFERROR(AVERAGE(I26:J26),"")
H27: =IFERROR(AVERAGE(F27:G27),"") | K27: =IFERROR(AVERAGE(I27:J27),"")
H28: =IFERROR(AVERAGE(F28:G28),"") | K28: =IFERROR(AVERAGE(I28:J28),"")
H29: =IFERROR(AVERAGE(F29:G29),"") | K29: =IFERROR(AVERAGE(I29:J29),"")
H30: =IFERROR(AVERAGE(F30:G30),"") | K30: =IFERROR(AVERAGE(I30:J30),"")
H31: =IFERROR(AVERAGE(F31:G31),"") | K31: =IFERROR(AVERAGE(I31:J31),"")
H32: =IFERROR(AVERAGE(F32:G32),"") | K32: =IFERROR(AVERAGE(I32:J32),"")
H33: =IFERROR(AVERAGE(F33:G33),"") | K33: =IFERROR(AVERAGE(I33:J33),"")
H34: =IFERROR(AVERAGE(F34:G34),"") | K34: =IFERROR(AVERAGE(I34:J34),"")
H35: =IFERROR(AVERAGE(F35:G35),"") | K35: =IFERROR(AVERAGE(I35:J35),"")
H36: =IFERROR(AVERAGE(F36:G36),"") | K36: =IFERROR(AVERAGE(I36:J36),"")
H37: =IFERROR(AVERAGE(F37:G37),"") | K37: =IFERROR(AVERAGE(I37:J37),"")
... H44: =IFERROR(AVERAGE(F44:G44),"") | K44: =IFERROR(AVERAGE(I44:J44),"")

Sheet Résultats
C3: MOYENNES
D4: Δ Quadriceps | E4: Δ Ischios
C5: 3ème mois | D5: =(SUMIF(Données!E5:E100,(Données!W5),Données!H5:H100)+SUMIF(Données!E5:E100,(Données!W6),Données!H5:H100))/(COUNTIF(Données!E5:E100,"3 mois")+COUNTIF(Données!E5:E100,"3,5 mois")) -> 9.7857143 | E5: =AVERAGEIFS(Données!K5:K100,K5:K100,">=0",Données!E5:E100,"3 mois",Données!E5:E100,"3,5 mois") -> #DIV/0!
C6: 4ème mois | D6: =(SUMIF(Données!E5:E100,(Données!W7),Données!H5:H100)+SUMIF(Données!E5:E100,(Données!W8),Données!H5:H100))/(COUNTIF(Données!E5:E100,"4 mois")+COUNTIF(Données!E5:E100,"4,5 mois")) -> 22.7
C7: 5ème mois | D7: =(SUMIF(Données!E5:E100,(Données!W9),Données!H5:H100)+SUMIF(Données!E5:E100,(Données!W10),Données!H5:H100))/(COUNTIF(Données!E5:E100,"5 mois")+COUNTIF(Données!E5:E100,"5,5 mois")) -> 14.333333
C8: 6ème mois | D8: =(SUMIF(Données!E5:E100,(Données!W11),Données!H5:H100)+SUMIF(Données!E5:E100,(Données!W12),Données!H5:H100))/(COUNTIF(Données!E5:E100,"6 mois")+COUNTIF(Données!E5:E100,"6,5 mois")) -> 7.8
