Workbook

Sheet Prix de Vente
E1: Coef Nationnaux Mini
E2: Coef Viennoiserie | F2: 6
E3: Coef Pâtisserie | F3: 4,5 à 6
E4: Coef Pain | F4: 4,4 à 6,5
E5: Coef Revente | F5: 1,2 à 2
B7: Nombre de part | C7: Surface | D7: Prix de Revient | E7: Prix de Vente Minimum | F7: Prix de Vente Conseillèe | I7: Coeficient de suplémentaire | J7: =F28/E28 -> 1.2068705
B9: Individuel | C9: 28 | D9: =C9*D28/C28 -> 0.2933523 | E9: =D9*6 -> 1.7601138 | F9: 2.4 | I9: Coeficient total | J9: =J7+6 -> 7.2068705
B10: 1 part | C10: =C28/55 -> 38.345455 | D10: =C10*D28/C28 -> 0.40174026 | E10: =D10*6 -> 2.4104416 | F10: =E10*J7 -> 2.9090909
B11: 4 Pers. | C11: =C10*4 -> 153.38182 | D11: =C11*D28/C28 -> 1.606961 | E11: =D11*6 -> 9.6417662 | F11: =E11*J7 -> 11.636364
B12: 6 Pers. | C12: =C10*6 -> 230.07273 | D12: =C12*D28/C28 -> 2.4104416 | E12: =D12*6 -> 14.462649 | F12: =E12*J7 -> 17.454545
B13: 8 Pers. | C13: =C10*8 -> 306.76364 | D13: =C13*D28/C28 -> 3.2139221 | E13: =D13*6 -> 19.283532 | F13: =E13*J7 -> 23.272727
B14: 10 Pers. | C14: =C10*10 -> 383.45455 | D14: =C14*D28/C28 -> 4.0174026 | E14: =D14*6 -> 24.104416 | F14: =E14*J7 -> 29.090909
B15: 12 Pers. | C15: =C10*12 -> 460.14545 | D15: =C15*D28/C28 -> 4.8208831 | E15: =D15*6 -> 28.925299 | F15: =E15*J7 -> 34.909091
B16: 14 Pers. | C16: =C10*14 -> 536.83636 | D16: =C16*D28/C28 -> 5.6243636 | E16: =D16*6 -> 33.746182 | F16: =E16*J7 -> 40.727273
B17: 15 Pers. | C17: =C10*15 -> 575.18182 | D17: =C17*D28/C28 -> 6.0261039 | E17: =D17*6 -> 36.156623 | F17: =E17*J7 -> 43.636364
B18: 16 Pers. | C18: =C10*16 -> 613.52727 | D18: =C18*D28/C28 -> 6.4278442 | E18: =D18*6 -> 38.567065 | F18: =E18*J7 -> 46.545455
B19: 18 Pers. | C19: =C10*18 -> 690.21818 | D19: =C19*D28/C28 -> 7.2313247 | E19: =D19*6 -> 43.387948 | F19: =E19*J7 -> 52.363636
B20: 20 Pers. | C20: =C10*20 -> 766.90909 | D20: =C20*D28/C28 -> 8.0348052 | E20: =D20*6 -> 48.208831 | F20: =E20*J7 -> 58.181818
B21: 22 Pers. | C21: =C10*22 -> 843.6 | D21: =C21*D28/C28 -> 8.8382857 | E21: =D21*6 -> 53.029714 | F21: =E21*J7 -> 64
B22: 25 Pers. | C22: =C10*25 -> 958.63636 | D22: =C22*D28/C28 -> 10.043506 | E22: =D22*6 -> 60.261039 | F22: =E22*J7 -> 72.727273
B23: 30 Pers. | C23: =C10*30 -> 1150.3636 | D23: =C23*D28/C28 -> 12.052208 | E23: =D23*6 -> 72.313247 | F23: =E23*J7 -> 87.272727
B24: 35 Pers. | C24: =C10*35 -> 1342.0909 | D24: =C24*D28/C28 -> 14.060909 | E24: =D24*6 -> 84.365455 | F24: =E24*J7 -> 101.81818
B25: 40 Pers. | C25: =C10*40 -> 1533.8182 | D25: =C25*D28/C28 -> 16.06961 | E25: =D25*6 -> 96.417662 | F25: =E25*J7 -> 116.36364
B26: 45 Pers. | C26: =C10*45 -> 1725.5455 | D26: =C26*D28/C28 -> 18.078312 | E26: =D26*6 -> 108.46987 | F26: =E26*J7 -> 130.90909
B27: 50 Pers. | C27: =C10*50 -> 1917.2727 | D27: =C27*D28/C28 -> 20.087013 | E27: =D27*6 -> 120.52208 | F27: =E27*J7 -> 145.45455
B28: 55 Pers. (1 Cadre) | C28: 2109 | D28: =Entremet!E28 -> 22.095714 | E28: =D28*6 -> 132.57429 | F28: 160

Sheet Entremet
B6: Ingrédient | C6: Prix unité | D6: Poids | E6: Prix
B7: Beurre doux de bretagne 500gr | C7: =[1]Feuil1!$N$65 -> 4.4 | D7: =Recette!C17 -> 250 | E7: =D7*C7/1000 -> 1.1
B8: Feuilletine craquantine 2,5kg | C8: =[1]Feuil1!$N$184 -> 5.8 | D8: =Recette!C18 -> 500 | E8: =D8*C8/1000 -> 2.9
B9: praline douceur amande noisette 5kgs | C9: =[1]Feuil1!$N$261 -> 5.5 | D9: =Recette!C19 -> 1500 | E9: =D9*C9/1000 -> 8.25
B10: creme Liquide 1 L | C10: =[1]Feuil1!$N$163 -> 1.97 | D10: =Recette!C29 -> 2000 | E10: =D10*C10/1000 -> 3.94
B11: couv. fondante 58% 5kg | C11: =[1]Feuil1!$N$150 -> 4.28 | D11: =Recette!C30 -> 900 | E11: =D11*C11/1000 -> 3.852
B12: farine panifiable type 55 base sac 40kg | C12: =[1]Feuil1!$N$401 -> 0.56 | D12: =Recette!C39 -> 85.714286 | E12: =D12*C12/1000 -> 0.048
B13: Sucre cristal fin 20kg | C13: =[1]Feuil1!$N$364 -> 0.779 | D13: =Recette!C40 -> 71.428571 | E13: =D13*C13/1000 -> 0.055642857
B14: Poudre amande rape 10kg | C14: =[1]Feuil1!$N$255 -> 3.36 | D14: =Recette!C41 -> 214.28571 | E14: =D14*C14/1000 -> 0.72
B15: œuf frais 53/63a moyen par 360 | C15: =[1]Feuil1!$N$224 -> 0.093 | D15: =Recette!C42 -> 285.71429 | E15: =(D15/50)*C15 -> 0.53142857
B16: Oeufs blanc longue conserv 2kg | C16: =[1]Feuil1!$N$222 -> 1.861 | D16: =Recette!C44 -> 285.71429 | E16: =D16*C16/1000 -> 0.53171429
B17: Sucre cristal fin 20kg | C17: =[1]Feuil1!$N$364 -> 0.779 | D17: =Recette!C45 -> 214.28571 | E17: =D17*C17/1000 -> 0.16692857
E18: =D18*C18/1000 -> 0
E19: =D19*C19/1000 -> 0
E20: =D20*C20/1000 -> 0
E21: =D21*C21/1000 -> 0
E22: =D22*C22/1000 -> 0
E23: =D23*C23/1000 -> 0
E24: =D24*C24/1000 -> 0
E25: =D25*C25/1000 -> 0
E26: =D26*C26/1000 -> 0
E27: =D27*C27 -> 0
B28: Total | D28: =SUM(D7:D27) -> 6307.1429 | E28: =SUM(E7:E27) -> 22.095714

Sheet Recette
A10: Coéficiant | B10: 0 | C10: 0 | D10: =B10/C10 -> #DIV/0!
A14: Recette : | B14: Croustillant
B16: Ingrédients | C16: 1 | D16: 2 cadres | E16: 3 cadres | F16: 4 cadres | G16: =D10 -> #DIV/0!
B17: Beurre | C17: 250 | D17: =Tableau1[[#This Row],[1 cadre]]*2 -> 500 | E17: =Tableau1[[#This Row],[1 cadre]]*3 -> 750 | F17: =Tableau1[[#This Row],[1 cadre]]*4 -> 1000 | G17: =Tableau1[[#This Row],[1 cadre]]*G16 -> #DIV/0!
B18: Feuilletine | C18: 500 | D18: =Tableau1[[#This Row],[1 cadre]]*2 -> 1000 | E18: =Tableau1[[#This Row],[1 cadre]]*3 -> 1500 | F18: =Tableau1[[#This Row],[1 cadre]]*4 -> 2000 | G18: =Tableau1[[#This Row],[1 cadre]]*G16 -> #DIV/0!
B19: Praliné | C19: 1500 | D19: =Tableau1[[#This Row],[1 cadre]]*2 -> 3000 | E19: =Tableau1[[#This Row],[1 cadre]]*3 -> 4500 | F19: =Tableau1[[#This Row],[1 cadre]]*4 -> 6000 | G19: =G20*Tableau1[[#This Row],[1 cadre]]/C20 -> #DIV/0!
B20: Total | C20: =SUM(C17:C19) -> 2250 | D20: =SUM(D17:D19) -> 4500 | E20: =SUM(E17:E19) -> 6750 | F20: =SUM(F17:F19) -> 9000 | G20: =Tableau1[[#This Row],[1 cadre]]*G16/C16 -> #DIV/0!
A26: Recette : | B26: Mousse Chocolat Noir
B28: Ingrédients | C28: 1 | D28: 2 cadres | E28: 3 cadres | F28: 4 cadres | G28: =G16 -> #DIV/0! | J28: Mousse Choc. N
B29: Crème | C29: 2000 | D29: =Tableau13[[#This Row],[1 cadre]]*2 -> 4000 | E29: =Tableau13[[#This Row],[1 cadre]]*3 -> 6000 | F29: =Tableau13[[#This Row],[1 cadre]]*4 -> 8000 | G29: =G31*Tableau13[[#This Row],[1 cadre]]/C31 -> #DIV/0!
B30: Choc. N | C30: 900 | D30: =Tableau13[[#This Row],[1 cadre]]*2 -> 1800 | E30: =Tableau13[[#This Row],[1 cadre]]*3 -> 2700 | F30: =Tableau13[[#This Row],[1 cadre]]*4 -> 3600 | G30: =G31*Tableau13[[#This Row],[1 cadre]]/C31 -> #DIV/0!
B31: Total | C31: =SUM(C29:C30) -> 2900 | D31: =SUM(D29:D30) -> 5800 | E31: =SUM(E29:E30) -> 8700 | F31: =SUM(F29:F30) -> 11600 | G31: =Tableau13[[#This Row],[1 cadre]]*G28/C28 -> #DIV/0!
A36: Recette : | B36: Biscuit Joconde
A38: Ingrédients | B38: Base | C38: 1 | D38: 2 cadres | E38: 3 cadres | F38: 4 cadres | G38: =G16 -> #DIV/0!
A39: Farine | B39: 300 | C39: =Tableau16[[#This Row],[Colonne1]]/7*2 -> 85.714286 | D39: =Tableau16[[#This Row],[1 cadre]]*2 -> 171.42857 | E39: =Tableau16[[#This Row],[1 cadre]]*3 -> 257.14286 | F39: =Tableau16[[#This Row],[1 cadre]]*4 -> 342.85714 | G39: =G46*Tableau16[[#This Row],[1 cadre]]/C46 -> #DIV/0!
A40: Sucre | B40: 250 | C40: =Tableau16[[#This Row],[Colonne1]]/7*2 -> 71.428571 | D40: =Tableau16[[#This Row],[1 cadre]]*2 -> 142.85714 | E40: =Tableau16[[#This Row],[1 cadre]]*3 -> 214.28571 | F40: =Tableau16[[#This Row],[1 cadre]]*4 -> 285.71429 | G40: =G46*Tableau16[[#This Row],[1 cadre]]/C46 -> #DIV/0!
A41: Pdr d'Amande | B41: 750 | C41: =Tableau16[[#This Row],[Colonne1]]/7*2 -> 214.28571 | D41: =Tableau16[[#This Row],[1 cadre]]*2 -> 428.57143 | E41: =Tableau16[[#This Row],[1 cadre]]*3 -> 642.85714 | F41: =Tableau16[[#This Row],[1 cadre]]*4 -> 857.14286 | G41: =G46*Tableau16[[#This Row],[1 cadre]]/C46 -> #DIV/0!
A42: Œuf | B42: 1000 | C42: =Tableau16[[#This Row],[Colonne1]]/7*2 -> 285.71429 | D42: =Tableau16[[#This Row],[1 cadre]]*2 -> 571.42857 | E42: =Tableau16[[#This Row],[1 cadre]]*3 -> 857.14286 | F42: =Tableau16[[#This Row],[1 cadre]]*4 -> 1142.8571 | G42: =G46*Tableau16[[#This Row],[1 cadre]]/C46 -> #DIV/0!
A43: Beurre | B43: 300 | C43: =Tableau16[[#This Row],[Colonne1]]/7*2 -> 85.714286 | D43: =Tableau16[[#This Row],[1 cadre]]*2 -> 171.42857 | E43: =Tableau16[[#This Row],[1 cadre]]*3 -> 257.14286 | F43: =Tableau16[[#This Row],[1 cadre]]*4 -> 342.85714 | G43: =G46*Tableau16[[#This Row],[1 cadre]]/C46 -> #DIV/0! | J43: Joconde | N43: Croustillant
A44: Blanc | B44: 1000 | C44: =Tableau16[[#This Row],[Colonne1]]/7*2 -> 285.71429 | D44: =Tableau16[[#This Row],[1 cadre]]*2 -> 571.42857 | E44: =Tableau16[[#This Row],[1 cadre]]*3 -> 857.14286 | F44: =Tableau16[[#This Row],[1 cadre]]*4 -> 1142.8571 | G44: =G46*Tableau16[[#This Row],[1 cadre]]/C46 -> #DIV/0!
A45: Sucre | B45: 750 | C45: =Tableau16[[#This Row],[Colonne1]]/7*2 -> 214.28571 | D45: =Tableau16[[#This Row],[1 cadre]]*2 -> 428.57143 | E45: =Tableau16[[#This Row],[1 cadre]]*3 -> 642.85714 | F45: =Tableau16[[#This Row],[1 cadre]]*4 -> 857.14286 | G45: =G46*Tableau16[[#This Row],[1 cadre]]/C46 -> #DIV/0!
A46: Total | B46: =SUM(B39:B45) -> 4350 | C46: =SUM(C39:C45) -> 1242.8571 | D46: =SUM(D39:D45) -> 2485.7143 | E46: =SUM(E39:E45) -> 3728.5714 | F46: =SUM(F39:F45) -> 4971.4286 | G46: =Tableau16[[#This Row],[1 cadre]]*G38/C38 -> #DIV/0!
