Workbook

Sheet BILAN
E1: =CONCATENATE("BILAN PROD DU"&" " &TEXT('[1]BDD-Expé'!B2,"jj-mm-aaaa")) -> BILAN PROD DU 03-10-2022
B3: PROD CARISTE / Heure | G3: RECEP | H3: CHARG
B4: Identifiant | C4: PAL / H | D4: COLIS /H | F4: Identifiant | G4: PAL / H | H4: PAL / H | I4: TOTAL PROD
B5: =IF(TCD!B4>0,TCD!B4,"") -> Bruno COURTOIS EMB | C5: =IF(TCD!C4>0,TCD!C4/TCD!$P$2,"") -> 3.59375 | D5: =IF(TCD!D4>0,TCD!D4/TCD!$P$2,"") | F5: =IFERROR(IF(RIGHT(TCD!F4,3)="EMB",LEFT(TCD!F4,LEN(TCD!F4)-4),TCD!F4),"") -> Bruno COURTOIS | G5: =IF(TCD!G4>0,TCD!G4/TCD!$P$2,"") -> 3.90625 | H5: =IFERROR(IF(VLOOKUP(F5,TCD!$I$4:$J$36,2,FALSE)<>0,VLOOKUP(BILAN!F5,TCD!$I$4:$J$33,2,FALSE)/TCD!$P$2,1),"") -> 19.0625 | I5: =IF(G5="",H5,IF(H5="",G5,H5+G5)) -> 22.96875
B6: =IF(TCD!B5>0,TCD!B5,"") -> Christophe CHERINO EMB | C6: =IF(TCD!C5>0,TCD!C5/TCD!$P$2,"") -> 16.71875 | D6: =IF(TCD!D5>0,TCD!D5/TCD!$P$2,"") | F6: =IFERROR(IF(RIGHT(TCD!F5,3)="EMB",LEFT(TCD!F5,LEN(TCD!F5)-4),TCD!F5),"") -> James RESCANIERES | G6: =IF(TCD!G5>0,TCD!G5/TCD!$P$2,"") -> 20.625 | H6: =IFERROR(IF(VLOOKUP(F6,TCD!$I$4:$J$36,2,FALSE)<>0,VLOOKUP(BILAN!F6,TCD!$I$4:$J$33,2,FALSE)/TCD!$P$2,1),"") -> 17.34375 | I6: =IF(G6="",H6,IF(H6="",G6,H6+G6)) -> 37.96875
B7: =IF(TCD!B6>0,TCD!B6,"") -> Herve MUNOT EMB | C7: =IF(TCD!C6>0,TCD!C6/TCD!$P$2,"") -> 22.1875 | D7: =IF(TCD!D6>0,TCD!D6/TCD!$P$2,"") | F7: =IFERROR(IF(RIGHT(TCD!F6,3)="EMB",LEFT(TCD!F6,LEN(TCD!F6)-4),TCD!F6),"") -> Jimmy RESCANIERES | G7: =IF(TCD!G6>0,TCD!G6/TCD!$P$2,"") -> 20.3125 | H7: =IFERROR(IF(VLOOKUP(F7,TCD!$I$4:$J$36,2,FALSE)<>0,VLOOKUP(BILAN!F7,TCD!$I$4:$J$33,2,FALSE)/TCD!$P$2,1),"") -> 8.125 | I7: =IF(G7="",H7,IF(H7="",G7,H7+G7)) -> 28.4375
B8: =IF(TCD!B7>0,TCD!B7,"") -> INTERIM 5 EMB | C8: =IF(TCD!C7>0,TCD!C7/TCD!$P$2,"") -> 1.25 | D8: =IF(TCD!D7>0,TCD!D7/TCD!$P$2,"") | F8: =IFERROR(IF(RIGHT(TCD!F7,3)="EMB",LEFT(TCD!F7,LEN(TCD!F7)-4),TCD!F7),"") -> Patrick DUPERCHE | G8: =IF(TCD!G7>0,TCD!G7/TCD!$P$2,"") -> 5 | H8: =IFERROR(IF(VLOOKUP(F8,TCD!$I$4:$J$36,2,FALSE)<>0,VLOOKUP(BILAN!F8,TCD!$I$4:$J$33,2,FALSE)/TCD!$P$2,1),"") -> 17.65625 | I8: =IF(G8="",H8,IF(H8="",G8,H8+G8)) -> 22.65625
B9: =IF(TCD!B8>0,TCD!B8,"") -> INTERIM 29 EMB | C9: =IF(TCD!C8>0,TCD!C8/TCD!$P$2,"") -> 8.4375 | D9: =IF(TCD!D8>0,TCD!D8/TCD!$P$2,"") | F9: =IFERROR(IF(RIGHT(TCD!F8,3)="EMB",LEFT(TCD!F8,LEN(TCD!F8)-4),TCD!F8),"") -> Mehdi CHEKALIL | G9: =IF(TCD!G8>0,TCD!G8/TCD!$P$2,"") -> 25.15625 | H9: =IFERROR(IF(VLOOKUP(F9,TCD!$I$4:$J$36,2,FALSE)<>0,VLOOKUP(BILAN!F9,TCD!$I$4:$J$33,2,FALSE)/TCD!$P$2,1),"") | I9: =IF(G9="",H9,IF(H9="",G9,H9+G9)) -> 25.15625
B10: =IF(TCD!B9>0,TCD!B9,"") -> INTERIM 33 EMB | C10: =IF(TCD!C9>0,TCD!C9/TCD!$P$2,"") -> 39.0625 | D10: =IF(TCD!D9>0,TCD!D9/TCD!$P$2,"") | F10: =IFERROR(IF(RIGHT(TCD!F9,3)="EMB",LEFT(TCD!F9,LEN(TCD!F9)-4),TCD!F9),"") -> Roman ALLART | G10: =IF(TCD!G9>0,TCD!G9/TCD!$P$2,"") -> 5.15625 | H10: =IFERROR(IF(VLOOKUP(F10,TCD!$I$4:$J$36,2,FALSE)<>0,VLOOKUP(BILAN!F10,TCD!$I$4:$J$33,2,FALSE)/TCD!$P$2,1),"") | I10: =IF(G10="",H10,IF(H10="",G10,H10+G10)) -> 5.15625
B11: =IF(TCD!B10>0,TCD!B10,"") -> Kevin ARNOULT EMB | C11: =IF(TCD!C10>0,TCD!C10/TCD!$P$2,"") -> 0.3125 | D11: =IF(TCD!D10>0,TCD!D10/TCD!$P$2,"") | F11: =IFERROR(IF(RIGHT(TCD!F10,3)="EMB",LEFT(TCD!F10,LEN(TCD!F10)-4),TCD!F10),"") -> Siaka COULIBALY | G11: =IF(TCD!G10>0,TCD!G10/TCD!$P$2,"") -> 5.15625 | H11: =IFERROR(IF(VLOOKUP(F11,TCD!$I$4:$J$36,2,FALSE)<>0,VLOOKUP(BILAN!F11,TCD!$I$4:$J$33,2,FALSE)/TCD!$P$2,1),"") -> 22.96875 | I11: =IF(G11="",H11,IF(H11="",G11,H11+G11)) -> 28.125
B12: =IF(TCD!B11>0,TCD!B11,"") -> Leonard DELETANG EMB | C12: =IF(TCD!C11>0,TCD!C11/TCD!$P$2,"") -> 0.3125 | D12: =IF(TCD!D11>0,TCD!D11/TCD!$P$2,"") -> 50 | F12: =IFERROR(IF(RIGHT(TCD!F11,3)="EMB",LEFT(TCD!F11,LEN(TCD!F11)-4),TCD!F11),"") -> 0 | G12: =IF(TCD!G11>0,TCD!G11/TCD!$P$2,"") | H12: =IFERROR(IF(VLOOKUP(F12,TCD!$I$4:$J$36,2,FALSE)<>0,VLOOKUP(BILAN!F12,TCD!$I$4:$J$33,2,FALSE)/TCD!$P$2,1),"") | I12: =IF(G12="",H12,IF(H12="",G12,H12+G12))
B13: =IF(TCD!B12>0,TCD!B12,"") -> Ludovic DOYEN EMB | C13: =IF(TCD!C12>0,TCD!C12/TCD!$P$2,"") -> 30.15625 | D13: =IF(TCD!D12>0,TCD!D12/TCD!$P$2,"") | F13: =IFERROR(IF(RIGHT(TCD!F12,3)="EMB",LEFT(TCD!F12,LEN(TCD!F12)-4),TCD!F12),"") -> 0 | G13: =IF(TCD!G12>0,TCD!G12/TCD!$P$2,"") | H13: =IFERROR(IF(VLOOKUP(F13,TCD!$I$4:$J$36,2,FALSE)<>0,VLOOKUP(BILAN!F13,TCD!$I$4:$J$33,2,FALSE)/TCD!$P$2,1),"") | I13: =IF(G13="",H13,IF(H13="",G13,H13+G13))
B14: =IF(TCD!B13>0,TCD!B13,"") -> Mahamadou DIARRA EMB | C14: =IF(TCD!C13>0,TCD!C13/TCD!$P$2,"") -> 19.21875 | D14: =IF(TCD!D13>0,TCD!D13/TCD!$P$2,"") | F14: =IFERROR(IF(RIGHT(TCD!F13,3)="EMB",LEFT(TCD!F13,LEN(TCD!F13)-4),TCD!F13),"") -> 0 | G14: =IF(TCD!G13>0,TCD!G13/TCD!$P$2,"") | H14: =IFERROR(IF(VLOOKUP(F14,TCD!$I$4:$J$36,2,FALSE)<>0,VLOOKUP(BILAN!F14,TCD!$I$4:$J$33,2,FALSE)/TCD!$P$2,1),"") | I14: =IF(G14="",H14,IF(H14="",G14,H14+G14))
B15: =IF(TCD!B14>0,TCD!B14,"") -> Mohamed ZIBOU EMB | C15: =IF(TCD!C14>0,TCD!C14/TCD!$P$2,"") -> 17.03125 | D15: =IF(TCD!D14>0,TCD!D14/TCD!$P$2,"") | F15: =IFERROR(IF(RIGHT(TCD!F14,3)="EMB",LEFT(TCD!F14,LEN(TCD!F14)-4),TCD!F14),"") -> 0 | G15: =IF(TCD!G14>0,TCD!G14/TCD!$P$2,"") | H15: =IFERROR(IF(VLOOKUP(F15,TCD!$I$4:$J$36,2,FALSE)<>0,VLOOKUP(BILAN!F15,TCD!$I$4:$J$33,2,FALSE)/TCD!$P$2,1),"") | I15: =IF(G15="",H15,IF(H15="",G15,H15+G15))
B16: =IF(TCD!B15>0,TCD!B15,"") -> Mathias DASILVA EMB | C16: =IF(TCD!C15>0,TCD!C15/TCD!$P$2,"") -> 21.09375 | D16: =IF(TCD!D15>0,TCD!D15/TCD!$P$2,"") | F16: =IFERROR(IF(RIGHT(TCD!F15,3)="EMB",LEFT(TCD!F15,LEN(TCD!F15)-4),TCD!F15),"") -> 0 | G16: =IF(TCD!G15>0,TCD!G15/TCD!$P$2,"") | H16: =IFERROR(IF(VLOOKUP(F16,TCD!$I$4:$J$36,2,FALSE)<>0,VLOOKUP(BILAN!F16,TCD!$I$4:$J$33,2,FALSE)/TCD!$P$2,1),"") | I16: =IF(G16="",H16,IF(H16="",G16,H16+G16))
B17: =IF(TCD!B16>0,TCD!B16,"") -> Michael DOMBRY EMB | C17: 0 | D17: =IF(TCD!D16>0,TCD!D16/TCD!$P$2,"") | F17: =IFERROR(IF(RIGHT(TCD!F16,3)="EMB",LEFT(TCD!F16,LEN(TCD!F16)-4),TCD!F16),"") -> 0 | G17: =IF(TCD!G16>0,TCD!G16/TCD!$P$2,"") | H17: =IFERROR(IF(VLOOKUP(F17,TCD!$I$4:$J$36,2,FALSE)<>0,VLOOKUP(BILAN!F17,TCD!$I$4:$J$33,2,FALSE)/TCD!$P$2,1),"") | I17: =IF(G17="",H17,IF(H17="",G17,H17+G17))
B18: =IF(TCD!B17>0,TCD!B17,"") -> Omega SIEKE EMB | C18: =IF(TCD!C17>0,TCD!C17/TCD!$P$2,"") -> 19.375 | D18: =IF(TCD!D17>0,TCD!D17/TCD!$P$2,"") | F18: =IFERROR(IF(RIGHT(TCD!F17,3)="EMB",LEFT(TCD!F17,LEN(TCD!F17)-4),TCD!F17),"") -> 0 | G18: =IF(TCD!G17>0,TCD!G17/TCD!$P$2,"") | H18: =IFERROR(IF(VLOOKUP(F18,TCD!$I$4:$J$36,2,FALSE)<>0,VLOOKUP(BILAN!F18,TCD!$I$4:$J$33,2,FALSE)/TCD!$P$2,1),"") | I18: =IF(G18="",H18,IF(H18="",G18,H18+G18))
B19: =IF(TCD!B18>0,TCD!B18,"") -> Sylvain GILLOT EMB | C19: =IF(TCD!C18>0,TCD!C18/TCD!$P$2,"") -> 27.1875 | D19: =IF(TCD!D18>0,TCD!D18/TCD!$P$2,"") | F19: =IFERROR(IF(RIGHT(TCD!F18,3)="EMB",LEFT(TCD!F18,LEN(TCD!F18)-4),TCD!F18),"") -> 0 | G19: =IF(TCD!G18>0,TCD!G18/TCD!$P$2,"") | H19: =IFERROR(IF(VLOOKUP(F19,TCD!$I$4:$J$36,2,FALSE)<>0,VLOOKUP(BILAN!F19,TCD!$I$4:$J$33,2,FALSE)/TCD!$P$2,1),"") | I19: =IF(G19="",H19,IF(H19="",G19,H19+G19))
B20: =IF(TCD!B19>0,TCD!B19,"") -> Mehdi CHEKALIL EMB | C20: =IF(TCD!C19>0,TCD!C19/TCD!$P$2,"") | D20: =IF(TCD!D19>0,TCD!D19/TCD!$P$2,"") -> 42.03125 | F20: =IFERROR(IF(RIGHT(TCD!F19,3)="EMB",LEFT(TCD!F19,LEN(TCD!F19)-4),TCD!F19),"") -> 0 | G20: =IF(TCD!G19>0,TCD!G19/TCD!$P$2,"") | H20: =IFERROR(IF(VLOOKUP(F20,TCD!$I$4:$J$36,2,FALSE)<>0,VLOOKUP(BILAN!F20,TCD!$I$4:$J$33,2,FALSE)/TCD!$P$2,1),"") | I20: =IF(G20="",H20,IF(H20="",G20,H20+G20))
B21: =IF(TCD!B20>0,TCD!B20,"") -> Roman ALLART EMB | C21: =IF(TCD!C20>0,TCD!C20/TCD!$P$2,"") -> 20.9375 | D21: =IF(TCD!D20>0,TCD!D20/TCD!$P$2,"") -> 13.125 | F21: =IFERROR(IF(RIGHT(TCD!F20,3)="EMB",LEFT(TCD!F20,LEN(TCD!F20)-4),TCD!F20),"") -> 0 | G21: =IF(TCD!G20>0,TCD!G20/TCD!$P$2,"") | H21: =IFERROR(IF(VLOOKUP(F21,TCD!$I$4:$J$36,2,FALSE)<>0,VLOOKUP(BILAN!F21,TCD!$I$4:$J$33,2,FALSE)/TCD!$P$2,1),"") | I21: =IF(G21="",H21,IF(H21="",G21,H21+G21))
B22: =IF(TCD!B21>0,TCD!B21,"") -> Cyril MENDIANT EMB | C22: =IF(TCD!C21>0,TCD!C21/TCD!$P$2,"") | D22: =IF(TCD!D21>0,TCD!D21/TCD!$P$2,"") -> 183.75 | F22: =IFERROR(IF(RIGHT(TCD!F21,3)="EMB",LEFT(TCD!F21,LEN(TCD!F21)-4),TCD!F21),"") -> 0 | G22: =IF(TCD!G21>0,TCD!G21/TCD!$P$2,"") | H22: =IFERROR(IF(VLOOKUP(F22,TCD!$I$4:$J$36,2,FALSE)<>0,VLOOKUP(BILAN!F22,TCD!$I$4:$J$33,2,FALSE)/TCD!$P$2,1),"") | I22: =IF(G22="",H22,IF(H22="",G22,H22+G22))
B23: =IF(TCD!B22>0,TCD!B22,"") -> Lucas MAROLANY EMB | C23: =IF(TCD!C22>0,TCD!C22/TCD!$P$2,"") -> 19.0625 | D23: =IF(TCD!D22>0,TCD!D22/TCD!$P$2,"") | F23: =IFERROR(IF(RIGHT(TCD!F22,3)="EMB",LEFT(TCD!F22,LEN(TCD!F22)-4),TCD!F22),"") -> 0 | G23: =IF(TCD!G22>0,TCD!G22/TCD!$P$2,"") | H23: =IFERROR(IF(VLOOKUP(F23,TCD!$I$4:$J$36,2,FALSE)<>0,VLOOKUP(BILAN!F23,TCD!$I$4:$J$33,2,FALSE)/TCD!$P$2,1),"") | I23: =IF(G23="",H23,IF(H23="",G23,H23+G23))
B24: =IF(TCD!B23>0,TCD!B23,"") | C24: =IF(TCD!C23>0,TCD!C23/TCD!$P$2,"") | D24: =IF(TCD!D23>0,TCD!D23/TCD!$P$2,"") | F24: =IFERROR(IF(RIGHT(TCD!F23,3)="EMB",LEFT(TCD!F23,LEN(TCD!F23)-4),TCD!F23),"") -> 0 | G24: =IF(TCD!G23>0,TCD!G23/TCD!$P$2,"") | H24: =IFERROR(IF(VLOOKUP(F24,TCD!$I$4:$J$36,2,FALSE)<>0,VLOOKUP(BILAN!F24,TCD!$I$4:$J$33,2,FALSE)/TCD!$P$2,1),"") | I24: =IF(G24="",H24,IF(H24="",G24,H24+G24))
B25: =IF(TCD!B24>0,TCD!B24,"") | C25: =IF(TCD!C24>0,TCD!C24/TCD!$P$2,"") | D25: =IF(TCD!D24>0,TCD!D24/TCD!$P$2,"") | F25: =IFERROR(IF(RIGHT(TCD!F24,3)="EMB",LEFT(TCD!F24,LEN(TCD!F24)-4),TCD!F24),"") -> 0 | G25: =IF(TCD!G24>0,TCD!G24/TCD!$P$2,"") | H25: =IFERROR(IF(VLOOKUP(F25,TCD!$I$4:$J$36,2,FALSE)<>0,VLOOKUP(BILAN!F25,TCD!$I$4:$J$33,2,FALSE)/TCD!$P$2,1),"") | I25: =IF(G25="",H25,IF(H25="",G25,H25+G25))
B26: =IF(TCD!B25>0,TCD!B25,"") | C26: =IF(TCD!C25>0,TCD!C25/TCD!$P$2,"") | D26: =IF(TCD!D25>0,TCD!D25/TCD!$P$2,"") | F26: =IFERROR(IF(RIGHT(TCD!F25,3)="EMB",LEFT(TCD!F25,LEN(TCD!F25)-4),TCD!F25),"") -> 0 | G26: =IF(TCD!G25>0,TCD!G25/TCD!$P$2,"") | H26: =IFERROR(IF(VLOOKUP(F26,TCD!$I$4:$J$36,2,FALSE)<>0,VLOOKUP(BILAN!F26,TCD!$I$4:$J$33,2,FALSE)/TCD!$P$2,1),"") | I26: =IF(G26="",H26,IF(H26="",G26,H26+G26))
B27: =IF(TCD!B26>0,TCD!B26,"") | C27: =IF(TCD!C26>0,TCD!C26/TCD!$P$2,"") | D27: =IF(TCD!D26>0,TCD!D26/TCD!$P$2,"") | F27: =IFERROR(IF(RIGHT(TCD!F26,3)="EMB",LEFT(TCD!F26,LEN(TCD!F26)-4),TCD!F26),"") -> 0 | G27: =IF(TCD!G26>0,TCD!G26/TCD!$P$2,"") | H27: =IFERROR(IF(VLOOKUP(F27,TCD!$I$4:$J$36,2,FALSE)<>0,VLOOKUP(BILAN!F27,TCD!$I$4:$J$33,2,FALSE)/TCD!$P$2,1),"") | I27: =IF(G27="",H27,IF(H27="",G27,H27+G27))
B28: =IF(TCD!B27>0,TCD!B27,"") | C28: =IF(TCD!C27>0,TCD!C27/TCD!$P$2,"") | D28: =IF(TCD!D27>0,TCD!D27/TCD!$P$2,"") | F28: =IFERROR(IF(RIGHT(TCD!F27,3)="EMB",LEFT(TCD!F27,LEN(TCD!F27)-4),TCD!F27),"") -> 0 | G28: =IF(TCD!G27>0,TCD!G27/TCD!$P$2,"") | H28: =IFERROR(IF(VLOOKUP(F28,TCD!$I$4:$J$36,2,FALSE)<>0,VLOOKUP(BILAN!F28,TCD!$I$4:$J$33,2,FALSE)/TCD!$P$2,1),"") | I28: =IF(G28="",H28,IF(H28="",G28,H28+G28))
B29: =IF(TCD!B28>0,TCD!B28,"") | C29: =IF(TCD!C28>0,TCD!C28/TCD!$P$2,"") | D29: =IF(TCD!D28>0,TCD!D28/TCD!$P$2,"") | F29: =IFERROR(IF(RIGHT(TCD!F28,3)="EMB",LEFT(TCD!F28,LEN(TCD!F28)-4),TCD!F28),"") -> 0 | G29: =IF(TCD!G28>0,TCD!G28/TCD!$P$2,"") | H29: =IFERROR(IF(VLOOKUP(F29,TCD!$I$4:$J$36,2,FALSE)<>0,VLOOKUP(BILAN!F29,TCD!$I$4:$J$33,2,FALSE)/TCD!$P$2,1),"") | I29: =IF(G29="",H29,IF(H29="",G29,H29+G29))
... B48: =IF(TCD!B47>0,TCD!B47,"") | C48: =IF(TCD!C47>0,TCD!C47/TCD!$P$2,"") | D48: =IF(TCD!D47>0,TCD!D47/TCD!$P$2,"") | F48: =IFERROR(IF(RIGHT(TCD!F47,3)="EMB",LEFT(TCD!F47,LEN(TCD!F47)-4),TCD!F47),"") -> 0 | G48: =IF(TCD!G47>0,TCD!G47/TCD!$P$2,"") | H48: =IFERROR(IF(VLOOKUP(F48,TCD!$I$4:$J$36,2,FALSE)<>0,VLOOKUP(BILAN!F48,TCD!$I$4:$J$33,2,FALSE)/TCD!$P$2,1),"") | I48: =IF(G48="",H48,IF(H48="",G48,H48+G48))

Sheet TCD
B1: =CONCATENATE(V2&TEXT('[1]BDD-Cariste'!A2,"jj/mm/aaaa")& " " & TCD!V3& " " &TEXT('[1]BDD-Cariste'!B2,"jj/mm/aaaa")) -> Période du 03/10/2022 au 03/10/2022 | N1: Jours travaillés sur la période : | P1: =NETWORKDAYS('[1]BDD-Expé'!A2,'[1]BDD-Expé'!B2,) -> 1 | R1: % | S1: PALETTES CHARGEES | T1: MONTANT
N2: Nombre d'heures travaillées : | P2: =P1*6.4 -> 6.4 | R2: 1 | S2: 40 | T2: 130 | V2: Période du
B3: Étiquettes de lignes | C3: Somme de TOTAL ( Nb SUPP ) | D3: Somme de DPP-DPS ( Nb COLIS ) | F3: Étiquettes de lignes | G3: Somme de Supports Réceptionnés | I3: Étiquettes de lignes | J3: Somme de Nombre de supports chargés | R3: 0.8 | S3: 38 | T3: 104 | V3: au
B4: Bruno COURTOIS EMB | C4: 23 | D4: 0 | F4: Bruno COURTOIS EMB | G4: 25 | I4: Bruno COURTOIS | J4: 122 | R4: 0.6 | S4: 36 | T4: 78
B5: Christophe CHERINO EMB | C5: 107 | D5: 0 | F5: James RESCANIERES EMB | G5: 132 | I5: Jimmy RESCANIERES | J5: 52 | R5: 0.4 | S5: 34 | T5: 52
B6: Herve MUNOT EMB | C6: 142 | D6: 0 | F6: Jimmy RESCANIERES EMB | G6: 130 | I6: Patrick DUPERCHE | J6: 113 | R6: 0.2 | S6: 32 | T6: 26
B7: INTERIM 5 EMB | C7: 8 | D7: 0 | F7: Patrick DUPERCHE EMB | G7: 32 | I7: Siaka COULIBALY | J7: 147 | R7: 0 | S7: 30 | T7: 0
B8: INTERIM 29 EMB | C8: 54 | D8: 0 | F8: Mehdi CHEKALIL EMB | G8: 161 | I8: James RESCANIERES | J8: 111
B9: INTERIM 33 EMB | C9: 250 | D9: 0 | F9: Roman ALLART EMB | G9: 33 | I9: Interim 07 PEPSI | J9: 17 | R9: GRILLE POUR PRIMES
B10: Kevin ARNOULT EMB | C10: 2 | D10: 0 | F10: Siaka COULIBALY EMB | G10: 33 | I10: Steve ROUSSILLON | J10: 17 | R10: % | S10: PALETTES | T10: MONTANT
B11: Leonard DELETANG EMB | C11: 2 | D11: 320 | I11: Steevie TISAL | J11: 47 | R11: 1 | S11: 26 | T11: 130
B12: Ludovic DOYEN EMB | C12: 193 | D12: 0 | I12: Christophe CHERINO | J12: 28 | R12: 0.8 | S12: 24 | T12: 104
B13: Mahamadou DIARRA EMB | C13: 123 | D13: 0 | I13: Didier THIMOTHE | J13: 1 | R13: 0.6 | S13: 22 | T13: 78
B14: Mohamed ZIBOU EMB | C14: 109 | D14: 0 | R14: 0.4 | S14: 20 | T14: 52
B15: Mathias DASILVA EMB | C15: 135 | D15: 0 | R15: 0.2 | S15: 18 | T15: 26
B16: Michael DOMBRY EMB | C16: 132 | D16: 0 | R16: 0 | S16: 16 | T16: 0
B17: Omega SIEKE EMB | C17: 124 | D17: 0
B18: Sylvain GILLOT EMB | C18: 174 | D18: 0
B19: Mehdi CHEKALIL EMB | C19: 0 | D19: 269
B20: Roman ALLART EMB | C20: 134 | D20: 84
B21: Cyril MENDIANT EMB | C21: 0 | D21: 1176
B22: Lucas MAROLANY EMB | C22: 122 | D22: 0
