Workbook

Sheet Global en heures
A2: Date | B2: (Tous)
A4: Étiquettes de lignes | B4: Planifié | C4: Non Planifié : Urgent | D4: Non Planifié : Non urgent
A5: #N/A | B5: 533.75 | C5: 617.5 | D5: 771.5
A6: Autres | B6: 663.25 | C6: 87 | D6: 394
A7: Biamonique | B7: 477.5 | C7: 449.81 | D7: 143.5
A8: D1 | B8: 109 | C8: 431 | D8: 221.5
A9: Engrais | B9: 1214 | C9: 1074 | D9: 763.75
A10: Entretien | B10: 110.5 | C10: 62 | D10: 289.25
A11: Hydro | C11: 58.5 | D11: 2.5
A12: P2O5 | B12: 9213 | C12: 3245.25 | D12: 2279.75
A13: PTA | B13: 1449.5 | C13: 2854 | D13: 1025.25
A14: Soufre & Energie - Sulfine | B14: 657 | C14: 3660.75 | D14: 1656.5
A15: Zéoline | B15: 861.75 | C15: 599.5 | D15: 362.5
A16: Silox | C16: 6 | D16: 1.5
A17: (vide)
A18: Total général | B18: 15289.25 | C18: 13145.31 | D18: 7911.5

Sheet Global en %
A2: Planification par unité de production
A4: Division | B4: Planifié | C4: Non Planifié urgent | D4: Non planifié non urgent | E4: Total | F4: Planifié % | G4: Non Planifié urgent % | H4: Non planifié non urgent %
A5: #N/A | B5: =GETPIVOTDATA("Planifié ",'Global en heures'!$A$4,"Usine","#N/A") -> 533.75 | C5: =GETPIVOTDATA("Non Planifié : Urgent ",'Global en heures'!$A$4,"Usine","#N/A") -> 617.5 | D5: =GETPIVOTDATA("Non Planifié : Non urgent ",'Global en heures'!$A$4,"Usine","#N/A") -> 771.5 | E5: =SUM(Tableau3[[#This Row],[Planifié ]:[Non planifié non urgent ]]) -> 1922.75 | F5: =Tableau3[[#This Row],[Planifié ]]/Tableau3[[#This Row],[Total]] -> 0.27759719 | G5: =Tableau3[[#This Row],[Non Planifié urgent ]]/Tableau3[[#This Row],[Total]] -> 0.3211546 | H5: =Tableau3[[#This Row],[Non planifié non urgent ]]/Tableau3[[#This Row],[Total]] -> 0.40124821
A6: Autres | B6: =GETPIVOTDATA("Planifié ",'Global en heures'!$A$4,"Usine","Autres") -> 663.25 | C6: =GETPIVOTDATA("Non Planifié : Urgent ",'Global en heures'!$A$4,"Usine","Autres") -> 87 | D6: =GETPIVOTDATA("Non Planifié : Non urgent ",'Global en heures'!$A$4,"Usine","Autres") -> 394 | E6: =SUM(Tableau3[[#This Row],[Planifié ]:[Non planifié non urgent ]]) -> 1144.25 | F6: =Tableau3[[#This Row],[Planifié ]]/Tableau3[[#This Row],[Total]] -> 0.57963732 | G6: =Tableau3[[#This Row],[Non Planifié urgent ]]/Tableau3[[#This Row],[Total]] -> 0.076032336 | H6: =Tableau3[[#This Row],[Non planifié non urgent ]]/Tableau3[[#This Row],[Total]] -> 0.34433035
A7: Biamonique | B7: =GETPIVOTDATA("Planifié ",'Global en heures'!$A$4,"Usine","Biamonique") -> 477.5 | C7: =GETPIVOTDATA("Non Planifié : Urgent ",'Global en heures'!$A$4,"Usine","Biamonique") -> 449.81 | D7: =GETPIVOTDATA("Non Planifié : Non urgent ",'Global en heures'!$A$4,"Usine","Biamonique") -> 143.5 | E7: =SUM(Tableau3[[#This Row],[Planifié ]:[Non planifié non urgent ]]) -> 1070.81 | F7: =Tableau3[[#This Row],[Planifié ]]/Tableau3[[#This Row],[Total]] -> 0.44592411 | G7: =Tableau3[[#This Row],[Non Planifié urgent ]]/Tableau3[[#This Row],[Total]] -> 0.42006518 | H7: =Tableau3[[#This Row],[Non planifié non urgent ]]/Tableau3[[#This Row],[Total]] -> 0.1340107
A8: D1 | B8: =GETPIVOTDATA("Planifié ",'Global en heures'!$A$4,"Usine","D1") -> 109 | C8: =GETPIVOTDATA("Non Planifié : Urgent ",'Global en heures'!$A$4,"Usine","D1") -> 431 | D8: =GETPIVOTDATA("Non Planifié : Non urgent ",'Global en heures'!$A$4,"Usine","D1") -> 221.5 | E8: =SUM(Tableau3[[#This Row],[Planifié ]:[Non planifié non urgent ]]) -> 761.5 | F8: =Tableau3[[#This Row],[Planifié ]]/Tableau3[[#This Row],[Total]] -> 0.14313854 | G8: =Tableau3[[#This Row],[Non Planifié urgent ]]/Tableau3[[#This Row],[Total]] -> 0.56598818 | H8: =Tableau3[[#This Row],[Non planifié non urgent ]]/Tableau3[[#This Row],[Total]] -> 0.29087328
A9: Engrais | B9: =GETPIVOTDATA("Planifié ",'Global en heures'!$A$4,"Usine","Engrais") -> 1214 | C9: =GETPIVOTDATA("Non Planifié : Urgent ",'Global en heures'!$A$4,"Usine","Engrais") -> 1074 | D9: =GETPIVOTDATA("Non Planifié : Non urgent ",'Global en heures'!$A$4,"Usine","Engrais") -> 763.75 | E9: =SUM(Tableau3[[#This Row],[Planifié ]:[Non planifié non urgent ]]) -> 3051.75 | F9: =Tableau3[[#This Row],[Planifié ]]/Tableau3[[#This Row],[Total]] -> 0.39780454 | G9: =Tableau3[[#This Row],[Non Planifié urgent ]]/Tableau3[[#This Row],[Total]] -> 0.35192922 | H9: =Tableau3[[#This Row],[Non planifié non urgent ]]/Tableau3[[#This Row],[Total]] -> 0.25026624
A10: Entretien | B10: =GETPIVOTDATA("Planifié ",'Global en heures'!$A$4,"Usine","Entretien") -> 110.5 | C10: =GETPIVOTDATA("Non Planifié : Urgent ",'Global en heures'!$A$4,"Usine","Entretien") -> 62 | D10: =GETPIVOTDATA("Non Planifié : Non urgent ",'Global en heures'!$A$4,"Usine","Entretien") -> 289.25 | E10: =SUM(Tableau3[[#This Row],[Planifié ]:[Non planifié non urgent ]]) -> 461.75 | F10: =Tableau3[[#This Row],[Planifié ]]/Tableau3[[#This Row],[Total]] -> 0.23930698 | G10: =Tableau3[[#This Row],[Non Planifié urgent ]]/Tableau3[[#This Row],[Total]] -> 0.13427179 | H10: =Tableau3[[#This Row],[Non planifié non urgent ]]/Tableau3[[#This Row],[Total]] -> 0.62642122
A11: Hydro | B11: =GETPIVOTDATA("Planifié ",'Global en heures'!$A$4,"Usine","Hydro") -> 0 | C11: =GETPIVOTDATA("Non Planifié : Urgent ",'Global en heures'!$A$4,"Usine","Hydro") -> 58.5 | D11: =GETPIVOTDATA("Non Planifié : Non urgent ",'Global en heures'!$A$4,"Usine","Hydro") -> 2.5 | E11: =SUM(Tableau3[[#This Row],[Planifié ]:[Non planifié non urgent ]]) -> 61 | F11: =Tableau3[[#This Row],[Planifié ]]/Tableau3[[#This Row],[Total]] -> 0 | G11: =Tableau3[[#This Row],[Non Planifié urgent ]]/Tableau3[[#This Row],[Total]] -> 0.95901639 | H11: =Tableau3[[#This Row],[Non planifié non urgent ]]/Tableau3[[#This Row],[Total]] -> 0.040983607
A12: P2O5 | B12: =GETPIVOTDATA("Planifié ",'Global en heures'!$A$4,"Usine","P2O5") -> 9213 | C12: =GETPIVOTDATA("Non Planifié : Urgent ",'Global en heures'!$A$4,"Usine","P2O5") -> 3245.25 | D12: =GETPIVOTDATA("Non Planifié : Non urgent ",'Global en heures'!$A$4,"Usine","P2O5") -> 2279.75 | E12: =SUM(Tableau3[[#This Row],[Planifié ]:[Non planifié non urgent ]]) -> 14738 | F12: =Tableau3[[#This Row],[Planifié ]]/Tableau3[[#This Row],[Total]] -> 0.62511874 | G12: =Tableau3[[#This Row],[Non Planifié urgent ]]/Tableau3[[#This Row],[Total]] -> 0.22019609 | H12: =Tableau3[[#This Row],[Non planifié non urgent ]]/Tableau3[[#This Row],[Total]] -> 0.15468517
A13: PTA | B13: =GETPIVOTDATA("Planifié ",'Global en heures'!$A$4,"Usine","PTA") -> 1449.5 | C13: =GETPIVOTDATA("Non Planifié : Urgent ",'Global en heures'!$A$4,"Usine","PTA") -> 2854 | D13: =GETPIVOTDATA("Non Planifié : Non urgent ",'Global en heures'!$A$4,"Usine","PTA") -> 1025.25 | E13: =SUM(Tableau3[[#This Row],[Planifié ]:[Non planifié non urgent ]]) -> 5328.75 | F13: =Tableau3[[#This Row],[Planifié ]]/Tableau3[[#This Row],[Total]] -> 0.27201501 | G13: =Tableau3[[#This Row],[Non Planifié urgent ]]/Tableau3[[#This Row],[Total]] -> 0.53558527 | H13: =Tableau3[[#This Row],[Non planifié non urgent ]]/Tableau3[[#This Row],[Total]] -> 0.19239972
A14: Soufre & Energie - Sulfine | B14: =GETPIVOTDATA("Planifié ",'Global en heures'!$A$4,"Usine","Soufre & Energie - Sulfine") -> 657 | C14: =GETPIVOTDATA("Non Planifié : Urgent ",'Global en heures'!$A$4,"Usine","Soufre & Energie - Sulfine") -> 3660.75 | D14: =GETPIVOTDATA("Non Planifié : Non urgent ",'Global en heures'!$A$4,"Usine","Soufre & Energie - Sulfine") -> 1656.5 | E14: =SUM(Tableau3[[#This Row],[Planifié ]:[Non planifié non urgent ]]) -> 5974.25 | F14: =Tableau3[[#This Row],[Planifié ]]/Tableau3[[#This Row],[Total]] -> 0.10997196 | G14: =Tableau3[[#This Row],[Non Planifié urgent ]]/Tableau3[[#This Row],[Total]] -> 0.61275474 | H14: =Tableau3[[#This Row],[Non planifié non urgent ]]/Tableau3[[#This Row],[Total]] -> 0.2772733
A15: Zéoline | B15: =GETPIVOTDATA("Planifié ",'Global en heures'!$A$4,"Usine","Zéoline") -> 861.75 | C15: =GETPIVOTDATA("Non Planifié : Urgent ",'Global en heures'!$A$4,"Usine","Zéoline") -> 599.5 | D15: =GETPIVOTDATA("Non Planifié : Non urgent ",'Global en heures'!$A$4,"Usine","Zéoline") -> 362.5 | E15: =SUM(Tableau3[[#This Row],[Planifié ]:[Non planifié non urgent ]]) -> 1823.75 | F15: =Tableau3[[#This Row],[Planifié ]]/Tableau3[[#This Row],[Total]] -> 0.47251542 | G15: =Tableau3[[#This Row],[Non Planifié urgent ]]/Tableau3[[#This Row],[Total]] -> 0.3287183 | H15: =Tableau3[[#This Row],[Non planifié non urgent ]]/Tableau3[[#This Row],[Total]] -> 0.19876628
A16: Silox | B16: =GETPIVOTDATA("Planifié ",'Global en heures'!$A$4,"Usine","Silox") -> 0 | C16: =GETPIVOTDATA("Non Planifié : Urgent ",'Global en heures'!$A$4,"Usine","Silox") -> 6 | D16: =GETPIVOTDATA("Non Planifié : Non urgent ",'Global en heures'!$A$4,"Usine","Silox") -> 1.5 | E16: =SUM(Tableau3[[#This Row],[Planifié ]:[Non planifié non urgent ]]) -> 7.5 | F16: =Tableau3[[#This Row],[Planifié ]]/Tableau3[[#This Row],[Total]] -> 0 | G16: =Tableau3[[#This Row],[Non Planifié urgent ]]/Tableau3[[#This Row],[Total]] -> 0.8 | H16: =Tableau3[[#This Row],[Non planifié non urgent ]]/Tableau3[[#This Row],[Total]] -> 0.2

Sheet Graph mensu MWE
B1: Planification

Sheet Biamonique
A1: Usine | B1: Biamonique
A3: Étiquettes de lignes | B3: Somme de Planifié | C3: Somme de Non Planifié Non urgent | D3: Somme de Non Planifié Urgent | H3: Total | I3: Mois | J3: %Planifié | K3: %NP-Non Urgent | L3: %NP-Urgent
A4: janvier | B4: 105.5 | C4: 11 | D4: 61 | H4: =SUM(B4:D4) -> 177.5 | I4: =A4 -> janvier | J4: =GETPIVOTDATA("Somme de Planifié ",$A$3,"Mois texte ","janvier")/H4 -> 0.5943662 | K4: =GETPIVOTDATA("Somme de Non Planifié Non urgent ",$A$3,"Mois texte ","janvier")/H4 -> 0.061971831 | L4: =GETPIVOTDATA("Somme de Non Planifié Urgent ",$A$3,"Mois texte ","janvier")/H4 -> 0.34366197
A5: février | B5: 50.5 | C5: 35 | D5: 105.5 | H5: =SUM(B5:D5) -> 191 | I5: =A5 -> février | J5: =GETPIVOTDATA("Somme de Planifié ",$A$3,"Mois texte ","février")/H5 -> 0.26439791 | K5: =GETPIVOTDATA("Somme de Non Planifié Non urgent ",$A$3,"Mois texte ","février")/H5 -> 0.18324607 | L5: =GETPIVOTDATA("Somme de Non Planifié Urgent ",$A$3,"Mois texte ","février")/H5 -> 0.55235602
A6: mars | B6: 68 | C6: 42.5 | D6: 54.5 | H6: =SUM(B6:D6) -> 165 | I6: =A6 -> mars | J6: =GETPIVOTDATA("Somme de Planifié ",$A$3,"Mois texte ","mars")/H6 -> 0.41212121 | K6: =GETPIVOTDATA("Somme de Non Planifié Non urgent ",$A$3,"Mois texte ","mars")/H6 -> 0.25757576 | L6: =GETPIVOTDATA("Somme de Non Planifié Urgent ",$A$3,"Mois texte ","mars")/H6 -> 0.33030303
A7: avril | B7: 58.5 | C7: 19.5 | D7: 85.8 | H7: =SUM(B7:D7) -> 163.8 | I7: =A7 -> avril | J7: =GETPIVOTDATA("Somme de Planifié ",$A$3,"Mois texte ","avril")/H7 -> 0.35714286 | K7: =GETPIVOTDATA("Somme de Non Planifié Non urgent ",$A$3,"Mois texte ","avril")/H7 -> 0.11904762 | L7: =GETPIVOTDATA("Somme de Non Planifié Urgent ",$A$3,"Mois texte ","avril")/H7 -> 0.52380952
A8: mai | B8: 122.5 | C8: 27.5 | D8: 118.01 | H8: =SUM(B8:D8) -> 268.01 | I8: =A8 -> mai | J8: =GETPIVOTDATA("Somme de Planifié ",$A$3,"Mois texte ","mai")/H8 -> 0.4570725 | K8: =GETPIVOTDATA("Somme de Non Planifié Non urgent ",$A$3,"Mois texte ","mai")/H8 -> 0.10260811 | L8: =GETPIVOTDATA("Somme de Non Planifié Urgent ",$A$3,"Mois texte ","mai")/H8 -> 0.44031939
A9: juin | B9: 72.5 | C9: 8 | D9: 25 | H9: =SUM(B9:D9) -> 105.5 | I9: =A9 -> juin | J9: =GETPIVOTDATA("Somme de Planifié ",$A$3,"Mois texte ","juin")/H9 -> 0.68720379 | K9: =GETPIVOTDATA("Somme de Non Planifié Non urgent ",$A$3,"Mois texte ","juin")/H9 -> 0.075829384 | L9: =GETPIVOTDATA("Somme de Non Planifié Urgent ",$A$3,"Mois texte ","juin")/H9 -> 0.23696682
A10: Total général | B10: 477.5 | C10: 143.5 | D10: 449.81

Sheet Autres
A1: Usine | B1: (Plusieurs éléments)
A3: Étiquettes de lignes | B3: Somme de Planifié | C3: Somme de Non Planifié Non urgent | D3: Somme de Non Planifié Urgent | H3: Total | I3: Mois | J3: %Planifié | K3: %NP-Non Urgent | L3: %NP-Urgent
A4: janvier | B4: 235 | C4: 260.5 | D4: 87.5 | H4: =SUM(B4:D4) -> 583 | I4: =A4 -> janvier | J4: =GETPIVOTDATA("Somme de Planifié ",$A$3,"Mois texte ","janvier")/H4 -> 0.40308748 | K4: =GETPIVOTDATA("Somme de Non Planifié Non urgent ",$A$3,"Mois texte ","janvier")/H4 -> 0.44682676 | L4: =GETPIVOTDATA("Somme de Non Planifié Urgent ",$A$3,"Mois texte ","janvier")/H4 -> 0.15008576
A5: février | B5: 147 | C5: 172.5 | D5: 154.5 | H5: =SUM(B5:D5) -> 474 | I5: =A5 -> février | J5: =GETPIVOTDATA("Somme de Planifié ",$A$3,"Mois texte ","février")/H5 -> 0.31012658 | K5: =GETPIVOTDATA("Somme de Non Planifié Non urgent ",$A$3,"Mois texte ","février")/H5 -> 0.36392405 | L5: =GETPIVOTDATA("Somme de Non Planifié Urgent ",$A$3,"Mois texte ","février")/H5 -> 0.32594937
A6: mars | B6: 270.25 | C6: 218.5 | D6: 106 | H6: =SUM(B6:D6) -> 594.75 | I6: =A6 -> mars | J6: =GETPIVOTDATA("Somme de Planifié ",$A$3,"Mois texte ","mars")/H6 -> 0.4543926 | K6: =GETPIVOTDATA("Somme de Non Planifié Non urgent ",$A$3,"Mois texte ","mars")/H6 -> 0.36738125 | L6: =GETPIVOTDATA("Somme de Non Planifié Urgent ",$A$3,"Mois texte ","mars")/H6 -> 0.17822615
A7: avril | B7: 165.5 | C7: 205.5 | D7: 157.5 | H7: =SUM(B7:D7) -> 528.5 | I7: =A7 -> avril | J7: =GETPIVOTDATA("Somme de Planifié ",$A$3,"Mois texte ","avril")/H7 -> 0.31315043 | K7: =GETPIVOTDATA("Somme de Non Planifié Non urgent ",$A$3,"Mois texte ","avril")/H7 -> 0.38883633 | L7: =GETPIVOTDATA("Somme de Non Planifié Urgent ",$A$3,"Mois texte ","avril")/H7 -> 0.29801325
A8: mai | B8: 323.25 | C8: 249 | D8: 71.5 | H8: =SUM(B8:D8) -> 643.75 | I8: =A8 -> mai | J8: =GETPIVOTDATA("Somme de Planifié ",$A$3,"Mois texte ","mai")/H8 -> 0.50213592 | K8: =GETPIVOTDATA("Somme de Non Planifié Non urgent ",$A$3,"Mois texte ","mai")/H8 -> 0.38679612 | L8: =GETPIVOTDATA("Somme de Non Planifié Urgent ",$A$3,"Mois texte ","mai")/H8 -> 0.11106796
A9: juin | B9: 56 | C9: 59.5 | D9: 127.5 | H9: =SUM(B9:D9) -> 243 | I9: =A9 -> juin | J9: =GETPIVOTDATA("Somme de Planifié ",$A$3,"Mois texte ","juin")/H9 -> 0.23045267 | K9: =GETPIVOTDATA("Somme de Non Planifié Non urgent ",$A$3,"Mois texte ","juin")/H9 -> 0.24485597 | L9: =GETPIVOTDATA("Somme de Non Planifié Urgent ",$A$3,"Mois texte ","juin")/H9 -> 0.52469136
A10: Total général | B10: 1197 | C10: 1165.5 | D10: 704.5

Sheet D1
A1: Usine | B1: D1
A3: Étiquettes de lignes | B3: Somme de Planifié | C3: Somme de Non Planifié Non urgent | D3: Somme de Non Planifié Urgent | H3: Total | I3: Mois | J3: %Planifié | K3: %NP-Non Urgent | L3: %NP-Urgent
A4: janvier | C4: 70 | D4: 222 | H4: =SUM(B4:D4) -> 292 | I4: =A4 -> janvier | J4: =GETPIVOTDATA("Somme de Planifié ",$A$3,"Mois texte ","janvier")/H4 -> 0 | K4: =GETPIVOTDATA("Somme de Non Planifié Non urgent ",$A$3,"Mois texte ","janvier")/H4 -> 0.23972603 | L4: =GETPIVOTDATA("Somme de Non Planifié Urgent ",$A$3,"Mois texte ","janvier")/H4 -> 0.76027397
A5: février | B5: 2.5 | C5: 88.5 | D5: 30 | H5: =SUM(B5:D5) -> 121 | I5: =A5 -> février | J5: =GETPIVOTDATA("Somme de Planifié ",$A$3,"Mois texte ","février")/H5 -> 0.020661157 | K5: =GETPIVOTDATA("Somme de Non Planifié Non urgent ",$A$3,"Mois texte ","février")/H5 -> 0.73140496 | L5: =GETPIVOTDATA("Somme de Non Planifié Urgent ",$A$3,"Mois texte ","février")/H5 -> 0.24793388
A6: mars | B6: 2 | D6: 57.5 | H6: =SUM(B6:D6) -> 59.5 | I6: =A6 -> mars | J6: =GETPIVOTDATA("Somme de Planifié ",$A$3,"Mois texte ","mars")/H6 -> 0.033613445 | K6: =GETPIVOTDATA("Somme de Non Planifié Non urgent ",$A$3,"Mois texte ","mars")/H6 -> 0 | L6: =GETPIVOTDATA("Somme de Non Planifié Urgent ",$A$3,"Mois texte ","mars")/H6 -> 0.96638655
A7: avril | B7: 88.5 | C7: 63 | D7: 31.5 | H7: =SUM(B7:D7) -> 183 | I7: =A7 -> avril | J7: =GETPIVOTDATA("Somme de Planifié ",$A$3,"Mois texte ","avril")/H7 -> 0.48360656 | K7: =GETPIVOTDATA("Somme de Non Planifié Non urgent ",$A$3,"Mois texte ","avril")/H7 -> 0.3442623 | L7: =GETPIVOTDATA("Somme de Non Planifié Urgent ",$A$3,"Mois texte ","avril")/H7 -> 0.17213115
A8: mai | B8: 16 | D8: 69 | H8: =SUM(B8:D8) -> 85 | I8: =A8 -> mai | J8: =GETPIVOTDATA("Somme de Planifié ",$A$3,"Mois texte ","mai")/H8 -> 0.18823529 | K8: =GETPIVOTDATA("Somme de Non Planifié Non urgent ",$A$3,"Mois texte ","mai")/H8 -> 0 | L8: =GETPIVOTDATA("Somme de Non Planifié Urgent ",$A$3,"Mois texte ","mai")/H8 -> 0.81176471
A9: juin | D9: 21 | H9: =SUM(B9:D9) -> 21 | I9: =A9 -> juin | J9: =GETPIVOTDATA("Somme de Planifié ",$A$3,"Mois texte ","juin")/H9 -> 0 | K9: =GETPIVOTDATA("Somme de Non Planifié Non urgent ",$A$3,"Mois texte ","juin")/H9 -> 0 | L9: =GETPIVOTDATA("Somme de Non Planifié Urgent ",$A$3,"Mois texte ","juin")/H9 -> 1
A10: Total général | B10: 109 | C10: 221.5 | D10: 431

Sheet Fertilisants
A1: Usine | B1: Engrais
A3: Étiquettes de lignes | B3: Somme de Planifié | C3: Somme de Non Planifié Non urgent | D3: Somme de Non Planifié Urgent | H3: Total | I3: Mois | J3: %Planifié | K3: %NP-Non Urgent | L3: %NP-Urgent
A4: janvier | B4: 328.5 | C4: 109.5 | D4: 358 | H4: =SUM(B4:D4) -> 796 | I4: =A4 -> janvier | J4: =GETPIVOTDATA("Somme de Planifié ",$A$3,"Mois texte ","janvier")/H4 -> 0.41268844 | K4: =GETPIVOTDATA("Somme de Non Planifié Non urgent ",$A$3,"Mois texte ","janvier")/H4 -> 0.13756281 | L4: =GETPIVOTDATA("Somme de Non Planifié Urgent ",$A$3,"Mois texte ","janvier")/H4 -> 0.44974874
A5: février | B5: 103.5 | C5: 223 | D5: 157.5 | H5: =SUM(B5:D5) -> 484 | I5: =A5 -> février | J5: =GETPIVOTDATA("Somme de Planifié ",$A$3,"Mois texte ","février")/H5 -> 0.21384298 | K5: =GETPIVOTDATA("Somme de Non Planifié Non urgent ",$A$3,"Mois texte ","février")/H5 -> 0.4607438 | L5: =GETPIVOTDATA("Somme de Non Planifié Urgent ",$A$3,"Mois texte ","février")/H5 -> 0.32541322
A6: mars | B6: 200.5 | C6: 115.5 | D6: 154.25 | H6: =SUM(B6:D6) -> 470.25 | I6: =A6 -> mars | J6: =GETPIVOTDATA("Somme de Planifié ",$A$3,"Mois texte ","mars")/H6 -> 0.42636895 | K6: =GETPIVOTDATA("Somme de Non Planifié Non urgent ",$A$3,"Mois texte ","mars")/H6 -> 0.24561404 | L6: =GETPIVOTDATA("Somme de Non Planifié Urgent ",$A$3,"Mois texte ","mars")/H6 -> 0.32801701
A7: avril | B7: 191.5 | C7: 79.25 | D7: 151.5 | H7: =SUM(B7:D7) -> 422.25 | I7: =A7 -> avril | J7: =GETPIVOTDATA("Somme de Planifié ",$A$3,"Mois texte ","avril")/H7 -> 0.45352279 | K7: =GETPIVOTDATA("Somme de Non Planifié Non urgent ",$A$3,"Mois texte ","avril")/H7 -> 0.18768502 | L7: =GETPIVOTDATA("Somme de Non Planifié Urgent ",$A$3,"Mois texte ","avril")/H7 -> 0.35879218
A8: mai | B8: 325 | C8: 157.5 | D8: 186.5 | H8: =SUM(B8:D8) -> 669 | I8: =A8 -> mai | J8: =GETPIVOTDATA("Somme de Planifié ",$A$3,"Mois texte ","mai")/H8 -> 0.4857997 | K8: =GETPIVOTDATA("Somme de Non Planifié Non urgent ",$A$3,"Mois texte ","mai")/H8 -> 0.23542601 | L8: =GETPIVOTDATA("Somme de Non Planifié Urgent ",$A$3,"Mois texte ","mai")/H8 -> 0.27877429
A9: juin | B9: 65 | C9: 79 | D9: 66.25 | H9: =SUM(B9:D9) -> 210.25 | I9: =A9 -> juin | J9: =GETPIVOTDATA("Somme de Planifié ",$A$3,"Mois texte ","juin")/H9 -> 0.30915577 | K9: =GETPIVOTDATA("Somme de Non Planifié Non urgent ",$A$3,"Mois texte ","juin")/H9 -> 0.37574316 | L9: =GETPIVOTDATA("Somme de Non Planifié Urgent ",$A$3,"Mois texte ","juin")/H9 -> 0.31510107
A10: Total général | B10: 1214 | C10: 763.75 | D10: 1074

Sheet Maintenance
A1: Usine | B1: Entretien
A3: Étiquettes de lignes | B3: Somme de Planifié | C3: Somme de Non Planifié Non urgent | D3: Somme de Non Planifié Urgent | H3: Total | I3: Mois | J3: %Planifié | K3: %NP-Non Urgent | L3: %NP-Urgent
A4: janvier | B4: 30 | C4: 76.25 | D4: 3 | H4: =SUM(B4:D4) -> 109.25 | I4: =A4 -> janvier | J4: =GETPIVOTDATA("Somme de Planifié ",$A$3,"Mois texte ","janvier")/H4 -> 0.27459954 | K4: =GETPIVOTDATA("Somme de Non Planifié Non urgent ",$A$3,"Mois texte ","janvier")/H4 -> 0.6979405 | L4: =GETPIVOTDATA("Somme de Non Planifié Urgent ",$A$3,"Mois texte ","janvier")/H4 -> 0.027459954
A5: février | B5: 6.5 | C5: 22 | D5: 36.5 | H5: =SUM(B5:D5) -> 65 | I5: =A5 -> février | J5: =GETPIVOTDATA("Somme de Planifié ",$A$3,"Mois texte ","février")/H5 -> 0.1 | K5: =GETPIVOTDATA("Somme de Non Planifié Non urgent ",$A$3,"Mois texte ","février")/H5 -> 0.33846154 | L5: =GETPIVOTDATA("Somme de Non Planifié Urgent ",$A$3,"Mois texte ","février")/H5 -> 0.56153846
A6: mars | B6: 26 | C6: 44 | H6: =SUM(B6:D6) -> 70 | I6: =A6 -> mars | J6: =GETPIVOTDATA("Somme de Planifié ",$A$3,"Mois texte ","mars")/H6 -> 0.37142857 | K6: =GETPIVOTDATA("Somme de Non Planifié Non urgent ",$A$3,"Mois texte ","mars")/H6 -> 0.62857143 | L6: =GETPIVOTDATA("Somme de Non Planifié Urgent ",$A$3,"Mois texte ","mars")/H6 -> 0
A7: avril | B7: 24 | C7: 36.5 | D7: 14 | H7: =SUM(B7:D7) -> 74.5 | I7: =A7 -> avril | J7: =GETPIVOTDATA("Somme de Planifié ",$A$3,"Mois texte ","avril")/H7 -> 0.32214765 | K7: =GETPIVOTDATA("Somme de Non Planifié Non urgent ",$A$3,"Mois texte ","avril")/H7 -> 0.48993289 | L7: =GETPIVOTDATA("Somme de Non Planifié Urgent ",$A$3,"Mois texte ","avril")/H7 -> 0.18791946
A8: mai | B8: 19 | C8: 94.5 | D8: 8.5 | H8: =SUM(B8:D8) -> 122 | I8: =A8 -> mai | J8: =GETPIVOTDATA("Somme de Planifié ",$A$3,"Mois texte ","mai")/H8 -> 0.1557377 | K8: =GETPIVOTDATA("Somme de Non Planifié Non urgent ",$A$3,"Mois texte ","mai")/H8 -> 0.77459016 | L8: =GETPIVOTDATA("Somme de Non Planifié Urgent ",$A$3,"Mois texte ","mai")/H8 -> 0.069672131
A9: juin | B9: 5 | C9: 16 | H9: =SUM(B9:D9) -> 21 | I9: =A9 -> juin | J9: =GETPIVOTDATA("Somme de Planifié ",$A$3,"Mois texte ","juin")/H9 -> 0.23809524 | K9: =GETPIVOTDATA("Somme de Non Planifié Non urgent ",$A$3,"Mois texte ","juin")/H9 -> 0.76190476 | L9: =GETPIVOTDATA("Somme de Non Planifié Urgent ",$A$3,"Mois texte ","juin")/H9 -> 0
A10: Total général | B10: 110.5 | C10: 289.25 | D10: 62

Sheet Silox
A1: Usine | B1: (Plusieurs éléments)
A3: Étiquettes de lignes | B3: Somme de Planifié | C3: Somme de Non Planifié Non urgent | D3: Somme de Non Planifié Urgent | H3: Total | I3: Mois | J3: %Planifié | K3: %NP-Non Urgent | L3: %NP-Urgent
A4: janvier | D4: 50 | H4: =SUM(B4:D4) -> 50 | I4: =A4 -> janvier | J4: =GETPIVOTDATA("Somme de Planifié ",$A$3,"Mois texte ","janvier")/H4 -> 0 | K4: =GETPIVOTDATA("Somme de Non Planifié Non urgent ",$A$3,"Mois texte ","janvier")/H4 -> 0 | L4: =GETPIVOTDATA("Somme de Non Planifié Urgent ",$A$3,"Mois texte ","janvier")/H4 -> 1
A5: février | D5: 4 | H5: =SUM(B5:D5) -> 4 | I5: =A5 -> février | J5: =GETPIVOTDATA("Somme de Planifié ",$A$3,"Mois texte ","février")/H5 -> 0 | K5: =GETPIVOTDATA("Somme de Non Planifié Non urgent ",$A$3,"Mois texte ","février")/H5 -> 0 | L5: =GETPIVOTDATA("Somme de Non Planifié Urgent ",$A$3,"Mois texte ","février")/H5 -> 1
A6: mars | C6: 2.5 | D6: 3 | H6: =SUM(B6:D6) -> 5.5 | I6: =A6 -> mars | J6: =GETPIVOTDATA("Somme de Planifié ",$A$3,"Mois texte ","mars")/H6 -> 0 | K6: =GETPIVOTDATA("Somme de Non Planifié Non urgent ",$A$3,"Mois texte ","mars")/H6 -> 0.45454545 | L6: =GETPIVOTDATA("Somme de Non Planifié Urgent ",$A$3,"Mois texte ","mars")/H6 -> 0.54545455
A7: avril | D7: 7.5 | H7: =SUM(B7:D7) -> 7.5 | I7: =A7 -> avril | J7: =GETPIVOTDATA("Somme de Planifié ",$A$3,"Mois texte ","avril")/H7 -> 0 | K7: =GETPIVOTDATA("Somme de Non Planifié Non urgent ",$A$3,"Mois texte ","avril")/H7 -> 0 | L7: =GETPIVOTDATA("Somme de Non Planifié Urgent ",$A$3,"Mois texte ","avril")/H7 -> 1
A8: juin | C8: 1.5 | H8: =SUM(B8:D8) -> 1.5 | I8: =A8 -> juin | J8: =GETPIVOTDATA("Somme de Planifié ",$A$3,"Mois texte ","juin")/H8 -> 0 | K8: =GETPIVOTDATA("Somme de Non Planifié Non urgent ",$A$3,"Mois texte ","juin")/H8 -> 1 | L8: =GETPIVOTDATA("Somme de Non Planifié Urgent ",$A$3,"Mois texte ","juin")/H8 -> 0
A9: Total général | C9: 4 | D9: 64.5

Sheet P2O5
A1: Usine | B1: P2O5
A3: Étiquettes de lignes | B3: Somme de Planifié | C3: Somme de Non Planifié Non urgent | D3: Somme de Non Planifié Urgent | H3: Total | I3: Mois | J3: %Planifié | K3: %NP-Non Urgent | L3: %NP-Urgent
A4: janvier | B4: 1578 | C4: 570.5 | D4: 967.5 | H4: =SUM(B4:D4) -> 3116 | I4: =A4 -> janvier | J4: =GETPIVOTDATA("Somme de Planifié ",$A$3,"Mois texte ","janvier")/H4 -> 0.50641849 | K4: =GETPIVOTDATA("Somme de Non Planifié Non urgent ",$A$3,"Mois texte ","janvier")/H4 -> 0.18308729 | L4: =GETPIVOTDATA("Somme de Non Planifié Urgent ",$A$3,"Mois texte ","janvier")/H4 -> 0.31049422
A5: février | B5: 1413.25 | C5: 398 | D5: 503 | H5: =SUM(B5:D5) -> 2314.25 | I5: =A5 -> février | J5: =GETPIVOTDATA("Somme de Planifié ",$A$3,"Mois texte ","février")/H5 -> 0.610673 | K5: =GETPIVOTDATA("Somme de Non Planifié Non urgent ",$A$3,"Mois texte ","février")/H5 -> 0.17197796 | L5: =GETPIVOTDATA("Somme de Non Planifié Urgent ",$A$3,"Mois texte ","février")/H5 -> 0.21734903
A6: mars | B6: 1477.5 | C6: 493.5 | D6: 366 | H6: =SUM(B6:D6) -> 2337 | I6: =A6 -> mars | J6: =GETPIVOTDATA("Somme de Planifié ",$A$3,"Mois texte ","mars")/H6 -> 0.6322208 | K6: =GETPIVOTDATA("Somme de Non Planifié Non urgent ",$A$3,"Mois texte ","mars")/H6 -> 0.21116816 | L6: =GETPIVOTDATA("Somme de Non Planifié Urgent ",$A$3,"Mois texte ","mars")/H6 -> 0.15661104
A7: avril | B7: 1717.75 | C7: 391.25 | D7: 507.75 | H7: =SUM(B7:D7) -> 2616.75 | I7: =A7 -> avril | J7: =GETPIVOTDATA("Somme de Planifié ",$A$3,"Mois texte ","avril")/H7 -> 0.65644406 | K7: =GETPIVOTDATA("Somme de Non Planifié Non urgent ",$A$3,"Mois texte ","avril")/H7 -> 0.14951753 | L7: =GETPIVOTDATA("Somme de Non Planifié Urgent ",$A$3,"Mois texte ","avril")/H7 -> 0.19403841
A8: mai | B8: 1971.75 | C8: 383 | D8: 618.5 | H8: =SUM(B8:D8) -> 2973.25 | I8: =A8 -> mai | J8: =GETPIVOTDATA("Somme de Planifié ",$A$3,"Mois texte ","mai")/H8 -> 0.66316321 | K8: =GETPIVOTDATA("Somme de Non Planifié Non urgent ",$A$3,"Mois texte ","mai")/H8 -> 0.12881527 | L8: =GETPIVOTDATA("Somme de Non Planifié Urgent ",$A$3,"Mois texte ","mai")/H8 -> 0.20802153
A9: juin | B9: 1054.75 | C9: 43.5 | D9: 282.5 | H9: =SUM(B9:D9) -> 1380.75 | I9: =A9 -> juin | J9: =GETPIVOTDATA("Somme de Planifié ",$A$3,"Mois texte ","juin")/H9 -> 0.76389643 | K9: =GETPIVOTDATA("Somme de Non Planifié Non urgent ",$A$3,"Mois texte ","juin")/H9 -> 0.031504617 | L9: =GETPIVOTDATA("Somme de Non Planifié Urgent ",$A$3,"Mois texte ","juin")/H9 -> 0.20459895
A10: Total général | B10: 9213 | C10: 2279.75 | D10: 3245.25

Sheet STPP
A1: Usine | B1: PTA
A3: Étiquettes de lignes | B3: Somme de Planifié | C3: Somme de Non Planifié Non urgent | D3: Somme de Non Planifié Urgent | H3: Total | I3: Mois | J3: %Planifié | K3: %NP-Non Urgent | L3: %NP-Urgent
A4: janvier | B4: 143 | C4: 74.5 | D4: 326 | H4: =SUM(B4:D4) -> 543.5 | I4: =A4 -> janvier | J4: =GETPIVOTDATA("Somme de Planifié ",$A$3,"Mois texte ","janvier")/H4 -> 0.26310948 | K4: =GETPIVOTDATA("Somme de Non Planifié Non urgent ",$A$3,"Mois texte ","janvier")/H4 -> 0.13707452 | L4: =GETPIVOTDATA("Somme de Non Planifié Urgent ",$A$3,"Mois texte ","janvier")/H4 -> 0.59981601
A5: février | B5: 740.5 | C5: 628.25 | D5: 669.75 | H5: =SUM(B5:D5) -> 2038.5 | I5: =A5 -> février | J5: =GETPIVOTDATA("Somme de Planifié ",$A$3,"Mois texte ","février")/H5 -> 0.3632573 | K5: =GETPIVOTDATA("Somme de Non Planifié Non urgent ",$A$3,"Mois texte ","février")/H5 -> 0.3081923 | L5: =GETPIVOTDATA("Somme de Non Planifié Urgent ",$A$3,"Mois texte ","février")/H5 -> 0.3285504
A6: mars | B6: 270.5 | C6: 109.5 | D6: 641.25 | H6: =SUM(B6:D6) -> 1021.25 | I6: =A6 -> mars | J6: =GETPIVOTDATA("Somme de Planifié ",$A$3,"Mois texte ","mars")/H6 -> 0.26487148 | K6: =GETPIVOTDATA("Somme de Non Planifié Non urgent ",$A$3,"Mois texte ","mars")/H6 -> 0.10722154 | L6: =GETPIVOTDATA("Somme de Non Planifié Urgent ",$A$3,"Mois texte ","mars")/H6 -> 0.62790698
A7: avril | B7: 140 | C7: 103.5 | D7: 443 | H7: =SUM(B7:D7) -> 686.5 | I7: =A7 -> avril | J7: =GETPIVOTDATA("Somme de Planifié ",$A$3,"Mois texte ","avril")/H7 -> 0.20393299 | K7: =GETPIVOTDATA("Somme de Non Planifié Non urgent ",$A$3,"Mois texte ","avril")/H7 -> 0.15076475 | L7: =GETPIVOTDATA("Somme de Non Planifié Urgent ",$A$3,"Mois texte ","avril")/H7 -> 0.64530226
A8: mai | B8: 124 | C8: 57.5 | D8: 559 | H8: =SUM(B8:D8) -> 740.5 | I8: =A8 -> mai | J8: =GETPIVOTDATA("Somme de Planifié ",$A$3,"Mois texte ","mai")/H8 -> 0.16745442 | K8: =GETPIVOTDATA("Somme de Non Planifié Non urgent ",$A$3,"Mois texte ","mai")/H8 -> 0.077650236 | L8: =GETPIVOTDATA("Somme de Non Planifié Urgent ",$A$3,"Mois texte ","mai")/H8 -> 0.75489534
A9: juin | B9: 31.5 | C9: 52 | D9: 215 | H9: =SUM(B9:D9) -> 298.5 | I9: =A9 -> juin | J9: =GETPIVOTDATA("Somme de Planifié ",$A$3,"Mois texte ","juin")/H9 -> 0.10552764 | K9: =GETPIVOTDATA("Somme de Non Planifié Non urgent ",$A$3,"Mois texte ","juin")/H9 -> 0.17420436 | L9: =GETPIVOTDATA("Somme de Non Planifié Urgent ",$A$3,"Mois texte ","juin")/H9 -> 0.72026801
A10: Total général | B10: 1449.5 | C10: 1025.25 | D10: 2854

Sheet S&E
A1: Usine | B1: Soufre & Energie - Sulfine
A3: Étiquettes de lignes | B3: Somme de Planifié | C3: Somme de Non Planifié Non urgent | D3: Somme de Non Planifié Urgent | H3: Total | I3: Mois | J3: %Planifié | K3: %NP-Non Urgent | L3: %NP-Urgent
A4: janvier | B4: 197 | C4: 265.75 | D4: 960.5 | H4: =SUM(B4:D4) -> 1423.25 | I4: =A4 -> janvier | J4: =GETPIVOTDATA("Somme de Planifié ",$A$3,"Mois texte ","janvier")/H4 -> 0.1384156 | K4: =GETPIVOTDATA("Somme de Non Planifié Non urgent ",$A$3,"Mois texte ","janvier")/H4 -> 0.18672053 | L4: =GETPIVOTDATA("Somme de Non Planifié Urgent ",$A$3,"Mois texte ","janvier")/H4 -> 0.67486387
A5: février | B5: 103.5 | C5: 244 | D5: 520 | H5: =SUM(B5:D5) -> 867.5 | I5: =A5 -> février | J5: =GETPIVOTDATA("Somme de Planifié ",$A$3,"Mois texte ","février")/H5 -> 0.11930836 | K5: =GETPIVOTDATA("Somme de Non Planifié Non urgent ",$A$3,"Mois texte ","février")/H5 -> 0.28126801 | L5: =GETPIVOTDATA("Somme de Non Planifié Urgent ",$A$3,"Mois texte ","février")/H5 -> 0.59942363
A6: mars | B6: 62.5 | C6: 383.5 | D6: 526.5 | H6: =SUM(B6:D6) -> 972.5 | I6: =A6 -> mars | J6: =GETPIVOTDATA("Somme de Planifié ",$A$3,"Mois texte ","mars")/H6 -> 0.064267352 | K6: =GETPIVOTDATA("Somme de Non Planifié Non urgent ",$A$3,"Mois texte ","mars")/H6 -> 0.39434447 | L6: =GETPIVOTDATA("Somme de Non Planifié Urgent ",$A$3,"Mois texte ","mars")/H6 -> 0.54138817
A7: avril | B7: 174.5 | C7: 311.5 | D7: 551.5 | H7: =SUM(B7:D7) -> 1037.5 | I7: =A7 -> avril | J7: =GETPIVOTDATA("Somme de Planifié ",$A$3,"Mois texte ","avril")/H7 -> 0.16819277 | K7: =GETPIVOTDATA("Somme de Non Planifié Non urgent ",$A$3,"Mois texte ","avril")/H7 -> 0.30024096 | L7: =GETPIVOTDATA("Somme de Non Planifié Urgent ",$A$3,"Mois texte ","avril")/H7 -> 0.53156627
A8: mai | B8: 74 | C8: 327.25 | D8: 804.25 | H8: =SUM(B8:D8) -> 1205.5 | I8: =A8 -> mai | J8: =GETPIVOTDATA("Somme de Planifié ",$A$3,"Mois texte ","mai")/H8 -> 0.061385317 | K8: =GETPIVOTDATA("Somme de Non Planifié Non urgent ",$A$3,"Mois texte ","mai")/H8 -> 0.27146412 | L8: =GETPIVOTDATA("Somme de Non Planifié Urgent ",$A$3,"Mois texte ","mai")/H8 -> 0.66715056
A9: juin | B9: 45.5 | C9: 124.5 | D9: 298 | H9: =SUM(B9:D9) -> 468 | I9: =A9 -> juin | J9: =GETPIVOTDATA("Somme de Planifié ",$A$3,"Mois texte ","juin")/H9 -> 0.097222222 | K9: =GETPIVOTDATA("Somme de Non Planifié Non urgent ",$A$3,"Mois texte ","juin")/H9 -> 0.26602564 | L9: =GETPIVOTDATA("Somme de Non Planifié Urgent ",$A$3,"Mois texte ","juin")/H9 -> 0.63675214
A10: Total général | B10: 657 | C10: 1656.5 | D10: 3660.75

Sheet Zéoline
A1: Usine | B1: Zéoline
A3: Étiquettes de lignes | B3: Somme de Planifié | C3: Somme de Non Planifié Non urgent | D3: Somme de Non Planifié Urgent | H3: Total | I3: Mois | J3: %Planifié | K3: %NP-Non Urgent | L3: %NP-Urgent
A4: janvier | D4: 221 | H4: =SUM(B4:D4) -> 221 | I4: =A4 -> janvier | J4: =GETPIVOTDATA("Somme de Planifié ",$A$3,"Mois texte ","janvier")/H4 -> 0 | K4: =GETPIVOTDATA("Somme de Non Planifié Non urgent ",$A$3,"Mois texte ","janvier")/H4 -> 0 | L4: =GETPIVOTDATA("Somme de Non Planifié Urgent ",$A$3,"Mois texte ","janvier")/H4 -> 1
A5: février | B5: 34 | C5: 26 | D5: 125 | H5: =SUM(B5:D5) -> 185 | I5: =A5 -> février | J5: =GETPIVOTDATA("Somme de Planifié ",$A$3,"Mois texte ","février")/H5 -> 0.18378378 | K5: =GETPIVOTDATA("Somme de Non Planifié Non urgent ",$A$3,"Mois texte ","février")/H5 -> 0.14054054 | L5: =GETPIVOTDATA("Somme de Non Planifié Urgent ",$A$3,"Mois texte ","février")/H5 -> 0.67567568
A6: mars | B6: 12 | D6: 35.5 | H6: =SUM(B6:D6) -> 47.5 | I6: =A6 -> mars | J6: =GETPIVOTDATA("Somme de Planifié ",$A$3,"Mois texte ","mars")/H6 -> 0.25263158 | K6: =GETPIVOTDATA("Somme de Non Planifié Non urgent ",$A$3,"Mois texte ","mars")/H6 -> 0 | L6: =GETPIVOTDATA("Somme de Non Planifié Urgent ",$A$3,"Mois texte ","mars")/H6 -> 0.74736842
A7: avril | B7: 32.5 | C7: 28 | D7: 72.5 | H7: =SUM(B7:D7) -> 133 | I7: =A7 -> avril | J7: =GETPIVOTDATA("Somme de Planifié ",$A$3,"Mois texte ","avril")/H7 -> 0.2443609 | K7: =GETPIVOTDATA("Somme de Non Planifié Non urgent ",$A$3,"Mois texte ","avril")/H7 -> 0.21052632 | L7: =GETPIVOTDATA("Somme de Non Planifié Urgent ",$A$3,"Mois texte ","avril")/H7 -> 0.54511278
A8: mai | B8: 781.25 | C8: 267 | D8: 113.5 | H8: =SUM(B8:D8) -> 1161.75 | I8: =A8 -> mai | J8: =GETPIVOTDATA("Somme de Planifié ",$A$3,"Mois texte ","mai")/H8 -> 0.67247687 | K8: =GETPIVOTDATA("Somme de Non Planifié Non urgent ",$A$3,"Mois texte ","mai")/H8 -> 0.22982569 | L8: =GETPIVOTDATA("Somme de Non Planifié Urgent ",$A$3,"Mois texte ","mai")/H8 -> 0.097697439
A9: juin | B9: 2 | C9: 41.5 | D9: 32 | H9: =SUM(B9:D9) -> 75.5 | I9: =A9 -> juin | J9: =GETPIVOTDATA("Somme de Planifié ",$A$3,"Mois texte ","juin")/H9 -> 0.026490066 | K9: =GETPIVOTDATA("Somme de Non Planifié Non urgent ",$A$3,"Mois texte ","juin")/H9 -> 0.54966887 | L9: =GETPIVOTDATA("Somme de Non Planifié Urgent ",$A$3,"Mois texte ","juin")/H9 -> 0.42384106
A10: Total général | B10: 861.75 | C10: 362.5 | D10: 599.5

Sheet Données
A1: Usine | B1: Date | C1: Colonne1 | D1: N° Semaine | E1: Colonne2 | F1: Semaine | G1: Mois texte | H1: Non Planifié Non urgent | I1: Non Planifié Urgent | J1: Planifié | K1: Total | L1: Div et Sem
A2: Autres | B2: 44564 | C2: =WEEKNUM(Tableau1[[#This Row],[Date ]]) -> 2 | D2: =Tableau1[[#This Row],[Colonne1]]-1 -> 1 | E2: =_xlfn.CONCAT("0",Tableau1[[#This Row],[N° Semaine]]) -> 01 | F2: =_xlfn.CONCAT("S",Tableau1[[#This Row],[Colonne2]]) -> S01 | G2: =TEXT(Tableau1[[#This Row],[Date ]],"mmmm") -> janvier | H2: 10 | I2: 1.5 | J2: 4 | K2: =SUM(H2:J3) -> 33.5 | L2: =CONCATENATE(Tableau1[[#This Row],[Usine]],"-",Tableau1[[#This Row],[Semaine ]]) -> Autres-S01
A3: Biamonique | B3: 44564 | C3: =WEEKNUM(Tableau1[[#This Row],[Date ]]) -> 2 | D3: =Tableau1[[#This Row],[Colonne1]]-1 -> 1 | E3: =_xlfn.CONCAT("0",Tableau1[[#This Row],[N° Semaine]]) -> 01 | F3: =_xlfn.CONCAT("S",Tableau1[[#This Row],[Colonne2]]) -> S01 | G3: =TEXT(Tableau1[[#This Row],[Date ]],"mmmm") -> janvier | I3: 13 | J3: 5 | K3: =SUM(H3:J4) -> 128.5 | L3: =CONCATENATE(Tableau1[[#This Row],[Usine]],"-",Tableau1[[#This Row],[Semaine ]]) -> Biamonique-S01
A4: Engrais | B4: 44564 | C4: =WEEKNUM(Tableau1[[#This Row],[Date ]]) -> 2 | D4: =Tableau1[[#This Row],[Colonne1]]-1 -> 1 | E4: =_xlfn.CONCAT("0",Tableau1[[#This Row],[N° Semaine]]) -> 01 | F4: =_xlfn.CONCAT("S",Tableau1[[#This Row],[Colonne2]]) -> S01 | G4: =TEXT(Tableau1[[#This Row],[Date ]],"mmmm") -> janvier | H4: 13.5 | I4: 7 | J4: 90 | K4: =SUM(H4:J5) -> 140.75 | L4: =CONCATENATE(Tableau1[[#This Row],[Usine]],"-",Tableau1[[#This Row],[Semaine ]]) -> Engrais-S01
A5: Entretien | B5: 44564 | C5: =WEEKNUM(Tableau1[[#This Row],[Date ]]) -> 2 | D5: =Tableau1[[#This Row],[Colonne1]]-1 -> 1 | E5: =_xlfn.CONCAT("0",Tableau1[[#This Row],[N° Semaine]]) -> 01 | F5: =_xlfn.CONCAT("S",Tableau1[[#This Row],[Colonne2]]) -> S01 | G5: =TEXT(Tableau1[[#This Row],[Date ]],"mmmm") -> janvier | H5: 30.25 | K5: =SUM(H5:J6) -> 525.75 | L5: =CONCATENATE(Tableau1[[#This Row],[Usine]],"-",Tableau1[[#This Row],[Semaine ]]) -> Entretien-S01
A6: P2O5 | B6: 44564 | C6: =WEEKNUM(Tableau1[[#This Row],[Date ]]) -> 2 | D6: =Tableau1[[#This Row],[Colonne1]]-1 -> 1 | E6: =_xlfn.CONCAT("0",Tableau1[[#This Row],[N° Semaine]]) -> 01 | F6: =_xlfn.CONCAT("S",Tableau1[[#This Row],[Colonne2]]) -> S01 | G6: =TEXT(Tableau1[[#This Row],[Date ]],"mmmm") -> janvier | H6: 140 | I6: 68.5 | J6: 287 | K6: =SUM(H6:J7) -> 606 | L6: =CONCATENATE(Tableau1[[#This Row],[Usine]],"-",Tableau1[[#This Row],[Semaine ]]) -> P2O5-S01
A7: PTA | B7: 44564 | C7: =WEEKNUM(Tableau1[[#This Row],[Date ]]) -> 2 | D7: =Tableau1[[#This Row],[Colonne1]]-1 -> 1 | E7: =_xlfn.CONCAT("0",Tableau1[[#This Row],[N° Semaine]]) -> 01 | F7: =_xlfn.CONCAT("S",Tableau1[[#This Row],[Colonne2]]) -> S01 | G7: =TEXT(Tableau1[[#This Row],[Date ]],"mmmm") -> janvier | H7: 12.5 | I7: 84 | J7: 14 | K7: =SUM(H7:J8) -> 360.75 | L7: =CONCATENATE(Tableau1[[#This Row],[Usine]],"-",Tableau1[[#This Row],[Semaine ]]) -> PTA-S01
A8: Soufre & Energie - Sulfine | B8: 44564 | C8: =WEEKNUM(Tableau1[[#This Row],[Date ]]) -> 2 | D8: =Tableau1[[#This Row],[Colonne1]]-1 -> 1 | E8: =_xlfn.CONCAT("0",Tableau1[[#This Row],[N° Semaine]]) -> 01 | F8: =_xlfn.CONCAT("S",Tableau1[[#This Row],[Colonne2]]) -> S01 | G8: =TEXT(Tableau1[[#This Row],[Date ]],"mmmm") -> janvier | H8: 93.75 | I8: 154.5 | J8: 2 | K8: =SUM(H8:J9) -> 283.25 | L8: =CONCATENATE(Tableau1[[#This Row],[Usine]],"-",Tableau1[[#This Row],[Semaine ]]) -> Soufre & Energie - Sulfine-S01
A9: Zéoline | B9: 44564 | C9: =WEEKNUM(Tableau1[[#This Row],[Date ]]) -> 2 | D9: =Tableau1[[#This Row],[Colonne1]]-1 -> 1 | E9: =_xlfn.CONCAT("0",Tableau1[[#This Row],[N° Semaine]]) -> 01 | F9: =_xlfn.CONCAT("S",Tableau1[[#This Row],[Colonne2]]) -> S01 | G9: =TEXT(Tableau1[[#This Row],[Date ]],"mmmm") -> janvier | I9: 33 | K9: =SUM(H9:J10) -> 92 | L9: =CONCATENATE(Tableau1[[#This Row],[Usine]],"-",Tableau1[[#This Row],[Semaine ]]) -> Zéoline-S01
A10: #N/A | B10: 44564 | C10: =WEEKNUM(Tableau1[[#This Row],[Date ]]) -> 2 | D10: =Tableau1[[#This Row],[Colonne1]]-1 -> 1 | E10: =_xlfn.CONCAT("0",Tableau1[[#This Row],[N° Semaine]]) -> 01 | F10: =_xlfn.CONCAT("S",Tableau1[[#This Row],[Colonne2]]) -> S01 | G10: =TEXT(Tableau1[[#This Row],[Date ]],"mmmm") -> janvier | H10: 3 | I10: 34 | J10: 22 | K10: =SUM(H10:J11) -> 133.5 | L10: =CONCATENATE(Tableau1[[#This Row],[Usine]],"-",Tableau1[[#This Row],[Semaine ]]) -> #N/A-S01
A11: Autres | B11: 44571 | C11: =WEEKNUM(Tableau1[[#This Row],[Date ]]) -> 3 | D11: =Tableau1[[#This Row],[Colonne1]]-1 -> 2 | E11: =_xlfn.CONCAT("0",Tableau1[[#This Row],[N° Semaine]]) -> 02 | F11: =_xlfn.CONCAT("S",Tableau1[[#This Row],[Colonne2]]) -> S02 | G11: =TEXT(Tableau1[[#This Row],[Date ]],"mmmm") -> janvier | H11: 40.5 | J11: 34 | K11: =SUM(H11:J12) -> 99.75 | L11: =CONCATENATE(Tableau1[[#This Row],[Usine]],"-",Tableau1[[#This Row],[Semaine ]]) -> Autres-S02
A12: Biamonique | B12: 44571 | C12: =WEEKNUM(Tableau1[[#This Row],[Date ]]) -> 3 | D12: =Tableau1[[#This Row],[Colonne1]]-1 -> 2 | E12: =_xlfn.CONCAT("0",Tableau1[[#This Row],[N° Semaine]]) -> 02 | F12: =_xlfn.CONCAT("S",Tableau1[[#This Row],[Colonne2]]) -> S02 | G12: =TEXT(Tableau1[[#This Row],[Date ]],"mmmm") -> janvier | J12: 25.25 | K12: =SUM(H12:J13) -> 161.25 | L12: =CONCATENATE(Tableau1[[#This Row],[Usine]],"-",Tableau1[[#This Row],[Semaine ]]) -> Biamonique-S02
A13: D1 | B13: 44571 | C13: =WEEKNUM(Tableau1[[#This Row],[Date ]]) -> 3 | D13: =Tableau1[[#This Row],[Colonne1]]-1 -> 2 | E13: =_xlfn.CONCAT("0",Tableau1[[#This Row],[N° Semaine]]) -> 02 | F13: =_xlfn.CONCAT("S",Tableau1[[#This Row],[Colonne2]]) -> S02 | G13: =TEXT(Tableau1[[#This Row],[Date ]],"mmmm") -> janvier | H13: 33.5 | I13: 102.5 | K13: =SUM(H13:J14) -> 264 | L13: =CONCATENATE(Tableau1[[#This Row],[Usine]],"-",Tableau1[[#This Row],[Semaine ]]) -> D1-S02
A14: Engrais | B14: 44571 | C14: =WEEKNUM(Tableau1[[#This Row],[Date ]]) -> 3 | D14: =Tableau1[[#This Row],[Colonne1]]-1 -> 2 | E14: =_xlfn.CONCAT("0",Tableau1[[#This Row],[N° Semaine]]) -> 02 | F14: =_xlfn.CONCAT("S",Tableau1[[#This Row],[Colonne2]]) -> S02 | G14: =TEXT(Tableau1[[#This Row],[Date ]],"mmmm") -> janvier | H14: 31.5 | I14: 38 | J14: 58.5 | K14: =SUM(H14:J15) -> 146 | L14: =CONCATENATE(Tableau1[[#This Row],[Usine]],"-",Tableau1[[#This Row],[Semaine ]]) -> Engrais-S02
A15: Entretien | B15: 44571 | C15: =WEEKNUM(Tableau1[[#This Row],[Date ]]) -> 3 | D15: =Tableau1[[#This Row],[Colonne1]]-1 -> 2 | E15: =_xlfn.CONCAT("0",Tableau1[[#This Row],[N° Semaine]]) -> 02 | F15: =_xlfn.CONCAT("S",Tableau1[[#This Row],[Colonne2]]) -> S02 | G15: =TEXT(Tableau1[[#This Row],[Date ]],"mmmm") -> janvier | H15: 16.5 | I15: 1.5 | K15: =SUM(H15:J16) -> 43 | L15: =CONCATENATE(Tableau1[[#This Row],[Usine]],"-",Tableau1[[#This Row],[Semaine ]]) -> Entretien-S02
A16: Hydro | B16: 44571 | C16: =WEEKNUM(Tableau1[[#This Row],[Date ]]) -> 3 | D16: =Tableau1[[#This Row],[Colonne1]]-1 -> 2 | E16: =_xlfn.CONCAT("0",Tableau1[[#This Row],[N° Semaine]]) -> 02 | F16: =_xlfn.CONCAT("S",Tableau1[[#This Row],[Colonne2]]) -> S02 | G16: =TEXT(Tableau1[[#This Row],[Date ]],"mmmm") -> janvier | I16: 25 | K16: =SUM(H16:J17) -> 706.75 | L16: =CONCATENATE(Tableau1[[#This Row],[Usine]],"-",Tableau1[[#This Row],[Semaine ]]) -> Hydro-S02
A17: P2O5 | B17: 44571 | C17: =WEEKNUM(Tableau1[[#This Row],[Date ]]) -> 3 | D17: =Tableau1[[#This Row],[Colonne1]]-1 -> 2 | E17: =_xlfn.CONCAT("0",Tableau1[[#This Row],[N° Semaine]]) -> 02 | F17: =_xlfn.CONCAT("S",Tableau1[[#This Row],[Colonne2]]) -> S02 | G17: =TEXT(Tableau1[[#This Row],[Date ]],"mmmm") -> janvier | H17: 78.75 | I17: 255 | J17: 348 | K17: =SUM(H17:J18) -> 790.75 | L17: =CONCATENATE(Tableau1[[#This Row],[Usine]],"-",Tableau1[[#This Row],[Semaine ]]) -> P2O5-S02
A18: PTA | B18: 44571 | C18: =WEEKNUM(Tableau1[[#This Row],[Date ]]) -> 3 | D18: =Tableau1[[#This Row],[Colonne1]]-1 -> 2 | E18: =_xlfn.CONCAT("0",Tableau1[[#This Row],[N° Semaine]]) -> 02 | F18: =_xlfn.CONCAT("S",Tableau1[[#This Row],[Colonne2]]) -> S02 | G18: =TEXT(Tableau1[[#This Row],[Date ]],"mmmm") -> janvier | H18: 9 | I18: 91.5 | J18: 8.5 | K18: =SUM(H18:J19) -> 397.5 | L18: =CONCATENATE(Tableau1[[#This Row],[Usine]],"-",Tableau1[[#This Row],[Semaine ]]) -> PTA-S02
A19: Soufre & Energie - Sulfine | B19: 44571 | C19: =WEEKNUM(Tableau1[[#This Row],[Date ]]) -> 3 | D19: =Tableau1[[#This Row],[Colonne1]]-1 -> 2 | E19: =_xlfn.CONCAT("0",Tableau1[[#This Row],[N° Semaine]]) -> 02 | F19: =_xlfn.CONCAT("S",Tableau1[[#This Row],[Colonne2]]) -> S02 | G19: =TEXT(Tableau1[[#This Row],[Date ]],"mmmm") -> janvier | H19: 27.5 | I19: 254 | J19: 7 | K19: =SUM(H19:J20) -> 319.5 | L19: =CONCATENATE(Tableau1[[#This Row],[Usine]],"-",Tableau1[[#This Row],[Semaine ]]) -> Soufre & Energie - Sulfine-S02
A20: Zéoline | B20: 44571 | C20: =WEEKNUM(Tableau1[[#This Row],[Date ]]) -> 3 | D20: =Tableau1[[#This Row],[Colonne1]]-1 -> 2 | E20: =_xlfn.CONCAT("0",Tableau1[[#This Row],[N° Semaine]]) -> 02 | F20: =_xlfn.CONCAT("S",Tableau1[[#This Row],[Colonne2]]) -> S02 | G20: =TEXT(Tableau1[[#This Row],[Date ]],"mmmm") -> janvier | I20: 31 | K20: =SUM(H20:J21) -> 81.75 | L20: =CONCATENATE(Tableau1[[#This Row],[Usine]],"-",Tableau1[[#This Row],[Semaine ]]) -> Zéoline-S02
A21: #N/A | B21: 44571 | C21: =WEEKNUM(Tableau1[[#This Row],[Date ]]) -> 3 | D21: =Tableau1[[#This Row],[Colonne1]]-1 -> 2 | E21: =_xlfn.CONCAT("0",Tableau1[[#This Row],[N° Semaine]]) -> 02 | F21: =_xlfn.CONCAT("S",Tableau1[[#This Row],[Colonne2]]) -> S02 | G21: =TEXT(Tableau1[[#This Row],[Date ]],"mmmm") -> janvier | H21: 34.75 | I21: 16 | K21: =SUM(H21:J22) -> 125.25 | L21: =CONCATENATE(Tableau1[[#This Row],[Usine]],"-",Tableau1[[#This Row],[Semaine ]]) -> #N/A-S02
A22: Autres | B22: 44578 | C22: =WEEKNUM(Tableau1[[#This Row],[Date ]]) -> 4 | D22: =Tableau1[[#This Row],[Colonne1]]-1 -> 3 | E22: =_xlfn.CONCAT("0",Tableau1[[#This Row],[N° Semaine]]) -> 03 | F22: =_xlfn.CONCAT("S",Tableau1[[#This Row],[Colonne2]]) -> S03 | G22: =TEXT(Tableau1[[#This Row],[Date ]],"mmmm") -> janvier | H22: 40.5 | J22: 34 | K22: =SUM(H22:J23) -> 99.75 | L22: =CONCATENATE(Tableau1[[#This Row],[Usine]],"-",Tableau1[[#This Row],[Semaine ]]) -> Autres-S03
A23: Biamonique | B23: 44578 | C23: =WEEKNUM(Tableau1[[#This Row],[Date ]]) -> 4 | D23: =Tableau1[[#This Row],[Colonne1]]-1 -> 3 | E23: =_xlfn.CONCAT("0",Tableau1[[#This Row],[N° Semaine]]) -> 03 | F23: =_xlfn.CONCAT("S",Tableau1[[#This Row],[Colonne2]]) -> S03 | G23: =TEXT(Tableau1[[#This Row],[Date ]],"mmmm") -> janvier | J23: 25.25 | K23: =SUM(H23:J24) -> 161.25 | L23: =CONCATENATE(Tableau1[[#This Row],[Usine]],"-",Tableau1[[#This Row],[Semaine ]]) -> Biamonique-S03
A24: D1 | B24: 44578 | C24: =WEEKNUM(Tableau1[[#This Row],[Date ]]) -> 4 | D24: =Tableau1[[#This Row],[Colonne1]]-1 -> 3 | E24: =_xlfn.CONCAT("0",Tableau1[[#This Row],[N° Semaine]]) -> 03 | F24: =_xlfn.CONCAT("S",Tableau1[[#This Row],[Colonne2]]) -> S03 | G24: =TEXT(Tableau1[[#This Row],[Date ]],"mmmm") -> janvier | H24: 33.5 | I24: 102.5 | K24: =SUM(H24:J25) -> 264 | L24: =CONCATENATE(Tableau1[[#This Row],[Usine]],"-",Tableau1[[#This Row],[Semaine ]]) -> D1-S03
A25: Engrais | B25: 44578 | C25: =WEEKNUM(Tableau1[[#This Row],[Date ]]) -> 4 | D25: =Tableau1[[#This Row],[Colonne1]]-1 -> 3 | E25: =_xlfn.CONCAT("0",Tableau1[[#This Row],[N° Semaine]]) -> 03 | F25: =_xlfn.CONCAT("S",Tableau1[[#This Row],[Colonne2]]) -> S03 | G25: =TEXT(Tableau1[[#This Row],[Date ]],"mmmm") -> janvier | H25: 31.5 | I25: 38 | J25: 58.5 | K25: =SUM(H25:J26) -> 146 | L25: =CONCATENATE(Tableau1[[#This Row],[Usine]],"-",Tableau1[[#This Row],[Semaine ]]) -> Engrais-S03
A26: Entretien | B26: 44578 | C26: =WEEKNUM(Tableau1[[#This Row],[Date ]]) -> 4 | D26: =Tableau1[[#This Row],[Colonne1]]-1 -> 3 | E26: =_xlfn.CONCAT("0",Tableau1[[#This Row],[N° Semaine]]) -> 03 | F26: =_xlfn.CONCAT("S",Tableau1[[#This Row],[Colonne2]]) -> S03 | G26: =TEXT(Tableau1[[#This Row],[Date ]],"mmmm") -> janvier | H26: 16.5 | I26: 1.5 | K26: =SUM(H26:J27) -> 43 | L26: =CONCATENATE(Tableau1[[#This Row],[Usine]],"-",Tableau1[[#This Row],[Semaine ]]) -> Entretien-S03
A27: Hydro | B27: 44578 | C27: =WEEKNUM(Tableau1[[#This Row],[Date ]]) -> 4 | D27: =Tableau1[[#This Row],[Colonne1]]-1 -> 3 | E27: =_xlfn.CONCAT("0",Tableau1[[#This Row],[N° Semaine]]) -> 03 | F27: =_xlfn.CONCAT("S",Tableau1[[#This Row],[Colonne2]]) -> S03 | G27: =TEXT(Tableau1[[#This Row],[Date ]],"mmmm") -> janvier | I27: 25 | K27: =SUM(H27:J28) -> 706.75 | L27: =CONCATENATE(Tableau1[[#This Row],[Usine]],"-",Tableau1[[#This Row],[Semaine ]]) -> Hydro-S03
A28: P2O5 | B28: 44578 | C28: =WEEKNUM(Tableau1[[#This Row],[Date ]]) -> 4 | D28: =Tableau1[[#This Row],[Colonne1]]-1 -> 3 | E28: =_xlfn.CONCAT("0",Tableau1[[#This Row],[N° Semaine]]) -> 03 | F28: =_xlfn.CONCAT("S",Tableau1[[#This Row],[Colonne2]]) -> S03 | G28: =TEXT(Tableau1[[#This Row],[Date ]],"mmmm") -> janvier | H28: 78.75 | I28: 255 | J28: 348 | K28: =SUM(H28:J29) -> 790.75 | L28: =CONCATENATE(Tableau1[[#This Row],[Usine]],"-",Tableau1[[#This Row],[Semaine ]]) -> P2O5-S03
A29: PTA | B29: 44578 | C29: =WEEKNUM(Tableau1[[#This Row],[Date ]]) -> 4 | D29: =Tableau1[[#This Row],[Colonne1]]-1 -> 3 | E29: =_xlfn.CONCAT("0",Tableau1[[#This Row],[N° Semaine]]) -> 03 | F29: =_xlfn.CONCAT("S",Tableau1[[#This Row],[Colonne2]]) -> S03 | G29: =TEXT(Tableau1[[#This Row],[Date ]],"mmmm") -> janvier | H29: 9 | I29: 91.5 | J29: 8.5 | K29: =SUM(H29:J30) -> 397.5 | L29: =CONCATENATE(Tableau1[[#This Row],[Usine]],"-",Tableau1[[#This Row],[Semaine ]]) -> PTA-S03
A30: Soufre & Energie - Sulfine | B30: 44578 | C30: =WEEKNUM(Tableau1[[#This Row],[Date ]]) -> 4 | D30: =Tableau1[[#This Row],[Colonne1]]-1 -> 3 | E30: =_xlfn.CONCAT("0",Tableau1[[#This Row],[N° Semaine]]) -> 03 | F30: =_xlfn.CONCAT("S",Tableau1[[#This Row],[Colonne2]]) -> S03 | G30: =TEXT(Tableau1[[#This Row],[Date ]],"mmmm") -> janvier | H30: 27.5 | I30: 254 | J30: 7 | K30: =SUM(H30:J31) -> 319.5 | L30: =CONCATENATE(Tableau1[[#This Row],[Usine]],"-",Tableau1[[#This Row],[Semaine ]]) -> Soufre & Energie - Sulfine-S03
A31: Zéoline | B31: 44578 | C31: =WEEKNUM(Tableau1[[#This Row],[Date ]]) -> 4 | D31: =Tableau1[[#This Row],[Colonne1]]-1 -> 3 | E31: =_xlfn.CONCAT("0",Tableau1[[#This Row],[N° Semaine]]) -> 03 | F31: =_xlfn.CONCAT("S",Tableau1[[#This Row],[Colonne2]]) -> S03 | G31: =TEXT(Tableau1[[#This Row],[Date ]],"mmmm") -> janvier | I31: 31 | K31: =SUM(H31:J32) -> 81.75 | L31: =CONCATENATE(Tableau1[[#This Row],[Usine]],"-",Tableau1[[#This Row],[Semaine ]]) -> Zéoline-S03
A32: #N/A | B32: 44578 | C32: =WEEKNUM(Tableau1[[#This Row],[Date ]]) -> 4 | D32: =Tableau1[[#This Row],[Colonne1]]-1 -> 3 | E32: =_xlfn.CONCAT("0",Tableau1[[#This Row],[N° Semaine]]) -> 03 | F32: =_xlfn.CONCAT("S",Tableau1[[#This Row],[Colonne2]]) -> S03 | G32: =TEXT(Tableau1[[#This Row],[Date ]],"mmmm") -> janvier | H32: 34.75 | I32: 16 | K32: =SUM(H32:J33) -> 122.75 | L32: =CONCATENATE(Tableau1[[#This Row],[Usine]],"-",Tableau1[[#This Row],[Semaine ]]) -> #N/A-S03
A33: Autres | B33: 44585 | C33: =WEEKNUM(Tableau1[[#This Row],[Date ]]) -> 5 | D33: =Tableau1[[#This Row],[Colonne1]]-1 -> 4 | E33: =_xlfn.CONCAT("0",Tableau1[[#This Row],[N° Semaine]]) -> 04 | F33: =_xlfn.CONCAT("S",Tableau1[[#This Row],[Colonne2]]) -> S04 | G33: =TEXT(Tableau1[[#This Row],[Date ]],"mmmm") -> janvier | H33: 15 | I33: 4 | J33: 53 | K33: =SUM(H33:J34) -> 126.5 | L33: =CONCATENATE(Tableau1[[#This Row],[Usine]],"-",Tableau1[[#This Row],[Semaine ]]) -> Autres-S04
A34: Biamonique | B34: 44585 | C34: =WEEKNUM(Tableau1[[#This Row],[Date ]]) -> 5 | D34: =Tableau1[[#This Row],[Colonne1]]-1 -> 4 | E34: =_xlfn.CONCAT("0",Tableau1[[#This Row],[N° Semaine]]) -> 04 | F34: =_xlfn.CONCAT("S",Tableau1[[#This Row],[Colonne2]]) -> S04 | G34: =TEXT(Tableau1[[#This Row],[Date ]],"mmmm") -> janvier | H34: 5.5 | I34: 24 | J34: 25 | K34: =SUM(H34:J35) -> 64.5 | L34: =CONCATENATE(Tableau1[[#This Row],[Usine]],"-",Tableau1[[#This Row],[Semaine ]]) -> Biamonique-S04
A35: D1 | B35: 44585 | C35: =WEEKNUM(Tableau1[[#This Row],[Date ]]) -> 5 | D35: =Tableau1[[#This Row],[Colonne1]]-1 -> 4 | E35: =_xlfn.CONCAT("0",Tableau1[[#This Row],[N° Semaine]]) -> 04 | F35: =_xlfn.CONCAT("S",Tableau1[[#This Row],[Colonne2]]) -> S04 | G35: =TEXT(Tableau1[[#This Row],[Date ]],"mmmm") -> janvier | H35: 1.5 | I35: 8.5 | K35: =SUM(H35:J36) -> 224.75 | L35: =CONCATENATE(Tableau1[[#This Row],[Usine]],"-",Tableau1[[#This Row],[Semaine ]]) -> D1-S04
A36: Engrais | B36: 44585 | C36: =WEEKNUM(Tableau1[[#This Row],[Date ]]) -> 5 | D36: =Tableau1[[#This Row],[Colonne1]]-1 -> 4 | E36: =_xlfn.CONCAT("0",Tableau1[[#This Row],[N° Semaine]]) -> 04 | F36: =_xlfn.CONCAT("S",Tableau1[[#This Row],[Colonne2]]) -> S04 | G36: =TEXT(Tableau1[[#This Row],[Date ]],"mmmm") -> janvier | H36: 16.5 | I36: 137.5 | J36: 60.75 | K36: =SUM(H36:J37) -> 236.25 | L36: =CONCATENATE(Tableau1[[#This Row],[Usine]],"-",Tableau1[[#This Row],[Semaine ]]) -> Engrais-S04
A37: Entretien | B37: 44585 | C37: =WEEKNUM(Tableau1[[#This Row],[Date ]]) -> 5 | D37: =Tableau1[[#This Row],[Colonne1]]-1 -> 4 | E37: =_xlfn.CONCAT("0",Tableau1[[#This Row],[N° Semaine]]) -> 04 | F37: =_xlfn.CONCAT("S",Tableau1[[#This Row],[Colonne2]]) -> S04 | G37: =TEXT(Tableau1[[#This Row],[Date ]],"mmmm") -> janvier | H37: 6.5 | J37: 15 | K37: =SUM(H37:J38) -> 650 | L37: =CONCATENATE(Tableau1[[#This Row],[Usine]],"-",Tableau1[[#This Row],[Semaine ]]) -> Entretien-S04
A38: P2O5 | B38: 44585 | C38: =WEEKNUM(Tableau1[[#This Row],[Date ]]) -> 5 | D38: =Tableau1[[#This Row],[Colonne1]]-1 -> 4 | E38: =_xlfn.CONCAT("0",Tableau1[[#This Row],[N° Semaine]]) -> 04 | F38: =_xlfn.CONCAT("S",Tableau1[[#This Row],[Colonne2]]) -> S04 | G38: =TEXT(Tableau1[[#This Row],[Date ]],"mmmm") -> janvier | H38: 136.5 | I38: 194.5 | J38: 297.5 | K38: =SUM(H38:J39) -> 736 | L38: =CONCATENATE(Tableau1[[#This Row],[Usine]],"-",Tableau1[[#This Row],[Semaine ]]) -> P2O5-S04
A39: PTA | B39: 44585 | C39: =WEEKNUM(Tableau1[[#This Row],[Date ]]) -> 5 | D39: =Tableau1[[#This Row],[Colonne1]]-1 -> 4 | E39: =_xlfn.CONCAT("0",Tableau1[[#This Row],[N° Semaine]]) -> 04 | F39: =_xlfn.CONCAT("S",Tableau1[[#This Row],[Colonne2]]) -> S04 | G39: =TEXT(Tableau1[[#This Row],[Date ]],"mmmm") -> janvier | H39: 22 | I39: 29.5 | J39: 56 | K39: =SUM(H39:J40) -> 405.5 | L39: =CONCATENATE(Tableau1[[#This Row],[Usine]],"-",Tableau1[[#This Row],[Semaine ]]) -> PTA-S04
A40: Soufre & Energie - Sulfine | B40: 44585 | C40: =WEEKNUM(Tableau1[[#This Row],[Date ]]) -> 5 | D40: =Tableau1[[#This Row],[Colonne1]]-1 -> 4 | E40: =_xlfn.CONCAT("0",Tableau1[[#This Row],[N° Semaine]]) -> 04 | F40: =_xlfn.CONCAT("S",Tableau1[[#This Row],[Colonne2]]) -> S04 | G40: =TEXT(Tableau1[[#This Row],[Date ]],"mmmm") -> janvier | H40: 58.5 | I40: 149 | J40: 90.5 | K40: =SUM(H40:J41) -> 361 | L40: =CONCATENATE(Tableau1[[#This Row],[Usine]],"-",Tableau1[[#This Row],[Semaine ]]) -> Soufre & Energie - Sulfine-S04
A41: Zéoline | B41: 44585 | C41: =WEEKNUM(Tableau1[[#This Row],[Date ]]) -> 5 | D41: =Tableau1[[#This Row],[Colonne1]]-1 -> 4 | E41: =_xlfn.CONCAT("0",Tableau1[[#This Row],[N° Semaine]]) -> 04 | F41: =_xlfn.CONCAT("S",Tableau1[[#This Row],[Colonne2]]) -> S04 | G41: =TEXT(Tableau1[[#This Row],[Date ]],"mmmm") -> janvier | I41: 63 | K41: =SUM(H41:J42) -> 120 | L41: =CONCATENATE(Tableau1[[#This Row],[Usine]],"-",Tableau1[[#This Row],[Semaine ]]) -> Zéoline-S04
A42: #N/A | B42: 44585 | C42: =WEEKNUM(Tableau1[[#This Row],[Date ]]) -> 5 | D42: =Tableau1[[#This Row],[Colonne1]]-1 -> 4 | E42: =_xlfn.CONCAT("0",Tableau1[[#This Row],[N° Semaine]]) -> 04 | F42: =_xlfn.CONCAT("S",Tableau1[[#This Row],[Colonne2]]) -> S04 | G42: =TEXT(Tableau1[[#This Row],[Date ]],"mmmm") -> janvier | H42: 33.5 | I42: 6 | J42: 17.5 | K42: =SUM(H42:J43) -> 129 | L42: =CONCATENATE(Tableau1[[#This Row],[Usine]],"-",Tableau1[[#This Row],[Semaine ]]) -> #N/A-S04
A43: Autres | B43: 44592 | C43: =WEEKNUM(Tableau1[[#This Row],[Date ]]) -> 6 | D43: =Tableau1[[#This Row],[Colonne1]]-1 -> 5 | E43: =_xlfn.CONCAT("0",Tableau1[[#This Row],[N° Semaine]]) -> 05 | F43: =_xlfn.CONCAT("S",Tableau1[[#This Row],[Colonne2]]) -> S05 | G43: =TEXT(Tableau1[[#This Row],[Date ]],"mmmm") -> janvier | H43: 15 | I43: 4 | J43: 53 | K43: =SUM(H43:J44) -> 126.5 | L43: =CONCATENATE(Tableau1[[#This Row],[Usine]],"-",Tableau1[[#This Row],[Semaine ]]) -> Autres-S05
A44: Biamonique | B44: 44592 | C44: =WEEKNUM(Tableau1[[#This Row],[Date ]]) -> 6 | D44: =Tableau1[[#This Row],[Colonne1]]-1 -> 5 | E44: =_xlfn.CONCAT("0",Tableau1[[#This Row],[N° Semaine]]) -> 05 | F44: =_xlfn.CONCAT("S",Tableau1[[#This Row],[Colonne2]]) -> S05 | G44: =TEXT(Tableau1[[#This Row],[Date ]],"mmmm") -> janvier | H44: 5.5 | I44: 24 | J44: 25 | K44: =SUM(H44:J45) -> 64.5 | L44: =CONCATENATE(Tableau1[[#This Row],[Usine]],"-",Tableau1[[#This Row],[Semaine ]]) -> Biamonique-S05
A45: D1 | B45: 44592 | C45: =WEEKNUM(Tableau1[[#This Row],[Date ]]) -> 6 | D45: =Tableau1[[#This Row],[Colonne1]]-1 -> 5 | E45: =_xlfn.CONCAT("0",Tableau1[[#This Row],[N° Semaine]]) -> 05 | F45: =_xlfn.CONCAT("S",Tableau1[[#This Row],[Colonne2]]) -> S05 | G45: =TEXT(Tableau1[[#This Row],[Date ]],"mmmm") -> janvier | H45: 1.5 | I45: 8.5 | K45: =SUM(H45:J46) -> 224.75 | L45: =CONCATENATE(Tableau1[[#This Row],[Usine]],"-",Tableau1[[#This Row],[Semaine ]]) -> D1-S05
A46: Engrais | B46: 44592 | C46: =WEEKNUM(Tableau1[[#This Row],[Date ]]) -> 6 | D46: =Tableau1[[#This Row],[Colonne1]]-1 -> 5 | E46: =_xlfn.CONCAT("0",Tableau1[[#This Row],[N° Semaine]]) -> 05 | F46: =_xlfn.CONCAT("S",Tableau1[[#This Row],[Colonne2]]) -> S05 | G46: =TEXT(Tableau1[[#This Row],[Date ]],"mmmm") -> janvier | H46: 16.5 | I46: 137.5 | J46: 60.75 | K46: =SUM(H46:J47) -> 236.25 | L46: =CONCATENATE(Tableau1[[#This Row],[Usine]],"-",Tableau1[[#This Row],[Semaine ]]) -> Engrais-S05
A47: Entretien | B47: 44592 | C47: =WEEKNUM(Tableau1[[#This Row],[Date ]]) -> 6 | D47: =Tableau1[[#This Row],[Colonne1]]-1 -> 5 | E47: =_xlfn.CONCAT("0",Tableau1[[#This Row],[N° Semaine]]) -> 05 | F47: =_xlfn.CONCAT("S",Tableau1[[#This Row],[Colonne2]]) -> S05 | G47: =TEXT(Tableau1[[#This Row],[Date ]],"mmmm") -> janvier | H47: 6.5 | J47: 15 | K47: =SUM(H47:J48) -> 650 | L47: =CONCATENATE(Tableau1[[#This Row],[Usine]],"-",Tableau1[[#This Row],[Semaine ]]) -> Entretien-S05
A48: P2O5 | B48: 44592 | C48: =WEEKNUM(Tableau1[[#This Row],[Date ]]) -> 6 | D48: =Tableau1[[#This Row],[Colonne1]]-1 -> 5 | E48: =_xlfn.CONCAT("0",Tableau1[[#This Row],[N° Semaine]]) -> 05 | F48: =_xlfn.CONCAT("S",Tableau1[[#This Row],[Colonne2]]) -> S05 | G48: =TEXT(Tableau1[[#This Row],[Date ]],"mmmm") -> janvier | H48: 136.5 | I48: 194.5 | J48: 297.5 | K48: =SUM(H48:J49) -> 736 | L48: =CONCATENATE(Tableau1[[#This Row],[Usine]],"-",Tableau1[[#This Row],[Semaine ]]) -> P2O5-S05
A49: PTA | B49: 44592 | C49: =WEEKNUM(Tableau1[[#This Row],[Date ]]) -> 6 | D49: =Tableau1[[#This Row],[Colonne1]]-1 -> 5 | E49: =_xlfn.CONCAT("0",Tableau1[[#This Row],[N° Semaine]]) -> 05 | F49: =_xlfn.CONCAT("S",Tableau1[[#This Row],[Colonne2]]) -> S05 | G49: =TEXT(Tableau1[[#This Row],[Date ]],"mmmm") -> janvier | H49: 22 | I49: 29.5 | J49: 56 | K49: =SUM(H49:J50) -> 405.5 | L49: =CONCATENATE(Tableau1[[#This Row],[Usine]],"-",Tableau1[[#This Row],[Semaine ]]) -> PTA-S05
A50: Soufre & Energie - Sulfine | B50: 44592 | C50: =WEEKNUM(Tableau1[[#This Row],[Date ]]) -> 6 | D50: =Tableau1[[#This Row],[Colonne1]]-1 -> 5 | E50: =_xlfn.CONCAT("0",Tableau1[[#This Row],[N° Semaine]]) -> 05 | F50: =_xlfn.CONCAT("S",Tableau1[[#This Row],[Colonne2]]) -> S05 | G50: =TEXT(Tableau1[[#This Row],[Date ]],"mmmm") -> janvier | H50: 58.5 | I50: 149 | J50: 90.5 | K50: =SUM(H50:J51) -> 361 | L50: =CONCATENATE(Tableau1[[#This Row],[Usine]],"-",Tableau1[[#This Row],[Semaine ]]) -> Soufre & Energie - Sulfine-S05
A51: Zéoline | B51: 44592 | C51: =WEEKNUM(Tableau1[[#This Row],[Date ]]) -> 6 | D51: =Tableau1[[#This Row],[Colonne1]]-1 -> 5 | E51: =_xlfn.CONCAT("0",Tableau1[[#This Row],[N° Semaine]]) -> 05 | F51: =_xlfn.CONCAT("S",Tableau1[[#This Row],[Colonne2]]) -> S05 | G51: =TEXT(Tableau1[[#This Row],[Date ]],"mmmm") -> janvier | I51: 63 | K51: =SUM(H51:J52) -> 120 | L51: =CONCATENATE(Tableau1[[#This Row],[Usine]],"-",Tableau1[[#This Row],[Semaine ]]) -> Zéoline-S05
A52: #N/A | B52: 44592 | C52: =WEEKNUM(Tableau1[[#This Row],[Date ]]) -> 6 | D52: =Tableau1[[#This Row],[Colonne1]]-1 -> 5 | E52: =_xlfn.CONCAT("0",Tableau1[[#This Row],[N° Semaine]]) -> 05 | F52: =_xlfn.CONCAT("S",Tableau1[[#This Row],[Colonne2]]) -> S05 | G52: =TEXT(Tableau1[[#This Row],[Date ]],"mmmm") -> janvier | H52: 33.5 | I52: 6 | J52: 17.5 | K52: =SUM(H52:J53) -> 95 | L52: =CONCATENATE(Tableau1[[#This Row],[Usine]],"-",Tableau1[[#This Row],[Semaine ]]) -> #N/A-S05
A53: Autres | B53: 44599 | C53: =WEEKNUM(Tableau1[[#This Row],[Date ]]) -> 7 | D53: =Tableau1[[#This Row],[Colonne1]]-1 -> 6 | E53: =_xlfn.CONCAT("0",Tableau1[[#This Row],[N° Semaine]]) -> 06 | F53: =_xlfn.CONCAT("S",Tableau1[[#This Row],[Colonne2]]) -> S06 | G53: =TEXT(Tableau1[[#This Row],[Date ]],"mmmm") -> février | H53: 1.5 | I53: 3 | J53: 33.5 | K53: =SUM(H53:J54) -> 67.5 | L53: =CONCATENATE(Tableau1[[#This Row],[Usine]],"-",Tableau1[[#This Row],[Semaine ]]) -> Autres-S06
A54: Biamonique | B54: 44599 | C54: =WEEKNUM(Tableau1[[#This Row],[Date ]]) -> 7 | D54: =Tableau1[[#This Row],[Colonne1]]-1 -> 6 | E54: =_xlfn.CONCAT("0",Tableau1[[#This Row],[N° Semaine]]) -> 06 | F54: =_xlfn.CONCAT("S",Tableau1[[#This Row],[Colonne2]]) -> S06 | G54: =TEXT(Tableau1[[#This Row],[Date ]],"mmmm") -> février | I54: 26 | J54: 3.5 | K54: =SUM(H54:J55) -> 100.5 | L54: =CONCATENATE(Tableau1[[#This Row],[Usine]],"-",Tableau1[[#This Row],[Semaine ]]) -> Biamonique-S06
A55: D1 | B55: 44599 | C55: =WEEKNUM(Tableau1[[#This Row],[Date ]]) -> 7 | D55: =Tableau1[[#This Row],[Colonne1]]-1 -> 6 | E55: =_xlfn.CONCAT("0",Tableau1[[#This Row],[N° Semaine]]) -> 06 | F55: =_xlfn.CONCAT("S",Tableau1[[#This Row],[Colonne2]]) -> S06 | G55: =TEXT(Tableau1[[#This Row],[Date ]],"mmmm") -> février | H55: 71 | K55: =SUM(H55:J56) -> 308.5 | L55: =CONCATENATE(Tableau1[[#This Row],[Usine]],"-",Tableau1[[#This Row],[Semaine ]]) -> D1-S06
A56: Engrais | B56: 44599 | C56: =WEEKNUM(Tableau1[[#This Row],[Date ]]) -> 7 | D56: =Tableau1[[#This Row],[Colonne1]]-1 -> 6 | E56: =_xlfn.CONCAT("0",Tableau1[[#This Row],[N° Semaine]]) -> 06 | F56: =_xlfn.CONCAT("S",Tableau1[[#This Row],[Colonne2]]) -> S06 | G56: =TEXT(Tableau1[[#This Row],[Date ]],"mmmm") -> février | H56: 170 | I56: 23 | J56: 44.5 | K56: =SUM(H56:J57) -> 267.5 | L56: =CONCATENATE(Tableau1[[#This Row],[Usine]],"-",Tableau1[[#This Row],[Semaine ]]) -> Engrais-S06
A57: Entretien | B57: 44599 | C57: =WEEKNUM(Tableau1[[#This Row],[Date ]]) -> 7 | D57: =Tableau1[[#This Row],[Colonne1]]-1 -> 6 | E57: =_xlfn.CONCAT("0",Tableau1[[#This Row],[N° Semaine]]) -> 06 | F57: =_xlfn.CONCAT("S",Tableau1[[#This Row],[Colonne2]]) -> S06 | G57: =TEXT(Tableau1[[#This Row],[Date ]],"mmmm") -> février | I57: 30 | K57: =SUM(H57:J58) -> 559 | L57: =CONCATENATE(Tableau1[[#This Row],[Usine]],"-",Tableau1[[#This Row],[Semaine ]]) -> Entretien-S06
A58: P2O5 | B58: 44599 | C58: =WEEKNUM(Tableau1[[#This Row],[Date ]]) -> 7 | D58: =Tableau1[[#This Row],[Colonne1]]-1 -> 6 | E58: =_xlfn.CONCAT("0",Tableau1[[#This Row],[N° Semaine]]) -> 06 | F58: =_xlfn.CONCAT("S",Tableau1[[#This Row],[Colonne2]]) -> S06 | G58: =TEXT(Tableau1[[#This Row],[Date ]],"mmmm") -> février | H58: 91 | I58: 133.5 | J58: 304.5 | K58: =SUM(H58:J59) -> 585 | L58: =CONCATENATE(Tableau1[[#This Row],[Usine]],"-",Tableau1[[#This Row],[Semaine ]]) -> P2O5-S06
A59: PTA | B59: 44599 | C59: =WEEKNUM(Tableau1[[#This Row],[Date ]]) -> 7 | D59: =Tableau1[[#This Row],[Colonne1]]-1 -> 6 | E59: =_xlfn.CONCAT("0",Tableau1[[#This Row],[N° Semaine]]) -> 06 | F59: =_xlfn.CONCAT("S",Tableau1[[#This Row],[Colonne2]]) -> S06 | G59: =TEXT(Tableau1[[#This Row],[Date ]],"mmmm") -> février | H59: 2 | I59: 38.5 | J59: 15.5 | K59: =SUM(H59:J60) -> 258 | L59: =CONCATENATE(Tableau1[[#This Row],[Usine]],"-",Tableau1[[#This Row],[Semaine ]]) -> PTA-S06
A60: Soufre & Energie - Sulfine | B60: 44599 | C60: =WEEKNUM(Tableau1[[#This Row],[Date ]]) -> 7 | D60: =Tableau1[[#This Row],[Colonne1]]-1 -> 6 | E60: =_xlfn.CONCAT("0",Tableau1[[#This Row],[N° Semaine]]) -> 06 | F60: =_xlfn.CONCAT("S",Tableau1[[#This Row],[Colonne2]]) -> S06 | G60: =TEXT(Tableau1[[#This Row],[Date ]],"mmmm") -> février | H60: 51.5 | I60: 135.5 | J60: 15 | K60: =SUM(H60:J61) -> 242 | L60: =CONCATENATE(Tableau1[[#This Row],[Usine]],"-",Tableau1[[#This Row],[Semaine ]]) -> Soufre & Energie - Sulfine-S06
A61: Zéoline | B61: 44599 | C61: =WEEKNUM(Tableau1[[#This Row],[Date ]]) -> 7 | D61: =Tableau1[[#This Row],[Colonne1]]-1 -> 6 | E61: =_xlfn.CONCAT("0",Tableau1[[#This Row],[N° Semaine]]) -> 06 | F61: =_xlfn.CONCAT("S",Tableau1[[#This Row],[Colonne2]]) -> S06 | G61: =TEXT(Tableau1[[#This Row],[Date ]],"mmmm") -> février | H61: 6 | I61: 28.5 | J61: 5.5 | K61: =SUM(H61:J62) -> 146 | L61: =CONCATENATE(Tableau1[[#This Row],[Usine]],"-",Tableau1[[#This Row],[Semaine ]]) -> Zéoline-S06
A62: #N/A | B62: 44599 | C62: =WEEKNUM(Tableau1[[#This Row],[Date ]]) -> 7 | D62: =Tableau1[[#This Row],[Colonne1]]-1 -> 6 | E62: =_xlfn.CONCAT("0",Tableau1[[#This Row],[N° Semaine]]) -> 06 | F62: =_xlfn.CONCAT("S",Tableau1[[#This Row],[Colonne2]]) -> S06 | G62: =TEXT(Tableau1[[#This Row],[Date ]],"mmmm") -> février | H62: 45 | I62: 52 | J62: 9 | K62: =SUM(H62:J63) -> 128.5 | L62: =CONCATENATE(Tableau1[[#This Row],[Usine]],"-",Tableau1[[#This Row],[Semaine ]]) -> #N/A-S06
A63: Autres | B63: 44606 | C63: =WEEKNUM(Tableau1[[#This Row],[Date ]]) -> 8 | D63: =Tableau1[[#This Row],[Colonne1]]-1 -> 7 | E63: =_xlfn.CONCAT("0",Tableau1[[#This Row],[N° Semaine]]) -> 07 | F63: =_xlfn.CONCAT("S",Tableau1[[#This Row],[Colonne2]]) -> S07 | G63: =TEXT(Tableau1[[#This Row],[Date ]],"mmmm") -> février | H63: 1.5 | J63: 21 | K63: =SUM(H63:J64) -> 56.5 | L63: =CONCATENATE(Tableau1[[#This Row],[Usine]],"-",Tableau1[[#This Row],[Semaine ]]) -> Autres-S07
A64: Biamonique | B64: 44606 | C64: =WEEKNUM(Tableau1[[#This Row],[Date ]]) -> 8 | D64: =Tableau1[[#This Row],[Colonne1]]-1 -> 7 | E64: =_xlfn.CONCAT("0",Tableau1[[#This Row],[N° Semaine]]) -> 07 | F64: =_xlfn.CONCAT("S",Tableau1[[#This Row],[Colonne2]]) -> S07 | G64: =TEXT(Tableau1[[#This Row],[Date ]],"mmmm") -> février | H64: 7 | I64: 27 | K64: =SUM(H64:J65) -> 47.5 | L64: =CONCATENATE(Tableau1[[#This Row],[Usine]],"-",Tableau1[[#This Row],[Semaine ]]) -> Biamonique-S07
A65: D1 | B65: 44606 | C65: =WEEKNUM(Tableau1[[#This Row],[Date ]]) -> 8 | D65: =Tableau1[[#This Row],[Colonne1]]-1 -> 7 | E65: =_xlfn.CONCAT("0",Tableau1[[#This Row],[N° Semaine]]) -> 07 | F65: =_xlfn.CONCAT("S",Tableau1[[#This Row],[Colonne2]]) -> S07 | G65: =TEXT(Tableau1[[#This Row],[Date ]],"mmmm") -> février | I65: 11 | J65: 2.5 | K65: =SUM(H65:J66) -> 139.5 | L65: =CONCATENATE(Tableau1[[#This Row],[Usine]],"-",Tableau1[[#This Row],[Semaine ]]) -> D1-S07
A66: Engrais | B66: 44606 | C66: =WEEKNUM(Tableau1[[#This Row],[Date ]]) -> 8 | D66: =Tableau1[[#This Row],[Colonne1]]-1 -> 7 | E66: =_xlfn.CONCAT("0",Tableau1[[#This Row],[N° Semaine]]) -> 07 | F66: =_xlfn.CONCAT("S",Tableau1[[#This Row],[Colonne2]]) -> S07 | G66: =TEXT(Tableau1[[#This Row],[Date ]],"mmmm") -> février | H66: 9 | I66: 64.5 | J66: 52.5 | K66: =SUM(H66:J67) -> 132.5 | L66: =CONCATENATE(Tableau1[[#This Row],[Usine]],"-",Tableau1[[#This Row],[Semaine ]]) -> Engrais-S07
A67: Entretien | B67: 44606 | C67: =WEEKNUM(Tableau1[[#This Row],[Date ]]) -> 8 | D67: =Tableau1[[#This Row],[Colonne1]]-1 -> 7 | E67: =_xlfn.CONCAT("0",Tableau1[[#This Row],[N° Semaine]]) -> 07 | F67: =_xlfn.CONCAT("S",Tableau1[[#This Row],[Colonne2]]) -> S07 | G67: =TEXT(Tableau1[[#This Row],[Date ]],"mmmm") -> février | I67: 6.5 | K67: =SUM(H67:J68) -> 8.5 | L67: =CONCATENATE(Tableau1[[#This Row],[Usine]],"-",Tableau1[[#This Row],[Semaine ]]) -> Entretien-S07
A68: Hydro | B68: 44606 | C68: =WEEKNUM(Tableau1[[#This Row],[Date ]]) -> 8 | D68: =Tableau1[[#This Row],[Colonne1]]-1 -> 7 | E68: =_xlfn.CONCAT("0",Tableau1[[#This Row],[N° Semaine]]) -> 07 | F68: =_xlfn.CONCAT("S",Tableau1[[#This Row],[Colonne2]]) -> S07 | G68: =TEXT(Tableau1[[#This Row],[Date ]],"mmmm") -> février | I68: 2 | K68: =SUM(H68:J69) -> 671 | L68: =CONCATENATE(Tableau1[[#This Row],[Usine]],"-",Tableau1[[#This Row],[Semaine ]]) -> Hydro-S07
A69: P2O5 | B69: 44606 | C69: =WEEKNUM(Tableau1[[#This Row],[Date ]]) -> 8 | D69: =Tableau1[[#This Row],[Colonne1]]-1 -> 7 | E69: =_xlfn.CONCAT("0",Tableau1[[#This Row],[N° Semaine]]) -> 07 | F69: =_xlfn.CONCAT("S",Tableau1[[#This Row],[Colonne2]]) -> S07 | G69: =TEXT(Tableau1[[#This Row],[Date ]],"mmmm") -> février | H69: 145 | I69: 207 | J69: 317 | K69: =SUM(H69:J70) -> 818 | L69: =CONCATENATE(Tableau1[[#This Row],[Usine]],"-",Tableau1[[#This Row],[Semaine ]]) -> P2O5-S07
A70: PTA | B70: 44606 | C70: =WEEKNUM(Tableau1[[#This Row],[Date ]]) -> 8 | D70: =Tableau1[[#This Row],[Colonne1]]-1 -> 7 | E70: =_xlfn.CONCAT("0",Tableau1[[#This Row],[N° Semaine]]) -> 07 | F70: =_xlfn.CONCAT("S",Tableau1[[#This Row],[Colonne2]]) -> S07 | G70: =TEXT(Tableau1[[#This Row],[Date ]],"mmmm") -> février | H70: 2 | I70: 102 | J70: 45 | K70: =SUM(H70:J71) -> 151 | L70: =CONCATENATE(Tableau1[[#This Row],[Usine]],"-",Tableau1[[#This Row],[Semaine ]]) -> PTA-S07
A71: Silox | B71: 44606 | C71: =WEEKNUM(Tableau1[[#This Row],[Date ]]) -> 8 | D71: =Tableau1[[#This Row],[Colonne1]]-1 -> 7 | E71: =_xlfn.CONCAT("0",Tableau1[[#This Row],[N° Semaine]]) -> 07 | F71: =_xlfn.CONCAT("S",Tableau1[[#This Row],[Colonne2]]) -> S07 | G71: =TEXT(Tableau1[[#This Row],[Date ]],"mmmm") -> février | I71: 2 | K71: =SUM(H71:J72) -> 247.5 | L71: =CONCATENATE(Tableau1[[#This Row],[Usine]],"-",Tableau1[[#This Row],[Semaine ]]) -> Silox-S07
A72: Soufre & Energie - Sulfine | B72: 44606 | C72: =WEEKNUM(Tableau1[[#This Row],[Date ]]) -> 8 | D72: =Tableau1[[#This Row],[Colonne1]]-1 -> 7 | E72: =_xlfn.CONCAT("0",Tableau1[[#This Row],[N° Semaine]]) -> 07 | F72: =_xlfn.CONCAT("S",Tableau1[[#This Row],[Colonne2]]) -> S07 | G72: =TEXT(Tableau1[[#This Row],[Date ]],"mmmm") -> février | H72: 61 | I72: 133.5 | J72: 51 | K72: =SUM(H72:J73) -> 275 | L72: =CONCATENATE(Tableau1[[#This Row],[Usine]],"-",Tableau1[[#This Row],[Semaine ]]) -> Soufre & Energie - Sulfine-S07
A73: Zéoline | B73: 44606 | C73: =WEEKNUM(Tableau1[[#This Row],[Date ]]) -> 8 | D73: =Tableau1[[#This Row],[Colonne1]]-1 -> 7 | E73: =_xlfn.CONCAT("0",Tableau1[[#This Row],[N° Semaine]]) -> 07 | F73: =_xlfn.CONCAT("S",Tableau1[[#This Row],[Colonne2]]) -> S07 | G73: =TEXT(Tableau1[[#This Row],[Date ]],"mmmm") -> février | H73: 2.5 | I73: 6.5 | J73: 20.5 | K73: =SUM(H73:J74) -> 197 | L73: =CONCATENATE(Tableau1[[#This Row],[Usine]],"-",Tableau1[[#This Row],[Semaine ]]) -> Zéoline-S07
A74: #N/A | B74: 44606 | C74: =WEEKNUM(Tableau1[[#This Row],[Date ]]) -> 8 | D74: =Tableau1[[#This Row],[Colonne1]]-1 -> 7 | E74: =_xlfn.CONCAT("0",Tableau1[[#This Row],[N° Semaine]]) -> 07 | F74: =_xlfn.CONCAT("S",Tableau1[[#This Row],[Colonne2]]) -> S07 | G74: =TEXT(Tableau1[[#This Row],[Date ]],"mmmm") -> février | H74: 81 | I74: 65.5 | J74: 21 | K74: =SUM(H74:J75) -> 216.5 | L74: =CONCATENATE(Tableau1[[#This Row],[Usine]],"-",Tableau1[[#This Row],[Semaine ]]) -> #N/A-S07
A75: Autres | B75: 44613 | C75: =WEEKNUM(Tableau1[[#This Row],[Date ]]) -> 9 | D75: =Tableau1[[#This Row],[Colonne1]]-1 -> 8 | E75: =_xlfn.CONCAT("0",Tableau1[[#This Row],[N° Semaine]]) -> 08 | F75: =_xlfn.CONCAT("S",Tableau1[[#This Row],[Colonne2]]) -> S08 | G75: =TEXT(Tableau1[[#This Row],[Date ]],"mmmm") -> février | H75: 24 | J75: 25 | K75: =SUM(H75:J76) -> 149.5 | L75: =CONCATENATE(Tableau1[[#This Row],[Usine]],"-",Tableau1[[#This Row],[Semaine ]]) -> Autres-S08
A76: Biamonique | B76: 44613 | C76: =WEEKNUM(Tableau1[[#This Row],[Date ]]) -> 9 | D76: =Tableau1[[#This Row],[Colonne1]]-1 -> 8 | E76: =_xlfn.CONCAT("0",Tableau1[[#This Row],[N° Semaine]]) -> 08 | F76: =_xlfn.CONCAT("S",Tableau1[[#This Row],[Colonne2]]) -> S08 | G76: =TEXT(Tableau1[[#This Row],[Date ]],"mmmm") -> février | H76: 16 | I76: 37.5 | J76: 47 | K76: =SUM(H76:J77) -> 111.5 | L76: =CONCATENATE(Tableau1[[#This Row],[Usine]],"-",Tableau1[[#This Row],[Semaine ]]) -> Biamonique-S08
A77: D1 | B77: 44613 | C77: =WEEKNUM(Tableau1[[#This Row],[Date ]]) -> 9 | D77: =Tableau1[[#This Row],[Colonne1]]-1 -> 8 | E77: =_xlfn.CONCAT("0",Tableau1[[#This Row],[N° Semaine]]) -> 08 | F77: =_xlfn.CONCAT("S",Tableau1[[#This Row],[Colonne2]]) -> S08 | G77: =TEXT(Tableau1[[#This Row],[Date ]],"mmmm") -> février | I77: 11 | K77: =SUM(H77:J78) -> 119.5 | L77: =CONCATENATE(Tableau1[[#This Row],[Usine]],"-",Tableau1[[#This Row],[Semaine ]]) -> D1-S08
A78: Engrais | B78: 44613 | C78: =WEEKNUM(Tableau1[[#This Row],[Date ]]) -> 9 | D78: =Tableau1[[#This Row],[Colonne1]]-1 -> 8 | E78: =_xlfn.CONCAT("0",Tableau1[[#This Row],[N° Semaine]]) -> 08 | F78: =_xlfn.CONCAT("S",Tableau1[[#This Row],[Colonne2]]) -> S08 | G78: =TEXT(Tableau1[[#This Row],[Date ]],"mmmm") -> février | H78: 44 | I78: 58 | J78: 6.5 | K78: =SUM(H78:J79) -> 118 | L78: =CONCATENATE(Tableau1[[#This Row],[Usine]],"-",Tableau1[[#This Row],[Semaine ]]) -> Engrais-S08
A79: Entretien | B79: 44613 | C79: =WEEKNUM(Tableau1[[#This Row],[Date ]]) -> 9 | D79: =Tableau1[[#This Row],[Colonne1]]-1 -> 8 | E79: =_xlfn.CONCAT("0",Tableau1[[#This Row],[N° Semaine]]) -> 08 | F79: =_xlfn.CONCAT("S",Tableau1[[#This Row],[Colonne2]]) -> S08 | G79: =TEXT(Tableau1[[#This Row],[Date ]],"mmmm") -> février | H79: 7 | J79: 2.5 | K79: =SUM(H79:J80) -> 617.25 | L79: =CONCATENATE(Tableau1[[#This Row],[Usine]],"-",Tableau1[[#This Row],[Semaine ]]) -> Entretien-S08
A80: P2O5 | B80: 44613 | C80: =WEEKNUM(Tableau1[[#This Row],[Date ]]) -> 9 | D80: =Tableau1[[#This Row],[Colonne1]]-1 -> 8 | E80: =_xlfn.CONCAT("0",Tableau1[[#This Row],[N° Semaine]]) -> 08 | F80: =_xlfn.CONCAT("S",Tableau1[[#This Row],[Colonne2]]) -> S08 | G80: =TEXT(Tableau1[[#This Row],[Date ]],"mmmm") -> février | H80: 65 | I80: 82.5 | J80: 460.25 | K80: =SUM(H80:J81) -> 837.25 | L80: =CONCATENATE(Tableau1[[#This Row],[Usine]],"-",Tableau1[[#This Row],[Semaine ]]) -> P2O5-S08
A81: PTA | B81: 44613 | C81: =WEEKNUM(Tableau1[[#This Row],[Date ]]) -> 9 | D81: =Tableau1[[#This Row],[Colonne1]]-1 -> 8 | E81: =_xlfn.CONCAT("0",Tableau1[[#This Row],[N° Semaine]]) -> 08 | F81: =_xlfn.CONCAT("S",Tableau1[[#This Row],[Colonne2]]) -> S08 | G81: =TEXT(Tableau1[[#This Row],[Date ]],"mmmm") -> février | H81: 11.5 | I81: 65.5 | J81: 152.5 | K81: =SUM(H81:J82) -> 418.5 | L81: =CONCATENATE(Tableau1[[#This Row],[Usine]],"-",Tableau1[[#This Row],[Semaine ]]) -> PTA-S08
A82: Soufre & Energie - Sulfine | B82: 44613 | C82: =WEEKNUM(Tableau1[[#This Row],[Date ]]) -> 9 | D82: =Tableau1[[#This Row],[Colonne1]]-1 -> 8 | E82: =_xlfn.CONCAT("0",Tableau1[[#This Row],[N° Semaine]]) -> 08 | F82: =_xlfn.CONCAT("S",Tableau1[[#This Row],[Colonne2]]) -> S08 | G82: =TEXT(Tableau1[[#This Row],[Date ]],"mmmm") -> février | H82: 54 | I82: 97.5 | J82: 37.5 | K82: =SUM(H82:J83) -> 282 | L82: =CONCATENATE(Tableau1[[#This Row],[Usine]],"-",Tableau1[[#This Row],[Semaine ]]) -> Soufre & Energie - Sulfine-S08
A83: Zéoline | B83: 44613 | C83: =WEEKNUM(Tableau1[[#This Row],[Date ]]) -> 9 | D83: =Tableau1[[#This Row],[Colonne1]]-1 -> 8 | E83: =_xlfn.CONCAT("0",Tableau1[[#This Row],[N° Semaine]]) -> 08 | F83: =_xlfn.CONCAT("S",Tableau1[[#This Row],[Colonne2]]) -> S08 | G83: =TEXT(Tableau1[[#This Row],[Date ]],"mmmm") -> février | H83: 17.5 | I83: 67.5 | J83: 8 | K83: =SUM(H83:J84) -> 147.5 | L83: =CONCATENATE(Tableau1[[#This Row],[Usine]],"-",Tableau1[[#This Row],[Semaine ]]) -> Zéoline-S08
A84: #N/A | B84: 44613 | C84: =WEEKNUM(Tableau1[[#This Row],[Date ]]) -> 9 | D84: =Tableau1[[#This Row],[Colonne1]]-1 -> 8 | E84: =_xlfn.CONCAT("0",Tableau1[[#This Row],[N° Semaine]]) -> 08 | F84: =_xlfn.CONCAT("S",Tableau1[[#This Row],[Colonne2]]) -> S08 | G84: =TEXT(Tableau1[[#This Row],[Date ]],"mmmm") -> février | I84: 34 | J84: 20.5 | K84: =SUM(H84:J85) -> 74.5 | L84: =CONCATENATE(Tableau1[[#This Row],[Usine]],"-",Tableau1[[#This Row],[Semaine ]]) -> #N/A-S08
A85: Autres | B85: 44620 | C85: =WEEKNUM(Tableau1[[#This Row],[Date ]]) -> 10 | D85: =Tableau1[[#This Row],[Colonne1]]-1 -> 9 | E85: =_xlfn.CONCAT("0",Tableau1[[#This Row],[N° Semaine]]) -> 09 | F85: =_xlfn.CONCAT("S",Tableau1[[#This Row],[Colonne2]]) -> S09 | G85: =TEXT(Tableau1[[#This Row],[Date ]],"mmmm") -> février | H85: 16 | J85: 4 | K85: =SUM(H85:J86) -> 47 | L85: =CONCATENATE(Tableau1[[#This Row],[Usine]],"-",Tableau1[[#This Row],[Semaine ]]) -> Autres-S09
A86: Biamonique | B86: 44620 | C86: =WEEKNUM(Tableau1[[#This Row],[Date ]]) -> 10 | D86: =Tableau1[[#This Row],[Colonne1]]-1 -> 9 | E86: =_xlfn.CONCAT("0",Tableau1[[#This Row],[N° Semaine]]) -> 09 | F86: =_xlfn.CONCAT("S",Tableau1[[#This Row],[Colonne2]]) -> S09 | G86: =TEXT(Tableau1[[#This Row],[Date ]],"mmmm") -> février | H86: 12 | I86: 15 | K86: =SUM(H86:J87) -> 52.5 | L86: =CONCATENATE(Tableau1[[#This Row],[Usine]],"-",Tableau1[[#This Row],[Semaine ]]) -> Biamonique-S09
A87: D1 | B87: 44620 | C87: =WEEKNUM(Tableau1[[#This Row],[Date ]]) -> 10 | D87: =Tableau1[[#This Row],[Colonne1]]-1 -> 9 | E87: =_xlfn.CONCAT("0",Tableau1[[#This Row],[N° Semaine]]) -> 09 | F87: =_xlfn.CONCAT("S",Tableau1[[#This Row],[Colonne2]]) -> S09 | G87: =TEXT(Tableau1[[#This Row],[Date ]],"mmmm") -> février | H87: 17.5 | I87: 8 | K87: =SUM(H87:J88) -> 37.5 | L87: =CONCATENATE(Tableau1[[#This Row],[Usine]],"-",Tableau1[[#This Row],[Semaine ]]) -> D1-S09
A88: Engrais | B88: 44620 | C88: =WEEKNUM(Tableau1[[#This Row],[Date ]]) -> 10 | D88: =Tableau1[[#This Row],[Colonne1]]-1 -> 9 | E88: =_xlfn.CONCAT("0",Tableau1[[#This Row],[N° Semaine]]) -> 09 | F88: =_xlfn.CONCAT("S",Tableau1[[#This Row],[Colonne2]]) -> S09 | G88: =TEXT(Tableau1[[#This Row],[Date ]],"mmmm") -> février | I88: 12 | K88: =SUM(H88:J89) -> 31 | L88: =CONCATENATE(Tableau1[[#This Row],[Usine]],"-",Tableau1[[#This Row],[Semaine ]]) -> Engrais-S09
A89: Entretien | B89: 44620 | C89: =WEEKNUM(Tableau1[[#This Row],[Date ]]) -> 10 | D89: =Tableau1[[#This Row],[Colonne1]]-1 -> 9 | E89: =_xlfn.CONCAT("0",Tableau1[[#This Row],[N° Semaine]]) -> 09 | F89: =_xlfn.CONCAT("S",Tableau1[[#This Row],[Colonne2]]) -> S09 | G89: =TEXT(Tableau1[[#This Row],[Date ]],"mmmm") -> février | H89: 15 | J89: 4 | K89: =SUM(H89:J90) -> 527.5 | L89: =CONCATENATE(Tableau1[[#This Row],[Usine]],"-",Tableau1[[#This Row],[Semaine ]]) -> Entretien-S09
A90: P2O5 | B90: 44620 | C90: =WEEKNUM(Tableau1[[#This Row],[Date ]]) -> 10 | D90: =Tableau1[[#This Row],[Colonne1]]-1 -> 9 | E90: =_xlfn.CONCAT("0",Tableau1[[#This Row],[N° Semaine]]) -> 09 | F90: =_xlfn.CONCAT("S",Tableau1[[#This Row],[Colonne2]]) -> S09 | G90: =TEXT(Tableau1[[#This Row],[Date ]],"mmmm") -> février | H90: 97 | I90: 80 | J90: 331.5 | K90: =SUM(H90:J91) -> 2112.5 | L90: =CONCATENATE(Tableau1[[#This Row],[Usine]],"-",Tableau1[[#This Row],[Semaine ]]) -> P2O5-S09
A91: PTA | B91: 44620 | C91: =WEEKNUM(Tableau1[[#This Row],[Date ]]) -> 10 | D91: =Tableau1[[#This Row],[Colonne1]]-1 -> 9 | E91: =_xlfn.CONCAT("0",Tableau1[[#This Row],[N° Semaine]]) -> 09 | F91: =_xlfn.CONCAT("S",Tableau1[[#This Row],[Colonne2]]) -> S09 | G91: =TEXT(Tableau1[[#This Row],[Date ]],"mmmm") -> février | H91: 612.75 | I91: 463.75 | J91: 527.5 | K91: =SUM(H91:J92) -> 1835 | L91: =CONCATENATE(Tableau1[[#This Row],[Usine]],"-",Tableau1[[#This Row],[Semaine ]]) -> PTA-S09
A92: Soufre & Energie - Sulfine | B92: 44620 | C92: =WEEKNUM(Tableau1[[#This Row],[Date ]]) -> 10 | D92: =Tableau1[[#This Row],[Colonne1]]-1 -> 9 | E92: =_xlfn.CONCAT("0",Tableau1[[#This Row],[N° Semaine]]) -> 09 | F92: =_xlfn.CONCAT("S",Tableau1[[#This Row],[Colonne2]]) -> S09 | G92: =TEXT(Tableau1[[#This Row],[Date ]],"mmmm") -> février | H92: 77.5 | I92: 153.5 | K92: =SUM(H92:J93) -> 253.5 | L92: =CONCATENATE(Tableau1[[#This Row],[Usine]],"-",Tableau1[[#This Row],[Semaine ]]) -> Soufre & Energie - Sulfine-S09
A93: Zéoline | B93: 44620 | C93: =WEEKNUM(Tableau1[[#This Row],[Date ]]) -> 10 | D93: =Tableau1[[#This Row],[Colonne1]]-1 -> 9 | E93: =_xlfn.CONCAT("0",Tableau1[[#This Row],[N° Semaine]]) -> 09 | F93: =_xlfn.CONCAT("S",Tableau1[[#This Row],[Colonne2]]) -> S09 | G93: =TEXT(Tableau1[[#This Row],[Date ]],"mmmm") -> février | I93: 22.5 | K93: =SUM(H93:J94) -> 39 | L93: =CONCATENATE(Tableau1[[#This Row],[Usine]],"-",Tableau1[[#This Row],[Semaine ]]) -> Zéoline-S09
A94: #N/A | B94: 44620 | C94: =WEEKNUM(Tableau1[[#This Row],[Date ]]) -> 10 | D94: =Tableau1[[#This Row],[Colonne1]]-1 -> 9 | E94: =_xlfn.CONCAT("0",Tableau1[[#This Row],[N° Semaine]]) -> 09 | F94: =_xlfn.CONCAT("S",Tableau1[[#This Row],[Colonne2]]) -> S09 | G94: =TEXT(Tableau1[[#This Row],[Date ]],"mmmm") -> février | H94: 3.5 | J94: 13 | K94: =SUM(H94:J95) -> 46 | L94: =CONCATENATE(Tableau1[[#This Row],[Usine]],"-",Tableau1[[#This Row],[Semaine ]]) -> #N/A-S09
A95: Autres | B95: 44627 | C95: =WEEKNUM(Tableau1[[#This Row],[Date ]]) -> 11 | D95: =Tableau1[[#This Row],[Colonne1]]-1 -> 10 | E95: =_xlfn.CONCAT("0",Tableau1[[#This Row],[N° Semaine]]) -> 010 | F95: =_xlfn.CONCAT("S",Tableau1[[#This Row],[Colonne2]]) -> S010 | G95: =TEXT(Tableau1[[#This Row],[Date ]],"mmmm") -> mars | H95: 18 | I95: 7.5 | J95: 4 | K95: =SUM(H95:J96) -> 41.5 | L95: =CONCATENATE(Tableau1[[#This Row],[Usine]],"-",Tableau1[[#This Row],[Semaine ]]) -> Autres-S010
A96: Biamonique | B96: 44627 | C96: =WEEKNUM(Tableau1[[#This Row],[Date ]]) -> 11 | D96: =Tableau1[[#This Row],[Colonne1]]-1 -> 10 | E96: =_xlfn.CONCAT("0",Tableau1[[#This Row],[N° Semaine]]) -> 010 | F96: =_xlfn.CONCAT("S",Tableau1[[#This Row],[Colonne2]]) -> S010 | G96: =TEXT(Tableau1[[#This Row],[Date ]],"mmmm") -> mars | I96: 12 | K96: =SUM(H96:J97) -> 69.5 | L96: =CONCATENATE(Tableau1[[#This Row],[Usine]],"-",Tableau1[[#This Row],[Semaine ]]) -> Biamonique-S010
A97: D1 | B97: 44627 | C97: =WEEKNUM(Tableau1[[#This Row],[Date ]]) -> 11 | D97: =Tableau1[[#This Row],[Colonne1]]-1 -> 10 | E97: =_xlfn.CONCAT("0",Tableau1[[#This Row],[N° Semaine]]) -> 010 | F97: =_xlfn.CONCAT("S",Tableau1[[#This Row],[Colonne2]]) -> S010 | G97: =TEXT(Tableau1[[#This Row],[Date ]],"mmmm") -> mars | I97: 57.5 | K97: =SUM(H97:J98) -> 177.25 | L97: =CONCATENATE(Tableau1[[#This Row],[Usine]],"-",Tableau1[[#This Row],[Semaine ]]) -> D1-S010
A98: Engrais | B98: 44627 | C98: =WEEKNUM(Tableau1[[#This Row],[Date ]]) -> 11 | D98: =Tableau1[[#This Row],[Colonne1]]-1 -> 10 | E98: =_xlfn.CONCAT("0",Tableau1[[#This Row],[N° Semaine]]) -> 010 | F98: =_xlfn.CONCAT("S",Tableau1[[#This Row],[Colonne2]]) -> S010 | G98: =TEXT(Tableau1[[#This Row],[Date ]],"mmmm") -> mars | H98: 26.5 | I98: 49.75 | J98: 43.5 | K98: =SUM(H98:J99) -> 142.25 | L98: =CONCATENATE(Tableau1[[#This Row],[Usine]],"-",Tableau1[[#This Row],[Semaine ]]) -> Engrais-S010
A99: Entretien | B99: 44627 | C99: =WEEKNUM(Tableau1[[#This Row],[Date ]]) -> 11 | D99: =Tableau1[[#This Row],[Colonne1]]-1 -> 10 | E99: =_xlfn.CONCAT("0",Tableau1[[#This Row],[N° Semaine]]) -> 010 | F99: =_xlfn.CONCAT("S",Tableau1[[#This Row],[Colonne2]]) -> S010 | G99: =TEXT(Tableau1[[#This Row],[Date ]],"mmmm") -> mars | H99: 8 | J99: 14.5 | K99: =SUM(H99:J100) -> 24 | L99: =CONCATENATE(Tableau1[[#This Row],[Usine]],"-",Tableau1[[#This Row],[Semaine ]]) -> Entretien-S010
A100: Hydro | B100: 44627 | C100: =WEEKNUM(Tableau1[[#This Row],[Date ]]) -> 11 | D100: =Tableau1[[#This Row],[Colonne1]]-1 -> 10 | E100: =_xlfn.CONCAT("0",Tableau1[[#This Row],[N° Semaine]]) -> 010 | F100: =_xlfn.CONCAT("S",Tableau1[[#This Row],[Colonne2]]) -> S010 | G100: =TEXT(Tableau1[[#This Row],[Date ]],"mmmm") -> mars | I100: 1.5 | K100: =SUM(H100:J101) -> 607.25 | L100: =CONCATENATE(Tableau1[[#This Row],[Usine]],"-",Tableau1[[#This Row],[Semaine ]]) -> Hydro-S010
...
