Workbook

Sheet Equipe
A1: A1 | B1: Al Ahly
A2: A2 | B2: Inter Miami
A3: A3 | B3: Palmeiras
A4: A4 | B4: Porto
A5: B1 | B5: Atlético Madrid
A6: B2 | B6: Botafogo
A7: B3 | B7: PSG
A8: B4 | B8: Seattle Sounders
A9: C1 | B9: Auckland City
A10: C2 | B10: Bayern Munich
A11: C3 | B11: Benfica
A12: C4 | B12: Boca Juniors
... A32: H4 | B32: RB Salzburg

Sheet Phase Groupe
AH1: GROUPE A | BB1: Score | BI1: CJ | BK1: CR
AI2: classement Général | AW2: 15 | AX2: juin | AY2: 0.083333333 | AZ2: A1 | BA2: =IFERROR(INDEX(Equipe!B:B,MATCH(AZ2,Equipe!A:A,0)),"") -> Al Ahly | BB2: 0 | BC2: - | BD2: 0 | BE2: =IFERROR(INDEX(Equipe!B:B,MATCH(BF2,Equipe!A:A,0)),"") -> Inter Miami | BF2: A2 | BG2: =IF(BB2="","",IF(BB2>BD2,3,IF(BB2=BD2,1,IF(BB2<BD2,IF(BD2="",3,0))))) -> 1 | BH2: =IF(BD2="","",IF(BD2>BB2,3,IF(BD2=BB2,1,IF(BD2<BB2,IF(BB2="",3,0))))) -> 1 | BI2: 1 | BJ2: 4 | BN2: Si vous désirez faire un don, c'est ICI et c'est libre :
E3: Pts | F3: J | G3: G | H3: N | I3: P | J3: BP | K3: BC | L3: +/- | M3: CJ | N3: CR | P3: Rang | Q3: Rang +/- | R3: Rang BP | S3: multi critère | T3: Code | U3: rappel rang | V3: équipe | W3: PTS | X3: J | Y3: G | Z3: N | AA3: P | AB3: Bp | AC3: Bc | AD3: +/- | AE3: CJ | AF3: CR | AL3: Pts | AM3: J | AN3: G | AO3: N | AP3: P | AQ3: BP | AR3: BC | AS3: +/- | AT3: CJ | AU3: CR | AW3: 16 | AX3: juin | AY3: 0 | AZ3: A3 | BA3: =IFERROR(INDEX(Equipe!B:B,MATCH(AZ3,Equipe!A:A,0)),"") -> Palmeiras | BB3: 0 | BC3: - | BD3: 0 | BE3: =IFERROR(INDEX(Equipe!B:B,MATCH(BF3,Equipe!A:A,0)),"") -> Porto | BF3: A4 | BG3: =IF(BB3="","",IF(BB3>BD3,3,IF(BB3=BD3,1,IF(BB3<BD3,IF(BD3="",3,0))))) -> 1 | BH3: =IF(BD3="","",IF(BD3>BB3,3,IF(BD3=BB3,1,IF(BD3<BB3,IF(BB3="",3,0))))) -> 1 | BI3: 2 | BJ3: 2 | BN3: https://paypal.me/scriptfoot?country.x=FR&locale.x=fr_FR
A4: A1 | B4: 1/8 | C4: 1 | D4: =IFERROR(INDEX(Equipe!B:B,MATCH(A4,Equipe!A:A,0)),"") -> Al Ahly | E4: =(G4*3)+H4 -> 1 | F4: =G4+H4+I4 -> 1 | G4: =COUNTIFS($AZ2:$AZ7,$A4,$BG2:$BG7,3)+COUNTIFS($BF2:$BF7,$A4,$BH2:$BH7,3) -> 0 | H4: =COUNTIFS($AZ2:$AZ7,$A4,$BG2:$BG7,1)+COUNTIFS($BF2:$BF7,$A4,$BH2:$BH7,1) -> 1 | I4: =COUNTIFS($AZ2:$AZ7,$A4,$BG2:$BG7,0)+COUNTIFS($BF2:$BF7,$A4,$BH2:$BH7,0) -> 0 | J4: =SUMIF($AZ2:$AZ7,$A4,$BB2:$BB7)+SUMIF($BF2:$BF7,$A4,$BD2:$BD7) -> 0 | K4: =SUMIF($AZ2:$AZ7,$A4,$BD2:$BD7)+SUMIF($BF2:$BF7,$A4,$BB2:$BB7) -> 0 | L4: =J4-K4 -> 0 | M4: =SUMIF($AZ2:$AZ7,$A4,$BI2:$BI7)+SUMIF($BF2:$BF7,$A4,$BJ2:$BJ7) -> 1 | N4: =SUMIF($AZ2:$AZ7,$A4,$BK2:$BK7)+SUMIF($BF2:$BF7,$A4,$BL2:$BL7) -> 0 | O4: =0.004+(E4*10000)+(J4*1000)+(L4*100)-(M4*1)-(N4*5) -> 9999.004 | P4: =RANK(O4,$O$4:$O$7) -> 1 | Q4: =RANK(L4,$L$4:$L$7) -> 1 | R4: =RANK(J4,$J$4:$J$7) -> 1 | S4: =O4 -> 9999.004 | T4: =A4 -> A1 | U4: =P4 -> 1 | V4: =D4 -> Al Ahly | W4: =E4 -> 1 | X4: =F4 -> 1 | Y4: =G4 -> 0 | Z4: =H4 -> 1 | AA4: =I4 -> 0 | AB4: =J4 -> 0 | AC4: =K4 -> 0 | ... AF4: =N4 -> 0 | AG4: =LARGE(S$4:S$7,1) -> 9999.004 | AH4: =VLOOKUP($AG4,$S$4:$AG$7,2,0) -> A1 | AI4: =VLOOKUP($AG4,$S$4:$AG$7,3,0) -> 1 | AJ4: - | AK4: =VLOOKUP($AG4,$S$4:$AG$7,4,0) -> Al Ahly | AL4: =VLOOKUP($AG4,$S$4:$AG$7,5,0) -> 1 | AM4: =VLOOKUP($AG4,$S$4:$AG$7,6,0) -> 1 | AN4: =VLOOKUP($AG4,$S$4:$AG$7,7,0) -> 0 | AO4: =VLOOKUP($AG4,$S$4:$AG$7,8,0) -> 1 | AP4: =VLOOKUP($AG4,$S$4:$AG$7,9,0) -> 0 | AQ4: =VLOOKUP($AG4,$S$4:$AG$7,10,0) -> 0 | AR4: =VLOOKUP($AG4,$S$4:$AG$7,11,0) -> 0 | AS4: =VLOOKUP($AG4,$S$4:$AG$7,12,0) -> 0 | AT4: =VLOOKUP($AG4,$S$4:$AG$7,13,0) -> 1 | AU4: =VLOOKUP($AG4,$S$4:$AG$7,14,0) -> 0 | AW4: 19 | AX4: juin | AY4: 0.75 | AZ4: A3 | BA4: =IFERROR(INDEX(Equipe!B:B,MATCH(AZ4,Equipe!A:A,0)),"") -> Palmeiras | BC4: - | BE4: =IFERROR(INDEX(Equipe!B:B,MATCH(BF4,Equipe!A:A,0)),"") -> Al Ahly | BF4: A1 | BG4: =IF(BB4="","",IF(BB4>BD4,3,IF(BB4=BD4,1,IF(BB4<BD4,IF(BD4="",3,0))))) | BH4: =IF(BD4="","",IF(BD4>BB4,3,IF(BD4=BB4,1,IF(BD4<BB4,IF(BB4="",3,0)))))
A5: A2 | B5: 1/8 | C5: 2 | D5: =IFERROR(INDEX(Equipe!B:B,MATCH(A5,Equipe!A:A,0)),"") -> Inter Miami | E5: =(G5*3)+H5 -> 1 | F5: =G5+H5+I5 -> 1 | G5: =COUNTIFS($AZ2:$AZ7,$A5,$BG2:$BG7,3)+COUNTIFS($BF2:$BF7,$A5,$BH2:$BH7,3) -> 0 | H5: =COUNTIFS($AZ2:$AZ7,$A5,$BG2:$BG7,1)+COUNTIFS($BF2:$BF7,$A5,$BH2:$BH7,1) -> 1 | I5: =COUNTIFS($AZ2:$AZ7,$A5,$BG2:$BG7,0)+COUNTIFS($BF2:$BF7,$A5,$BH2:$BH7,0) -> 0 | J5: =SUMIF($AZ2:$AZ7,$A5,$BB2:$BB7)+SUMIF($BF2:$BF7,$A5,$BD2:$BD7) -> 0 | K5: =SUMIF($AZ2:$AZ7,$A5,$BD2:$BD7)+SUMIF($BF2:$BF7,$A5,$BB2:$BB7) -> 0 | L5: =J5-K5 -> 0 | M5: =SUMIF($AZ2:$AZ7,$A5,$BI2:$BI7)+SUMIF($BF2:$BF7,$A5,$BJ2:$BJ7) -> 4 | N5: =SUMIF($AZ3:$AZ8,$A5,$BK3:$BK8)+SUMIF($BF3:$BF8,$A5,$BL3:$BL8) -> 0 | O5: =0.003+(E5*10000)+(J5*1000)+(L5*100)-(M5*1)-(N5*5) -> 9996.003 | P5: =RANK(O5,$O$4:$O$7) -> 4 | Q5: =RANK(L5,$L$4:$L$7) -> 1 | R5: =RANK(J5,$J$4:$J$7) -> 1 | S5: =O5 -> 9996.003 | T5: =A5 -> A2 | U5: =P5 -> 4 | V5: =D5 -> Inter Miami | W5: =E5 -> 1 | X5: =F5 -> 1 | Y5: =G5 -> 0 | Z5: =H5 -> 1 | AA5: =I5 -> 0 | AB5: =J5 -> 0 | AC5: =K5 -> 0 | ... AF5: =N5 -> 0 | AG5: =LARGE(S$4:S$7,2) -> 9998.002 | AH5: =VLOOKUP($AG5,$S$4:$AG$7,2,0) -> A3 | AI5: =VLOOKUP($AG5,$S$4:$AG$7,3,0) -> 2 | AJ5: - | AK5: =VLOOKUP($AG5,$S$4:$AG$7,4,0) -> Palmeiras | AL5: =VLOOKUP($AG5,$S$4:$AG$7,5,0) -> 1 | AM5: =VLOOKUP($AG5,$S$4:$AG$7,6,0) -> 1 | AN5: =VLOOKUP($AG5,$S$4:$AG$7,7,0) -> 0 | AO5: =VLOOKUP($AG5,$S$4:$AG$7,8,0) -> 1 | AP5: =VLOOKUP($AG5,$S$4:$AG$7,9,0) -> 0 | AQ5: =VLOOKUP($AG5,$S$4:$AG$7,10,0) -> 0 | AR5: =VLOOKUP($AG5,$S$4:$AG$7,11,0) -> 0 | AS5: =VLOOKUP($AG5,$S$4:$AG$7,12,0) -> 0 | AT5: =VLOOKUP($AG5,$S$4:$AG$7,13,0) -> 2 | AU5: =VLOOKUP($AG5,$S$4:$AG$7,14,0) -> 0 | AW5: 19 | AX5: juin | AY5: 0.875 | AZ5: A2 | BA5: =IFERROR(INDEX(Equipe!B:B,MATCH(AZ5,Equipe!A:A,0)),"") -> Inter Miami | BC5: - | BE5: =IFERROR(INDEX(Equipe!B:B,MATCH(BF5,Equipe!A:A,0)),"") -> Porto | BF5: A4 | BG5: =IF(BB5="","",IF(BB5>BD5,3,IF(BB5=BD5,1,IF(BB5<BD5,IF(BD5="",3,0))))) | BH5: =IF(BD5="","",IF(BD5>BB5,3,IF(BD5=BB5,1,IF(BD5<BB5,IF(BB5="",3,0)))))
A6: A3 | B6: E | C6: 3 | D6: =IFERROR(INDEX(Equipe!B:B,MATCH(A6,Equipe!A:A,0)),"") -> Palmeiras | E6: =(G6*3)+H6 -> 1 | F6: =G6+H6+I6 -> 1 | G6: =COUNTIFS($AZ2:$AZ7,$A6,$BG2:$BG7,3)+COUNTIFS($BF2:$BF7,$A6,$BH2:$BH7,3) -> 0 | H6: =COUNTIFS($AZ2:$AZ7,$A6,$BG2:$BG7,1)+COUNTIFS($BF2:$BF7,$A6,$BH2:$BH7,1) -> 1 | I6: =COUNTIFS($AZ2:$AZ7,$A6,$BG2:$BG7,0)+COUNTIFS($BF2:$BF7,$A6,$BH2:$BH7,0) -> 0 | J6: =SUMIF($AZ2:$AZ7,$A6,$BB2:$BB7)+SUMIF($BF2:$BF7,$A6,$BD2:$BD7) -> 0 | K6: =SUMIF($AZ2:$AZ7,$A6,$BD2:$BD7)+SUMIF($BF2:$BF7,$A6,$BB2:$BB7) -> 0 | L6: =J6-K6 -> 0 | M6: =SUMIF($AZ2:$AZ7,$A6,$BI2:$BI7)+SUMIF($BF2:$BF7,$A6,$BJ2:$BJ7) -> 2 | N6: =SUMIF($AZ4:$AZ9,$A6,$BK4:$BK9)+SUMIF($BF4:$BF9,$A6,$BL4:$BL9) -> 0 | O6: =0.002+(E6*10000)+(J6*1000)+(L6*100)-(M6*1)-(N6*5) -> 9998.002 | P6: =RANK(O6,$O$4:$O$7) -> 2 | Q6: =RANK(L6,$L$4:$L$7) -> 1 | R6: =RANK(J6,$J$4:$J$7) -> 1 | S6: =O6 -> 9998.002 | T6: =A6 -> A3 | U6: =P6 -> 2 | V6: =D6 -> Palmeiras | W6: =E6 -> 1 | X6: =F6 -> 1 | Y6: =G6 -> 0 | Z6: =H6 -> 1 | AA6: =I6 -> 0 | AB6: =J6 -> 0 | AC6: =K6 -> 0 | ... AF6: =N6 -> 0 | AG6: =LARGE(S$4:S$7,3) -> 9998.001 | AH6: =VLOOKUP($AG6,$S$4:$AG$7,2,0) -> A4 | AI6: =VLOOKUP($AG6,$S$4:$AG$7,3,0) -> 3 | AJ6: - | AK6: =VLOOKUP($AG6,$S$4:$AG$7,4,0) -> Porto | AL6: =VLOOKUP($AG6,$S$4:$AG$7,5,0) -> 1 | AM6: =VLOOKUP($AG6,$S$4:$AG$7,6,0) -> 1 | AN6: =VLOOKUP($AG6,$S$4:$AG$7,7,0) -> 0 | AO6: =VLOOKUP($AG6,$S$4:$AG$7,8,0) -> 1 | AP6: =VLOOKUP($AG6,$S$4:$AG$7,9,0) -> 0 | AQ6: =VLOOKUP($AG6,$S$4:$AG$7,10,0) -> 0 | AR6: =VLOOKUP($AG6,$S$4:$AG$7,11,0) -> 0 | AS6: =VLOOKUP($AG6,$S$4:$AG$7,12,0) -> 0 | AT6: =VLOOKUP($AG6,$S$4:$AG$7,13,0) -> 2 | AU6: =VLOOKUP($AG6,$S$4:$AG$7,14,0) -> 0 | AW6: 24 | AX6: juin | AY6: 0.125 | AZ6: A2 | BA6: =IFERROR(INDEX(Equipe!B:B,MATCH(AZ6,Equipe!A:A,0)),"") -> Inter Miami | BC6: - | BE6: =IFERROR(INDEX(Equipe!B:B,MATCH(BF6,Equipe!A:A,0)),"") -> Palmeiras | BF6: A3 | BG6: =IF(BB6="","",IF(BB6>BD6,3,IF(BB6=BD6,1,IF(BB6<BD6,IF(BD6="",3,0))))) | BH6: =IF(BD6="","",IF(BD6>BB6,3,IF(BD6=BB6,1,IF(BD6<BB6,IF(BB6="",3,0)))))
A7: A4 | B7: E | C7: 4 | D7: =IFERROR(INDEX(Equipe!B:B,MATCH(A7,Equipe!A:A,0)),"") -> Porto | E7: =(G7*3)+H7 -> 1 | F7: =G7+H7+I7 -> 1 | G7: =COUNTIFS($AZ2:$AZ7,$A7,$BG2:$BG7,3)+COUNTIFS($BF2:$BF7,$A7,$BH2:$BH7,3) -> 0 | H7: =COUNTIFS($AZ2:$AZ7,$A7,$BG2:$BG7,1)+COUNTIFS($BF2:$BF7,$A7,$BH2:$BH7,1) -> 1 | I7: =COUNTIFS($AZ2:$AZ7,$A7,$BG2:$BG7,0)+COUNTIFS($BF2:$BF7,$A7,$BH2:$BH7,0) -> 0 | J7: =SUMIF($AZ2:$AZ7,$A7,$BB2:$BB7)+SUMIF($BF2:$BF7,$A7,$BD2:$BD7) -> 0 | K7: =SUMIF($AZ2:$AZ7,$A7,$BD2:$BD7)+SUMIF($BF2:$BF7,$A7,$BB2:$BB7) -> 0 | L7: =J7-K7 -> 0 | M7: =SUMIF($AZ2:$AZ7,$A7,$BI2:$BI7)+SUMIF($BF2:$BF7,$A7,$BJ2:$BJ7) -> 2 | N7: =SUMIF($AZ5:$AZ10,$A7,$BK5:$BK10)+SUMIF($BF5:$BF10,$A7,$BL5:$BL10) -> 0 | O7: =0.001+(E7*10000)+(J7*1000)+(L7*100)-(M7*1)-(N7*5) -> 9998.001 | P7: =RANK(O7,$O$4:$O$7) -> 3 | Q7: =RANK(L7,$L$4:$L$7) -> 1 | R7: =RANK(J7,$J$4:$J$7) -> 1 | S7: =O7 -> 9998.001 | T7: =A7 -> A4 | U7: =P7 -> 3 | V7: =D7 -> Porto | W7: =E7 -> 1 | X7: =F7 -> 1 | Y7: =G7 -> 0 | Z7: =H7 -> 1 | AA7: =I7 -> 0 | AB7: =J7 -> 0 | AC7: =K7 -> 0 | ... AF7: =N7 -> 0 | AG7: =LARGE(S$4:S$7,4) -> 9996.003 | AH7: =VLOOKUP($AG7,$S$4:$AG$7,2,0) -> A2 | AI7: =VLOOKUP($AG7,$S$4:$AG$7,3,0) -> 4 | AJ7: - | AK7: =VLOOKUP($AG7,$S$4:$AG$7,4,0) -> Inter Miami | AL7: =VLOOKUP($AG7,$S$4:$AG$7,5,0) -> 1 | AM7: =VLOOKUP($AG7,$S$4:$AG$7,6,0) -> 1 | AN7: =VLOOKUP($AG7,$S$4:$AG$7,7,0) -> 0 | AO7: =VLOOKUP($AG7,$S$4:$AG$7,8,0) -> 1 | AP7: =VLOOKUP($AG7,$S$4:$AG$7,9,0) -> 0 | AQ7: =VLOOKUP($AG7,$S$4:$AG$7,10,0) -> 0 | AR7: =VLOOKUP($AG7,$S$4:$AG$7,11,0) -> 0 | AS7: =VLOOKUP($AG7,$S$4:$AG$7,12,0) -> 0 | AT7: =VLOOKUP($AG7,$S$4:$AG$7,13,0) -> 4 | AU7: =VLOOKUP($AG7,$S$4:$AG$7,14,0) -> 0 | AW7: 24 | AX7: juin | AY7: 0.125 | AZ7: A4 | BA7: =IFERROR(INDEX(Equipe!B:B,MATCH(AZ7,Equipe!A:A,0)),"") -> Porto | BC7: - | BE7: =IFERROR(INDEX(Equipe!B:B,MATCH(BF7,Equipe!A:A,0)),"") -> Al Ahly | BF7: A1 | BG7: =IF(BB7="","",IF(BB7>BD7,3,IF(BB7=BD7,1,IF(BB7<BD7,IF(BD7="",3,0))))) | BH7: =IF(BD7="","",IF(BD7>BB7,3,IF(BD7=BB7,1,IF(BD7<BB7,IF(BB7="",3,0)))))
AH9: GROUPE B | BB9: Score | BI9: CJ | BK9: CR
AI10: classement Général | AW10: 15 | AX10: juin | AY10: 0.875 | AZ10: B3 | BA10: =IFERROR(INDEX(Equipe!B:B,MATCH(AZ10,Equipe!A:A,0)),"") -> PSG | BB10: 4 | BC10: - | BD10: 0 | BE10: =IFERROR(INDEX(Equipe!B:B,MATCH(BF10,Equipe!A:A,0)),"") -> Atlético Madrid | BF10: B1 | BG10: =IF(BB10="","",IF(BB10>BD10,3,IF(BB10=BD10,1,IF(BB10<BD10,IF(BD10="",3,0))))) -> 3 | BH10: =IF(BD10="","",IF(BD10>BB10,3,IF(BD10=BB10,1,IF(BD10<BB10,IF(BB10="",3,0))))) -> 0 | BI10: 2 | BJ10: 5 | BL10: 1
E11: Pts | F11: J | G11: G | H11: N | I11: P | J11: BP | K11: BC | L11: +/- | M11: CJ | N11: CR | P11: Rang | Q11: Rang +/- | R11: Rang BP | S11: multi critère | T11: Code | U11: rappel rang | V11: équipe | W11: PTS | X11: J | Y11: G | Z11: N | AA11: P | AB11: Bp | AC11: Bc | AD11: +/- | AE11: CJ | AF11: CR | AL11: Pts | AM11: J | AN11: G | AO11: N | AP11: P | AQ11: BP | AR11: BC | AS11: +/- | AT11: CJ | AU11: CR | AW11: 16 | AX11: juin | AY11: 0.16666667 | AZ11: B2 | BA11: =IFERROR(INDEX(Equipe!B:B,MATCH(AZ11,Equipe!A:A,0)),"") -> Botafogo | BB11: 2 | BC11: - | BD11: 1 | BE11: =IFERROR(INDEX(Equipe!B:B,MATCH(BF11,Equipe!A:A,0)),"") -> Seattle Sounders | BF11: B4 | BG11: =IF(BB11="","",IF(BB11>BD11,3,IF(BB11=BD11,1,IF(BB11<BD11,IF(BD11="",3,0))))) -> 3 | BH11: =IF(BD11="","",IF(BD11>BB11,3,IF(BD11=BB11,1,IF(BD11<BB11,IF(BB11="",3,0))))) -> 0 | BI11: 2 | BJ11: 2
A12: B1 | B12: 1/8 | C12: 1 | D12: =IFERROR(INDEX(Equipe!B:B,MATCH(A12,Equipe!A:A,0)),"") -> Atlético Madrid | E12: =(G12*3)+H12 -> 0 | F12: =G12+H12+I12 -> 1 | G12: =COUNTIFS($AZ10:$AZ15,$A12,$BG10:$BG15,3)+COUNTIFS($BF10:$BF15,$A12,$BH10:$BH15,3) -> 0 | H12: =COUNTIFS($AZ10:$AZ15,$A12,$BG10:$BG15,1)+COUNTIFS($BF10:$BF15,$A12,$BH10:$BH15,1) -> 0 | I12: =COUNTIFS($AZ10:$AZ15,$A12,$BG10:$BG15,0)+COUNTIFS($BF10:$BF15,$A12,$BH10:$BH15,0) -> 1 | J12: =SUMIF($AZ10:$AZ15,$A12,$BB10:$BB15)+SUMIF($BF10:$BF15,$A12,$BD10:$BD15) -> 0 | K12: =SUMIF($AZ10:$AZ15,$A12,$BD10:$BD15)+SUMIF($BF10:$BF15,$A12,$BB10:$BB15) -> 4 | L12: =J12-K12 -> -4 | M12: =SUMIF($AZ10:$AZ15,$A12,$BI10:$BI15)+SUMIF($BF10:$BF15,$A12,$BJ10:$BJ15) -> 5 | N12: =SUMIF($AZ10:$AZ15,$A12,$BK10:$BK15)+SUMIF($BF10:$BF15,$A12,$BL10:$BL15) -> 1 | O12: =0.004+(E12*10000)+(J12*1000)+(L12*100)-(M12*1)-(N12*5) -> -409.996 | P12: =RANK(O12,O12:O15) -> 4 | Q12: =RANK(L12,L$12:L15) -> 4 | R12: =RANK(J12,J12:J15) -> 4 | S12: =O12 -> -409.996 | T12: =A12 -> B1 | U12: =P12 -> 4 | V12: =D12 -> Atlético Madrid | W12: =E12 -> 0 | X12: =F12 -> 1 | Y12: =G12 -> 0 | Z12: =H12 -> 0 | AA12: =I12 -> 1 | AB12: =J12 -> 0 | AC12: =K12 -> 4 | ... AF12: =N12 -> 1 | AG12: =LARGE(S12:S15,1) -> 34398.002 | AH12: =VLOOKUP(AG12,S12:AG15,2,0) -> B3 | AI12: =VLOOKUP($AG12,$S$12:$AG$15,3,0) -> 1 | AJ12: - | AK12: =VLOOKUP($AG12,$S$12:$AG$15,4,0) -> PSG | AL12: =VLOOKUP($AG12,$S$12:$AG$15,5,0) -> 3 | AM12: =VLOOKUP(AG12,S12:AG15,6,0) -> 1 | AN12: =VLOOKUP(AG12,S12:AG15,7,0) -> 1 | AO12: =VLOOKUP(AG12,S12:AG15,8,0) -> 0 | AP12: =VLOOKUP(AG12,S12:AG15,9,0) -> 0 | AQ12: =VLOOKUP(AG12,S12:AG15,10,0) -> 4 | AR12: =VLOOKUP(AG12,S12:AG15,11,0) -> 0 | AS12: =VLOOKUP(AG12,S12:AG15,12,0) -> 4 | AT12: =VLOOKUP(AG12,S12:AG15,13,0) -> 2 | AU12: =VLOOKUP(AG12,S12:AG15,14,0) -> 0 | AW12: 20 | AX12: juin | AY12: 0.125 | AZ12: B3 | BA12: =IFERROR(INDEX(Equipe!B:B,MATCH(AZ12,Equipe!A:A,0)),"") -> PSG | BC12: - | BE12: =IFERROR(INDEX(Equipe!B:B,MATCH(BF12,Equipe!A:A,0)),"") -> Botafogo | BF12: B2 | BG12: =IF(BB12="","",IF(BB12>BD12,3,IF(BB12=BD12,1,IF(BB12<BD12,IF(BD12="",3,0))))) | BH12: =IF(BD12="","",IF(BD12>BB12,3,IF(BD12=BB12,1,IF(BD12<BB12,IF(BB12="",3,0)))))
A13: B2 | B13: 1/8 | C13: 2 | D13: =IFERROR(INDEX(Equipe!B:B,MATCH(A13,Equipe!A:A,0)),"") -> Botafogo | E13: =(G13*3)+H13 -> 3 | F13: =G13+H13+I13 -> 1 | G13: =COUNTIFS($AZ10:$AZ15,$A13,$BG10:$BG15,3)+COUNTIFS($BF10:$BF15,$A13,$BH10:$BH15,3) -> 1 | H13: =COUNTIFS($AZ10:$AZ15,$A13,$BG10:$BG15,1)+COUNTIFS($BF10:$BF15,$A13,$BH10:$BH15,1) -> 0 | I13: =COUNTIFS($AZ10:$AZ15,$A13,$BG10:$BG15,0)+COUNTIFS($BF10:$BF15,$A13,$BH10:$BH15,0) -> 0 | J13: =SUMIF($AZ10:$AZ15,$A13,$BB10:$BB15)+SUMIF($BF10:$BF15,$A13,$BD10:$BD15) -> 2 | K13: =SUMIF($AZ10:$AZ15,$A13,$BD10:$BD15)+SUMIF($BF10:$BF15,$A13,$BB10:$BB15) -> 1 | L13: =J13-K13 -> 1 | M13: =SUMIF($AZ10:$AZ15,$A13,$BI10:$BI15)+SUMIF($BF10:$BF15,$A13,$BJ10:$BJ15) -> 2 | N13: =SUMIF($AZ11:$AZ16,$A13,$BK11:$BK16)+SUMIF($BF11:$BF16,$A13,$BL11:$BL16) -> 0 | O13: =0.003+(E13*10000)+(J13*1000)+(L13*100)-(M13*1)-(N13*5) -> 32098.003 | P13: =RANK(O13,O12:O15) -> 2 | Q13: =RANK(L13,L12:L15) -> 2 | R13: =RANK(J13,J12:J15) -> 2 | S13: =O13 -> 32098.003 | T13: =A13 -> B2 | U13: =P13 -> 2 | V13: =D13 -> Botafogo | W13: =E13 -> 3 | X13: =F13 -> 1 | Y13: =G13 -> 1 | Z13: =H13 -> 0 | AA13: =I13 -> 0 | AB13: =J13 -> 2 | AC13: =K13 -> 1 | ... AF13: =N13 -> 0 | AG13: =LARGE(S12:S15,2) -> 32098.003 | AH13: =VLOOKUP(AG13,S12:AG15,2,0) -> B2 | AI13: =VLOOKUP($AG13,$S$12:$AG$15,3,0) -> 2 | AJ13: - | AK13: =VLOOKUP($AG13,$S$12:$AG$15,4,0) -> Botafogo | AL13: =VLOOKUP($AG13,$S$12:$AG$15,5,0) -> 3 | AM13: =VLOOKUP(AG13,S12:AG15,6,0) -> 1 | AN13: =VLOOKUP(AG13,S12:AG15,7,0) -> 1 | AO13: =VLOOKUP(AG13,S12:AG15,8,0) -> 0 | AP13: =VLOOKUP(AG13,S12:AG15,9,0) -> 0 | AQ13: =VLOOKUP(AG13,S12:AG15,10,0) -> 2 | AR13: =VLOOKUP(AG13,S12:AG15,11,0) -> 1 | AS13: =VLOOKUP(AG13,S12:AG15,12,0) -> 1 | AT13: =VLOOKUP(AG13,S12:AG15,13,0) -> 2 | AU13: =VLOOKUP(AG13,S12:AG15,14,0) -> 0 | AW13: 20 | AX13: juin | AY13: 0 | AZ13: B1 | BA13: =IFERROR(INDEX(Equipe!B:B,MATCH(AZ13,Equipe!A:A,0)),"") -> Atlético Madrid | BC13: - | BE13: =IFERROR(INDEX(Equipe!B:B,MATCH(BF13,Equipe!A:A,0)),"") -> Seattle Sounders | BF13: B4 | BG13: =IF(BB13="","",IF(BB13>BD13,3,IF(BB13=BD13,1,IF(BB13<BD13,IF(BD13="",3,0))))) | BH13: =IF(BD13="","",IF(BD13>BB13,3,IF(BD13=BB13,1,IF(BD13<BB13,IF(BB13="",3,0)))))
A14: B3 | B14: E | C14: 3 | D14: =IFERROR(INDEX(Equipe!B:B,MATCH(A14,Equipe!A:A,0)),"") -> PSG | E14: =(G14*3)+H14 -> 3 | F14: =G14+H14+I14 -> 1 | G14: =COUNTIFS($AZ10:$AZ15,$A14,$BG10:$BG15,3)+COUNTIFS($BF10:$BF15,$A14,$BH10:$BH15,3) -> 1 | H14: =COUNTIFS($AZ10:$AZ15,$A14,$BG10:$BG15,1)+COUNTIFS($BF10:$BF15,$A14,$BH10:$BH15,1) -> 0 | I14: =COUNTIFS($AZ10:$AZ15,$A14,$BG10:$BG15,0)+COUNTIFS($BF10:$BF15,$A14,$BH10:$BH15,0) -> 0 | J14: =SUMIF($AZ10:$AZ15,$A14,$BB10:$BB15)+SUMIF($BF10:$BF15,$A14,$BD10:$BD15) -> 4 | K14: =SUMIF($AZ10:$AZ15,$A14,$BD10:$BD15)+SUMIF($BF10:$BF15,$A14,$BB10:$BB15) -> 0 | L14: =J14-K14 -> 4 | M14: =SUMIF($AZ10:$AZ15,$A14,$BI10:$BI15)+SUMIF($BF10:$BF15,$A14,$BJ10:$BJ15) -> 2 | N14: =SUMIF($AZ12:$AZ17,$A14,$BK12:$BK17)+SUMIF($BF12:$BF17,$A14,$BL12:$BL17) -> 0 | O14: =0.002+(E14*10000)+(J14*1000)+(L14*100)-(M14*1)-(N14*5) -> 34398.002 | P14: =RANK(O14,O12:O15) -> 1 | Q14: =RANK(L14,L12:L15) -> 1 | R14: =RANK(J14,J12:J15) -> 1 | S14: =O14 -> 34398.002 | T14: =A14 -> B3 | U14: =P14 -> 1 | V14: =D14 -> PSG | W14: =E14 -> 3 | X14: =F14 -> 1 | Y14: =G14 -> 1 | Z14: =H14 -> 0 | AA14: =I14 -> 0 | AB14: =J14 -> 4 | AC14: =K14 -> 0 | ... AF14: =N14 -> 0 | AG14: =LARGE(S12:S15,3) -> 898.001 | AH14: =VLOOKUP(AG14,S12:AG15,2,0) -> B4 | AI14: =VLOOKUP($AG14,$S$12:$AG$15,3,0) -> 3 | AJ14: - | AK14: =VLOOKUP($AG14,$S$12:$AG$15,4,0) -> Seattle Sounders | AL14: =VLOOKUP($AG14,$S$12:$AG$15,5,0) -> 0 | AM14: =VLOOKUP(AG14,S12:AG15,6,0) -> 1 | AN14: =VLOOKUP(AG14,S12:AG15,7,0) -> 0 | AO14: =VLOOKUP(AG14,S12:AG15,8,0) -> 0 | AP14: =VLOOKUP(AG14,S12:AG15,9,0) -> 1 | AQ14: =VLOOKUP(AG14,S12:AG15,10,0) -> 1 | AR14: =VLOOKUP(AG14,S12:AG15,11,0) -> 2 | AS14: =VLOOKUP(AG14,S12:AG15,12,0) -> -1 | AT14: =VLOOKUP(AG14,S12:AG15,13,0) -> 2 | AU14: =VLOOKUP(AG14,S12:AG15,14,0) -> 0 | AW14: 23 | AX14: juin | AY14: 0.875 | AZ14: B4 | BA14: =IFERROR(INDEX(Equipe!B:B,MATCH(AZ14,Equipe!A:A,0)),"") -> Seattle Sounders | BC14: - | BE14: =IFERROR(INDEX(Equipe!B:B,MATCH(BF14,Equipe!A:A,0)),"") -> PSG | BF14: B3 | BG14: =IF(BB14="","",IF(BB14>BD14,3,IF(BB14=BD14,1,IF(BB14<BD14,IF(BD14="",3,0))))) | BH14: =IF(BD14="","",IF(BD14>BB14,3,IF(BD14=BB14,1,IF(BD14<BB14,IF(BB14="",3,0)))))
A15: B4 | B15: E | C15: 4 | D15: =IFERROR(INDEX(Equipe!B:B,MATCH(A15,Equipe!A:A,0)),"") -> Seattle Sounders | E15: =(G15*3)+H15 -> 0 | F15: =G15+H15+I15 -> 1 | G15: =COUNTIFS($AZ10:$AZ15,$A15,$BG10:$BG15,3)+COUNTIFS($BF10:$BF15,$A15,$BH10:$BH15,3) -> 0 | H15: =COUNTIFS($AZ10:$AZ15,$A15,$BG10:$BG15,1)+COUNTIFS($BF10:$BF15,$A15,$BH10:$BH15,1) -> 0 | I15: =COUNTIFS($AZ10:$AZ15,$A15,$BG10:$BG15,0)+COUNTIFS($BF10:$BF15,$A15,$BH10:$BH15,0) -> 1 | J15: =SUMIF($AZ10:$AZ15,$A15,$BB10:$BB15)+SUMIF($BF10:$BF15,$A15,$BD10:$BD15) -> 1 | K15: =SUMIF($AZ10:$AZ15,$A15,$BD10:$BD15)+SUMIF($BF10:$BF15,$A15,$BB10:$BB15) -> 2 | L15: =J15-K15 -> -1 | M15: =SUMIF($AZ10:$AZ15,$A15,$BI10:$BI15)+SUMIF($BF10:$BF15,$A15,$BJ10:$BJ15) -> 2 | N15: =SUMIF($AZ13:$AZ18,$A15,$BK13:$BK18)+SUMIF($BF13:$BF18,$A15,$BL13:$BL18) -> 0 | O15: =0.001+(E15*10000)+(J15*1000)+(L15*100)-(M15*1)-(N15*5) -> 898.001 | P15: =RANK(O15,O12:O15) -> 3 | Q15: =RANK(L15,L12:L15) -> 3 | R15: =RANK(J15,J12:J15) -> 3 | S15: =O15 -> 898.001 | T15: =A15 -> B4 | U15: =P15 -> 3 | V15: =D15 -> Seattle Sounders | W15: =E15 -> 0 | X15: =F15 -> 1 | Y15: =G15 -> 0 | Z15: =H15 -> 0 | AA15: =I15 -> 1 | AB15: =J15 -> 1 | AC15: =K15 -> 2 | ... AF15: =N15 -> 0 | AG15: =LARGE(S12:S15,4) -> -409.996 | AH15: =VLOOKUP(AG15,S12:AG15,2,0) -> B1 | AI15: =VLOOKUP($AG15,$S$12:$AG$15,3,0) -> 4 | AJ15: - | AK15: =VLOOKUP($AG15,$S$12:$AG$15,4,0) -> Atlético Madrid | AL15: =VLOOKUP($AG15,$S$12:$AG$15,5,0) -> 0 | AM15: =VLOOKUP(AG15,S12:AG15,6,0) -> 1 | AN15: =VLOOKUP(AG15,S12:AG15,7,0) -> 0 | AO15: =VLOOKUP(AG15,S12:AG15,8,0) -> 0 | AP15: =VLOOKUP(AG15,S12:AG15,9,0) -> 1 | AQ15: =VLOOKUP(AG15,S12:AG15,10,0) -> 0 | AR15: =VLOOKUP(AG15,S12:AG15,11,0) -> 4 | AS15: =VLOOKUP(AG15,S12:AG15,12,0) -> -4 | AT15: =VLOOKUP(AG15,S12:AG15,13,0) -> 5 | AU15: =VLOOKUP(AG15,S12:AG15,14,0) -> 1 | AW15: 23 | AX15: juin | AY15: 0.875 | AZ15: B1 | BA15: =IFERROR(INDEX(Equipe!B:B,MATCH(AZ15,Equipe!A:A,0)),"") -> Atlético Madrid | BC15: - | BE15: =IFERROR(INDEX(Equipe!B:B,MATCH(BF15,Equipe!A:A,0)),"") -> Botafogo | BF15: B2 | BG15: =IF(BB15="","",IF(BB15>BD15,3,IF(BB15=BD15,1,IF(BB15<BD15,IF(BD15="",3,0))))) | BH15: =IF(BD15="","",IF(BD15>BB15,3,IF(BD15=BB15,1,IF(BD15<BB15,IF(BB15="",3,0)))))
AH17: GROUPE C | BB17: Score | BI17: CJ | BK17: CR
AI18: classement Général | AW18: 15 | AX18: juin | AY18: 0.75 | AZ18: C2 | BA18: =IFERROR(INDEX(Equipe!B:B,MATCH(AZ18,Equipe!A:A,0)),"") -> Bayern Munich | BB18: 10 | BC18: - | BD18: 0 | BE18: =IFERROR(INDEX(Equipe!B:B,MATCH(BF18,Equipe!A:A,0)),"") -> Auckland City | BF18: C1 | BG18: =IF(BB18="","",IF(BB18>BD18,3,IF(BB18=BD18,1,IF(BB18<BD18,IF(BD18="",3,0))))) -> 3 | BH18: =IF(BD18="","",IF(BD18>BB18,3,IF(BD18=BB18,1,IF(BD18<BB18,IF(BB18="",3,0))))) -> 0
E19: Pts | F19: J | G19: G | H19: N | I19: P | J19: BP | K19: BC | L19: +/- | M19: CJ | N19: CR | P19: Rang | Q19: Rang +/- | R19: Rang BP | S19: multi critère | T19: Code | U19: rappel rang | V19: équipe | W19: PTS | X19: J | Y19: G | Z19: N | AA19: P | AB19: Bp | AC19: Bc | AD19: +/- | AE19: CJ | AF19: CR | AL19: Pts | AM19: J | AN19: G | AO19: N | AP19: P | AQ19: BP | AR19: BC | AS19: +/- | AT19: CJ | AU19: CR | AW19: 17 | AX19: juin | AY19: 0 | AZ19: C4 | BA19: =IFERROR(INDEX(Equipe!B:B,MATCH(AZ19,Equipe!A:A,0)),"") -> Boca Juniors | BC19: - | BE19: =IFERROR(INDEX(Equipe!B:B,MATCH(BF19,Equipe!A:A,0)),"") -> Benfica | BF19: C3 | BG19: =IF(BB19="","",IF(BB19>BD19,3,IF(BB19=BD19,1,IF(BB19<BD19,IF(BD19="",3,0))))) | BH19: =IF(BD19="","",IF(BD19>BB19,3,IF(BD19=BB19,1,IF(BD19<BB19,IF(BB19="",3,0)))))
A20: C1 | B20: 1/8 | C20: 1 | D20: =IFERROR(INDEX(Equipe!B:B,MATCH(A20,Equipe!A:A,0)),"") -> Auckland City | E20: =(G20*3)+H20 -> 0 | F20: =G20+H20+I20 -> 1 | G20: =COUNTIFS($AZ18:$AZ23,$A20,$BG18:$BG23,3)+COUNTIFS($BF18:$BF23,$A20,$BH18:$BH23,3) -> 0 | H20: =COUNTIFS($AZ18:$AZ23,$A20,$BG18:$BG23,1)+COUNTIFS($BF18:$BF23,$A20,$BH18:$BH23,1) -> 0 | I20: =COUNTIFS($AZ18:$AZ23,$A20,$BG18:$BG23,0)+COUNTIFS($BF18:$BF23,$A20,$BH18:$BH23,0) -> 1 | J20: =SUMIF($AZ18:$AZ23,$A20,$BB18:$BB23)+SUMIF($BF18:$BF23,$A20,$BD18:$BD23) -> 0 | K20: =SUMIF($AZ18:$AZ23,$A20,$BD18:$BD23)+SUMIF($BF18:$BF23,$A20,$BB18:$BB23) -> 10 | L20: =J20-K20 -> -10 | M20: =SUMIF($AZ18:$AZ23,$A20,$BI18:$BI23)+SUMIF($BF18:$BF23,$A20,$BJ18:$BJ23) -> 0 | N20: =SUMIF($AZ18:$AZ23,$A20,$BK18:$BK23)+SUMIF($BF18:$BF23,$A20,$BL18:$BL23) -> 0 | O20: =0.004+(E20*10000)+(J20*1000)+(L20*100)-(M20*1)-(N20*5) -> -999.996 | P20: =RANK(O20,O20:O23) -> 4 | Q20: =RANK(L20,L$12:L23) -> 8 | R20: =RANK(J20,J20:J23) -> 2 | S20: =O20 -> -999.996 | T20: =A20 -> C1 | U20: =P20 -> 4 | V20: =D20 -> Auckland City | W20: =E20 -> 0 | X20: =F20 -> 1 | Y20: =G20 -> 0 | Z20: =H20 -> 0 | AA20: =I20 -> 1 | AB20: =J20 -> 0 | AC20: =K20 -> 10 | ... AF20: =N20 -> 0 | AG20: =LARGE(S20:S23,1) -> 41000.003 | AH20: =VLOOKUP(AG20,S20:AG23,2,0) -> C2 | AI20: =VLOOKUP(AG20,S20:AG23,3,0) -> 1 | AJ20: - | AK20: =VLOOKUP(AG20,S20:AG23,4,0) -> Bayern Munich | AL20: =VLOOKUP(AG20,S20:AG23,5,0) -> 3 | AM20: =VLOOKUP(AG20,S20:AG23,6,0) -> 1 | AN20: =VLOOKUP(AG20,S20:AG23,7,0) -> 1 | AO20: =VLOOKUP(AG20,S20:AG23,8,0) -> 0 | AP20: =VLOOKUP(AG20,S20:AG23,9,0) -> 0 | AQ20: =VLOOKUP(AG20,S20:AG23,10,0) -> 10 | AR20: =VLOOKUP(AG20,S20:AG23,11,0) -> 0 | AS20: =VLOOKUP(AG20,S20:AG23,12,0) -> 10 | AT20: =VLOOKUP(AG20,S20:AG23,13,0) -> 0 | AU20: =VLOOKUP(AG20,S20:AG23,14,0) -> 0 | AW20: 20 | AX20: juin | AY20: 0.75 | AZ20: C1 | BA20: =IFERROR(INDEX(Equipe!B:B,MATCH(AZ20,Equipe!A:A,0)),"") -> Auckland City | BC20: - | BE20: =IFERROR(INDEX(Equipe!B:B,MATCH(BF20,Equipe!A:A,0)),"") -> Benfica | BF20: C3 | BG20: =IF(BB20="","",IF(BB20>BD20,3,IF(BB20=BD20,1,IF(BB20<BD20,IF(BD20="",3,0))))) | BH20: =IF(BD20="","",IF(BD20>BB20,3,IF(BD20=BB20,1,IF(BD20<BB20,IF(BB20="",3,0)))))
A21: C2 | B21: 1/8 | C21: 2 | D21: =IFERROR(INDEX(Equipe!B:B,MATCH(A21,Equipe!A:A,0)),"") -> Bayern Munich | E21: =(G21*3)+H21 -> 3 | F21: =G21+H21+I21 -> 1 | G21: =COUNTIFS($AZ18:$AZ23,$A21,$BG18:$BG23,3)+COUNTIFS($BF18:$BF23,$A21,$BH18:$BH23,3) -> 1 | H21: =COUNTIFS($AZ18:$AZ23,$A21,$BG18:$BG23,1)+COUNTIFS($BF18:$BF23,$A21,$BH18:$BH23,1) -> 0 | I21: =COUNTIFS($AZ18:$AZ23,$A21,$BG18:$BG23,0)+COUNTIFS($BF18:$BF23,$A21,$BH18:$BH23,0) -> 0 | J21: =SUMIF($AZ18:$AZ23,$A21,$BB18:$BB23)+SUMIF($BF18:$BF23,$A21,$BD18:$BD23) -> 10 | K21: =SUMIF($AZ18:$AZ23,$A21,$BD18:$BD23)+SUMIF($BF18:$BF23,$A21,$BB18:$BB23) -> 0 | L21: =J21-K21 -> 10 | M21: =SUMIF($AZ18:$AZ23,$A21,$BI18:$BI23)+SUMIF($BF18:$BF23,$A21,$BJ18:$BJ23) -> 0 | N21: =SUMIF($AZ19:$AZ24,$A21,$BK19:$BK24)+SUMIF($BF19:$BF24,$A21,$BL19:$BL24) -> 0 | O21: =0.003+(E21*10000)+(J21*1000)+(L21*100)-(M21*1)-(N21*5) -> 41000.003 | P21: =RANK(O21,O20:O23) -> 1 | Q21: =RANK(L21,L20:L23) -> 1 | R21: =RANK(J21,J20:J23) -> 1 | S21: =O21 -> 41000.003 | T21: =A21 -> C2 | U21: =P21 -> 1 | V21: =D21 -> Bayern Munich | W21: =E21 -> 3 | X21: =F21 -> 1 | Y21: =G21 -> 1 | Z21: =H21 -> 0 | AA21: =I21 -> 0 | AB21: =J21 -> 10 | AC21: =K21 -> 0 | ... AF21: =N21 -> 0 | AG21: =LARGE(S20:S23,2) -> 0.002 | AH21: =VLOOKUP(AG21,S20:AG23,2,0) -> C3 | AI21: =VLOOKUP(AG21,S20:AG23,3,0) -> 2 | AJ21: - | AK21: =VLOOKUP(AG21,S20:AG23,4,0) -> Benfica | AL21: =VLOOKUP(AG21,S20:AG23,5,0) -> 0 | AM21: =VLOOKUP(AG21,S20:AG23,6,0) -> 0 | AN21: =VLOOKUP(AG21,S20:AG23,7,0) -> 0 | AO21: =VLOOKUP(AG21,S20:AG23,8,0) -> 0 | AP21: =VLOOKUP(AG21,S20:AG23,9,0) -> 0 | AQ21: =VLOOKUP(AG21,S20:AG23,10,0) -> 0 | AR21: =VLOOKUP(AG21,S20:AG23,11,0) -> 0 | AS21: =VLOOKUP(AG21,S20:AG23,12,0) -> 0 | AT21: =VLOOKUP(AG21,S20:AG23,13,0) -> 0 | AU21: =VLOOKUP(AG21,S20:AG23,14,0) -> 0 | AW21: 21 | AX21: juin | AY21: 0.125 | AZ21: C4 | BA21: =IFERROR(INDEX(Equipe!B:B,MATCH(AZ21,Equipe!A:A,0)),"") -> Boca Juniors | BC21: - | BE21: =IFERROR(INDEX(Equipe!B:B,MATCH(BF21,Equipe!A:A,0)),"") -> Bayern Munich | BF21: C2 | BG21: =IF(BB21="","",IF(BB21>BD21,3,IF(BB21=BD21,1,IF(BB21<BD21,IF(BD21="",3,0))))) | BH21: =IF(BD21="","",IF(BD21>BB21,3,IF(BD21=BB21,1,IF(BD21<BB21,IF(BB21="",3,0)))))
A22: C3 | B22: E | C22: 3 | D22: =IFERROR(INDEX(Equipe!B:B,MATCH(A22,Equipe!A:A,0)),"") -> Benfica | E22: =(G22*3)+H22 -> 0 | F22: =G22+H22+I22 -> 0 | G22: =COUNTIFS($AZ18:$AZ23,$A22,$BG18:$BG23,3)+COUNTIFS($BF18:$BF23,$A22,$BH18:$BH23,3) -> 0 | H22: =COUNTIFS($AZ18:$AZ23,$A22,$BG18:$BG23,1)+COUNTIFS($BF18:$BF23,$A22,$BH18:$BH23,1) -> 0 | I22: =COUNTIFS($AZ18:$AZ23,$A22,$BG18:$BG23,0)+COUNTIFS($BF18:$BF23,$A22,$BH18:$BH23,0) -> 0 | J22: =SUMIF($AZ18:$AZ23,$A22,$BB18:$BB23)+SUMIF($BF18:$BF23,$A22,$BD18:$BD23) -> 0 | K22: =SUMIF($AZ18:$AZ23,$A22,$BD18:$BD23)+SUMIF($BF18:$BF23,$A22,$BB18:$BB23) -> 0 | L22: =J22-K22 -> 0 | M22: =SUMIF($AZ18:$AZ23,$A22,$BI18:$BI23)+SUMIF($BF18:$BF23,$A22,$BJ18:$BJ23) -> 0 | N22: =SUMIF($AZ20:$AZ25,$A22,$BK20:$BK25)+SUMIF($BF20:$BF25,$A22,$BL20:$BL25) -> 0 | O22: =0.002+(E22*10000)+(J22*1000)+(L22*100)-(M22*1)-(N22*5) -> 0.002 | P22: =RANK(O22,O20:O23) -> 2 | Q22: =RANK(L22,L20:L23) -> 2 | R22: =RANK(J22,J20:J23) -> 2 | S22: =O22 -> 0.002 | T22: =A22 -> C3 | U22: =P22 -> 2 | V22: =D22 -> Benfica | W22: =E22 -> 0 | X22: =F22 -> 0 | Y22: =G22 -> 0 | Z22: =H22 -> 0 | AA22: =I22 -> 0 | AB22: =J22 -> 0 | AC22: =K22 -> 0 | ... AF22: =N22 -> 0 | AG22: =LARGE(S20:S23,3) -> 0.001 | AH22: =VLOOKUP(AG22,S20:AG23,2,0) -> C4 | AI22: =VLOOKUP(AG22,S20:AG23,3,0) -> 3 | AJ22: - | AK22: =VLOOKUP(AG22,S20:AG23,4,0) -> Boca Juniors | AL22: =VLOOKUP(AG22,S20:AG23,5,0) -> 0 | AM22: =VLOOKUP(AG22,S20:AG23,6,0) -> 0 | AN22: =VLOOKUP(AG22,S20:AG23,7,0) -> 0 | AO22: =VLOOKUP(AG22,S20:AG23,8,0) -> 0 | AP22: =VLOOKUP(AG22,S20:AG23,9,0) -> 0 | AQ22: =VLOOKUP(AG22,S20:AG23,10,0) -> 0 | AR22: =VLOOKUP(AG22,S20:AG23,11,0) -> 0 | AS22: =VLOOKUP(AG22,S20:AG23,12,0) -> 0 | AT22: =VLOOKUP(AG22,S20:AG23,13,0) -> 0 | AU22: =VLOOKUP(AG22,S20:AG23,14,0) -> 0 | AW22: 24 | AX22: juin | AY22: 0.875 | AZ22: C1 | BA22: =IFERROR(INDEX(Equipe!B:B,MATCH(AZ22,Equipe!A:A,0)),"") -> Auckland City | BC22: - | BE22: =IFERROR(INDEX(Equipe!B:B,MATCH(BF22,Equipe!A:A,0)),"") -> Boca Juniors | BF22: C4 | BG22: =IF(BB22="","",IF(BB22>BD22,3,IF(BB22=BD22,1,IF(BB22<BD22,IF(BD22="",3,0))))) | BH22: =IF(BD22="","",IF(BD22>BB22,3,IF(BD22=BB22,1,IF(BD22<BB22,IF(BB22="",3,0)))))
A23: C4 | B23: E | C23: 4 | D23: =IFERROR(INDEX(Equipe!B:B,MATCH(A23,Equipe!A:A,0)),"") -> Boca Juniors | E23: =(G23*3)+H23 -> 0 | F23: =G23+H23+I23 -> 0 | G23: =COUNTIFS($AZ18:$AZ23,$A23,$BG18:$BG23,3)+COUNTIFS($BF18:$BF23,$A23,$BH18:$BH23,3) -> 0 | H23: =COUNTIFS($AZ18:$AZ23,$A23,$BG18:$BG23,1)+COUNTIFS($BF18:$BF23,$A23,$BH18:$BH23,1) -> 0 | I23: =COUNTIFS($AZ18:$AZ23,$A23,$BG18:$BG23,0)+COUNTIFS($BF18:$BF23,$A23,$BH18:$BH23,0) -> 0 | J23: =SUMIF($AZ18:$AZ23,$A23,$BB18:$BB23)+SUMIF($BF18:$BF23,$A23,$BD18:$BD23) -> 0 | K23: =SUMIF($AZ18:$AZ23,$A23,$BD18:$BD23)+SUMIF($BF18:$BF23,$A23,$BB18:$BB23) -> 0 | L23: =J23-K23 -> 0 | M23: =SUMIF($AZ18:$AZ23,$A23,$BI18:$BI23)+SUMIF($BF18:$BF23,$A23,$BJ18:$BJ23) -> 0 | N23: =SUMIF($AZ21:$AZ26,$A23,$BK21:$BK26)+SUMIF($BF21:$BF26,$A23,$BL21:$BL26) -> 0 | O23: =0.001+(E23*10000)+(J23*1000)+(L23*100)-(M23*1)-(N23*5) -> 0.001 | P23: =RANK(O23,O20:O23) -> 3 | Q23: =RANK(L23,L20:L23) -> 2 | R23: =RANK(J23,J20:J23) -> 2 | S23: =O23 -> 0.001 | T23: =A23 -> C4 | U23: =P23 -> 3 | V23: =D23 -> Boca Juniors | W23: =E23 -> 0 | X23: =F23 -> 0 | Y23: =G23 -> 0 | Z23: =H23 -> 0 | AA23: =I23 -> 0 | AB23: =J23 -> 0 | AC23: =K23 -> 0 | ... AF23: =N23 -> 0 | AG23: =LARGE(S20:S23,4) -> -999.996 | AH23: =VLOOKUP(AG23,S20:AG23,2,0) -> C1 | AI23: =VLOOKUP(AG23,S20:AG23,3,0) -> 4 | AJ23: - | AK23: =VLOOKUP(AG23,S20:AG23,4,0) -> Auckland City | AL23: =VLOOKUP(AG23,S20:AG23,5,0) -> 0 | AM23: =VLOOKUP(AG23,S20:AG23,6,0) -> 1 | AN23: =VLOOKUP(AG23,S20:AG23,7,0) -> 0 | AO23: =VLOOKUP(AG23,S20:AG23,8,0) -> 0 | AP23: =VLOOKUP(AG23,S20:AG23,9,0) -> 1 | AQ23: =VLOOKUP(AG23,S20:AG23,10,0) -> 0 | AR23: =VLOOKUP(AG23,S20:AG23,11,0) -> 10 | AS23: =VLOOKUP(AG23,S20:AG23,12,0) -> -10 | AT23: =VLOOKUP(AG23,S20:AG23,13,0) -> 0 | AU23: =VLOOKUP(AG23,S20:AG23,14,0) -> 0 | AW23: 24 | AX23: juin | AY23: 0.875 | AZ23: C3 | BA23: =IFERROR(INDEX(Equipe!B:B,MATCH(AZ23,Equipe!A:A,0)),"") -> Benfica | BC23: - | BE23: =IFERROR(INDEX(Equipe!B:B,MATCH(BF23,Equipe!A:A,0)),"") -> Bayern Munich | BF23: C2 | BG23: =IF(BB23="","",IF(BB23>BD23,3,IF(BB23=BD23,1,IF(BB23<BD23,IF(BD23="",3,0))))) | BH23: =IF(BD23="","",IF(BD23>BB23,3,IF(BD23=BB23,1,IF(BD23<BB23,IF(BB23="",3,0)))))
AH25: GROUPE D | BB25: Score | BI25: CJ | BK25: CR
AI26: classement Général | AW26: 16 | AX26: juin | AY26: 0.875 | AZ26: D1 | BA26: =IFERROR(INDEX(Equipe!B:B,MATCH(AZ26,Equipe!A:A,0)),"") -> Chelsea | BC26: - | BE26: =IFERROR(INDEX(Equipe!B:B,MATCH(BF26,Equipe!A:A,0)),"") -> Los Angeles FC | BF26: D4 | BG26: =IF(BB26="","",IF(BB26>BD26,3,IF(BB26=BD26,1,IF(BB26<BD26,IF(BD26="",3,0))))) | BH26: =IF(BD26="","",IF(BD26>BB26,3,IF(BD26=BB26,1,IF(BD26<BB26,IF(BB26="",3,0)))))
E27: Pts | F27: J | G27: G | H27: N | I27: P | J27: BP | K27: BC | L27: +/- | M27: CJ | N27: CR | P27: Rang | Q27: Rang +/- | R27: Rang BP | S27: multi critère | T27: Code | U27: rappel rang | V27: équipe | W27: PTS | X27: J | Y27: G | Z27: N | AA27: P | AB27: Bp | AC27: Bc | AD27: +/- | AE27: CJ | AF27: CR | AL27: Pts | AM27: J | AN27: G | AO27: N | AP27: P | AQ27: BP | AR27: BC | AS27: +/- | AT27: CJ | AU27: CR | AW27: 17 | AX27: juin | AY27: 0.125 | AZ27: D3 | BA27: =IFERROR(INDEX(Equipe!B:B,MATCH(AZ27,Equipe!A:A,0)),"") -> Flamengo | BC27: - | BE27: =IFERROR(INDEX(Equipe!B:B,MATCH(BF27,Equipe!A:A,0)),"") -> Es Tunis | BF27: D2 | BG27: =IF(BB27="","",IF(BB27>BD27,3,IF(BB27=BD27,1,IF(BB27<BD27,IF(BD27="",3,0))))) | BH27: =IF(BD27="","",IF(BD27>BB27,3,IF(BD27=BB27,1,IF(BD27<BB27,IF(BB27="",3,0)))))
A28: D1 | B28: 1/8 | C28: 1 | D28: =IFERROR(INDEX(Equipe!B:B,MATCH(A28,Equipe!A:A,0)),"") -> Chelsea | E28: =(G28*3)+H28 -> 0 | F28: =G28+H28+I28 -> 0 | G28: =COUNTIFS($AZ26:$AZ31,$A28,$BG26:$BG31,3)+COUNTIFS($BF26:$BF31,$A28,$BH26:$BH31,3) -> 0 | H28: =COUNTIFS($AZ26:$AZ31,$A28,$BG26:$BG31,1)+COUNTIFS($BF26:$BF31,$A28,$BH26:$BH31,1) -> 0 | I28: =COUNTIFS($AZ26:$AZ31,$A28,$BG26:$BG31,0)+COUNTIFS($BF26:$BF31,$A28,$BH26:$BH31,0) -> 0 | J28: =SUMIF($AZ26:$AZ31,$A28,$BB26:$BB31)+SUMIF($BF26:$BF31,$A28,$BD26:$BD31) -> 0 | K28: =SUMIF($AZ26:$AZ31,$A28,$BD26:$BD31)+SUMIF($BF26:$BF31,$A28,$BB26:$BB31) -> 0 | L28: =J28-K28 -> 0 | M28: =SUMIF($AZ26:$AZ31,$A28,$BI26:$BI31)+SUMIF($BF26:$BF31,$A28,$BJ26:$BJ31) -> 0 | N28: =SUMIF($AZ26:$AZ31,$A28,$BK26:$BK31)+SUMIF($BF26:$BF31,$A28,$BL26:$BL31) -> 0 | O28: =0.004+(E28*10000)+(J28*1000)+(L28*100)-(M28*1)-(N28*5) -> 0.004 | P28: =RANK(O28,O28:O31) -> 1 | Q28: =RANK(L28,L$12:L31) -> 4 | R28: =RANK(J28,J28:J31) -> 1 | S28: =O28 -> 0.004 | T28: =A28 -> D1 | U28: =P28 -> 1 | V28: =D28 -> Chelsea | W28: =E28 -> 0 | X28: =F28 -> 0 | Y28: =G28 -> 0 | Z28: =H28 -> 0 | AA28: =I28 -> 0 | AB28: =J28 -> 0 | AC28: =K28 -> 0 | ... AF28: =N28 -> 0 | AG28: =LARGE(S28:S31,1) -> 0.004 | AH28: =VLOOKUP(AG28,S28:AG31,2,0) -> D1 | AI28: =VLOOKUP(AG28,S28:AG31,3,0) -> 1 | AJ28: - | AK28: =VLOOKUP(AG28,S28:AG31,4,0) -> Chelsea | AL28: =VLOOKUP(AG28,S28:AG31,5,0) -> 0 | AM28: =VLOOKUP(AG28,S28:AG31,6,0) -> 0 | AN28: =VLOOKUP(AG28,S28:AG31,7,0) -> 0 | AO28: =VLOOKUP(AG28,S28:AG31,8,0) -> 0 | AP28: =VLOOKUP(AG28,S28:AG31,9,0) -> 0 | AQ28: =VLOOKUP(AG28,S28:AG31,10,0) -> 0 | AR28: =VLOOKUP(AG28,S28:AG31,11,0) -> 0 | AS28: =VLOOKUP(AG28,S28:AG31,12,0) -> 0 | AT28: =VLOOKUP(AG28,S28:AG31,13,0) -> 0 | AU28: =VLOOKUP(AG28,S28:AG31,14,0) -> 0 | AW28: 20 | AX28: juin | AY28: 0.83333333 | AZ28: D3 | BA28: =IFERROR(INDEX(Equipe!B:B,MATCH(AZ28,Equipe!A:A,0)),"") -> Flamengo | BC28: - | BE28: =IFERROR(INDEX(Equipe!B:B,MATCH(BF28,Equipe!A:A,0)),"") -> Chelsea | BF28: D1 | BG28: =IF(BB28="","",IF(BB28>BD28,3,IF(BB28=BD28,1,IF(BB28<BD28,IF(BD28="",3,0))))) | BH28: =IF(BD28="","",IF(BD28>BB28,3,IF(BD28=BB28,1,IF(BD28<BB28,IF(BB28="",3,0)))))
A29: D2 | B29: 1/8 | C29: 2 | D29: =IFERROR(INDEX(Equipe!B:B,MATCH(A29,Equipe!A:A,0)),"") -> Es Tunis | E29: =(G29*3)+H29 -> 0 | F29: =G29+H29+I29 -> 0 | G29: =COUNTIFS($AZ26:$AZ31,$A29,$BG26:$BG31,3)+COUNTIFS($BF26:$BF31,$A29,$BH26:$BH31,3) -> 0 | H29: =COUNTIFS($AZ26:$AZ31,$A29,$BG26:$BG31,1)+COUNTIFS($BF26:$BF31,$A29,$BH26:$BH31,1) -> 0 | I29: =COUNTIFS($AZ26:$AZ31,$A29,$BG26:$BG31,0)+COUNTIFS($BF26:$BF31,$A29,$BH26:$BH31,0) -> 0 | J29: =SUMIF($AZ26:$AZ31,$A29,$BB26:$BB31)+SUMIF($BF26:$BF31,$A29,$BD26:$BD31) -> 0 | K29: =SUMIF($AZ26:$AZ31,$A29,$BD26:$BD31)+SUMIF($BF26:$BF31,$A29,$BB26:$BB31) -> 0 | L29: =J29-K29 -> 0 | M29: =SUMIF($AZ26:$AZ31,$A29,$BI26:$BI31)+SUMIF($BF26:$BF31,$A29,$BJ26:$BJ31) -> 0 | N29: =SUMIF($AZ27:$AZ32,$A29,$BK27:$BK32)+SUMIF($BF27:$BF32,$A29,$BL27:$BL32) -> 0 | O29: =0.002+(E29*10000)+(J29*1000)+(L29*100)-(M29*1)-(N29*5) -> 0.002 | P29: =RANK(O29,O28:O31) -> 3 | Q29: =RANK(L29,L28:L31) -> 1 | R29: =RANK(J29,J28:J31) -> 1 | S29: =O29 -> 0.002 | T29: =A29 -> D2 | U29: =P29 -> 3 | V29: =D29 -> Es Tunis | W29: =E29 -> 0 | X29: =F29 -> 0 | Y29: =G29 -> 0 | Z29: =H29 -> 0 | AA29: =I29 -> 0 | AB29: =J29 -> 0 | AC29: =K29 -> 0 | ... AF29: =N29 -> 0 | AG29: =LARGE(S28:S31,2) -> 0.003 | AH29: =VLOOKUP(AG29,S28:AG31,2,0) -> D4 | AI29: =VLOOKUP(AG29,S28:AG31,3,0) -> 2 | AJ29: - | AK29: =VLOOKUP(AG29,S28:AG31,4,0) -> Los Angeles FC | AL29: =VLOOKUP(AG29,S28:AG31,5,0) -> 0 | AM29: =VLOOKUP(AG29,S28:AG31,6,0) -> 0 | AN29: =VLOOKUP(AG29,S28:AG31,7,0) -> 0 | AO29: =VLOOKUP(AG29,S28:AG31,8,0) -> 0 | AP29: =VLOOKUP(AG29,S28:AG31,9,0) -> 0 | AQ29: =VLOOKUP(AG29,S28:AG31,10,0) -> 0 | AR29: =VLOOKUP(AG29,S28:AG31,11,0) -> 0 | AS29: =VLOOKUP(AG29,S28:AG31,12,0) -> 0 | AT29: =VLOOKUP(AG29,S28:AG31,13,0) -> 0 | AU29: =VLOOKUP(AG29,S28:AG31,14,0) -> 0 | AW29: 21 | AX29: juin | AY29: 0 | AZ29: D4 | BA29: =IFERROR(INDEX(Equipe!B:B,MATCH(AZ29,Equipe!A:A,0)),"") -> Los Angeles FC | BC29: - | BE29: =IFERROR(INDEX(Equipe!B:B,MATCH(BF29,Equipe!A:A,0)),"") -> Es Tunis | BF29: D2 | BG29: =IF(BB29="","",IF(BB29>BD29,3,IF(BB29=BD29,1,IF(BB29<BD29,IF(BD29="",3,0))))) | BH29: =IF(BD29="","",IF(BD29>BB29,3,IF(BD29=BB29,1,IF(BD29<BB29,IF(BB29="",3,0)))))
A30: D3 | B30: E | C30: 3 | D30: =IFERROR(INDEX(Equipe!B:B,MATCH(A30,Equipe!A:A,0)),"") -> Flamengo | E30: =(G30*3)+H30 -> 0 | F30: =G30+H30+I30 -> 0 | G30: =COUNTIFS($AZ26:$AZ31,$A30,$BG26:$BG31,3)+COUNTIFS($BF26:$BF31,$A30,$BH26:$BH31,3) -> 0 | H30: =COUNTIFS($AZ26:$AZ31,$A30,$BG26:$BG31,1)+COUNTIFS($BF26:$BF31,$A30,$BH26:$BH31,1) -> 0 | I30: =COUNTIFS($AZ26:$AZ31,$A30,$BG26:$BG31,0)+COUNTIFS($BF26:$BF31,$A30,$BH26:$BH31,0) -> 0 | J30: =SUMIF($AZ26:$AZ31,$A30,$BB26:$BB31)+SUMIF($BF26:$BF31,$A30,$BD26:$BD31) -> 0 | K30: =SUMIF($AZ26:$AZ31,$A30,$BD26:$BD31)+SUMIF($BF26:$BF31,$A30,$BB26:$BB31) -> 0 | L30: =J30-K30 -> 0 | M30: =SUMIF($AZ26:$AZ31,$A30,$BI26:$BI31)+SUMIF($BF26:$BF31,$A30,$BJ26:$BJ31) -> 0 | N30: =SUMIF($AZ28:$AZ33,$A30,$BK28:$BK33)+SUMIF($BF28:$BF33,$A30,$BL28:$BL33) -> 0 | O30: =0.001+(E30*10000)+(J30*1000)+(L30*100)-(M30*1)-(N30*5) -> 0.001 | P30: =RANK(O30,O28:O31) -> 4 | Q30: =RANK(L30,L28:L31) -> 1 | R30: =RANK(J30,J28:J31) -> 1 | S30: =O30 -> 0.001 | T30: =A30 -> D3 | U30: =P30 -> 4 | V30: =D30 -> Flamengo | W30: =E30 -> 0 | X30: =F30 -> 0 | Y30: =G30 -> 0 | Z30: =H30 -> 0 | AA30: =I30 -> 0 | AB30: =J30 -> 0 | AC30: =K30 -> 0 | ... AF30: =N30 -> 0 | AG30: =LARGE(S28:S31,3) -> 0.002 | AH30: =VLOOKUP(AG30,S28:AG31,2,0) -> D2 | AI30: =VLOOKUP(AG30,S28:AG31,3,0) -> 3 | AJ30: - | AK30: =VLOOKUP(AG30,S28:AG31,4,0) -> Es Tunis | AL30: =VLOOKUP(AG30,S28:AG31,5,0) -> 0 | AM30: =VLOOKUP(AG30,S28:AG31,6,0) -> 0 | AN30: =VLOOKUP(AG30,S28:AG31,7,0) -> 0 | AO30: =VLOOKUP(AG30,S28:AG31,8,0) -> 0 | AP30: =VLOOKUP(AG30,S28:AG31,9,0) -> 0 | AQ30: =VLOOKUP(AG30,S28:AG31,10,0) -> 0 | AR30: =VLOOKUP(AG30,S28:AG31,11,0) -> 0 | AS30: =VLOOKUP(AG30,S28:AG31,12,0) -> 0 | AT30: =VLOOKUP(AG30,S28:AG31,13,0) -> 0 | AU30: =VLOOKUP(AG30,S28:AG31,14,0) -> 0 | AW30: 25 | AX30: juin | AY30: 0.125 | AZ30: D4 | BA30: =IFERROR(INDEX(Equipe!B:B,MATCH(AZ30,Equipe!A:A,0)),"") -> Los Angeles FC | BC30: - | BE30: =IFERROR(INDEX(Equipe!B:B,MATCH(BF30,Equipe!A:A,0)),"") -> Flamengo | BF30: D3 | BG30: =IF(BB30="","",IF(BB30>BD30,3,IF(BB30=BD30,1,IF(BB30<BD30,IF(BD30="",3,0))))) | BH30: =IF(BD30="","",IF(BD30>BB30,3,IF(BD30=BB30,1,IF(BD30<BB30,IF(BB30="",3,0)))))
A31: D4 | B31: E | C31: 4 | D31: =IFERROR(INDEX(Equipe!B:B,MATCH(A31,Equipe!A:A,0)),"") -> Los Angeles FC | E31: =(G31*3)+H31 -> 0 | F31: =G31+H31+I31 -> 0 | G31: =COUNTIFS($AZ26:$AZ31,$A31,$BG26:$BG31,3)+COUNTIFS($BF26:$BF31,$A31,$BH26:$BH31,3) -> 0 | H31: =COUNTIFS($AZ26:$AZ31,$A31,$BG26:$BG31,1)+COUNTIFS($BF26:$BF31,$A31,$BH26:$BH31,1) -> 0 | I31: =COUNTIFS($AZ26:$AZ31,$A31,$BG26:$BG31,0)+COUNTIFS($BF26:$BF31,$A31,$BH26:$BH31,0) -> 0 | J31: =SUMIF($AZ26:$AZ31,$A31,$BB26:$BB31)+SUMIF($BF26:$BF31,$A31,$BD26:$BD31) -> 0 | K31: =SUMIF($AZ26:$AZ31,$A31,$BD26:$BD31)+SUMIF($BF26:$BF31,$A31,$BB26:$BB31) -> 0 | L31: =J31-K31 -> 0 | M31: =SUMIF($AZ26:$AZ31,$A31,$BI26:$BI31)+SUMIF($BF26:$BF31,$A31,$BJ26:$BJ31) -> 0 | N31: =SUMIF($AZ29:$AZ34,$A31,$BK29:$BK34)+SUMIF($BF29:$BF34,$A31,$BL29:$BL34) -> 0 | O31: =0.003+(E31*10000)+(J31*1000)+(L31*100)-(M31*1)-(N31*5) -> 0.003 | P31: =RANK(O31,O28:O31) -> 2 | Q31: =RANK(L31,L28:L31) -> 1 | R31: =RANK(J31,J28:J31) -> 1 | S31: =O31 -> 0.003 | T31: =A31 -> D4 | U31: =P31 -> 2 | V31: =D31 -> Los Angeles FC | W31: =E31 -> 0 | X31: =F31 -> 0 | Y31: =G31 -> 0 | Z31: =H31 -> 0 | AA31: =I31 -> 0 | AB31: =J31 -> 0 | AC31: =K31 -> 0 | ... AF31: =N31 -> 0 | AG31: =LARGE(S28:S31,4) -> 0.001 | AH31: =VLOOKUP(AG31,S28:AG31,2,0) -> D3 | AI31: =VLOOKUP(AG31,S28:AG31,3,0) -> 4 | AJ31: - | AK31: =VLOOKUP(AG31,S28:AG31,4,0) -> Flamengo | AL31: =VLOOKUP(AG31,S28:AG31,5,0) -> 0 | AM31: =VLOOKUP(AG31,S28:AG31,6,0) -> 0 | AN31: =VLOOKUP(AG31,S28:AG31,7,0) -> 0 | AO31: =VLOOKUP(AG31,S28:AG31,8,0) -> 0 | AP31: =VLOOKUP(AG31,S28:AG31,9,0) -> 0 | AQ31: =VLOOKUP(AG31,S28:AG31,10,0) -> 0 | AR31: =VLOOKUP(AG31,S28:AG31,11,0) -> 0 | AS31: =VLOOKUP(AG31,S28:AG31,12,0) -> 0 | AT31: =VLOOKUP(AG31,S28:AG31,13,0) -> 0 | AU31: =VLOOKUP(AG31,S28:AG31,14,0) -> 0 | AW31: 25 | AX31: juin | AY31: 0.125 | AZ31: D2 | BA31: =IFERROR(INDEX(Equipe!B:B,MATCH(AZ31,Equipe!A:A,0)),"") -> Es Tunis | BC31: - | BE31: =IFERROR(INDEX(Equipe!B:B,MATCH(BF31,Equipe!A:A,0)),"") -> Chelsea | BF31: D1 | BG31: =IF(BB31="","",IF(BB31>BD31,3,IF(BB31=BD31,1,IF(BB31<BD31,IF(BD31="",3,0))))) | BH31: =IF(BD31="","",IF(BD31>BB31,3,IF(BD31=BB31,1,IF(BD31<BB31,IF(BB31="",3,0)))))
AH33: GROUPE E | BB33: Score | BI33: CJ | BK33: CR
AI34: classement Général | AW34: 17 | AX34: juin | AY34: 0.875 | AZ34: E3 | BA34: =IFERROR(INDEX(Equipe!B:B,MATCH(AZ34,Equipe!A:A,0)),"") -> River Plate | BC34: - | BE34: =IFERROR(INDEX(Equipe!B:B,MATCH(BF34,Equipe!A:A,0)),"") -> Urawa Reds | BF34: E4 | BG34: =IF(BB34="","",IF(BB34>BD34,3,IF(BB34=BD34,1,IF(BB34<BD34,IF(BD34="",3,0))))) | BH34: =IF(BD34="","",IF(BD34>BB34,3,IF(BD34=BB34,1,IF(BD34<BB34,IF(BB34="",3,0)))))
E35: Pts | F35: J | G35: G | H35: N | I35: P | J35: BP | K35: BC | L35: +/- | M35: CJ | N35: CR | P35: Rang | Q35: Rang +/- | R35: Rang BP | S35: multi critère | T35: Code | U35: rappel rang | V35: équipe | W35: PTS | X35: J | Y35: G | Z35: N | AA35: P | AB35: Bp | AC35: Bc | AD35: +/- | AE35: CJ | AF35: CR | AL35: Pts | AM35: J | AN35: G | AO35: N | AP35: P | AQ35: BP | AR35: BC | AS35: +/- | AT35: CJ | AU35: CR | AW35: 18 | AX35: juin | AY35: 0.125 | AZ35: E2 | BA35: =IFERROR(INDEX(Equipe!B:B,MATCH(AZ35,Equipe!A:A,0)),"") -> CF Monterrey | BC35: - | BE35: =IFERROR(INDEX(Equipe!B:B,MATCH(BF35,Equipe!A:A,0)),"") -> Inter Milan | BF35: E1 | BG35: =IF(BB35="","",IF(BB35>BD35,3,IF(BB35=BD35,1,IF(BB35<BD35,IF(BD35="",3,0))))) | BH35: =IF(BD35="","",IF(BD35>BB35,3,IF(BD35=BB35,1,IF(BD35<BB35,IF(BB35="",3,0)))))
A36: E1 | B36: 1/8 | C36: 1 | D36: =IFERROR(INDEX(Equipe!B:B,MATCH(A36,Equipe!A:A,0)),"") -> Inter Milan | E36: =(G36*3)+H36 -> 0 | F36: =G36+H36+I36 -> 0 | G36: =COUNTIFS($AZ34:$AZ39,$A36,$BG34:$BG39,3)+COUNTIFS($BF34:$BF39,$A36,$BH34:$BH39,3) -> 0 | H36: =COUNTIFS($AZ34:$AZ39,$A36,$BG34:$BG39,1)+COUNTIFS($BF34:$BF39,$A36,$BH34:$BH39,1) -> 0 | I36: =COUNTIFS($AZ34:$AZ39,$A36,$BG34:$BG39,0)+COUNTIFS($BF34:$BF39,$A36,$BH34:$BH39,0) -> 0 | J36: =SUMIF($AZ34:$AZ39,$A36,$BB34:$BB39)+SUMIF($BF34:$BF39,$A36,$BD34:$BD39) -> 0 | K36: =SUMIF($AZ34:$AZ39,$A36,$BD34:$BD39)+SUMIF($BF34:$BF39,$A36,$BB34:$BB39) -> 0 | L36: =J36-K36 -> 0 | M36: =SUMIF($AZ34:$AZ39,$A36,$BI34:$BI39)+SUMIF($BF34:$BF39,$A36,$BJ34:$BJ39) -> 0 | N36: =SUMIF($AZ34:$AZ39,$A36,$BK34:$BK39)+SUMIF($BF34:$BF39,$A36,$BL34:$BL39) -> 0 | O36: =0.003+(E36*10000)+(J36*1000)+(L36*100)-(M36*1)-(N36*5) -> 0.003 | P36: =RANK(O36,O36:O39) -> 2 | Q36: =RANK(L36,L$12:L39) -> 4 | R36: =RANK(J36,J36:J39) -> 1 | S36: =O36 -> 0.003 | T36: =A36 -> E1 | U36: =P36 -> 2 | V36: =D36 -> Inter Milan | W36: =E36 -> 0 | X36: =F36 -> 0 | Y36: =G36 -> 0 | Z36: =H36 -> 0 | AA36: =I36 -> 0 | AB36: =J36 -> 0 | AC36: =K36 -> 0 | ... AF36: =N36 -> 0 | AG36: =LARGE(S36:S39,1) -> 0.004 | AH36: =VLOOKUP(AG36,S36:AG39,2,0) -> E2 | AI36: =VLOOKUP(AG36,S36:AG39,3,0) -> 1 | AJ36: - | AK36: =VLOOKUP(AG36,S36:AG39,4,0) -> CF Monterrey | AL36: =VLOOKUP(AG36,S36:AG39,5,0) -> 0 | AM36: =VLOOKUP(AG36,S36:AG39,6,0) -> 0 | AN36: =VLOOKUP(AG36,S36:AG39,7,0) -> 0 | AO36: =VLOOKUP(AG36,S36:AG39,8,0) -> 0 | AP36: =VLOOKUP(AG36,S36:AG39,9,0) -> 0 | AQ36: =VLOOKUP(AG36,S36:AG39,10,0) -> 0 | AR36: =VLOOKUP(AG36,S36:AG39,11,0) -> 0 | AS36: =VLOOKUP(AG36,S36:AG39,12,0) -> 0 | AT36: =VLOOKUP(AG36,S36:AG39,13,0) -> 0 | AU36: =VLOOKUP(AG36,S36:AG39,14,0) -> 0 | AW36: 21 | AX36: juin | AY36: 0.875 | AZ36: E1 | BA36: =IFERROR(INDEX(Equipe!B:B,MATCH(AZ36,Equipe!A:A,0)),"") -> Inter Milan | BC36: - | BE36: =IFERROR(INDEX(Equipe!B:B,MATCH(BF36,Equipe!A:A,0)),"") -> River Plate | BF36: E3 | BG36: =IF(BB36="","",IF(BB36>BD36,3,IF(BB36=BD36,1,IF(BB36<BD36,IF(BD36="",3,0))))) | BH36: =IF(BD36="","",IF(BD36>BB36,3,IF(BD36=BB36,1,IF(BD36<BB36,IF(BB36="",3,0)))))
A37: E2 | B37: 1/8 | C37: 2 | D37: =IFERROR(INDEX(Equipe!B:B,MATCH(A37,Equipe!A:A,0)),"") -> CF Monterrey | E37: =(G37*3)+H37 -> 0 | F37: =G37+H37+I37 -> 0 | G37: =COUNTIFS($AZ34:$AZ39,$A37,$BG34:$BG39,3)+COUNTIFS($BF34:$BF39,$A37,$BH34:$BH39,3) -> 0 | H37: =COUNTIFS($AZ34:$AZ39,$A37,$BG34:$BG39,1)+COUNTIFS($BF34:$BF39,$A37,$BH34:$BH39,1) -> 0 | I37: =COUNTIFS($AZ34:$AZ39,$A37,$BG34:$BG39,0)+COUNTIFS($BF34:$BF39,$A37,$BH34:$BH39,0) -> 0 | J37: =SUMIF($AZ34:$AZ39,$A37,$BB34:$BB39)+SUMIF($BF34:$BF39,$A37,$BD34:$BD39) -> 0 | K37: =SUMIF($AZ34:$AZ39,$A37,$BD34:$BD39)+SUMIF($BF34:$BF39,$A37,$BB34:$BB39) -> 0 | L37: =J37-K37 -> 0 | M37: =SUMIF($AZ34:$AZ39,$A37,$BI34:$BI39)+SUMIF($BF34:$BF39,$A37,$BJ34:$BJ39) -> 0 | N37: =SUMIF($AZ35:$AZ40,$A37,$BK35:$BK40)+SUMIF($BF35:$BF40,$A37,$BL35:$BL40) -> 0 | O37: =0.004+(E37*10000)+(J37*1000)+(L37*100)-(M37*1)-(N37*5) -> 0.004 | P37: =RANK(O37,O36:O39) -> 1 | Q37: =RANK(L37,L36:L39) -> 1 | R37: =RANK(J37,J36:J39) -> 1 | S37: =O37 -> 0.004 | T37: =A37 -> E2 | U37: =P37 -> 1 | V37: =D37 -> CF Monterrey | W37: =E37 -> 0 | X37: =F37 -> 0 | Y37: =G37 -> 0 | Z37: =H37 -> 0 | AA37: =I37 -> 0 | AB37: =J37 -> 0 | AC37: =K37 -> 0 | ... AF37: =N37 -> 0 | AG37: =LARGE(S36:S39,2) -> 0.003 | AH37: =VLOOKUP(AG37,S36:AG39,2,0) -> E1 | AI37: =VLOOKUP(AG37,S36:AG39,3,0) -> 2 | AJ37: - | AK37: =VLOOKUP(AG37,S36:AG39,4,0) -> Inter Milan | AL37: =VLOOKUP(AG37,S36:AG39,5,0) -> 0 | AM37: =VLOOKUP(AG37,S36:AG39,6,0) -> 0 | AN37: =VLOOKUP(AG37,S36:AG39,7,0) -> 0 | AO37: =VLOOKUP(AG37,S36:AG39,8,0) -> 0 | AP37: =VLOOKUP(AG37,S36:AG39,9,0) -> 0 | AQ37: =VLOOKUP(AG37,S36:AG39,10,0) -> 0 | AR37: =VLOOKUP(AG37,S36:AG39,11,0) -> 0 | AS37: =VLOOKUP(AG37,S36:AG39,12,0) -> 0 | AT37: =VLOOKUP(AG37,S36:AG39,13,0) -> 0 | AU37: =VLOOKUP(AG37,S36:AG39,14,0) -> 0 | AW37: 22 | AX37: juin | AY37: 0.125 | AZ37: E4 | BA37: =IFERROR(INDEX(Equipe!B:B,MATCH(AZ37,Equipe!A:A,0)),"") -> Urawa Reds | BC37: - | BE37: =IFERROR(INDEX(Equipe!B:B,MATCH(BF37,Equipe!A:A,0)),"") -> CF Monterrey | BF37: E2 | BG37: =IF(BB37="","",IF(BB37>BD37,3,IF(BB37=BD37,1,IF(BB37<BD37,IF(BD37="",3,0))))) | BH37: =IF(BD37="","",IF(BD37>BB37,3,IF(BD37=BB37,1,IF(BD37<BB37,IF(BB37="",3,0)))))
A38: E3 | B38: E | C38: 3 | D38: =IFERROR(INDEX(Equipe!B:B,MATCH(A38,Equipe!A:A,0)),"") -> River Plate | E38: =(G38*3)+H38 -> 0 | F38: =G38+H38+I38 -> 0 | G38: =COUNTIFS($AZ34:$AZ39,$A38,$BG34:$BG39,3)+COUNTIFS($BF34:$BF39,$A38,$BH34:$BH39,3) -> 0 | H38: =COUNTIFS($AZ34:$AZ39,$A38,$BG34:$BG39,1)+COUNTIFS($BF34:$BF39,$A38,$BH34:$BH39,1) -> 0 | I38: =COUNTIFS($AZ34:$AZ39,$A38,$BG34:$BG39,0)+COUNTIFS($BF34:$BF39,$A38,$BH34:$BH39,0) -> 0 | J38: =SUMIF($AZ34:$AZ39,$A38,$BB34:$BB39)+SUMIF($BF34:$BF39,$A38,$BD34:$BD39) -> 0 | K38: =SUMIF($AZ34:$AZ39,$A38,$BD34:$BD39)+SUMIF($BF34:$BF39,$A38,$BB34:$BB39) -> 0 | L38: =J38-K38 -> 0 | M38: =SUMIF($AZ34:$AZ39,$A38,$BI34:$BI39)+SUMIF($BF34:$BF39,$A38,$BJ34:$BJ39) -> 0 | N38: =SUMIF($AZ36:$AZ41,$A38,$BK36:$BK41)+SUMIF($BF36:$BF41,$A38,$BL36:$BL41) -> 0 | O38: =0.002+(E38*10000)+(J38*1000)+(L38*100)-(M38*1)-(N38*5) -> 0.002 | P38: =RANK(O38,O36:O39) -> 3 | Q38: =RANK(L38,L36:L39) -> 1 | R38: =RANK(J38,J36:J39) -> 1 | S38: =O38 -> 0.002 | T38: =A38 -> E3 | U38: =P38 -> 3 | V38: =D38 -> River Plate | W38: =E38 -> 0 | X38: =F38 -> 0 | Y38: =G38 -> 0 | Z38: =H38 -> 0 | AA38: =I38 -> 0 | AB38: =J38 -> 0 | AC38: =K38 -> 0 | ... AF38: =N38 -> 0 | AG38: =LARGE(S36:S39,3) -> 0.002 | AH38: =VLOOKUP(AG38,S36:AG39,2,0) -> E3 | AI38: =VLOOKUP(AG38,S36:AG39,3,0) -> 3 | AJ38: - | AK38: =VLOOKUP(AG38,S36:AG39,4,0) -> River Plate | AL38: =VLOOKUP(AG38,S36:AG39,5,0) -> 0 | AM38: =VLOOKUP(AG38,S36:AG39,6,0) -> 0 | AN38: =VLOOKUP(AG38,S36:AG39,7,0) -> 0 | AO38: =VLOOKUP(AG38,S36:AG39,8,0) -> 0 | AP38: =VLOOKUP(AG38,S36:AG39,9,0) -> 0 | AQ38: =VLOOKUP(AG38,S36:AG39,10,0) -> 0 | AR38: =VLOOKUP(AG38,S36:AG39,11,0) -> 0 | AS38: =VLOOKUP(AG38,S36:AG39,12,0) -> 0 | AT38: =VLOOKUP(AG38,S36:AG39,13,0) -> 0 | AU38: =VLOOKUP(AG38,S36:AG39,14,0) -> 0 | AW38: 26 | AX38: juin | AY38: 0.125 | AZ38: E1 | BA38: =IFERROR(INDEX(Equipe!B:B,MATCH(AZ38,Equipe!A:A,0)),"") -> Inter Milan | BC38: - | BE38: =IFERROR(INDEX(Equipe!B:B,MATCH(BF38,Equipe!A:A,0)),"") -> River Plate | BF38: E3 | BG38: =IF(BB38="","",IF(BB38>BD38,3,IF(BB38=BD38,1,IF(BB38<BD38,IF(BD38="",3,0))))) | BH38: =IF(BD38="","",IF(BD38>BB38,3,IF(BD38=BB38,1,IF(BD38<BB38,IF(BB38="",3,0)))))
A39: E4 | B39: E | C39: 4 | D39: =IFERROR(INDEX(Equipe!B:B,MATCH(A39,Equipe!A:A,0)),"") -> Urawa Reds | E39: =(G39*3)+H39 -> 0 | F39: =G39+H39+I39 -> 0 | G39: =COUNTIFS($AZ34:$AZ39,$A39,$BG34:$BG39,3)+COUNTIFS($BF34:$BF39,$A39,$BH34:$BH39,3) -> 0 | H39: =COUNTIFS($AZ34:$AZ39,$A39,$BG34:$BG39,1)+COUNTIFS($BF34:$BF39,$A39,$BH34:$BH39,1) -> 0 | I39: =COUNTIFS($AZ34:$AZ39,$A39,$BG34:$BG39,0)+COUNTIFS($BF34:$BF39,$A39,$BH34:$BH39,0) -> 0 | J39: =SUMIF($AZ34:$AZ39,$A39,$BB34:$BB39)+SUMIF($BF34:$BF39,$A39,$BD34:$BD39) -> 0 | K39: =SUMIF($AZ34:$AZ39,$A39,$BD34:$BD39)+SUMIF($BF34:$BF39,$A39,$BB34:$BB39) -> 0 | L39: =J39-K39 -> 0 | M39: =SUMIF($AZ34:$AZ39,$A39,$BI34:$BI39)+SUMIF($BF34:$BF39,$A39,$BJ34:$BJ39) -> 0 | N39: =SUMIF($AZ37:$AZ42,$A39,$BK37:$BK42)+SUMIF($BF37:$BF42,$A39,$BL37:$BL42) -> 0 | O39: =0.001+(E39*10000)+(J39*1000)+(L39*100)-(M39*1)-(N39*5) -> 0.001 | P39: =RANK(O39,O36:O39) -> 4 | Q39: =RANK(L39,L36:L39) -> 1 | R39: =RANK(J39,J36:J39) -> 1 | S39: =O39 -> 0.001 | T39: =A39 -> E4 | U39: =P39 -> 4 | V39: =D39 -> Urawa Reds | W39: =E39 -> 0 | X39: =F39 -> 0 | Y39: =G39 -> 0 | Z39: =H39 -> 0 | AA39: =I39 -> 0 | AB39: =J39 -> 0 | AC39: =K39 -> 0 | ... AF39: =N39 -> 0 | AG39: =LARGE(S36:S39,4) -> 0.001 | AH39: =VLOOKUP(AG39,S36:AG39,2,0) -> E4 | AI39: =VLOOKUP(AG39,S36:AG39,3,0) -> 4 | AJ39: - | AK39: =VLOOKUP(AG39,S36:AG39,4,0) -> Urawa Reds | AL39: =VLOOKUP(AG39,S36:AG39,5,0) -> 0 | AM39: =VLOOKUP(AG39,S36:AG39,6,0) -> 0 | AN39: =VLOOKUP(AG39,S36:AG39,7,0) -> 0 | AO39: =VLOOKUP(AG39,S36:AG39,8,0) -> 0 | AP39: =VLOOKUP(AG39,S36:AG39,9,0) -> 0 | AQ39: =VLOOKUP(AG39,S36:AG39,10,0) -> 0 | AR39: =VLOOKUP(AG39,S36:AG39,11,0) -> 0 | AS39: =VLOOKUP(AG39,S36:AG39,12,0) -> 0 | AT39: =VLOOKUP(AG39,S36:AG39,13,0) -> 0 | AU39: =VLOOKUP(AG39,S36:AG39,14,0) -> 0 | AW39: 26 | AX39: juin | AY39: 0.125 | AZ39: E4 | BA39: =IFERROR(INDEX(Equipe!B:B,MATCH(AZ39,Equipe!A:A,0)),"") -> Urawa Reds | BC39: - | BE39: =IFERROR(INDEX(Equipe!B:B,MATCH(BF39,Equipe!A:A,0)),"") -> CF Monterrey | BF39: E2 | BG39: =IF(BB39="","",IF(BB39>BD39,3,IF(BB39=BD39,1,IF(BB39<BD39,IF(BD39="",3,0))))) | BH39: =IF(BD39="","",IF(BD39>BB39,3,IF(BD39=BB39,1,IF(BD39<BB39,IF(BB39="",3,0)))))
AH41: GROUPE F | BB41: Score | BI41: CJ | BK41: CR
AI42: classement Général | AW42: 17 | AX42: juin | AY42: 0.75 | AZ42: F2 | BA42: =IFERROR(INDEX(Equipe!B:B,MATCH(AZ42,Equipe!A:A,0)),"") -> Fluminense | BC42: - | BE42: =IFERROR(INDEX(Equipe!B:B,MATCH(BF42,Equipe!A:A,0)),"") -> Borussia Dortmund | BF42: F1 | BG42: =IF(BB42="","",IF(BB42>BD42,3,IF(BB42=BD42,1,IF(BB42<BD42,IF(BD42="",3,0))))) | BH42: =IF(BD42="","",IF(BD42>BB42,3,IF(BD42=BB42,1,IF(BD42<BB42,IF(BB42="",3,0)))))
E43: Pts | F43: J | G43: G | H43: N | I43: P | J43: BP | K43: BC | L43: +/- | M43: CJ | N43: CR | P43: Rang | Q43: Rang +/- | R43: Rang BP | S43: multi critère | T43: Code | U43: rappel rang | V43: équipe | W43: PTS | X43: J | Y43: G | Z43: N | AA43: P | AB43: Bp | AC43: Bc | AD43: +/- | AE43: CJ | AF43: CR | AL43: Pts | AM43: J | AN43: G | AO43: N | AP43: P | AQ43: BP | AR43: BC | AS43: +/- | AT43: CJ | AU43: CR | AW43: 18 | AX43: juin | AY43: 0 | AZ43: F3 | BA43: =IFERROR(INDEX(Equipe!B:B,MATCH(AZ43,Equipe!A:A,0)),"") -> Sundowns | BC43: - | BE43: =IFERROR(INDEX(Equipe!B:B,MATCH(BF43,Equipe!A:A,0)),"") -> Ulsan | BF43: F4 | BG43: =IF(BB43="","",IF(BB43>BD43,3,IF(BB43=BD43,1,IF(BB43<BD43,IF(BD43="",3,0))))) | BH43: =IF(BD43="","",IF(BD43>BB43,3,IF(BD43=BB43,1,IF(BD43<BB43,IF(BB43="",3,0)))))
A44: F1 | B44: 1/8 | C44: 1 | D44: =IFERROR(INDEX(Equipe!B:B,MATCH(A44,Equipe!A:A,0)),"") -> Borussia Dortmund | E44: =(G44*3)+H44 -> 0 | F44: =G44+H44+I44 -> 0 | G44: =COUNTIFS($AZ42:$AZ47,$A44,$BG42:$BG47,3)+COUNTIFS($BF42:$BF47,$A44,$BH42:$BH47,3) -> 0 | H44: =COUNTIFS($AZ42:$AZ47,$A44,$BG42:$BG47,1)+COUNTIFS($BF42:$BF47,$A44,$BH42:$BH47,1) -> 0 | I44: =COUNTIFS($AZ42:$AZ47,$A44,$BG42:$BG47,0)+COUNTIFS($BF42:$BF47,$A44,$BH42:$BH47,0) -> 0 | J44: =SUMIF($AZ42:$AZ47,$A44,$BB42:$BB47)+SUMIF($BF42:$BF47,$A44,$BD42:$BD47) -> 0 | K44: =SUMIF($AZ42:$AZ47,$A44,$BD42:$BD47)+SUMIF($BF42:$BF47,$A44,$BB42:$BB47) -> 0 | L44: =J44-K44 -> 0 | M44: =SUMIF($AZ42:$AZ47,$A44,$BI42:$BI47)+SUMIF($BF42:$BF47,$A44,$BJ42:$BJ47) -> 0 | N44: =SUMIF($AZ42:$AZ47,$A44,$BK42:$BK47)+SUMIF($BF42:$BF47,$A44,$BL42:$BL47) -> 0 | O44: =0.003+(E44*10000)+(J44*1000)+(L44*100)-(M44*1)-(N44*5) -> 0.003 | P44: =RANK(O44,O44:O47) -> 2 | Q44: =RANK(L44,L$12:L47) -> 4 | R44: =RANK(J44,J44:J47) -> 1 | S44: =O44 -> 0.003 | T44: =A44 -> F1 | U44: =P44 -> 2 | V44: =D44 -> Borussia Dortmund | W44: =E44 -> 0 | X44: =F44 -> 0 | Y44: =G44 -> 0 | Z44: =H44 -> 0 | AA44: =I44 -> 0 | AB44: =J44 -> 0 | AC44: =K44 -> 0 | ... AF44: =N44 -> 0 | AG44: =LARGE(S44:S47,1) -> 0.004 | AH44: =VLOOKUP(AG44,S44:AG47,2,0) -> F2 | AI44: =VLOOKUP(AG44,S44:AG47,3,0) -> 1 | AJ44: - | AK44: =VLOOKUP(AG44,S44:AG47,4,0) -> Fluminense | AL44: =VLOOKUP(AG44,S44:AG47,5,0) -> 0 | AM44: =VLOOKUP(AG44,S44:AG47,6,0) -> 0 | AN44: =VLOOKUP(AG44,S44:AG47,7,0) -> 0 | AO44: =VLOOKUP(AG44,S44:AG47,8,0) -> 0 | AP44: =VLOOKUP(AG44,S44:AG47,9,0) -> 0 | AQ44: =VLOOKUP(AG44,S44:AG47,10,0) -> 0 | AR44: =VLOOKUP(AG44,S44:AG47,11,0) -> 0 | AS44: =VLOOKUP(AG44,S44:AG47,12,0) -> 0 | AT44: =VLOOKUP(AG44,S44:AG47,13,0) -> 0 | AU44: =VLOOKUP(AG44,S44:AG47,14,0) -> 0 | AW44: 21 | AX44: juin | AY44: 0.75 | AZ44: F1 | BA44: =IFERROR(INDEX(Equipe!B:B,MATCH(AZ44,Equipe!A:A,0)),"") -> Borussia Dortmund | BC44: - | BE44: =IFERROR(INDEX(Equipe!B:B,MATCH(BF44,Equipe!A:A,0)),"") -> Sundowns | BF44: F3 | BG44: =IF(BB44="","",IF(BB44>BD44,3,IF(BB44=BD44,1,IF(BB44<BD44,IF(BD44="",3,0))))) | BH44: =IF(BD44="","",IF(BD44>BB44,3,IF(BD44=BB44,1,IF(BD44<BB44,IF(BB44="",3,0)))))
A45: F2 | B45: 1/8 | C45: 2 | D45: =IFERROR(INDEX(Equipe!B:B,MATCH(A45,Equipe!A:A,0)),"") -> Fluminense | E45: =(G45*3)+H45 -> 0 | F45: =G45+H45+I45 -> 0 | G45: =COUNTIFS($AZ42:$AZ47,$A45,$BG42:$BG47,3)+COUNTIFS($BF42:$BF47,$A45,$BH42:$BH47,3) -> 0 | H45: =COUNTIFS($AZ42:$AZ47,$A45,$BG42:$BG47,1)+COUNTIFS($BF42:$BF47,$A45,$BH42:$BH47,1) -> 0 | I45: =COUNTIFS($AZ42:$AZ47,$A45,$BG42:$BG47,0)+COUNTIFS($BF42:$BF47,$A45,$BH42:$BH47,0) -> 0 | J45: =SUMIF($AZ42:$AZ47,$A45,$BB42:$BB47)+SUMIF($BF42:$BF47,$A45,$BD42:$BD47) -> 0 | K45: =SUMIF($AZ42:$AZ47,$A45,$BD42:$BD47)+SUMIF($BF42:$BF47,$A45,$BB42:$BB47) -> 0 | L45: =J45-K45 -> 0 | M45: =SUMIF($AZ42:$AZ47,$A45,$BI42:$BI47)+SUMIF($BF42:$BF47,$A45,$BJ42:$BJ47) -> 0 | N45: =SUMIF($AZ43:$AZ48,$A45,$BK43:$BK48)+SUMIF($BF43:$BF48,$A45,$BL43:$BL48) -> 0 | O45: =0.004+(E45*10000)+(J45*1000)+(L45*100)-(M45*1)-(N45*5) -> 0.004 | P45: =RANK(O45,O44:O47) -> 1 | Q45: =RANK(L45,L44:L47) -> 1 | R45: =RANK(J45,J44:J47) -> 1 | S45: =O45 -> 0.004 | T45: =A45 -> F2 | U45: =P45 -> 1 | V45: =D45 -> Fluminense | W45: =E45 -> 0 | X45: =F45 -> 0 | Y45: =G45 -> 0 | Z45: =H45 -> 0 | AA45: =I45 -> 0 | AB45: =J45 -> 0 | AC45: =K45 -> 0 | ... AF45: =N45 -> 0 | AG45: =LARGE(S44:S47,2) -> 0.003 | AH45: =VLOOKUP(AG45,S44:AG47,2,0) -> F1 | AI45: =VLOOKUP(AG45,S44:AG47,3,0) -> 2 | AJ45: - | AK45: =VLOOKUP(AG45,S44:AG47,4,0) -> Borussia Dortmund | AL45: =VLOOKUP(AG45,S44:AG47,5,0) -> 0 | AM45: =VLOOKUP(AG45,S44:AG47,6,0) -> 0 | AN45: =VLOOKUP(AG45,S44:AG47,7,0) -> 0 | AO45: =VLOOKUP(AG45,S44:AG47,8,0) -> 0 | AP45: =VLOOKUP(AG45,S44:AG47,9,0) -> 0 | AQ45: =VLOOKUP(AG45,S44:AG47,10,0) -> 0 | AR45: =VLOOKUP(AG45,S44:AG47,11,0) -> 0 | AS45: =VLOOKUP(AG45,S44:AG47,12,0) -> 0 | AT45: =VLOOKUP(AG45,S44:AG47,13,0) -> 0 | AU45: =VLOOKUP(AG45,S44:AG47,14,0) -> 0 | AW45: 22 | AX45: juin | AY45: 0 | AZ45: F4 | BA45: =IFERROR(INDEX(Equipe!B:B,MATCH(AZ45,Equipe!A:A,0)),"") -> Ulsan | BC45: - | BE45: =IFERROR(INDEX(Equipe!B:B,MATCH(BF45,Equipe!A:A,0)),"") -> Fluminense | BF45: F2 | BG45: =IF(BB45="","",IF(BB45>BD45,3,IF(BB45=BD45,1,IF(BB45<BD45,IF(BD45="",3,0))))) | BH45: =IF(BD45="","",IF(BD45>BB45,3,IF(BD45=BB45,1,IF(BD45<BB45,IF(BB45="",3,0)))))
A46: F3 | B46: E | C46: 3 | D46: =IFERROR(INDEX(Equipe!B:B,MATCH(A46,Equipe!A:A,0)),"") -> Sundowns | E46: =(G46*3)+H46 -> 0 | F46: =G46+H46+I46 -> 0 | G46: =COUNTIFS($AZ42:$AZ47,$A46,$BG42:$BG47,3)+COUNTIFS($BF42:$BF47,$A46,$BH42:$BH47,3) -> 0 | H46: =COUNTIFS($AZ42:$AZ47,$A46,$BG42:$BG47,1)+COUNTIFS($BF42:$BF47,$A46,$BH42:$BH47,1) -> 0 | I46: =COUNTIFS($AZ42:$AZ47,$A46,$BG42:$BG47,0)+COUNTIFS($BF42:$BF47,$A46,$BH42:$BH47,0) -> 0 | J46: =SUMIF($AZ42:$AZ47,$A46,$BB42:$BB47)+SUMIF($BF42:$BF47,$A46,$BD42:$BD47) -> 0 | K46: =SUMIF($AZ42:$AZ47,$A46,$BD42:$BD47)+SUMIF($BF42:$BF47,$A46,$BB42:$BB47) -> 0 | L46: =J46-K46 -> 0 | M46: =SUMIF($AZ42:$AZ47,$A46,$BI42:$BI47)+SUMIF($BF42:$BF47,$A46,$BJ42:$BJ47) -> 0 | N46: =SUMIF($AZ44:$AZ49,$A46,$BK44:$BK49)+SUMIF($BF44:$BF49,$A46,$BL44:$BL49) -> 0 | O46: =0.002+(E46*10000)+(J46*1000)+(L46*100)-(M46*1)-(N46*5) -> 0.002 | P46: =RANK(O46,O44:O47) -> 3 | Q46: =RANK(L46,L44:L47) -> 1 | R46: =RANK(J46,J44:J47) -> 1 | S46: =O46 -> 0.002 | T46: =A46 -> F3 | U46: =P46 -> 3 | V46: =D46 -> Sundowns | W46: =E46 -> 0 | X46: =F46 -> 0 | Y46: =G46 -> 0 | Z46: =H46 -> 0 | AA46: =I46 -> 0 | AB46: =J46 -> 0 | AC46: =K46 -> 0 | ... AF46: =N46 -> 0 | AG46: =LARGE(S44:S47,3) -> 0.002 | AH46: =VLOOKUP(AG46,S44:AG47,2,0) -> F3 | AI46: =VLOOKUP(AG46,S44:AG47,3,0) -> 3 | AJ46: - | AK46: =VLOOKUP(AG46,S44:AG47,4,0) -> Sundowns | AL46: =VLOOKUP(AG46,S44:AG47,5,0) -> 0 | AM46: =VLOOKUP(AG46,S44:AG47,6,0) -> 0 | AN46: =VLOOKUP(AG46,S44:AG47,7,0) -> 0 | AO46: =VLOOKUP(AG46,S44:AG47,8,0) -> 0 | AP46: =VLOOKUP(AG46,S44:AG47,9,0) -> 0 | AQ46: =VLOOKUP(AG46,S44:AG47,10,0) -> 0 | AR46: =VLOOKUP(AG46,S44:AG47,11,0) -> 0 | AS46: =VLOOKUP(AG46,S44:AG47,12,0) -> 0 | AT46: =VLOOKUP(AG46,S44:AG47,13,0) -> 0 | AU46: =VLOOKUP(AG46,S44:AG47,14,0) -> 0 | AW46: 25 | AX46: juin | AY46: 0 | AZ46: F3 | BA46: =IFERROR(INDEX(Equipe!B:B,MATCH(AZ46,Equipe!A:A,0)),"") -> Sundowns | BC46: - | BE46: =IFERROR(INDEX(Equipe!B:B,MATCH(BF46,Equipe!A:A,0)),"") -> Fluminense | BF46: F2 | BG46: =IF(BB46="","",IF(BB46>BD46,3,IF(BB46=BD46,1,IF(BB46<BD46,IF(BD46="",3,0))))) | BH46: =IF(BD46="","",IF(BD46>BB46,3,IF(BD46=BB46,1,IF(BD46<BB46,IF(BB46="",3,0)))))
A47: F4 | B47: E | C47: 4 | D47: =IFERROR(INDEX(Equipe!B:B,MATCH(A47,Equipe!A:A,0)),"") -> Ulsan | E47: =(G47*3)+H47 -> 0 | F47: =G47+H47+I47 -> 0 | G47: =COUNTIFS($AZ42:$AZ47,$A47,$BG42:$BG47,3)+COUNTIFS($BF42:$BF47,$A47,$BH42:$BH47,3) -> 0 | H47: =COUNTIFS($AZ42:$AZ47,$A47,$BG42:$BG47,1)+COUNTIFS($BF42:$BF47,$A47,$BH42:$BH47,1) -> 0 | I47: =COUNTIFS($AZ42:$AZ47,$A47,$BG42:$BG47,0)+COUNTIFS($BF42:$BF47,$A47,$BH42:$BH47,0) -> 0 | J47: =SUMIF($AZ42:$AZ47,$A47,$BB42:$BB47)+SUMIF($BF42:$BF47,$A47,$BD42:$BD47) -> 0 | K47: =SUMIF($AZ42:$AZ47,$A47,$BD42:$BD47)+SUMIF($BF42:$BF47,$A47,$BB42:$BB47) -> 0 | L47: =J47-K47 -> 0 | M47: =SUMIF($AZ42:$AZ47,$A47,$BI42:$BI47)+SUMIF($BF42:$BF47,$A47,$BJ42:$BJ47) -> 0 | N47: =SUMIF($AZ45:$AZ50,$A47,$BK45:$BK50)+SUMIF($BF45:$BF50,$A47,$BL45:$BL50) -> 0 | O47: =0.001+(E47*10000)+(J47*1000)+(L47*100)-(M47*1)-(N47*5) -> 0.001 | P47: =RANK(O47,O44:O47) -> 4 | Q47: =RANK(L47,L44:L47) -> 1 | R47: =RANK(J47,J44:J47) -> 1 | S47: =O47 -> 0.001 | T47: =A47 -> F4 | U47: =P47 -> 4 | V47: =D47 -> Ulsan | W47: =E47 -> 0 | X47: =F47 -> 0 | Y47: =G47 -> 0 | Z47: =H47 -> 0 | AA47: =I47 -> 0 | AB47: =J47 -> 0 | AC47: =K47 -> 0 | ... AF47: =N47 -> 0 | AG47: =LARGE(S44:S47,4) -> 0.001 | AH47: =VLOOKUP(AG47,S44:AG47,2,0) -> F4 | AI47: =VLOOKUP(AG47,S44:AG47,3,0) -> 4 | AJ47: - | AK47: =VLOOKUP(AG47,S44:AG47,4,0) -> Ulsan | AL47: =VLOOKUP(AG47,S44:AG47,5,0) -> 0 | AM47: =VLOOKUP(AG47,S44:AG47,6,0) -> 0 | AN47: =VLOOKUP(AG47,S44:AG47,7,0) -> 0 | AO47: =VLOOKUP(AG47,S44:AG47,8,0) -> 0 | AP47: =VLOOKUP(AG47,S44:AG47,9,0) -> 0 | AQ47: =VLOOKUP(AG47,S44:AG47,10,0) -> 0 | AR47: =VLOOKUP(AG47,S44:AG47,11,0) -> 0 | AS47: =VLOOKUP(AG47,S44:AG47,12,0) -> 0 | AT47: =VLOOKUP(AG47,S44:AG47,13,0) -> 0 | AU47: =VLOOKUP(AG47,S44:AG47,14,0) -> 0 | AW47: 25 | AX47: juin | AY47: 0.875 | AZ47: F1 | BA47: =IFERROR(INDEX(Equipe!B:B,MATCH(AZ47,Equipe!A:A,0)),"") -> Borussia Dortmund | BC47: - | BE47: =IFERROR(INDEX(Equipe!B:B,MATCH(BF47,Equipe!A:A,0)),"") -> Ulsan | BF47: F4 | BG47: =IF(BB47="","",IF(BB47>BD47,3,IF(BB47=BD47,1,IF(BB47<BD47,IF(BD47="",3,0))))) | BH47: =IF(BD47="","",IF(BD47>BB47,3,IF(BD47=BB47,1,IF(BD47<BB47,IF(BB47="",3,0)))))
AH49: GROUPE G | BB49: Score | BI49: CJ | BK49: CR
AI50: classement Général | AW50: 18 | AX50: juin | AY50: 0.75 | AZ50: G4 | BA50: =IFERROR(INDEX(Equipe!B:B,MATCH(AZ50,Equipe!A:A,0)),"") -> Wydad AC | BC50: - | BE50: =IFERROR(INDEX(Equipe!B:B,MATCH(BF50,Equipe!A:A,0)),"") -> Manchester City | BF50: G3 | BG50: =IF(BB50="","",IF(BB50>BD50,3,IF(BB50=BD50,1,IF(BB50<BD50,IF(BD50="",3,0))))) | BH50: =IF(BD50="","",IF(BD50>BB50,3,IF(BD50=BB50,1,IF(BD50<BB50,IF(BB50="",3,0)))))
E51: Pts | F51: J | G51: G | H51: N | I51: P | J51: BP | K51: BC | L51: +/- | M51: CJ | N51: CR | P51: Rang | Q51: Rang +/- | R51: Rang BP | S51: multi critère | T51: Code | U51: rappel rang | V51: équipe | W51: PTS | X51: J | Y51: G | Z51: N | AA51: P | AB51: Bp | AC51: Bc | AD51: +/- | AE51: CJ | AF51: CR | AL51: Pts | AM51: J | AN51: G | AO51: N | AP51: P | AQ51: BP | AR51: BC | AS51: +/- | AT51: CJ | AU51: CR | AW51: 19 | AX51: juin | AY51: 0.125 | AZ51: G2 | BA51: =IFERROR(INDEX(Equipe!B:B,MATCH(AZ51,Equipe!A:A,0)),"") -> Juventus Turin | BC51: - | BE51: =IFERROR(INDEX(Equipe!B:B,MATCH(BF51,Equipe!A:A,0)),"") -> Al Ain | BF51: G1 | BG51: =IF(BB51="","",IF(BB51>BD51,3,IF(BB51=BD51,1,IF(BB51<BD51,IF(BD51="",3,0))))) | BH51: =IF(BD51="","",IF(BD51>BB51,3,IF(BD51=BB51,1,IF(BD51<BB51,IF(BB51="",3,0)))))
A52: G1 | B52: 1/8 | C52: 1 | D52: =IFERROR(INDEX(Equipe!B:B,MATCH(A52,Equipe!A:A,0)),"") -> Al Ain | E52: =(G52*3)+H52 -> 0 | F52: =G52+H52+I52 -> 0 | G52: =COUNTIFS($AZ50:$AZ55,$A52,$BG50:$BG55,3)+COUNTIFS($BF50:$BF55,$A52,$BH50:$BH55,3) -> 0 | H52: =COUNTIFS($AZ50:$AZ55,$A52,$BG50:$BG55,1)+COUNTIFS($BF50:$BF55,$A52,$BH50:$BH55,1) -> 0 | I52: =COUNTIFS($AZ50:$AZ55,$A52,$BG50:$BG55,0)+COUNTIFS($BF50:$BF55,$A52,$BH50:$BH55,0) -> 0 | J52: =SUMIF($AZ50:$AZ55,$A52,$BB50:$BB55)+SUMIF($BF50:$BF55,$A52,$BD50:$BD55) -> 0 | K52: =SUMIF($AZ50:$AZ55,$A52,$BD50:$BD55)+SUMIF($BF50:$BF55,$A52,$BB50:$BB55) -> 0 | L52: =J52-K52 -> 0 | M52: =SUMIF($AZ50:$AZ55,$A52,$BI50:$BI55)+SUMIF($BF50:$BF55,$A52,$BJ50:$BJ55) -> 0 | N52: =SUMIF($AZ50:$AZ55,$A52,$BK50:$BK55)+SUMIF($BF50:$BF55,$A52,$BL50:$BL55) -> 0 | O52: =0.003+(E52*10000)+(J52*1000)+(L52*100)-(M52*1)-(N52*5) -> 0.003 | P52: =RANK(O52,O52:O55) -> 2 | Q52: =RANK(L52,L$12:L55) -> 4 | R52: =RANK(J52,J52:J55) -> 1 | S52: =O52 -> 0.003 | T52: =A52 -> G1 | U52: =P52 -> 2 | V52: =D52 -> Al Ain | W52: =E52 -> 0 | X52: =F52 -> 0 | Y52: =G52 -> 0 | Z52: =H52 -> 0 | AA52: =I52 -> 0 | AB52: =J52 -> 0 | AC52: =K52 -> 0 | ... AF52: =N52 -> 0 | AG52: =LARGE(S52:S55,1) -> 0.004 | AH52: =VLOOKUP(AG52,S52:AG55,2,0) -> G2 | AI52: =VLOOKUP(AG52,S52:AG55,3,0) -> 1 | AJ52: - | AK52: =VLOOKUP(AG52,S52:AG55,4,0) -> Juventus Turin | AL52: =VLOOKUP(AG52,S52:AG55,5,0) -> 0 | AM52: =VLOOKUP(AG52,S52:AG55,6,0) -> 0 | AN52: =VLOOKUP(AG52,S52:AG55,7,0) -> 0 | AO52: =VLOOKUP(AG52,S52:AG55,8,0) -> 0 | AP52: =VLOOKUP(AG52,S52:AG55,9,0) -> 0 | AQ52: =VLOOKUP(AG52,S52:AG55,10,0) -> 0 | AR52: =VLOOKUP(AG52,S52:AG55,11,0) -> 0 | AS52: =VLOOKUP(AG52,S52:AG55,12,0) -> 0 | AT52: =VLOOKUP(AG52,S52:AG55,13,0) -> 0 | AU52: =VLOOKUP(AG52,S52:AG55,14,0) -> 0 | AW52: 22 | AX52: juin | AY52: 0.75 | AZ52: G2 | BA52: =IFERROR(INDEX(Equipe!B:B,MATCH(AZ52,Equipe!A:A,0)),"") -> Juventus Turin | BC52: - | BE52: =IFERROR(INDEX(Equipe!B:B,MATCH(BF52,Equipe!A:A,0)),"") -> Wydad AC | BF52: G4 | BG52: =IF(BB52="","",IF(BB52>BD52,3,IF(BB52=BD52,1,IF(BB52<BD52,IF(BD52="",3,0))))) | BH52: =IF(BD52="","",IF(BD52>BB52,3,IF(BD52=BB52,1,IF(BD52<BB52,IF(BB52="",3,0)))))
A53: G2 | B53: 1/8 | C53: 2 | D53: =IFERROR(INDEX(Equipe!B:B,MATCH(A53,Equipe!A:A,0)),"") -> Juventus Turin | E53: =(G53*3)+H53 -> 0 | F53: =G53+H53+I53 -> 0 | G53: =COUNTIFS($AZ50:$AZ55,$A53,$BG50:$BG55,3)+COUNTIFS($BF50:$BF55,$A53,$BH50:$BH55,3) -> 0 | H53: =COUNTIFS($AZ50:$AZ55,$A53,$BG50:$BG55,1)+COUNTIFS($BF50:$BF55,$A53,$BH50:$BH55,1) -> 0 | I53: =COUNTIFS($AZ50:$AZ55,$A53,$BG50:$BG55,0)+COUNTIFS($BF50:$BF55,$A53,$BH50:$BH55,0) -> 0 | J53: =SUMIF($AZ50:$AZ55,$A53,$BB50:$BB55)+SUMIF($BF50:$BF55,$A53,$BD50:$BD55) -> 0 | K53: =SUMIF($AZ50:$AZ55,$A53,$BD50:$BD55)+SUMIF($BF50:$BF55,$A53,$BB50:$BB55) -> 0 | L53: =J53-K53 -> 0 | M53: =SUMIF($AZ50:$AZ55,$A53,$BI50:$BI55)+SUMIF($BF50:$BF55,$A53,$BJ50:$BJ55) -> 0 | N53: =SUMIF($AZ51:$AZ56,$A53,$BK51:$BK56)+SUMIF($BF51:$BF56,$A53,$BL51:$BL56) -> 0 | O53: =0.004+(E53*10000)+(J53*1000)+(L53*100)-(M53*1)-(N53*5) -> 0.004 | P53: =RANK(O53,O52:O55) -> 1 | Q53: =RANK(L53,L52:L55) -> 1 | R53: =RANK(J53,J52:J55) -> 1 | S53: =O53 -> 0.004 | T53: =A53 -> G2 | U53: =P53 -> 1 | V53: =D53 -> Juventus Turin | W53: =E53 -> 0 | X53: =F53 -> 0 | Y53: =G53 -> 0 | Z53: =H53 -> 0 | AA53: =I53 -> 0 | AB53: =J53 -> 0 | AC53: =K53 -> 0 | ... AF53: =N53 -> 0 | AG53: =LARGE(S52:S55,2) -> 0.003 | AH53: =VLOOKUP(AG53,S52:AG55,2,0) -> G1 | AI53: =VLOOKUP(AG53,S52:AG55,3,0) -> 2 | AJ53: - | AK53: =VLOOKUP(AG53,S52:AG55,4,0) -> Al Ain | AL53: =VLOOKUP(AG53,S52:AG55,5,0) -> 0 | AM53: =VLOOKUP(AG53,S52:AG55,6,0) -> 0 | AN53: =VLOOKUP(AG53,S52:AG55,7,0) -> 0 | AO53: =VLOOKUP(AG53,S52:AG55,8,0) -> 0 | AP53: =VLOOKUP(AG53,S52:AG55,9,0) -> 0 | AQ53: =VLOOKUP(AG53,S52:AG55,10,0) -> 0 | AR53: =VLOOKUP(AG53,S52:AG55,11,0) -> 0 | AS53: =VLOOKUP(AG53,S52:AG55,12,0) -> 0 | AT53: =VLOOKUP(AG53,S52:AG55,13,0) -> 0 | AU53: =VLOOKUP(AG53,S52:AG55,14,0) -> 0 | AW53: 23 | AX53: juin | AY53: 0.125 | AZ53: G3 | BA53: =IFERROR(INDEX(Equipe!B:B,MATCH(AZ53,Equipe!A:A,0)),"") -> Manchester City | BC53: - | BE53: =IFERROR(INDEX(Equipe!B:B,MATCH(BF53,Equipe!A:A,0)),"") -> Al Ain | BF53: G1 | BG53: =IF(BB53="","",IF(BB53>BD53,3,IF(BB53=BD53,1,IF(BB53<BD53,IF(BD53="",3,0))))) | BH53: =IF(BD53="","",IF(BD53>BB53,3,IF(BD53=BB53,1,IF(BD53<BB53,IF(BB53="",3,0)))))
A54: G3 | B54: 1/8 | C54: 3 | D54: =IFERROR(INDEX(Equipe!B:B,MATCH(A54,Equipe!A:A,0)),"") -> Manchester City | E54: =(G54*3)+H54 -> 0 | F54: =G54+H54+I54 -> 0 | G54: =COUNTIFS($AZ50:$AZ55,$A54,$BG50:$BG55,3)+COUNTIFS($BF50:$BF55,$A54,$BH50:$BH55,3) -> 0 | H54: =COUNTIFS($AZ50:$AZ55,$A54,$BG50:$BG55,1)+COUNTIFS($BF50:$BF55,$A54,$BH50:$BH55,1) -> 0 | I54: =COUNTIFS($AZ50:$AZ55,$A54,$BG50:$BG55,0)+COUNTIFS($BF50:$BF55,$A54,$BH50:$BH55,0) -> 0 | J54: =SUMIF($AZ50:$AZ55,$A54,$BB50:$BB55)+SUMIF($BF50:$BF55,$A54,$BD50:$BD55) -> 0 | K54: =SUMIF($AZ50:$AZ55,$A54,$BD50:$BD55)+SUMIF($BF50:$BF55,$A54,$BB50:$BB55) -> 0 | L54: =J54-K54 -> 0 | M54: =SUMIF($AZ50:$AZ55,$A54,$BI50:$BI55)+SUMIF($BF50:$BF55,$A54,$BJ50:$BJ55) -> 0 | N54: =SUMIF($AZ52:$AZ57,$A54,$BK52:$BK57)+SUMIF($BF52:$BF57,$A54,$BL52:$BL57) -> 0 | O54: =0.002+(E54*10000)+(J54*1000)+(L54*100)-(M54*1)-(N54*5) -> 0.002 | P54: =RANK(O54,O52:O55) -> 3 | Q54: =RANK(L54,L52:L55) -> 1 | R54: =RANK(J54,J52:J55) -> 1 | S54: =O54 -> 0.002 | T54: =A54 -> G3 | U54: =P54 -> 3 | V54: =D54 -> Manchester City | W54: =E54 -> 0 | X54: =F54 -> 0 | Y54: =G54 -> 0 | Z54: =H54 -> 0 | AA54: =I54 -> 0 | AB54: =J54 -> 0 | AC54: =K54 -> 0 | ... AF54: =N54 -> 0 | AG54: =LARGE(S52:S55,3) -> 0.002 | AH54: =VLOOKUP(AG54,S52:AG55,2,0) -> G3 | AI54: =VLOOKUP(AG54,S52:AG55,3,0) -> 3 | AJ54: - | AK54: =VLOOKUP(AG54,S52:AG55,4,0) -> Manchester City | AL54: =VLOOKUP(AG54,S52:AG55,5,0) -> 0 | AM54: =VLOOKUP(AG54,S52:AG55,6,0) -> 0 | AN54: =VLOOKUP(AG54,S52:AG55,7,0) -> 0 | AO54: =VLOOKUP(AG54,S52:AG55,8,0) -> 0 | AP54: =VLOOKUP(AG54,S52:AG55,9,0) -> 0 | AQ54: =VLOOKUP(AG54,S52:AG55,10,0) -> 0 | AR54: =VLOOKUP(AG54,S52:AG55,11,0) -> 0 | AS54: =VLOOKUP(AG54,S52:AG55,12,0) -> 0 | AT54: =VLOOKUP(AG54,S52:AG55,13,0) -> 0 | AU54: =VLOOKUP(AG54,S52:AG55,14,0) -> 0 | AW54: 26 | AX54: juin | AY54: 0.875 | AZ54: G3 | BA54: =IFERROR(INDEX(Equipe!B:B,MATCH(AZ54,Equipe!A:A,0)),"") -> Manchester City | BC54: - | BE54: =IFERROR(INDEX(Equipe!B:B,MATCH(BF54,Equipe!A:A,0)),"") -> Juventus Turin | BF54: G2 | BG54: =IF(BB54="","",IF(BB54>BD54,3,IF(BB54=BD54,1,IF(BB54<BD54,IF(BD54="",3,0))))) | BH54: =IF(BD54="","",IF(BD54>BB54,3,IF(BD54=BB54,1,IF(BD54<BB54,IF(BB54="",3,0)))))
A55: G4 | B55: 1/8 | C55: 4 | D55: =IFERROR(INDEX(Equipe!B:B,MATCH(A55,Equipe!A:A,0)),"") -> Wydad AC | E55: =(G55*3)+H55 -> 0 | F55: =G55+H55+I55 -> 0 | G55: =COUNTIFS($AZ50:$AZ55,$A55,$BG50:$BG55,3)+COUNTIFS($BF50:$BF55,$A55,$BH50:$BH55,3) -> 0 | H55: =COUNTIFS($AZ50:$AZ55,$A55,$BG50:$BG55,1)+COUNTIFS($BF50:$BF55,$A55,$BH50:$BH55,1) -> 0 | I55: =COUNTIFS($AZ50:$AZ55,$A55,$BG50:$BG55,0)+COUNTIFS($BF50:$BF55,$A55,$BH50:$BH55,0) -> 0 | J55: =SUMIF($AZ50:$AZ55,$A55,$BB50:$BB55)+SUMIF($BF50:$BF55,$A55,$BD50:$BD55) -> 0 | K55: =SUMIF($AZ50:$AZ55,$A55,$BD50:$BD55)+SUMIF($BF50:$BF55,$A55,$BB50:$BB55) -> 0 | L55: =J55-K55 -> 0 | M55: =SUMIF($AZ50:$AZ55,$A55,$BI50:$BI55)+SUMIF($BF50:$BF55,$A55,$BJ50:$BJ55) -> 0 | N55: =SUMIF($AZ53:$AZ58,$A55,$BK53:$BK58)+SUMIF($BF53:$BF58,$A55,$BL53:$BL58) -> 0 | O55: =0.001+(E55*10000)+(J55*1000)+(L55*100)-(M55*1)-(N55*5) -> 0.001 | P55: =RANK(O55,O52:O55) -> 4 | Q55: =RANK(L55,L52:L55) -> 1 | R55: =RANK(J55,J52:J55) -> 1 | S55: =O55 -> 0.001 | T55: =A55 -> G4 | U55: =P55 -> 4 | V55: =D55 -> Wydad AC | W55: =E55 -> 0 | X55: =F55 -> 0 | Y55: =G55 -> 0 | Z55: =H55 -> 0 | AA55: =I55 -> 0 | AB55: =J55 -> 0 | AC55: =K55 -> 0 | ... AF55: =N55 -> 0 | AG55: =LARGE(S52:S55,4) -> 0.001 | AH55: =VLOOKUP(AG55,S52:AG55,2,0) -> G4 | AI55: =VLOOKUP(AG55,S52:AG55,3,0) -> 4 | AJ55: - | AK55: =VLOOKUP(AG55,S52:AG55,4,0) -> Wydad AC | AL55: =VLOOKUP(AG55,S52:AG55,5,0) -> 0 | AM55: =VLOOKUP(AG55,S52:AG55,6,0) -> 0 | AN55: =VLOOKUP(AG55,S52:AG55,7,0) -> 0 | AO55: =VLOOKUP(AG55,S52:AG55,8,0) -> 0 | AP55: =VLOOKUP(AG55,S52:AG55,9,0) -> 0 | AQ55: =VLOOKUP(AG55,S52:AG55,10,0) -> 0 | AR55: =VLOOKUP(AG55,S52:AG55,11,0) -> 0 | AS55: =VLOOKUP(AG55,S52:AG55,12,0) -> 0 | AT55: =VLOOKUP(AG55,S52:AG55,13,0) -> 0 | AU55: =VLOOKUP(AG55,S52:AG55,14,0) -> 0 | AW55: 26 | AX55: juin | AY55: 0.875 | AZ55: G4 | BA55: =IFERROR(INDEX(Equipe!B:B,MATCH(AZ55,Equipe!A:A,0)),"") -> Wydad AC | BC55: - | BE55: =IFERROR(INDEX(Equipe!B:B,MATCH(BF55,Equipe!A:A,0)),"") -> Al Ain | BF55: G1 | BG55: =IF(BB55="","",IF(BB55>BD55,3,IF(BB55=BD55,1,IF(BB55<BD55,IF(BD55="",3,0))))) | BH55: =IF(BD55="","",IF(BD55>BB55,3,IF(BD55=BB55,1,IF(BD55<BB55,IF(BB55="",3,0)))))
AH57: GROUPE H | BB57: Score | BI57: CJ | BK57: CR
AI58: classement Général | AW58: 18 | AX58: juin | AY58: 0.875 | AZ58: H3 | BA58: =IFERROR(INDEX(Equipe!B:B,MATCH(AZ58,Equipe!A:A,0)),"") -> Real Madrid | BC58: - | BE58: =IFERROR(INDEX(Equipe!B:B,MATCH(BF58,Equipe!A:A,0)),"") -> Al-Hilal | BF58: H1 | BG58: =IF(BB58="","",IF(BB58>BD58,3,IF(BB58=BD58,1,IF(BB58<BD58,IF(BD58="",3,0))))) | BH58: =IF(BD58="","",IF(BD58>BB58,3,IF(BD58=BB58,1,IF(BD58<BB58,IF(BB58="",3,0)))))
E59: Pts | F59: J | G59: G | H59: N | I59: P | J59: BP | K59: BC | L59: +/- | M59: CJ | N59: CR | P59: Rang | Q59: Rang +/- | R59: Rang BP | S59: multi critère | T59: Code | U59: rappel rang | V59: équipe | W59: PTS | X59: J | Y59: G | Z59: N | AA59: P | AB59: Bp | AC59: Bc | AD59: +/- | AE59: CJ | AF59: CR | AL59: Pts | AM59: J | AN59: G | AO59: N | AP59: P | AQ59: BP | AR59: BC | AS59: +/- | AT59: CJ | AU59: CR | AW59: 19 | AX59: juin | AY59: 0 | AZ59: H2 | BA59: =IFERROR(INDEX(Equipe!B:B,MATCH(AZ59,Equipe!A:A,0)),"") -> Pachuca | BC59: - | BE59: =IFERROR(INDEX(Equipe!B:B,MATCH(BF59,Equipe!A:A,0)),"") -> RB Salzburg | BF59: H4 | BG59: =IF(BB59="","",IF(BB59>BD59,3,IF(BB59=BD59,1,IF(BB59<BD59,IF(BD59="",3,0))))) | BH59: =IF(BD59="","",IF(BD59>BB59,3,IF(BD59=BB59,1,IF(BD59<BB59,IF(BB59="",3,0)))))
A60: H1 | B60: 1/8 | C60: 1 | D60: =IFERROR(INDEX(Equipe!B:B,MATCH(A60,Equipe!A:A,0)),"") -> Al-Hilal | E60: =(G60*3)+H60 -> 0 | F60: =G60+H60+I60 -> 0 | G60: =COUNTIFS($AZ58:$AZ63,$A60,$BG58:$BG63,3)+COUNTIFS($BF58:$BF63,$A60,$BH58:$BH63,3) -> 0 | H60: =COUNTIFS($AZ58:$AZ63,$A60,$BG58:$BG63,1)+COUNTIFS($BF58:$BF63,$A60,$BH58:$BH63,1) -> 0 | I60: =COUNTIFS($AZ58:$AZ63,$A60,$BG58:$BG63,0)+COUNTIFS($BF58:$BF63,$A60,$BH58:$BH63,0) -> 0 | J60: =SUMIF($AZ58:$AZ63,$A60,$BB58:$BB63)+SUMIF($BF58:$BF63,$A60,$BD58:$BD63) -> 0 | K60: =SUMIF($AZ58:$AZ63,$A60,$BD58:$BD63)+SUMIF($BF58:$BF63,$A60,$BB58:$BB63) -> 0 | L60: =J60-K60 -> 0 | M60: =SUMIF($AZ58:$AZ63,$A60,$BI58:$BI63)+SUMIF($BF58:$BF63,$A60,$BJ58:$BJ63) -> 0 | N60: =SUMIF($AZ58:$AZ63,$A60,$BK58:$BK63)+SUMIF($BF58:$BF63,$A60,$BL58:$BL63) -> 0 | O60: =0.003+(E60*10000)+(J60*1000)+(L60*100)-(M60*1)-(N60*5) -> 0.003 | P60: =RANK(O60,O60:O63) -> 2 | Q60: =RANK(L60,L$12:L63) -> 4 | R60: =RANK(J60,J60:J63) -> 1 | S60: =O60 -> 0.003 | T60: =A60 -> H1 | U60: =P60 -> 2 | V60: =D60 -> Al-Hilal | W60: =E60 -> 0 | X60: =F60 -> 0 | Y60: =G60 -> 0 | Z60: =H60 -> 0 | AA60: =I60 -> 0 | AB60: =J60 -> 0 | AC60: =K60 -> 0 | ... AF60: =N60 -> 0 | AG60: =LARGE(S60:S63,1) -> 0.004 | AH60: =VLOOKUP(AG60,S60:AG63,2,0) -> H2 | AI60: =VLOOKUP(AG60,S60:AG63,3,0) -> 1 | AJ60: - | AK60: =VLOOKUP(AG60,S60:AG63,4,0) -> Pachuca | AL60: =VLOOKUP(AG60,S60:AG63,5,0) -> 0 | AM60: =VLOOKUP(AG60,S60:AG63,6,0) -> 0 | AN60: =VLOOKUP(AG60,S60:AG63,7,0) -> 0 | AO60: =VLOOKUP(AG60,S60:AG63,8,0) -> 0 | AP60: =VLOOKUP(AG60,S60:AG63,9,0) -> 0 | AQ60: =VLOOKUP(AG60,S60:AG63,10,0) -> 0 | AR60: =VLOOKUP(AG60,S60:AG63,11,0) -> 0 | AS60: =VLOOKUP(AG60,S60:AG63,12,0) -> 0 | AT60: =VLOOKUP(AG60,S60:AG63,13,0) -> 0 | AU60: =VLOOKUP(AG60,S60:AG63,14,0) -> 0 | AW60: 22 | AX60: juin | AY60: 0.875 | AZ60: H2 | BA60: =IFERROR(INDEX(Equipe!B:B,MATCH(AZ60,Equipe!A:A,0)),"") -> Pachuca | BC60: - | BE60: =IFERROR(INDEX(Equipe!B:B,MATCH(BF60,Equipe!A:A,0)),"") -> Real Madrid | BF60: H3 | BG60: =IF(BB60="","",IF(BB60>BD60,3,IF(BB60=BD60,1,IF(BB60<BD60,IF(BD60="",3,0))))) | BH60: =IF(BD60="","",IF(BD60>BB60,3,IF(BD60=BB60,1,IF(BD60<BB60,IF(BB60="",3,0)))))
A61: H2 | B61: 1/8 | C61: 2 | D61: =IFERROR(INDEX(Equipe!B:B,MATCH(A61,Equipe!A:A,0)),"") -> Pachuca | E61: =(G61*3)+H61 -> 0 | F61: =G61+H61+I61 -> 0 | G61: =COUNTIFS($AZ58:$AZ63,$A61,$BG58:$BG63,3)+COUNTIFS($BF58:$BF63,$A61,$BH58:$BH63,3) -> 0 | H61: =COUNTIFS($AZ58:$AZ63,$A61,$BG58:$BG63,1)+COUNTIFS($BF58:$BF63,$A61,$BH58:$BH63,1) -> 0 | I61: =COUNTIFS($AZ58:$AZ63,$A61,$BG58:$BG63,0)+COUNTIFS($BF58:$BF63,$A61,$BH58:$BH63,0) -> 0 | J61: =SUMIF($AZ58:$AZ63,$A61,$BB58:$BB63)+SUMIF($BF58:$BF63,$A61,$BD58:$BD63) -> 0 | K61: =SUMIF($AZ58:$AZ63,$A61,$BD58:$BD63)+SUMIF($BF58:$BF63,$A61,$BB58:$BB63) -> 0 | L61: =J61-K61 -> 0 | M61: =SUMIF($AZ58:$AZ63,$A61,$BI58:$BI63)+SUMIF($BF58:$BF63,$A61,$BJ58:$BJ63) -> 0 | N61: =SUMIF($AZ59:$AZ64,$A61,$BK59:$BK64)+SUMIF($BF59:$BF64,$A61,$BL59:$BL64) -> 0 | O61: =0.004+(E61*10000)+(J61*1000)+(L61*100)-(M61*1)-(N61*5) -> 0.004 | P61: =RANK(O61,O60:O63) -> 1 | Q61: =RANK(L61,L60:L63) -> 1 | R61: =RANK(J61,J60:J63) -> 1 | S61: =O61 -> 0.004 | T61: =A61 -> H2 | U61: =P61 -> 1 | V61: =D61 -> Pachuca | W61: =E61 -> 0 | X61: =F61 -> 0 | Y61: =G61 -> 0 | Z61: =H61 -> 0 | AA61: =I61 -> 0 | AB61: =J61 -> 0 | AC61: =K61 -> 0 | ... AF61: =N61 -> 0 | AG61: =LARGE(S60:S63,2) -> 0.003 | AH61: =VLOOKUP(AG61,S60:AG63,2,0) -> H1 | AI61: =VLOOKUP(AG61,S60:AG63,3,0) -> 2 | AJ61: - | AK61: =VLOOKUP(AG61,S60:AG63,4,0) -> Al-Hilal | AL61: =VLOOKUP(AG61,S60:AG63,5,0) -> 0 | AM61: =VLOOKUP(AG61,S60:AG63,6,0) -> 0 | AN61: =VLOOKUP(AG61,S60:AG63,7,0) -> 0 | AO61: =VLOOKUP(AG61,S60:AG63,8,0) -> 0 | AP61: =VLOOKUP(AG61,S60:AG63,9,0) -> 0 | AQ61: =VLOOKUP(AG61,S60:AG63,10,0) -> 0 | AR61: =VLOOKUP(AG61,S60:AG63,11,0) -> 0 | AS61: =VLOOKUP(AG61,S60:AG63,12,0) -> 0 | AT61: =VLOOKUP(AG61,S60:AG63,13,0) -> 0 | AU61: =VLOOKUP(AG61,S60:AG63,14,0) -> 0 | AW61: 23 | AX61: juin | AY61: 0 | AZ61: H1 | BA61: =IFERROR(INDEX(Equipe!B:B,MATCH(AZ61,Equipe!A:A,0)),"") -> Al-Hilal | BC61: - | BE61: =IFERROR(INDEX(Equipe!B:B,MATCH(BF61,Equipe!A:A,0)),"") -> RB Salzburg | BF61: H4 | BG61: =IF(BB61="","",IF(BB61>BD61,3,IF(BB61=BD61,1,IF(BB61<BD61,IF(BD61="",3,0))))) | BH61: =IF(BD61="","",IF(BD61>BB61,3,IF(BD61=BB61,1,IF(BD61<BB61,IF(BB61="",3,0)))))
A62: H3 | B62: 1/8 | C62: 3 | D62: =IFERROR(INDEX(Equipe!B:B,MATCH(A62,Equipe!A:A,0)),"") -> Real Madrid | E62: =(G62*3)+H62 -> 0 | F62: =G62+H62+I62 -> 0 | G62: =COUNTIFS($AZ58:$AZ63,$A62,$BG58:$BG63,3)+COUNTIFS($BF58:$BF63,$A62,$BH58:$BH63,3) -> 0 | H62: =COUNTIFS($AZ58:$AZ63,$A62,$BG58:$BG63,1)+COUNTIFS($BF58:$BF63,$A62,$BH58:$BH63,1) -> 0 | I62: =COUNTIFS($AZ58:$AZ63,$A62,$BG58:$BG63,0)+COUNTIFS($BF58:$BF63,$A62,$BH58:$BH63,0) -> 0 | J62: =SUMIF($AZ58:$AZ63,$A62,$BB58:$BB63)+SUMIF($BF58:$BF63,$A62,$BD58:$BD63) -> 0 | K62: =SUMIF($AZ58:$AZ63,$A62,$BD58:$BD63)+SUMIF($BF58:$BF63,$A62,$BB58:$BB63) -> 0 | L62: =J62-K62 -> 0 | M62: =SUMIF($AZ58:$AZ63,$A62,$BI58:$BI63)+SUMIF($BF58:$BF63,$A62,$BJ58:$BJ63) -> 0 | N62: =SUMIF($AZ60:$AZ65,$A62,$BK60:$BK65)+SUMIF($BF60:$BF65,$A62,$BL60:$BL65) -> 0 | O62: =0.002+(E62*10000)+(J62*1000)+(L62*100)-(M62*1)-(N62*5) -> 0.002 | P62: =RANK(O62,O60:O63) -> 3 | Q62: =RANK(L62,L60:L63) -> 1 | R62: =RANK(J62,J60:J63) -> 1 | S62: =O62 -> 0.002 | T62: =A62 -> H3 | U62: =P62 -> 3 | V62: =D62 -> Real Madrid | W62: =E62 -> 0 | X62: =F62 -> 0 | Y62: =G62 -> 0 | Z62: =H62 -> 0 | AA62: =I62 -> 0 | AB62: =J62 -> 0 | AC62: =K62 -> 0 | ... AF62: =N62 -> 0 | AG62: =LARGE(S60:S63,3) -> 0.002 | AH62: =VLOOKUP(AG62,S60:AG63,2,0) -> H3 | AI62: =VLOOKUP(AG62,S60:AG63,3,0) -> 3 | AJ62: - | AK62: =VLOOKUP(AG62,S60:AG63,4,0) -> Real Madrid | AL62: =VLOOKUP(AG62,S60:AG63,5,0) -> 0 | AM62: =VLOOKUP(AG62,S60:AG63,6,0) -> 0 | AN62: =VLOOKUP(AG62,S60:AG63,7,0) -> 0 | AO62: =VLOOKUP(AG62,S60:AG63,8,0) -> 0 | AP62: =VLOOKUP(AG62,S60:AG63,9,0) -> 0 | AQ62: =VLOOKUP(AG62,S60:AG63,10,0) -> 0 | AR62: =VLOOKUP(AG62,S60:AG63,11,0) -> 0 | AS62: =VLOOKUP(AG62,S60:AG63,12,0) -> 0 | AT62: =VLOOKUP(AG62,S60:AG63,13,0) -> 0 | AU62: =VLOOKUP(AG62,S60:AG63,14,0) -> 0 | AW62: 27 | AX62: juin | AY62: 0.125 | AZ62: H4 | BA62: =IFERROR(INDEX(Equipe!B:B,MATCH(AZ62,Equipe!A:A,0)),"") -> RB Salzburg | BC62: - | BE62: =IFERROR(INDEX(Equipe!B:B,MATCH(BF62,Equipe!A:A,0)),"") -> Real Madrid | BF62: H3 | BG62: =IF(BB62="","",IF(BB62>BD62,3,IF(BB62=BD62,1,IF(BB62<BD62,IF(BD62="",3,0))))) | BH62: =IF(BD62="","",IF(BD62>BB62,3,IF(BD62=BB62,1,IF(BD62<BB62,IF(BB62="",3,0)))))
A63: H4 | B63: 1/8 | C63: 4 | D63: =IFERROR(INDEX(Equipe!B:B,MATCH(A63,Equipe!A:A,0)),"") -> RB Salzburg | E63: =(G63*3)+H63 -> 0 | F63: =G63+H63+I63 -> 0 | G63: =COUNTIFS($AZ58:$AZ63,$A63,$BG58:$BG63,3)+COUNTIFS($BF58:$BF63,$A63,$BH58:$BH63,3) -> 0 | H63: =COUNTIFS($AZ58:$AZ63,$A63,$BG58:$BG63,1)+COUNTIFS($BF58:$BF63,$A63,$BH58:$BH63,1) -> 0 | I63: =COUNTIFS($AZ58:$AZ63,$A63,$BG58:$BG63,0)+COUNTIFS($BF58:$BF63,$A63,$BH58:$BH63,0) -> 0 | J63: =SUMIF($AZ58:$AZ63,$A63,$BB58:$BB63)+SUMIF($BF58:$BF63,$A63,$BD58:$BD63) -> 0 | K63: =SUMIF($AZ58:$AZ63,$A63,$BD58:$BD63)+SUMIF($BF58:$BF63,$A63,$BB58:$BB63) -> 0 | L63: =J63-K63 -> 0 | M63: =SUMIF($AZ58:$AZ63,$A63,$BI58:$BI63)+SUMIF($BF58:$BF63,$A63,$BJ58:$BJ63) -> 0 | N63: =SUMIF($AZ61:$AZ66,$A63,$BK61:$BK66)+SUMIF($BF61:$BF66,$A63,$BL61:$BL66) -> 0 | O63: =0.001+(E63*10000)+(J63*1000)+(L63*100)-(M63*1)-(N63*5) -> 0.001 | P63: =RANK(O63,O60:O63) -> 4 | Q63: =RANK(L63,L60:L63) -> 1 | R63: =RANK(J63,J60:J63) -> 1 | S63: =O63 -> 0.001 | T63: =A63 -> H4 | U63: =P63 -> 4 | V63: =D63 -> RB Salzburg | W63: =E63 -> 0 | X63: =F63 -> 0 | Y63: =G63 -> 0 | Z63: =H63 -> 0 | AA63: =I63 -> 0 | AB63: =J63 -> 0 | AC63: =K63 -> 0 | ... AF63: =N63 -> 0 | AG63: =LARGE(S60:S63,4) -> 0.001 | AH63: =VLOOKUP(AG63,S60:AG63,2,0) -> H4 | AI63: =VLOOKUP(AG63,S60:AG63,3,0) -> 4 | AJ63: - | AK63: =VLOOKUP(AG63,S60:AG63,4,0) -> RB Salzburg | AL63: =VLOOKUP(AG63,S60:AG63,5,0) -> 0 | AM63: =VLOOKUP(AG63,S60:AG63,6,0) -> 0 | AN63: =VLOOKUP(AG63,S60:AG63,7,0) -> 0 | AO63: =VLOOKUP(AG63,S60:AG63,8,0) -> 0 | AP63: =VLOOKUP(AG63,S60:AG63,9,0) -> 0 | AQ63: =VLOOKUP(AG63,S60:AG63,10,0) -> 0 | AR63: =VLOOKUP(AG63,S60:AG63,11,0) -> 0 | AS63: =VLOOKUP(AG63,S60:AG63,12,0) -> 0 | AT63: =VLOOKUP(AG63,S60:AG63,13,0) -> 0 | AU63: =VLOOKUP(AG63,S60:AG63,14,0) -> 0 | AW63: 27 | AX63: juin | AY63: 0.125 | AZ63: H1 | BA63: =IFERROR(INDEX(Equipe!B:B,MATCH(AZ63,Equipe!A:A,0)),"") -> Al-Hilal | BC63: - | BE63: =IFERROR(INDEX(Equipe!B:B,MATCH(BF63,Equipe!A:A,0)),"") -> Pachuca | BF63: H2 | BG63: =IF(BB63="","",IF(BB63>BD63,3,IF(BB63=BD63,1,IF(BB63<BD63,IF(BD63="",3,0))))) | BH63: =IF(BD63="","",IF(BD63>BB63,3,IF(BD63=BB63,1,IF(BD63<BB63,IF(BB63="",3,0)))))

Sheet Phase Eliminatoire
A1: 8ième de finale
F2: Score | M2: PROL | O2: TAB
A3: 28 | B3: juin | C3: 0.75 | D3: =IF('Phase Groupe'!AM4=3,'Phase Groupe'!AH4,"") | E3: =IFERROR(INDEX(Equipe!B:B,MATCH(D3,Equipe!A:A,0)),"") | G3: - | I3: =IFERROR(INDEX(Equipe!B:B,MATCH(J3,Equipe!A:A,0)),"") | J3: =IF('Phase Groupe'!AM13=3,'Phase Groupe'!AH13,"") | K3: =IF(F3="","",IF(F3>H3,3,IF(F3=H3,1,IF(F3<H3,IF(H3="",3,0))))) | L3: =IF(H3="","",IF(H3>F3,3,IF(H3=F3,1,IF(H3<F3,IF(F3="",3,0))))) | Q3: =F3+M3+O3 -> 0 | R3: =H3+N3+P3 -> 0 | S3: =IF(Q3>R3,D3,J3)
A4: 28 | B4: juin | C4: 0.91666667 | D4: =IF('Phase Groupe'!AM20=3,'Phase Groupe'!AH20,"") | E4: =IFERROR(INDEX(Equipe!B:B,MATCH(D4,Equipe!A:A,0)),"") | G4: - | I4: =IFERROR(INDEX(Equipe!B:B,MATCH(J4,Equipe!A:A,0)),"") | J4: =IF('Phase Groupe'!AM29=3,'Phase Groupe'!AH29,"") | K4: =IF(F4="","",IF(F4>H4,3,IF(F4=H4,1,IF(F4<H4,IF(H4="",3,0))))) | L4: =IF(H4="","",IF(H4>F4,3,IF(H4=F4,1,IF(H4<F4,IF(F4="",3,0))))) | Q4: =F4+M4+O4 -> 0 | R4: =H4+N4+P4 -> 0 | S4: =IF(Q4>R4,D4,J4)
A5: 29 | B5: juin | C5: 0.75 | D5: =IF('Phase Groupe'!AM12=3,'Phase Groupe'!AH12,"") | E5: =IFERROR(INDEX(Equipe!B:B,MATCH(D5,Equipe!A:A,0)),"") | G5: - | I5: =IFERROR(INDEX(Equipe!B:B,MATCH(J5,Equipe!A:A,0)),"") | J5: =IF('Phase Groupe'!AM5=3,'Phase Groupe'!AH5,"") | K5: =IF(F5="","",IF(F5>H5,3,IF(F5=H5,1,IF(F5<H5,IF(H5="",3,0))))) | L5: =IF(H5="","",IF(H5>F5,3,IF(H5=F5,1,IF(H5<F5,IF(F5="",3,0))))) | Q5: =F5+M5+O5 -> 0 | R5: =H5+N5+P5 -> 0 | S5: =IF(Q5>R5,D5,J5)
A6: 29 | B6: juin | C6: 0.91666667 | D6: =IF('Phase Groupe'!AM28=3,'Phase Groupe'!AH28,"") | E6: =IFERROR(INDEX(Equipe!B:B,MATCH(D6,Equipe!A:A,0)),"") | G6: - | I6: =IFERROR(INDEX(Equipe!B:B,MATCH(J6,Equipe!A:A,0)),"") | J6: =IF('Phase Groupe'!AM21=3,'Phase Groupe'!AH21,"") | K6: =IF(F6="","",IF(F6>H6,3,IF(F6=H6,1,IF(F6<H6,IF(H6="",3,0))))) | L6: =IF(H6="","",IF(H6>F6,3,IF(H6=F6,1,IF(H6<F6,IF(F6="",3,0))))) | Q6: =F6+M6+O6 -> 0 | R6: =H6+N6+P6 -> 0 | S6: =IF(Q6>R6,D6,J6)
A7: 30 | B7: juin | C7: 0.875 | D7: =IF('Phase Groupe'!AM36=3,'Phase Groupe'!AH36,"") | E7: =IFERROR(INDEX(Equipe!B:B,MATCH(D7,Equipe!A:A,0)),"") | G7: - | I7: =IFERROR(INDEX(Equipe!B:B,MATCH(J7,Equipe!A:A,0)),"") | J7: =IF('Phase Groupe'!AM45=3,'Phase Groupe'!AH45,"") | K7: =IF(F7="","",IF(F7>H7,3,IF(F7=H7,1,IF(F7<H7,IF(H7="",3,0))))) | L7: =IF(H7="","",IF(H7>F7,3,IF(H7=F7,1,IF(H7<F7,IF(F7="",3,0))))) | Q7: =F7+M7+O7 -> 0 | R7: =H7+N7+P7 -> 0 | S7: =IF(Q7>R7,D7,J7)
A8: 1 | B8: juillet | C8: 0.125 | D8: =IF('Phase Groupe'!AM52=3,'Phase Groupe'!AH52,"") | E8: =IFERROR(INDEX(Equipe!B:B,MATCH(D8,Equipe!A:A,0)),"") | G8: - | I8: =IFERROR(INDEX(Equipe!B:B,MATCH(J8,Equipe!A:A,0)),"") | J8: =IF('Phase Groupe'!AM61=3,'Phase Groupe'!AH61,"") | K8: =IF(F8="","",IF(F8>H8,3,IF(F8=H8,1,IF(F8<H8,IF(H8="",3,0))))) | L8: =IF(H8="","",IF(H8>F8,3,IF(H8=F8,1,IF(H8<F8,IF(F8="",3,0))))) | Q8: =F8+M8+O8 -> 0 | R8: =H8+N8+P8 -> 0 | S8: =IF(Q8>R8,D8,J8)
A9: 1 | B9: juillet | C9: 0.875 | D9: =IF('Phase Groupe'!AM60=3,'Phase Groupe'!AH60,"") | E9: =IFERROR(INDEX(Equipe!B:B,MATCH(D9,Equipe!A:A,0)),"") | G9: - | I9: =IFERROR(INDEX(Equipe!B:B,MATCH(J9,Equipe!A:A,0)),"") | J9: =IF('Phase Groupe'!AM53=3,'Phase Groupe'!AH53,"") | K9: =IF(F9="","",IF(F9>H9,3,IF(F9=H9,1,IF(F9<H9,IF(H9="",3,0))))) | L9: =IF(H9="","",IF(H9>F9,3,IF(H9=F9,1,IF(H9<F9,IF(F9="",3,0))))) | Q9: =F9+M9+O9 -> 0 | R9: =H9+N9+P9 -> 0 | S9: =IF(Q9>R9,D9,J9)
A10: 2 | B10: juillet | C10: 0.125 | D10: =IF('Phase Groupe'!AM44=3,'Phase Groupe'!AH44,"") | E10: =IFERROR(INDEX(Equipe!B:B,MATCH(D10,Equipe!A:A,0)),"") | G10: - | I10: =IFERROR(INDEX(Equipe!B:B,MATCH(J10,Equipe!A:A,0)),"") | J10: =IF('Phase Groupe'!AM37=3,'Phase Groupe'!AH37,"") | K10: =IF(F10="","",IF(F10>H10,3,IF(F10=H10,1,IF(F10<H10,IF(H10="",3,0))))) | L10: =IF(H10="","",IF(H10>F10,3,IF(H10=F10,1,IF(H10<F10,IF(F10="",3,0))))) | Q10: =F10+M10+O10 -> 0 | R10: =H10+N10+P10 -> 0 | S10: =IF(Q10>R10,D10,J10)
A12: 1/4 de finale
A13: 4 | B13: juillet | C13: 0.875 | D13: =IF(F7="","",S7) | E13: =IFERROR(INDEX(Equipe!B:B,MATCH(D13,Equipe!A:A,0)),"") | G13: - | I13: =IFERROR(INDEX(Equipe!B:B,MATCH(J13,Equipe!A:A,0)),"") | J13: =IF(F8="","",S8) | K13: =IF(F13="","",IF(F13>H13,3,IF(F13=H13,1,IF(F13<H13,IF(H13="",3,0))))) | L13: =IF(H13="","",IF(H13>F13,3,IF(H13=F13,1,IF(H13<F13,IF(F13="",3,0))))) | Q13: =F13+M13+O13 -> 0 | R13: =H13+N13+P13 -> 0 | S13: =IF(Q13>R13,D13,J13)
A14: 5 | B14: juillet | C14: 0.125 | D14: =IF(F3="","",S3) | E14: =IFERROR(INDEX(Equipe!B:B,MATCH(D14,Equipe!A:A,0)),"") | G14: - | I14: =IFERROR(INDEX(Equipe!B:B,MATCH(J14,Equipe!A:A,0)),"") | J14: =IF(F4="","",S4) | K14: =IF(F14="","",IF(F14>H14,3,IF(F14=H14,1,IF(F14<H14,IF(H14="",3,0))))) | L14: =IF(H14="","",IF(H14>F14,3,IF(H14=F14,1,IF(H14<F14,IF(F14="",3,0))))) | Q14: =F14+M14+O14 -> 0 | R14: =H14+N14+P14 -> 0 | S14: =IF(Q14>R14,D14,J14)
A15: 5 | B15: juillet | C15: 0.75 | D15: =IF(F5="","",S5) | E15: =IFERROR(INDEX(Equipe!B:B,MATCH(D15,Equipe!A:A,0)),"") | G15: - | I15: =IFERROR(INDEX(Equipe!B:B,MATCH(J15,Equipe!A:A,0)),"") | J15: =IF(F6="","",S6) | K15: =IF(F15="","",IF(F15>H15,3,IF(F15=H15,1,IF(F15<H15,IF(H15="",3,0))))) | L15: =IF(H15="","",IF(H15>F15,3,IF(H15=F15,1,IF(H15<F15,IF(F15="",3,0))))) | Q15: =F15+M15+O15 -> 0 | R15: =H15+N15+P15 -> 0 | S15: =IF(Q15>R15,D15,J15)
A16: 5 | B16: juillet | C16: 0.91666667 | D16: =IF(F9="","",S9) | E16: =IFERROR(INDEX(Equipe!B:B,MATCH(D16,Equipe!A:A,0)),"") | G16: - | I16: =IFERROR(INDEX(Equipe!B:B,MATCH(J16,Equipe!A:A,0)),"") | J16: =IF(F10="","",S10) | K16: =IF(F16="","",IF(F16>H16,3,IF(F16=H16,1,IF(F16<H16,IF(H16="",3,0))))) | L16: =IF(H16="","",IF(H16>F16,3,IF(H16=F16,1,IF(H16<F16,IF(F16="",3,0))))) | Q16: =F16+M16+O16 -> 0 | R16: =H16+N16+P16 -> 0 | S16: =IF(Q16>R16,D16,J16)
A18: 1/2 de finale
A19: 8 | B19: juillet | C19: 0.875 | D19: =IF(F13="","",S13) | E19: =IFERROR(INDEX(Equipe!B:B,MATCH(D19,Equipe!A:A,0)),"") | G19: - | I19: =IFERROR(INDEX(Equipe!B:B,MATCH(J19,Equipe!A:A,0)),"") | J19: =IF(F14="","",S14) | K19: =IF(F19="","",IF(F19>H19,3,IF(F19=H19,1,IF(F19<H19,IF(H19="",3,0))))) | L19: =IF(H19="","",IF(H19>F19,3,IF(H19=F19,1,IF(H19<F19,IF(F19="",3,0))))) | Q19: =F19+M19+O19 -> 0 | R19: =H19+N19+P19 -> 0 | S19: =IF(Q19>R19,D19,J19)
A20: 9 | B20: juillet | C20: 0.875 | D20: =IF(F15="","",S15) | E20: =IFERROR(INDEX(Equipe!B:B,MATCH(D20,Equipe!A:A,0)),"") | G20: - | I20: =IFERROR(INDEX(Equipe!B:B,MATCH(J20,Equipe!A:A,0)),"") | J20: =IF(F16="","",S16) | K20: =IF(F20="","",IF(F20>H20,3,IF(F20=H20,1,IF(F20<H20,IF(H20="",3,0))))) | L20: =IF(H20="","",IF(H20>F20,3,IF(H20=F20,1,IF(H20<F20,IF(F20="",3,0))))) | Q20: =F20+M20+O20 -> 0 | R20: =H20+N20+P20 -> 0 | S20: =IF(Q20>R20,D20,J20)
A22: FINALE
A23: 13 | B23: juillet | C23: 0.875 | D23: =IF(F19="","",S19) | E23: =IFERROR(INDEX(Equipe!B:B,MATCH(D23,Equipe!A:A,0)),"") | G23: - | I23: =IFERROR(INDEX(Equipe!B:B,MATCH(J23,Equipe!A:A,0)),"") | J23: =IF(F20="","",S20) | K23: =IF(F23="","",IF(F23>H23,3,IF(F23=H23,1,IF(F23<H23,IF(H23="",3,0))))) | L23: =IF(H23="","",IF(H23>F23,3,IF(H23=F23,1,IF(H23<F23,IF(F23="",3,0))))) | Q23: =F23+M23+O23 -> 0 | R23: =H23+N23+P23 -> 0 | S23: =IF(Q23>R23,D23,J23)

Sheet liste
A2: 0 | B2: juin | C2: 0
A3: 1 | B3: juillet | C3: 0.010416667
A4: 2 | C4: 0.020833333
A5: 3 | C5: 0.03125
A6: 4 | C6: 0.041666667
A7: 5 | C7: 0.052083333
A8: 6 | C8: 0.0625
A9: 7 | C9: 0.072916667
A10: 8 | C10: 0.083333333
A11: 9 | C11: 0.09375
A12: 10 | C12: 0.10416667
A13: 11 | C13: 0.11458333
A14: 12 | C14: 0.125
A15: 13 | C15: 0.13541667
... A33: 31 | C33: 0.32291667
C34: 0.33333333
C35: 0.34375
C36: 0.35416667
C37: 0.36458333
C38: 0.375
C39: 0.38541667
C40: 0.39583333
C41: 0.40625
C42: 0.41666667
C43: 0.42708333
C44: 0.4375
C45: 0.44791667
... C304: 3.1458333
