Workbook

Sheet perf 2022
A1: PRENOM | B1: CAT | C1: 50M | D1: 50M HAIES | E1: 60M | F1: 80M | G1: 80M HAIES | H1: 100M | I1: 100M HAIES | J1: 110M HAIES | K1: 120M | L1: 200M | M1: 200M HAIES | N1: 400M | O1: 400M HAIES | P1: 800M | Q1: 1000M | R1: 1500M | S1: 2000M | T1: 3000M | U1: 3000M STEEPLE | V1: 5000M | W1: 10000M | X1: HAUTEUR | Y1: LONGUEUR | Z1: TRIPLE | AA1: PERCHE | AB1: POIDS | AC1: DISQUE | AD1: JAVELOT | AE1: MARTEAU | AF1: TRIATHLON | AG1: 4*60M | AH1: 4*100M | AI1: 4*400M | AJ1: 200/800/800/200
A2: Anthony | B2: M2M | R2: 5'22"03 | AC2: 16.66 | AD2: 24.97
A3: Yannick | B3: M2M | N3: 65"03 | T3: 11'07"19 | AC3: 17.92
A4: Mikael | B4: MA
A5: Daniel | B5: M2M | R5: 5'07"50 | T5: 10'57"86 | AB5: 6.19
A6: Stephanie | B6: M0F | Q6: 3'37"46
A7: Jean-francois | B7: M2M | P7: 2'11"34 | R7: 4'33"66 | U7: 12'02"49 | Z7: 9.33
A8: Etienne | B8: M1M | N8: 55"26 | O8: 64"54 | P8: 2'06"13 | Q8: 2'45"72 | R8: 4'26"13 | X8: 1.6 | Y8: 5.02 | AB8: 8.29 | AD8: 29.79
A9: Stephanie | B9: M1F | P9: 2'47"87 | Q9: 3'31"68 | R9: 5'34"37
A10: Julien | B10: M0M | Q10: 2'40"36 | R10: 4'05"74 | T10: 9'01"44 | V10: 15'16"68 | AD10: 17.74
A11: Benoit | B11: SEM | P11: 2'09"95 | Q11: 2'48"52 | R11: 4'23"32
A12: Florian | B12: SEM
A13: Remi | B13: JUM
A14: Mael | B14: CAM | P14: 2'24"84 | R14: 4'50"68 | T14: 10'18"27 | X14: 1.1
A15: Clemence | B15: CAF | H15: 16"40 | AC15: 16.37
A16: Dylan | B16: CAM | H16: 12"13 | L16: 25"36 | Y16: 5.52 | AD16: 24.12
A17: Soen | B17: CAM | N17: 59"08 | P17: 2'19"16 | Y17: 4.46 | AD17: 24.95
A18: Mael | B18: CAM | N18: 54"88 | P18: 2'10"96 | AC18: 18.1
A19: Celia | B19: CAF | Y19: 3.18 | Z19: 7.87 | AC19: 11.72 | AD19: 9.78
A20: Romain | B20: CAM | H20: 12"39 | L20: 26"22 | AB20: 7.09
A21: Jules | B21: MIM | Q21: 3'12"57
A22: Annae | B22: MIF | Y22: 3.8
A23: Enora | B23: MIF
A24: Pauline | B24: MIF | C24: 7"18 | F24: 10"60 | K24: 16"34 | Y24: 4.18 | AB24: 8.9 | AF24: 86
A25: Cloe | B25: MIF | C25: 8"08 | K25: 18"18 | X25: 1.43 | Y25: 3.4 | AB25: 7 | AF25: 54
A26: Yola | B26: MIF | C26: 8"04 | K26: 17"86 | Q26: 4'03"71 | Y26: 3.96 | AB26: 6.95 | AC26: 12.95 | AF26: 51
A27: Anna | B27: MIF | C27: 8"09 | F27: 11"85 | K27: 18"24 | Y27: 3.96 | AB27: 6.98 | AE27: 16.91 | AF27: 53
A28: Maiwenn | B28: MIF | Y28: 3.29 | AB28: 5.28 | AC28: 8.66
A29: Jeanne | B29: MIF | Q29: 3'36"81
A30: Klervi | B30: MIF | K30: 18"21 | Q30: 3'43"72 | Y30: 3.41 | AB30: 5.72 | AF30: 23
A31: Lison | B31: MIF | Z31: 8.85
A32: Enora | B32: MIF | Q32: 4'25"44 | Z32: 8.52
A33: Hugo | B33: MIM | Q33: 3'15"73
A34: Telio | B34: BEM | C34: 8"66 | Y34: 3.26 | AB34: 4.52 | AF34: 40
A35: Julian | B35: BEM | C35: 9"00 | Y35: 2.84 | AB35: 4.8 | AF35: 34
A36: Lea | B36: BEF | C36: 9"44 | Y36: 2.08 | AB36: 5.7 | AF36: 28
A37: Camille | B37: BEF | C37: 9"43 | Y37: 2.78 | AB37: 5.58 | AF37: 38
A38: Annabel | B38: BEF | C38: 8"75 | Y38: 2.7 | Z38: 7.39 | AB38: 4.8 | AD38: 9.75 | AF38: 45
A39: Katell | B39: BEF | D39: 11"73 | Y39: 2.83 | AB39: 4.21 | AF39: 32
A40: MaÏlis | B40: BEF | C40: 9"69 | Y40: 2.11 | AB40: 5.62 | AF40: 26
A41: Maelann | B41: BEF | C41: 8"49 | Y41: 2.82 | AB41: 6.15 | AF41: 48
A42: Moira | B42: BEF | C42: 8"84 | Y42: 3.33 | AB42: 4.85 | AF42: 42
A43: Youna | B43: POF | Q43: 4'19"9 | Y43: 3.02 | AB43: 4.14 | AC43: 6.35 | AF43: 30
A44: Lucas | B44: POM | C44: 7"9 | Y44: 3.91 | AB44: 4.09 | AC44: 12.87 | AF44: 66
A45: Lorine | B45: POF | W45: 5'03"0 | Y45: 2.51 | AB45: 3.24 | AD45: 4.26 | AF45: 14
A46: Meline | B46: POF | D46: 11"8 | Q46: 4'22"9 | Y46: 2.78 | AB46: 4.08 | AC46: 8.56 | AF46: 22
A47: Auregan | B47: POF | C47: 8"6 | Y47: 3.05 | AB47: 6 | AF47: 46
A48: Marie | B48: POF | C48: 8"8 | X48: 0.89 | AB48: 4.42 | AC48: 7.28 | AF48: 22
A49: Owen | B49: POM | Q49: 4'11"3 | Y49: 3 | AB49: 5.69 | AC49: 11.06 | AF49: 38
A50: Mathieu | B50: POM | C50: 9"6 | Y50: 2 | AB50: 3.28 | AF50: 3
A51: Maxime | B51: POM | C51: 9"0 | Q51: 4'26"7 | X51: 0.83 | Y51: 2.65 | AB51: 3.42 | AC51: 7.14 | AF51: 15
A52: Manael | B52: POM | C52: 8"2 | Y52: 3.54 | AB52: 5.1 | AC52: 10.3 | AF52: 51
A53: Melvyn | B53: POM | Q53: 4'10"8 | Y53: 2.84 | AB53: 5.72 | AD53: 8.4 | AF53: 32
A54: Mael | B54: POM | Q54: 4'12"00 | Y54: 2.82 | AD54: 7.42 | AF54: 28
A55: Robin | B55: POM | D55: 12"3 | Y55: 2.66 | AC55: 8.91 | AF55: 14
A56: Louan | B56: POM | Q56: 3'53"1 | Y56: 3.32 | AD56: 6.6 | AF56: 36

Sheet perf 2021
A1: PRENOM | B1: CAT | C1: 50M | D1: 50M HAIES | E1: 60M | F1: 80M | G1: 80M HAIES | H1: 100M | I1: 100M HAIES | J1: 110M HAIES | K1: 120M | L1: 200M | M1: 200M HAIES | N1: 400M | O1: 400M HAIES | P1: 800M | Q1: 1000M | R1: 1500M | S1: 2000M | T1: 3000M | U1: 3000M STEEPLE | V1: 5000M | W1: 10000M | X1: HAUTEUR | Y1: LONGUEUR | Z1: TRIPLE | AA1: PERCHE | AB1: POIDS | AC1: DISQUE | AD1: JAVELOT | AE1: MARTEAU | AF1: TRIATHLON | AG1: 4*60M | AH1: 4*100M | AI1: 4*400M | AJ1: 200/800/800/200
A2: Florian | B2: SEM | V2: 15'47"81
A3: Julien | B3: M0M | R3: 4'11"79 | V3: 15'34"77
A4: Jean-francois | B4: M3M | P4: 2'10"04 | R4: 4'33"87
A5: Mael | B5: CAM | N5: 56"27 | P5: 2'17"35
A6: Mael | B6: CAM | P6: 2'21"49 | R6: 4'59"54
A7: Remi | B7: CAM | N7: 64"75
A8: Clemence | B8: MIF | F8: 14"03 | K8: 21"96 | Y8: 2.94
A9: Celia | B9: MIF | F9: 12"91 | K9: 19"78 | Y9: 3.29 | AB9: 4.82
A10: Noa | B10: MIF | K10: 17"71 | Q10: 3'42"06 | Y10: 4.05 | AD10: 14.88
A11: Anna | B11: MIF | F11: 12"05 | K11: 18"10 | Y11: 3.76 | AB11: 6.43
A12: Lison | B12: MIF | F12: 12"73 | Z12: 7.8
A13: Emy | B13: MIF | Q13: 3'39"06 | S13: 7'57"69 | Y13: 3.48 | AB13: 5.3
A14: Soen | B14: MIM | Q14: 3'06"92 | Y14: 4.64 | AD14: 21.12
A15: Elea | B15: BEF | C15: 9"06 | Y15: 2.92 | AC15: 13.54 | AF15: 45
A16: Mailis | B16: BEF | C16: 9"24 | Y16: 2.61 | AB16: 5.62 | AF16: 33
A17: Pauline | B17: BEF | C17: 7"44 | Y17: 3.86 | AB17: 9.46 | AF17: 93
A18: Klervi | B18: BEF | Q18: 4'01"99 | Y18: 3.58 | AB18: 6.51 | AF18: 61
A19: Maiwenn | B19: BEF | Q19: 3'58"16 | Y19: 3.06 | AC19: 7.79 | AF19: 39
A20: Yola | B20: BEF | Q20: 3'59"50 | Y20: 3.52 | AB20: 7.47 | AF20: 65
A21: Jeanne | B21: BEF | Q21: 3'40"72 | Y21: 3.26 | AC21: 12.36 | AF21: 62
A22: Noe | B22: BEM | Q22: 3'28"47 | Y22: 3.79 | AC22: 10.07 | AF22: 57
A23: Milo | B23: BEM | Q23: 3'38"71 | Y23: 4.07 | AC23: 12.84 | AF23: 63
A24: Ethan | B24: BEM | C24: 8"28 | Y24: 3.53 | AC24: 11.63 | AF24: 50

Sheet perf 2020
A1: PRENOM | B1: CAT | C1: 50M | D1: 50M HAIES | E1: 60M | F1: 80M | G1: 80M HAIES | H1: 100M | I1: 100M HAIES | J1: 110M HAIES | K1: 120M | L1: 200M | M1: 200M HAIES | N1: 400M | O1: 400M HAIES | P1: 800M | Q1: 1000M | R1: 1500M | S1: 2000M | T1: 3000M | U1: 3000M STEEPLE | V1: 5000M | W1: 10000M | X1: HAUTEUR | Y1: LONGUEUR | Z1: TRIPLE | AA1: PERCHE | AB1: POIDS | AC1: DISQUE | AD1: JAVELOT | AE1: MARTEAU | AF1: TRIATHLON | AG1: 4*60M | AH1: 4*100M | AI1: 4*400M | AJ1: 200/800/800/200
A2: Florian | B2: SEM | T2: 9'13"67 | W2: 33'14"79
A3: Jean-francois | B3: M2M | P3: 2'14"35 | R3: 4'31"81
A4: Jules | B4: ESM | T4: 9'06"39
A5: Celia | B5: SEF | R5: 4'50"94 | W5: 37'41"70
A6: Sarah | B6: MIF | C6: 8"32
A7: Celia | B7: MIF | C7: 9"41 | Y7: 2.5
A8: Clemence | B8: MIF | C8: 9"11 | Y8: 2.61 | AB8: 5.46
A9: Mael | B9: MIM | C9: 7"60 | Y9: 4.63 | AB9: 6.71
A10: Mael | B10: MIM | C10: 7"29 | AB10: 8.38
A11: Pauline | B11: BEF | C11: 7"20 | Y11: 3.06 | AB11: 8.75 | AF11: 79
A12: Anna | B12: BEF | C12: 8"0 | Y12: 3.3 | AB12: 7.22 | AF12: 62
A13: Yola | B13: BEF | C13: 8"3 | Y13: 2 | AB13: 7.22 | AF13: 43
A14: Maiwenn | B14: BEF | C14: 9"3 | Y14: 2.35 | AB14: 4.74 | AF14: 25
A15: Melissa | B15: BEF | C15: 7"8 | Y15: 2.9 | AB15: 3.88 | AF15: 42

Sheet Par athlète
A1: Nom atlète | B1: Pauline
A3: Année | B3: 2022 | C3: 2021 | D3: 2020
A4: cat | B4: =VLOOKUP('Par athlète'!$B$1,'[1]perf 2022'!$A$1:$AK$56,3,0) -> MIF | C4: =VLOOKUP('Par athlète'!$B$1,'[1]perf 2021'!$A$1:$AK$24,3,0) -> BEF | D4: =VLOOKUP('Par athlète'!$B$1,'[1]perf 2020'!$A$1:$AK$15,3,0) -> BEF | E4: =IF('[1]perf 2018'!D2="","",VLOOKUP(B1,'[1]perf 2018'!$1:$1048576,3,0))
A5: 50M | B5: =VLOOKUP('Par athlète'!$B$1,'[1]perf 2022'!$A$1:$AK$56,4,0) -> 7"18 | C5: =VLOOKUP('Par athlète'!$B$1,'[1]perf 2021'!$A$1:$AK$24,4,0) -> 7"44 | D5: =VLOOKUP('Par athlète'!$B$1,'[1]perf 2020'!$A$1:$AK$15,4,0) -> 7"20
A6: 50M HAIES | B6: =VLOOKUP('Par athlète'!$B$1,'[1]perf 2022'!$A$1:$AK$56,5,0) -> 0 | C6: =VLOOKUP('Par athlète'!$B$1,'[1]perf 2021'!$A$1:$AK$24,5,0) -> 0 | D6: =VLOOKUP('Par athlète'!$B$1,'[1]perf 2020'!$A$1:$AK$24,5,0) -> 0
A7: 60M | B7: =VLOOKUP('Par athlète'!$B$1,'[1]perf 2022'!$A$1:$AK$56,6,0) -> 0 | C7: =VLOOKUP('Par athlète'!$B$1,'[1]perf 2021'!$A$1:$AK$24,6,0) -> 0 | D7: =VLOOKUP('Par athlète'!$B$1,'[1]perf 2020'!$A$1:$AK$24,6,0) -> 0
A8: 80M | B8: =VLOOKUP('Par athlète'!$B$1,'[1]perf 2022'!$A$1:$AK$56,7,0) -> 10"60 | C8: =VLOOKUP('Par athlète'!$B$1,'[1]perf 2021'!$A$1:$AK$24,7,0) -> 0 | D8: =VLOOKUP('Par athlète'!$B$1,'[1]perf 2020'!$A$1:$AK$24,7,0) -> 0
A9: 80M HAIES | B9: =VLOOKUP('Par athlète'!$B$1,'[1]perf 2022'!$A$1:$AK$56,8,0) -> 0 | C9: =VLOOKUP('Par athlète'!$B$1,'[1]perf 2021'!$A$1:$AK$24,8,0) -> 0 | D9: =VLOOKUP('Par athlète'!$B$1,'[1]perf 2020'!$A$1:$AK$24,8,0) -> 0
A10: 100M | B10: =VLOOKUP('Par athlète'!$B$1,'[1]perf 2022'!$A$1:$AK$56,9,0) -> 0 | C10: =VLOOKUP('Par athlète'!$B$1,'[1]perf 2021'!$A$1:$AK$24,9,0) -> 0 | D10: =VLOOKUP('Par athlète'!$B$1,'[1]perf 2020'!$A$1:$AK$24,9,0) -> 0
A11: 100M HAIES | B11: =VLOOKUP('Par athlète'!$B$1,'[1]perf 2022'!$A$1:$AK$56,10,0) -> 0 | C11: =VLOOKUP('Par athlète'!$B$1,'[1]perf 2021'!$A$1:$AK$24,10,0) -> 0 | D11: =VLOOKUP('Par athlète'!$B$1,'[1]perf 2020'!$A$1:$AK$24,10,0) -> 0
A12: 110M HAIES | B12: =VLOOKUP('Par athlète'!$B$1,'[1]perf 2022'!$A$1:$AK$56,11,0) -> 0 | C12: =VLOOKUP('Par athlète'!$B$1,'[1]perf 2021'!$A$1:$AK$24,11,0) -> 0 | D12: =VLOOKUP('Par athlète'!$B$1,'[1]perf 2020'!$A$1:$AK$24,11,0) -> 0
A13: 120M | B13: =VLOOKUP('Par athlète'!$B$1,'[1]perf 2022'!$A$1:$AK$56,12,0) -> 16"34 | C13: =VLOOKUP('Par athlète'!$B$1,'[1]perf 2021'!$A$1:$AK$24,12,0) -> 0 | D13: =VLOOKUP('Par athlète'!$B$1,'[1]perf 2020'!$A$1:$AK$24,12,0) -> 0
A14: 200M | B14: =VLOOKUP('Par athlète'!$B$1,'[1]perf 2022'!$A$1:$AK$56,13,0) -> 0 | C14: =VLOOKUP('Par athlète'!$B$1,'[1]perf 2021'!$A$1:$AK$24,13,0) -> 0 | D14: =VLOOKUP('Par athlète'!$B$1,'[1]perf 2020'!$A$1:$AK$24,13,0) -> 0
A15: 200M HAIES | B15: =VLOOKUP('Par athlète'!$B$1,'[1]perf 2022'!$A$1:$AK$56,14,0) -> 0 | C15: =VLOOKUP('Par athlète'!$B$1,'[1]perf 2021'!$A$1:$AK$24,14,0) -> 0 | D15: =VLOOKUP('Par athlète'!$B$1,'[1]perf 2020'!$A$1:$AK$24,14,0) -> 0
A16: 400M | B16: =VLOOKUP('Par athlète'!$B$1,'[1]perf 2022'!$A$1:$AK$56,15,0) -> 0 | C16: =VLOOKUP('Par athlète'!$B$1,'[1]perf 2021'!$A$1:$AK$24,15,0) -> 0 | D16: =VLOOKUP('Par athlète'!$B$1,'[1]perf 2020'!$A$1:$AK$24,15,0) -> 0
A17: 400M HAIES | B17: =VLOOKUP('Par athlète'!$B$1,'[1]perf 2022'!$A$1:$AK$56,16,0) -> 0 | C17: =VLOOKUP('Par athlète'!$B$1,'[1]perf 2021'!$A$1:$AK$24,16,0) -> 0 | D17: =VLOOKUP('Par athlète'!$B$1,'[1]perf 2020'!$A$1:$AK$24,16,0) -> 0
A18: 800M | B18: =VLOOKUP('Par athlète'!$B$1,'[1]perf 2022'!$A$1:$AK$56,17,0) -> 0 | C18: =VLOOKUP('Par athlète'!$B$1,'[1]perf 2021'!$A$1:$AK$24,17,0) -> 0 | D18: =VLOOKUP('Par athlète'!$B$1,'[1]perf 2020'!$A$1:$AK$24,17,0) -> 0
A19: 1000M | B19: =VLOOKUP('Par athlète'!$B$1,'[1]perf 2022'!$A$1:$AK$56,18,0) -> 0 | C19: =VLOOKUP('Par athlète'!$B$1,'[1]perf 2021'!$A$1:$AK$24,18,0) -> 0 | D19: =VLOOKUP('Par athlète'!$B$1,'[1]perf 2020'!$A$1:$AK$24,18,0) -> 0
A20: 1500M | B20: =VLOOKUP('Par athlète'!$B$1,'[1]perf 2022'!$A$1:$AK$56,19,0) -> 0 | C20: =VLOOKUP('Par athlète'!$B$1,'[1]perf 2021'!$A$1:$AK$24,19,0) -> 0 | D20: =VLOOKUP('Par athlète'!$B$1,'[1]perf 2020'!$A$1:$AK$24,19,0) -> 0
A21: 2000M | B21: =VLOOKUP('Par athlète'!$B$1,'[1]perf 2022'!$A$1:$AK$56,20,0) -> 0 | C21: =VLOOKUP('Par athlète'!$B$1,'[1]perf 2021'!$A$1:$AK$24,20,0) -> 0 | D21: =VLOOKUP('Par athlète'!$B$1,'[1]perf 2020'!$A$1:$AK$24,20,0) -> 0
A22: 3000M | B22: =VLOOKUP('Par athlète'!$B$1,'[1]perf 2022'!$A$1:$AK$56,21,0) -> 0 | C22: =VLOOKUP('Par athlète'!$B$1,'[1]perf 2021'!$A$1:$AK$24,21,0) -> 0 | D22: =VLOOKUP('Par athlète'!$B$1,'[1]perf 2020'!$A$1:$AK$24,21,0) -> 0
A23: 3000M STEEPLE | B23: =VLOOKUP('Par athlète'!$B$1,'[1]perf 2022'!$A$1:$AK$56,22,0) -> 0 | C23: =VLOOKUP('Par athlète'!$B$1,'[1]perf 2021'!$A$1:$AK$24,22,0) -> 0 | D23: =VLOOKUP('Par athlète'!$B$1,'[1]perf 2020'!$A$1:$AK$24,22,0) -> 0
A24: 5000M | B24: =VLOOKUP('Par athlète'!$B$1,'[1]perf 2022'!$A$1:$AK$56,23,0) -> 0 | C24: =VLOOKUP('Par athlète'!$B$1,'[1]perf 2021'!$A$1:$AK$24,23,0) -> 0 | D24: =VLOOKUP('Par athlète'!$B$1,'[1]perf 2020'!$A$1:$AK$24,23,0) -> 0
A25: 10000M | B25: =VLOOKUP('Par athlète'!$B$1,'[1]perf 2022'!$A$1:$AK$56,24,0) -> 0 | C25: =VLOOKUP('Par athlète'!$B$1,'[1]perf 2021'!$A$1:$AK$24,24,0) -> 0 | D25: =VLOOKUP('Par athlète'!$B$1,'[1]perf 2020'!$A$1:$AK$24,24,0) -> 0
A26: HAUTEUR | B26: =VLOOKUP('Par athlète'!$B$1,'[1]perf 2022'!$A$1:$AK$56,25,0) -> 0 | C26: =VLOOKUP('Par athlète'!$B$1,'[1]perf 2021'!$A$1:$AK$24,25,0) -> 0 | D26: =VLOOKUP('Par athlète'!$B$1,'[1]perf 2020'!$A$1:$AK$24,25,0) -> 0
A27: LONGUEUR | B27: =VLOOKUP('Par athlète'!$B$1,'[1]perf 2022'!$A$1:$AK$56,26,0) -> 4.18 | C27: =VLOOKUP('Par athlète'!$B$1,'[1]perf 2021'!$A$1:$AK$24,26,0) -> 3.86 | D27: =VLOOKUP('Par athlète'!$B$1,'[1]perf 2020'!$A$1:$AK$15,26,0) -> 3.06
A28: TRIPLE | B28: =VLOOKUP('Par athlète'!$B$1,'[1]perf 2022'!$A$1:$AK$56,27,0) -> 0 | C28: =VLOOKUP('Par athlète'!$B$1,'[1]perf 2021'!$A$1:$AK$24,27,0) -> 0 | D28: =VLOOKUP('Par athlète'!$B$1,'[1]perf 2020'!$A$1:$AK$15,27,0) -> 0
A29: PERCHE | B29: =VLOOKUP('Par athlète'!$B$1,'[1]perf 2022'!$A$1:$AK$56,28,0) -> 0 | C29: =VLOOKUP('Par athlète'!$B$1,'[1]perf 2021'!$A$1:$AK$24,28,0) -> 0 | D29: =VLOOKUP('Par athlète'!$B$1,'[1]perf 2020'!$A$1:$AK$15,28,0) -> 0
A30: POIDS | B30: =VLOOKUP('Par athlète'!$B$1,'[1]perf 2022'!$A$1:$AK$56,29,0) -> 8.9 | C30: =VLOOKUP('Par athlète'!$B$1,'[1]perf 2021'!$A$1:$AK$24,29,0) -> 9.46 | D30: =VLOOKUP('Par athlète'!$B$1,'[1]perf 2020'!$A$1:$AK$15,29,0) -> 8.75
A31: DISQUE | B31: =VLOOKUP('Par athlète'!$B$1,'[1]perf 2022'!$A$1:$AK$56,30,0) -> 0 | C31: =VLOOKUP('Par athlète'!$B$1,'[1]perf 2021'!$A$1:$AK$24,30,0) -> 0 | D31: =VLOOKUP('Par athlète'!$B$1,'[1]perf 2020'!$A$1:$AK$15,30,0) -> 0
A32: JAVELOT | B32: =VLOOKUP('Par athlète'!$B$1,'[1]perf 2022'!$A$1:$AK$56,31,0) -> 0 | C32: =VLOOKUP('Par athlète'!$B$1,'[1]perf 2021'!$A$1:$AK$24,31,0) -> 0 | D32: =VLOOKUP('Par athlète'!$B$1,'[1]perf 2020'!$A$1:$AK$15,31,0) -> 0
A33: MARTEAU | B33: =VLOOKUP('Par athlète'!$B$1,'[1]perf 2022'!$A$1:$AK$56,32,0) -> 0 | C33: =VLOOKUP('Par athlète'!$B$1,'[1]perf 2021'!$A$1:$AK$24,32,0) -> 0 | D33: =VLOOKUP('Par athlète'!$B$1,'[1]perf 2020'!$A$1:$AK$15,32,0) -> 0
A34: TRIATHLON | B34: =VLOOKUP('Par athlète'!$B$1,'[1]perf 2022'!$A$1:$AK$56,33,0) -> 86 | C34: =VLOOKUP('Par athlète'!$B$1,'[1]perf 2021'!$A$1:$AK$24,33,0) -> 93 | D34: =VLOOKUP('Par athlète'!$B$1,'[1]perf 2020'!$A$1:$AK$15,33,0) -> 79
A35: 4*60M | B35: =VLOOKUP('Par athlète'!$B$1,'[1]perf 2022'!$A$1:$AK$56,34,0) -> 0 | C35: =VLOOKUP('Par athlète'!$B$1,'[1]perf 2021'!$A$1:$AK$24,34,0) -> 0 | D35: =VLOOKUP('Par athlète'!$B$1,'[1]perf 2020'!$A$1:$AK$15,34,0) -> 0
A36: 4*100M | B36: =VLOOKUP('Par athlète'!$B$1,'[1]perf 2022'!$A$1:$AK$56,35,0) -> 0 | C36: =VLOOKUP('Par athlète'!$B$1,'[1]perf 2021'!$A$1:$AK$24,35,0) -> 0 | D36: =VLOOKUP('Par athlète'!$B$1,'[1]perf 2020'!$A$1:$AK$15,35,0) -> 0
A37: 4*400M | B37: =VLOOKUP('Par athlète'!$B$1,'[1]perf 2022'!$A$1:$AK$56,36,0) -> 0 | C37: =VLOOKUP('Par athlète'!$B$1,'[1]perf 2021'!$A$1:$AK$24,36,0) -> 0 | D37: =VLOOKUP('Par athlète'!$B$1,'[1]perf 2020'!$A$1:$AK$15,36,0) -> 0
A38: 200/800/800/200 | B38: =VLOOKUP('Par athlète'!$B$1,'[1]perf 2022'!$A$1:$AK$56,37,0) -> 0 | C38: =VLOOKUP('Par athlète'!$B$1,'[1]perf 2021'!$A$1:$AK$24,37,0) -> 0 | D38: =VLOOKUP('Par athlète'!$B$1,'[1]perf 2020'!$A$1:$AK$15,37,0) -> 0
